{"text_format":"1","workbook":"xlsx","n_sheets":6,"sheets":["印領清冊輸入","銀行代碼表","出納複匯用","印領清冊統計表","轉帳過程檔","所得格式"],"not_rendered":{"charts":0,"images":0,"macros":1,"external_links":0,"defined_names":7,"comments":1,"pivot_tables":1},"unopened":[],"bounds":{"document_bytes":16777216,"sheet_cells":100000,"rows_first":2000,"rows_last":500,"rows_between":2000,"halvings":0,"cell_chars":16384,"cell_head_chars":4096},"cells_cut":0,"cells_raw":0,"read":"whole","date_system":"1900"}

{"sheet":"印領清冊輸入","index":0,"n_rows":1485,"n_cols":29,"rows_kept":1485,"cut":false,"hidden":false,"merged":[[2,12,2,14],[0,25,1,25]]}
["藍色儲存格已設定公式無須輸入、填寫時請參考儲存格出現的註解說明",null,null,null,null,null,null,null,"補充保費扣繳率",null,1.9099999999999999E-2,"最低工資",22000,null,null,"郵局代碼皆為7000021","銀行分行\n代碼查詢",null,null,null,null,null,null,null,null,"*註一  農會的碼數通常為14碼 未逐一建於資料庫 故檢核 可能會顯示#N/A 無須理會",null,"A",10]
[null,null,null,"新北市立淡水商工(                                       )印領清冊",null,null,null,null,null,null,null,null,null,null,null,null,null,null,null,null,null,null,null,null,null,null,null,"B",11]
[null,null,null,null,null,null,null,null,null,null,null,"實領金額","金融機構轉入帳號",null,null,null,null,null,null,null,"欄1",null,"欄1",null,null,null,null,"C",12]
["序號","編號","服務單位","姓名","身分證字號","地址","時數","每節","鐘點費      ","免扣身分註記","補充保費","(扣除補充保費)","戶名","銀行分行碼(7碼)\n","帳號","電話","銀行分行名稱",null,null,null,"免扣",null,"免扣","身分證\n檢核結果","銀行分行\n代碼數檢查","帳號碼數\n檢查","此銀行應有的\n帳號碼數*註一","D",13]
[1,null,null,null,null,null,null,null,null,null,{"$f":"IF(LEN(F5)<3,0,IF(J5=\"免扣\",0,IF(SUMIF(D:D,M5,I:I)>($M$1-1),ROUND(I5*$K$1,0),0)))","v":0},{"$f":"+I5-K5","v":0},{"$f":"+D5","v":0},null,null,null,{"$f":"IF(LEN(N5)=0,\"\",IF(VALUE(N5)=7000021,IF(TYPE(VLOOKUP(LEFT(O5,7),銀行代碼表!J:K,2,0))=16,\"郵局局號可能有誤\",VLOOKUP(LEFT(O5,7),銀行代碼表!J:K,2,0)),IF(TYPE(VLOOKUP(N5,銀行代碼表!C:D,2,0))=16,\"銀行分行代碼可能有誤\",VLOOKUP(N5,銀行代碼表!C:D,2,0))))","v":""},{"$f":"LEFT(N5,3)","v":""},null,null,null,null,null,{"$f":"IF(LEN(E5)=0,\"\",IF(MOD(VALUE(LEFT(VLOOKUP(LEFT(E5),AB$1:AC$65543,2,0)))+VALUE(RIGHT(VLOOKUP(LEFT(E5),AB$1:AC$65543,2,0)))*9+VALUE(MID(E5,2,1))*8 + VALUE(MID(E5,3,1))*7 + VALUE(MID(E5,4,1))*6+ VALUE(MID(E5,5,1))*5+ VALUE(MID(E5,6,1))*4 + VALUE(MID(E5,7,1))*3 + VALUE(MID(E5,8,1))*2 + VALUE(MID(E5,9,1))*1+ VALUE(MID(E5,10,1))*1,10)=0,\"正確\",\"身分證不正確\"))","v":""},{"$f":"IF(LEN(N5)=0,\"\",IF(LEN(N5)=7,\"正確\",\"銀行代碼須為7 碼\"))","v":""},{"$f":"IF(LEN(O5)=0,\"\",IF(LEN(O5)=AA5,\"正確\",\"帳號碼數應有\"&AA5&\" 碼\"))","v":""},{"$f":"VLOOKUP(LEFT(N5,3),銀行代碼表!O:P,2,0)","v":{"$error":"#N/A"}},"E",14]
[2,null,null,null,null,null,null,null,null,null,0,{"$f":"+I6-K6","v":0},{"$f":"+D6","v":0},null,null,null,{"$f":"IF(LEN(N6)=0,\"\",IF(VALUE(N6)=7000021,IF(TYPE(VLOOKUP(LEFT(O6,7),銀行代碼表!J:K,2,0))=16,\"郵局局號可能有誤\",VLOOKUP(LEFT(O6,7),銀行代碼表!J:K,2,0)),IF(TYPE(VLOOKUP(N6,銀行代碼表!C:D,2,0))=16,\"銀行分行代碼可能有誤\",VLOOKUP(N6,銀行代碼表!C:D,2,0))))","v":""},{"$f":"LEFT(N6,3)","v":""},null,null,null,null,null,"",{"$f":"IF(LEN(N6)=0,\"\",IF(LEN(N6)=7,\"正確\",\"銀行代碼須為7 碼\"))","v":""},{"$f":"IF(LEN(O6)=0,\"\",IF(LEN(O6)=AA6,\"正確\",\"帳號碼數應有\"&AA6&\" 碼\"))","v":""},{"$f":"VLOOKUP(LEFT(N6,3),銀行代碼表!O:P,2,0)","v":{"$error":"#N/A"}},"E",14]
[3,null,null,null,null,null,null,null,null,null,0,{"$f":"+I7-K7","v":0},0,null,null,null,{"$f":"IF(LEN(N7)=0,\"\",IF(VALUE(N7)=7000021,IF(TYPE(VLOOKUP(LEFT(O7,7),銀行代碼表!J:K,2,0))=16,\"郵局局號可能有誤\",VLOOKUP(LEFT(O7,7),銀行代碼表!J:K,2,0)),IF(TYPE(VLOOKUP(N7,銀行代碼表!C:D,2,0))=16,\"銀行分行代碼可能有誤\",VLOOKUP(N7,銀行代碼表!C:D,2,0))))","v":""},"",null,null,null,null,null,"",{"$f":"IF(LEN(N7)=0,\"\",IF(LEN(N7)=7,\"正確\",\"銀行代碼須為7 碼\"))","v":""},{"$f":"IF(LEN(O7)=0,\"\",IF(LEN(O7)=AA7,\"正確\",\"帳號碼數應有\"&AA7&\" 碼\"))","v":""},{"$f":"VLOOKUP(LEFT(N7,3),銀行代碼表!O:P,2,0)","v":{"$error":"#N/A"}}]
[4,null,null,null,null,null,null,null,null,null,0,0,0,null,null,null,{"$f":"IF(LEN(N8)=0,\"\",IF(VALUE(N8)=7000021,IF(TYPE(VLOOKUP(LEFT(O8,7),銀行代碼表!J:K,2,0))=16,\"郵局局號可能有誤\",VLOOKUP(LEFT(O8,7),銀行代碼表!J:K,2,0)),IF(TYPE(VLOOKUP(N8,銀行代碼表!C:D,2,0))=16,\"銀行分行代碼可能有誤\",VLOOKUP(N8,銀行代碼表!C:D,2,0))))","v":""},"",null,null,null,null,null,"","","",{"$f":"VLOOKUP(LEFT(N8,3),銀行代碼表!O:P,2,0)","v":{"$error":"#N/A"}}]
[5,null,null,null,null,null,null,null,null,null,0,0,0,null,null,null,{"$f":"IF(LEN(N9)=0,\"\",IF(VALUE(N9)=7000021,IF(TYPE(VLOOKUP(LEFT(O9,7),銀行代碼表!J:K,2,0))=16,\"郵局局號可能有誤\",VLOOKUP(LEFT(O9,7),銀行代碼表!J:K,2,0)),IF(TYPE(VLOOKUP(N9,銀行代碼表!C:D,2,0))=16,\"銀行分行代碼可能有誤\",VLOOKUP(N9,銀行代碼表!C:D,2,0))))","v":""},"",null,null,null,null,null,"","","",{"$f":"VLOOKUP(LEFT(N9,3),銀行代碼表!O:P,2,0)","v":{"$error":"#N/A"}}]
[6,null,null,null,null,null,null,null,null,null,0,0,0,null,null,null,{"$f":"IF(LEN(N10)=0,\"\",IF(VALUE(N10)=7000021,IF(TYPE(VLOOKUP(LEFT(O10,7),銀行代碼表!J:K,2,0))=16,\"郵局局號可能有誤\",VLOOKUP(LEFT(O10,7),銀行代碼表!J:K,2,0)),IF(TYPE(VLOOKUP(N10,銀行代碼表!C:D,2,0))=16,\"銀行分行代碼可能有誤\",VLOOKUP(N10,銀行代碼表!C:D,2,0))))","v":""},"",null,null,null,null,null,"","","",{"$f":"VLOOKUP(LEFT(N10,3),銀行代碼表!O:P,2,0)","v":{"$error":"#N/A"}}]
[7,null,null,null,null,null,null,null,null,null,0,0,0,null,null,null,{"$f":"IF(LEN(N11)=0,\"\",IF(VALUE(N11)=7000021,IF(TYPE(VLOOKUP(LEFT(O11,7),銀行代碼表!J:K,2,0))=16,\"郵局局號可能有誤\",VLOOKUP(LEFT(O11,7),銀行代碼表!J:K,2,0)),IF(TYPE(VLOOKUP(N11,銀行代碼表!C:D,2,0))=16,\"銀行分行代碼可能有誤\",VLOOKUP(N11,銀行代碼表!C:D,2,0))))","v":""},"",null,null,null,null,null,"",{"$f":"IF(LEN(N11)=0,\"\",IF(LEN(N11)=7,\"正確\",\"銀行代碼須為7 碼\"))","v":""},{"$f":"IF(LEN(O11)=0,\"\",IF(LEN(O11)=AA11,\"正確\",\"帳號碼數應有\"&AA11&\" 碼\"))","v":""},{"$f":"VLOOKUP(LEFT(N11,3),銀行代碼表!O:P,2,0)","v":{"$error":"#N/A"}}]
[8,null,null,null,null,null,null,null,null,null,0,{"$f":"+I12-K12","v":0},{"$f":"+D12","v":0},null,null,null,{"$f":"IF(LEN(N12)=0,\"\",IF(VALUE(N12)=7000021,IF(TYPE(VLOOKUP(LEFT(O12,7),銀行代碼表!J:K,2,0))=16,\"郵局局號可能有誤\",VLOOKUP(LEFT(O12,7),銀行代碼表!J:K,2,0)),IF(TYPE(VLOOKUP(N12,銀行代碼表!C:D,2,0))=16,\"銀行分行代碼可能有誤\",VLOOKUP(N12,銀行代碼表!C:D,2,0))))","v":""},"",null,null,null,null,null,"","","",{"$f":"VLOOKUP(LEFT(N12,3),銀行代碼表!O:P,2,0)","v":{"$error":"#N/A"}}]
[9,null,null,null,null,null,null,null,null,null,0,{"$f":"+I13-K13","v":0},{"$f":"+D13","v":0},null,null,null,{"$f":"IF(LEN(N13)=0,\"\",IF(VALUE(N13)=7000021,IF(TYPE(VLOOKUP(LEFT(O13,7),銀行代碼表!J:K,2,0))=16,\"郵局局號可能有誤\",VLOOKUP(LEFT(O13,7),銀行代碼表!J:K,2,0)),IF(TYPE(VLOOKUP(N13,銀行代碼表!C:D,2,0))=16,\"銀行分行代碼可能有誤\",VLOOKUP(N13,銀行代碼表!C:D,2,0))))","v":""},"",null,null,null,null,null,"","","",{"$f":"VLOOKUP(LEFT(N13,3),銀行代碼表!O:P,2,0)","v":{"$error":"#N/A"}}]
[10,null,null,null,null,null,null,null,null,null,0,0,0,null,null,null,{"$f":"IF(LEN(N14)=0,\"\",IF(VALUE(N14)=7000021,IF(TYPE(VLOOKUP(LEFT(O14,7),銀行代碼表!J:K,2,0))=16,\"郵局局號可能有誤\",VLOOKUP(LEFT(O14,7),銀行代碼表!J:K,2,0)),IF(TYPE(VLOOKUP(N14,銀行代碼表!C:D,2,0))=16,\"銀行分行代碼可能有誤\",VLOOKUP(N14,銀行代碼表!C:D,2,0))))","v":""},"",null,null,null,null,null,"","","",{"$f":"VLOOKUP(LEFT(N14,3),銀行代碼表!O:P,2,0)","v":{"$error":"#N/A"}}]
[11,null,null,null,null,null,null,null,null,null,0,0,{"$f":"+D15","v":0},null,null,null,{"$f":"IF(LEN(N15)=0,\"\",IF(VALUE(N15)=7000021,IF(TYPE(VLOOKUP(LEFT(O15,7),銀行代碼表!J:K,2,0))=16,\"郵局局號可能有誤\",VLOOKUP(LEFT(O15,7),銀行代碼表!J:K,2,0)),IF(TYPE(VLOOKUP(N15,銀行代碼表!C:D,2,0))=16,\"銀行分行代碼可能有誤\",VLOOKUP(N15,銀行代碼表!C:D,2,0))))","v":""},"",null,null,null,null,null,"","","",{"$f":"VLOOKUP(LEFT(N15,3),銀行代碼表!O:P,2,0)","v":{"$error":"#N/A"}}]
[12,null,null,null,null,null,null,null,null,null,0,0,{"$f":"+D16","v":0},null,null,null,{"$f":"IF(LEN(N16)=0,\"\",IF(VALUE(N16)=7000021,IF(TYPE(VLOOKUP(LEFT(O16,7),銀行代碼表!J:K,2,0))=16,\"郵局局號可能有誤\",VLOOKUP(LEFT(O16,7),銀行代碼表!J:K,2,0)),IF(TYPE(VLOOKUP(N16,銀行代碼表!C:D,2,0))=16,\"銀行分行代碼可能有誤\",VLOOKUP(N16,銀行代碼表!C:D,2,0))))","v":""},"",null,null,null,null,null,"","","",{"$f":"VLOOKUP(LEFT(N16,3),銀行代碼表!O:P,2,0)","v":{"$error":"#N/A"}}]
[13,null,null,null,null,null,null,null,null,null,0,0,{"$f":"+D17","v":0},null,null,null,{"$f":"IF(LEN(N17)=0,\"\",IF(VALUE(N17)=7000021,IF(TYPE(VLOOKUP(LEFT(O17,7),銀行代碼表!J:K,2,0))=16,\"郵局局號可能有誤\",VLOOKUP(LEFT(O17,7),銀行代碼表!J:K,2,0)),IF(TYPE(VLOOKUP(N17,銀行代碼表!C:D,2,0))=16,\"銀行分行代碼可能有誤\",VLOOKUP(N17,銀行代碼表!C:D,2,0))))","v":""},"",null,null,null,null,null,"","","",{"$f":"VLOOKUP(LEFT(N17,3),銀行代碼表!O:P,2,0)","v":{"$error":"#N/A"}}]
[null,null,null,null,null,"總計",null,null,{"$f":"SUM(I5:I17)","v":0},null,0,{"$f":"SUM(L5:L17)","v":0},null,null,null,null,null,"",null,null,null,null,null,"","","",{"$f":"VLOOKUP(LEFT(N18,3),銀行代碼表!O:P,2,0)","v":{"$error":"#N/A"}},"L",20]
[null,null,null,"＊入戶金額詳附件金融機構證明文件",null,null,null,null,null,null,null,null,null,null,null,null,null,null,null,null,null,null,null,"","","",{"$f":"VLOOKUP(LEFT(N19,3),銀行代碼表!O:P,2,0)","v":{"$error":"#N/A"}}]
[]
[null,null,null,null,null,null,null,null,null,null,null,null,null,null,null,null,null,null,null,null,null,null,null,{"$f":"IF(LEN(E21)=0,\"\",IF(MOD(VALUE(LEFT(VLOOKUP(LEFT(E21),AB$1:AC$65543,2,0)))+VALUE(RIGHT(VLOOKUP(LEFT(E21),AB$1:AC$65543,2,0)))*9+VALUE(MID(E21,2,1))*8 + VALUE(MID(E21,3,1))*7 + VALUE(MID(E21,4,1))*6+ VALUE(MID(E21,5,1))*5+ VALUE(MID(E21,6,1))*4 + VALUE(MID(E21,7,1))*3 + VALUE(MID(E21,8,1))*2 + VALUE(MID(E21,9,1))*1+ VALUE(MID(E21,10,1))*1,10)=0,\"正確\",\"身分證不正確\"))","v":""},"","",{"$f":"VLOOKUP(LEFT(N21,3),銀行代碼表!O:P,2,0)","v":{"$error":"#N/A"}}]
["製表人",null,null,null,null,null,null,null,null,null,null,null,null,null,null,null,null,null,null,null,null,null,null,"","","",{"$f":"VLOOKUP(LEFT(N22,3),銀行代碼表!O:P,2,0)","v":{"$error":"#N/A"}}]
[null,null,null,null,null,"出納組",null,null,"會計審核",null,null,null,null,null,null,null,null,null,null,null,null,null,null,"","","",{"$f":"VLOOKUP(LEFT(N23,3),銀行代碼表!O:P,2,0)","v":{"$error":"#N/A"}}]
["單位主管",null,null,null,null,"總務主任",null,null,"會計主任",null,null,null,null,"校長",null,null,null,null,null,null,null,null,null,"","銀行代碼須為7 碼","",{"$f":"VLOOKUP(LEFT(N24,3),銀行代碼表!O:P,2,0)","v":{"$error":"#N/A"}}]
[null,null,null,null,null,null,null,null,null,null,null,null,null,null,null,null,null,null,null,null,null,null,null,"","","",{"$f":"VLOOKUP(LEFT(N25,3),銀行代碼表!O:P,2,0)","v":{"$error":"#N/A"}}]
[null,null,null,null,null,null,null,null,null,null,null,null,null,null,null,null,null,null,null,null,null,null,null,"","","",{"$f":"VLOOKUP(LEFT(N26,3),銀行代碼表!O:P,2,0)","v":{"$error":"#N/A"}},"V",29]
[null,null,null,null,null,null,null,null,null,null,null,null,null,null,null,null,null,null,null,null,null,null,null,"","","",{"$f":"VLOOKUP(LEFT(N27,3),銀行代碼表!O:P,2,0)","v":{"$error":"#N/A"}},"W",32]
[null,null,null,null,null,null,null,null,null,null,null,null,null,null,null,null,null,null,null,null,null,null,null,"","","",{"$f":"VLOOKUP(LEFT(N28,3),銀行代碼表!O:P,2,0)","v":{"$error":"#N/A"}},"X",30]
[null,null,null,null,null,null,null,null,null,null,null,null,null,null,null,null,null,null,null,null,null,null,null,"","","",{"$f":"VLOOKUP(LEFT(N29,3),銀行代碼表!O:P,2,0)","v":{"$error":"#N/A"}},"Y",31]
[null,null,null,null,null,null,null,null,null,null,null,null,null,null,null,null,null,null,null,null,null,null,null,"","","",{"$f":"VLOOKUP(LEFT(N30,3),銀行代碼表!O:P,2,0)","v":{"$error":"#N/A"}},"Z",33]
[null,null,null,null,null,null,null,null,null,null,null,null,null,null,null,null,null,null,null,null,null,null,null,"","","",{"$f":"VLOOKUP(LEFT(N31,3),銀行代碼表!O:P,2,0)","v":{"$error":"#N/A"}},"Z",33]
[null,null,null,null,null,null,null,null,null,null,null,null,null,null,null,null,null,null,null,null,null,null,null,"","","",{"$f":"VLOOKUP(LEFT(N32,3),銀行代碼表!O:P,2,0)","v":{"$error":"#N/A"}}]
[null,null,null,null,null,null,null,null,null,null,null,null,null,null,null,null,null,null,null,null,null,null,null,"","","",{"$f":"VLOOKUP(LEFT(N33,3),銀行代碼表!O:P,2,0)","v":{"$error":"#N/A"}}]
[null,null,null,null,null,null,null,null,null,null,null,null,null,null,null,null,null,null,null,null,null,null,null,"","","",{"$f":"VLOOKUP(LEFT(N34,3),銀行代碼表!O:P,2,0)","v":{"$error":"#N/A"}}]
[null,null,null,null,null,null,null,null,null,null,null,null,null,null,null,null,null,null,null,null,null,null,null,"","","",{"$f":"VLOOKUP(LEFT(N35,3),銀行代碼表!O:P,2,0)","v":{"$error":"#N/A"}}]
[null,null,null,null,null,null,null,null,null,null,null,null,null,null,null,null,null,null,null,null,null,null,null,"","","",{"$f":"VLOOKUP(LEFT(N36,3),銀行代碼表!O:P,2,0)","v":{"$error":"#N/A"}}]
[null,null,null,null,null,null,null,null,null,null,null,null,null,null,null,null,null,null,null,null,null,null,null,"","","",{"$f":"VLOOKUP(LEFT(N37,3),銀行代碼表!O:P,2,0)","v":{"$error":"#N/A"}}]
[null,null,null,null,null,null,null,null,null,null,null,null,null,null,null,null,null,null,null,null,null,null,null,"","","",{"$f":"VLOOKUP(LEFT(N38,3),銀行代碼表!O:P,2,0)","v":{"$error":"#N/A"}}]
[null,null,null,null,null,null,null,null,null,null,null,null,null,null,null,null,null,null,null,null,null,null,null,"","","",{"$f":"VLOOKUP(LEFT(N39,3),銀行代碼表!O:P,2,0)","v":{"$error":"#N/A"}}]
[null,null,null,null,null,null,null,null,null,null,null,null,null,null,null,null,null,null,null,null,null,null,null,"","","",{"$f":"VLOOKUP(LEFT(N40,3),銀行代碼表!O:P,2,0)","v":{"$error":"#N/A"}}]
[null,null,null,null,null,null,null,null,null,null,null,null,null,null,null,null,null,null,null,null,null,null,null,"","","",{"$f":"VLOOKUP(LEFT(N41,3),銀行代碼表!O:P,2,0)","v":{"$error":"#N/A"}}]
[null,null,null,null,null,null,null,null,null,null,null,null,null,null,null,null,null,null,null,null,null,null,null,"","","",{"$f":"VLOOKUP(LEFT(N42,3),銀行代碼表!O:P,2,0)","v":{"$error":"#N/A"}}]
[null,null,null,null,null,null,null,null,null,null,null,null,null,null,null,null,null,null,null,null,null,null,null,"","","",{"$f":"VLOOKUP(LEFT(N43,3),銀行代碼表!O:P,2,0)","v":{"$error":"#N/A"}}]
[null,null,null,null,null,null,null,null,null,null,null,null,null,null,null,null,null,null,null,null,null,null,null,"","","",{"$f":"VLOOKUP(LEFT(N44,3),銀行代碼表!O:P,2,0)","v":{"$error":"#N/A"}}]
[null,null,null,null,null,null,null,null,null,null,null,null,null,null,null,null,null,null,null,null,null,null,null,"","","",{"$f":"VLOOKUP(LEFT(N45,3),銀行代碼表!O:P,2,0)","v":{"$error":"#N/A"}}]
[null,null,null,null,null,null,null,null,null,null,null,null,null,null,null,null,null,null,null,null,null,null,null,"","","",{"$f":"VLOOKUP(LEFT(N46,3),銀行代碼表!O:P,2,0)","v":{"$error":"#N/A"}}]
[null,null,null,null,null,null,null,null,null,null,null,null,null,null,null,null,null,null,null,null,null,null,null,"","","",{"$f":"VLOOKUP(LEFT(N47,3),銀行代碼表!O:P,2,0)","v":{"$error":"#N/A"}}]
[null,null,null,null,null,null,null,null,null,null,null,null,null,null,null,null,null,null,null,null,null,null,null,"","","",{"$f":"VLOOKUP(LEFT(N48,3),銀行代碼表!O:P,2,0)","v":{"$error":"#N/A"}}]
[null,null,null,null,null,null,null,null,null,null,null,null,null,null,null,null,null,null,null,null,null,null,null,"","","",{"$f":"VLOOKUP(LEFT(N49,3),銀行代碼表!O:P,2,0)","v":{"$error":"#N/A"}}]
[null,null,null,null,null,null,null,null,null,null,null,null,null,null,null,null,null,null,null,null,null,null,null,"","","",{"$f":"VLOOKUP(LEFT(N50,3),銀行代碼表!O:P,2,0)","v":{"$error":"#N/A"}}]
[null,null,null,null,null,null,null,null,null,null,null,null,null,null,null,null,null,null,null,null,null,null,null,"","","",{"$f":"VLOOKUP(LEFT(N51,3),銀行代碼表!O:P,2,0)","v":{"$error":"#N/A"}}]
[null,null,null,null,null,null,null,null,null,null,null,null,null,null,null,null,null,null,null,null,null,null,null,"","","",{"$f":"VLOOKUP(LEFT(N52,3),銀行代碼表!O:P,2,0)","v":{"$error":"#N/A"}}]
[null,null,null,null,null,null,null,null,null,null,null,null,null,null,null,null,null,null,null,null,null,null,null,{"$f":"IF(LEN(E53)=0,\"\",IF(MOD(VALUE(LEFT(VLOOKUP(LEFT(E53),AB$1:AC$65543,2,0)))+VALUE(RIGHT(VLOOKUP(LEFT(E53),AB$1:AC$65543,2,0)))*9+VALUE(MID(E53,2,1))*8 + VALUE(MID(E53,3,1))*7 + VALUE(MID(E53,4,1))*6+ VALUE(MID(E53,5,1))*5+ VALUE(MID(E53,6,1))*4 + VALUE(MID(E53,7,1))*3 + VALUE(MID(E53,8,1))*2 + VALUE(MID(E53,9,1))*1+ VALUE(MID(E53,10,1))*1,10)=0,\"正確\",\"身分證不正確\"))","v":""},"","",{"$f":"VLOOKUP(LEFT(N53,3),銀行代碼表!O:P,2,0)","v":{"$error":"#N/A"}}]
[null,null,null,null,null,null,null,null,null,null,null,null,null,null,null,null,null,null,null,null,null,null,null,"","","",{"$f":"VLOOKUP(LEFT(N54,3),銀行代碼表!O:P,2,0)","v":{"$error":"#N/A"}}]
[null,null,null,null,null,null,null,null,null,null,null,null,null,null,null,null,null,null,null,null,null,null,null,"","","",{"$f":"VLOOKUP(LEFT(N55,3),銀行代碼表!O:P,2,0)","v":{"$error":"#N/A"}}]
[null,null,null,null,null,null,null,null,null,null,null,null,null,null,null,null,null,null,null,null,null,null,null,"","","",{"$f":"VLOOKUP(LEFT(N56,3),銀行代碼表!O:P,2,0)","v":{"$error":"#N/A"}}]
[null,null,null,null,null,null,null,null,null,null,null,null,null,null,null,null,null,null,null,null,null,null,null,"","","",{"$f":"VLOOKUP(LEFT(N57,3),銀行代碼表!O:P,2,0)","v":{"$error":"#N/A"}}]
[null,null,null,null,null,null,null,null,null,null,null,null,null,null,null,null,null,null,null,null,null,null,null,"","","",{"$f":"VLOOKUP(LEFT(N58,3),銀行代碼表!O:P,2,0)","v":{"$error":"#N/A"}}]
[null,null,null,null,null,null,null,null,null,null,null,null,null,null,null,null,null,null,null,null,null,null,null,"","","",{"$f":"VLOOKUP(LEFT(N59,3),銀行代碼表!O:P,2,0)","v":{"$error":"#N/A"}}]
[null,null,null,null,null,null,null,null,null,null,null,null,null,null,null,null,null,null,null,null,null,null,null,"","","",{"$f":"VLOOKUP(LEFT(N60,3),銀行代碼表!O:P,2,0)","v":{"$error":"#N/A"}}]
[null,null,null,null,null,null,null,null,null,null,null,null,null,null,null,null,null,null,null,null,null,null,null,"","","",{"$f":"VLOOKUP(LEFT(N61,3),銀行代碼表!O:P,2,0)","v":{"$error":"#N/A"}}]
[null,null,null,null,null,null,null,null,null,null,null,null,null,null,null,null,null,null,null,null,null,null,null,"","","",{"$f":"VLOOKUP(LEFT(N62,3),銀行代碼表!O:P,2,0)","v":{"$error":"#N/A"}}]
[null,null,null,null,null,null,null,null,null,null,null,null,null,null,null,null,null,null,null,null,null,null,null,"","","",{"$f":"VLOOKUP(LEFT(N63,3),銀行代碼表!O:P,2,0)","v":{"$error":"#N/A"}}]
[null,null,null,null,null,null,null,null,null,null,null,null,null,null,null,null,null,null,null,null,null,null,null,"",{"$f":"IF(LEN(N64)=0,\"\",IF(LEN(N64)=7,\"正確\",\"銀行代碼須為7 碼\"))","v":""},{"$f":"IF(LEN(O64)=0,\"\",IF(LEN(O64)=AA64,\"正確\",\"帳號碼數應有\"&AA64&\" 碼\"))","v":""},{"$f":"VLOOKUP(LEFT(N64,3),銀行代碼表!O:P,2,0)","v":{"$error":"#N/A"}}]
[null,null,null,null,null,null,null,null,null,null,null,null,null,null,null,null,null,null,null,null,null,null,null,"","","",{"$f":"VLOOKUP(LEFT(N65,3),銀行代碼表!O:P,2,0)","v":{"$error":"#N/A"}}]
[null,null,null,null,null,null,null,null,null,null,null,null,null,null,null,null,null,null,null,null,null,null,null,"","","",{"$f":"VLOOKUP(LEFT(N66,3),銀行代碼表!O:P,2,0)","v":{"$error":"#N/A"}}]
[null,null,null,null,null,null,null,null,null,null,null,null,null,null,null,null,null,null,null,null,null,null,null,"","","",{"$f":"VLOOKUP(LEFT(N67,3),銀行代碼表!O:P,2,0)","v":{"$error":"#N/A"}}]
[null,null,null,null,null,null,null,null,null,null,null,null,null,null,null,null,null,null,null,null,null,null,null,"","","",{"$f":"VLOOKUP(LEFT(N68,3),銀行代碼表!O:P,2,0)","v":{"$error":"#N/A"}}]
[null,null,null,null,null,null,null,null,null,null,null,null,null,null,null,null,null,null,null,null,null,null,null,"","","",{"$f":"VLOOKUP(LEFT(N69,3),銀行代碼表!O:P,2,0)","v":{"$error":"#N/A"}}]
[null,null,null,null,null,null,null,null,null,null,null,null,null,null,null,null,null,null,null,null,null,null,null,"","","",{"$f":"VLOOKUP(LEFT(N70,3),銀行代碼表!O:P,2,0)","v":{"$error":"#N/A"}}]
[null,null,null,null,null,null,null,null,null,null,null,null,null,null,null,null,null,null,null,null,null,null,null,"","","",{"$f":"VLOOKUP(LEFT(N71,3),銀行代碼表!O:P,2,0)","v":{"$error":"#N/A"}}]
[null,null,null,null,null,null,null,null,null,null,null,null,null,null,null,null,null,null,null,null,null,null,null,"","","",{"$f":"VLOOKUP(LEFT(N72,3),銀行代碼表!O:P,2,0)","v":{"$error":"#N/A"}}]
[null,null,null,null,null,null,null,null,null,null,null,null,null,null,null,null,null,null,null,null,null,null,null,"","","",{"$f":"VLOOKUP(LEFT(N73,3),銀行代碼表!O:P,2,0)","v":{"$error":"#N/A"}}]
[null,null,null,null,null,null,null,null,null,null,null,null,null,null,null,null,null,null,null,null,null,null,null,"","","",{"$f":"VLOOKUP(LEFT(N74,3),銀行代碼表!O:P,2,0)","v":{"$error":"#N/A"}}]
[null,null,null,null,null,null,null,null,null,null,null,null,null,null,null,null,null,null,null,null,null,null,null,"","","",{"$f":"VLOOKUP(LEFT(N75,3),銀行代碼表!O:P,2,0)","v":{"$error":"#N/A"}}]
[null,null,null,null,null,null,null,null,null,null,null,null,null,null,null,null,null,null,null,null,null,null,null,"","","",{"$f":"VLOOKUP(LEFT(N76,3),銀行代碼表!O:P,2,0)","v":{"$error":"#N/A"}}]
[null,null,null,null,null,null,null,null,null,null,null,null,null,null,null,null,null,null,null,null,null,null,null,"","","",{"$f":"VLOOKUP(LEFT(N77,3),銀行代碼表!O:P,2,0)","v":{"$error":"#N/A"}}]
[null,null,null,null,null,null,null,null,null,null,null,null,null,null,null,null,null,null,null,null,null,null,null,"","","",{"$f":"VLOOKUP(LEFT(N78,3),銀行代碼表!O:P,2,0)","v":{"$error":"#N/A"}}]
[null,null,null,null,null,null,null,null,null,null,null,null,null,null,null,null,null,null,null,null,null,null,null,"","","",{"$f":"VLOOKUP(LEFT(N79,3),銀行代碼表!O:P,2,0)","v":{"$error":"#N/A"}}]
[null,null,null,null,null,null,null,null,null,null,null,null,null,null,null,null,null,null,null,null,null,null,null,"","","",{"$f":"VLOOKUP(LEFT(N80,3),銀行代碼表!O:P,2,0)","v":{"$error":"#N/A"}}]
[null,null,null,null,null,null,null,null,null,null,null,null,null,null,null,null,null,null,null,null,null,null,null,"","","",{"$f":"VLOOKUP(LEFT(N81,3),銀行代碼表!O:P,2,0)","v":{"$error":"#N/A"}}]
[null,null,null,null,null,null,null,null,null,null,null,null,null,null,null,null,null,null,null,null,null,null,null,"","","",{"$f":"VLOOKUP(LEFT(N82,3),銀行代碼表!O:P,2,0)","v":{"$error":"#N/A"}}]
[null,null,null,null,null,null,null,null,null,null,null,null,null,null,null,null,null,null,null,null,null,null,null,"","","",{"$f":"VLOOKUP(LEFT(N83,3),銀行代碼表!O:P,2,0)","v":{"$error":"#N/A"}}]
[null,null,null,null,null,null,null,null,null,null,null,null,null,null,null,null,null,null,null,null,null,null,null,"","","",{"$f":"VLOOKUP(LEFT(N84,3),銀行代碼表!O:P,2,0)","v":{"$error":"#N/A"}}]
[null,null,null,null,null,null,null,null,null,null,null,null,null,null,null,null,null,null,null,null,null,null,null,{"$f":"IF(LEN(E85)=0,\"\",IF(MOD(VALUE(LEFT(VLOOKUP(LEFT(E85),AB$1:AC$65543,2,0)))+VALUE(RIGHT(VLOOKUP(LEFT(E85),AB$1:AC$65543,2,0)))*9+VALUE(MID(E85,2,1))*8 + VALUE(MID(E85,3,1))*7 + VALUE(MID(E85,4,1))*6+ VALUE(MID(E85,5,1))*5+ VALUE(MID(E85,6,1))*4 + VALUE(MID(E85,7,1))*3 + VALUE(MID(E85,8,1))*2 + VALUE(MID(E85,9,1))*1+ VALUE(MID(E85,10,1))*1,10)=0,\"正確\",\"身分證不正確\"))","v":""},"","",{"$f":"VLOOKUP(LEFT(N85,3),銀行代碼表!O:P,2,0)","v":{"$error":"#N/A"}}]
[null,null,null,null,null,null,null,null,null,null,null,null,null,null,null,null,null,null,null,null,null,null,null,"","","",{"$f":"VLOOKUP(LEFT(N86,3),銀行代碼表!O:P,2,0)","v":{"$error":"#N/A"}}]
[null,null,null,null,null,null,null,null,null,null,null,null,null,null,null,null,null,null,null,null,null,null,null,"","","",{"$f":"VLOOKUP(LEFT(N87,3),銀行代碼表!O:P,2,0)","v":{"$error":"#N/A"}}]
[null,null,null,null,null,null,null,null,null,null,null,null,null,null,null,null,null,null,null,null,null,null,null,"","","",{"$f":"VLOOKUP(LEFT(N88,3),銀行代碼表!O:P,2,0)","v":{"$error":"#N/A"}}]
[null,null,null,null,null,null,null,null,null,null,null,null,null,null,null,null,null,null,null,null,null,null,null,"","","",{"$f":"VLOOKUP(LEFT(N89,3),銀行代碼表!O:P,2,0)","v":{"$error":"#N/A"}}]
[null,null,null,null,null,null,null,null,null,null,null,null,null,null,null,null,null,null,null,null,null,null,null,"","","",{"$f":"VLOOKUP(LEFT(N90,3),銀行代碼表!O:P,2,0)","v":{"$error":"#N/A"}}]
[null,null,null,null,null,null,null,null,null,null,null,null,null,null,null,null,null,null,null,null,null,null,null,"","","",{"$f":"VLOOKUP(LEFT(N91,3),銀行代碼表!O:P,2,0)","v":{"$error":"#N/A"}}]
[null,null,null,null,null,null,null,null,null,null,null,null,null,null,null,null,null,null,null,null,null,null,null,"","","",{"$f":"VLOOKUP(LEFT(N92,3),銀行代碼表!O:P,2,0)","v":{"$error":"#N/A"}}]
[null,null,null,null,null,null,null,null,null,null,null,null,null,null,null,null,null,null,null,null,null,null,null,"","","",{"$f":"VLOOKUP(LEFT(N93,3),銀行代碼表!O:P,2,0)","v":{"$error":"#N/A"}}]
[null,null,null,null,null,null,null,null,null,null,null,null,null,null,null,null,null,null,null,null,null,null,null,"","","",{"$f":"VLOOKUP(LEFT(N94,3),銀行代碼表!O:P,2,0)","v":{"$error":"#N/A"}}]
[null,null,null,null,null,null,null,null,null,null,null,null,null,null,null,null,null,null,null,null,null,null,null,"","","",{"$f":"VLOOKUP(LEFT(N95,3),銀行代碼表!O:P,2,0)","v":{"$error":"#N/A"}}]
[null,null,null,null,null,null,null,null,null,null,null,null,null,null,null,null,null,null,null,null,null,null,null,"","","",{"$f":"VLOOKUP(LEFT(N96,3),銀行代碼表!O:P,2,0)","v":{"$error":"#N/A"}}]
[null,null,null,null,null,null,null,null,null,null,null,null,null,null,null,null,null,null,null,null,null,null,null,"","","",{"$f":"VLOOKUP(LEFT(N97,3),銀行代碼表!O:P,2,0)","v":{"$error":"#N/A"}}]
[null,null,null,null,null,null,null,null,null,null,null,null,null,null,null,null,null,null,null,null,null,null,null,"","","",{"$f":"VLOOKUP(LEFT(N98,3),銀行代碼表!O:P,2,0)","v":{"$error":"#N/A"}}]
[null,null,null,null,null,null,null,null,null,null,null,null,null,null,null,null,null,null,null,null,null,null,null,"","","",{"$f":"VLOOKUP(LEFT(N99,3),銀行代碼表!O:P,2,0)","v":{"$error":"#N/A"}}]
[null,null,null,null,null,null,null,null,null,null,null,null,null,null,null,null,null,null,null,null,null,null,null,"","","",{"$f":"VLOOKUP(LEFT(N100,3),銀行代碼表!O:P,2,0)","v":{"$error":"#N/A"}}]
[null,null,null,null,null,null,null,null,null,null,null,null,null,null,null,null,null,null,null,null,null,null,null,"","","",{"$f":"VLOOKUP(LEFT(N101,3),銀行代碼表!O:P,2,0)","v":{"$error":"#N/A"}}]
[null,null,null,null,null,null,null,null,null,null,null,null,null,null,null,null,null,null,null,null,null,null,null,"","","",{"$f":"VLOOKUP(LEFT(N102,3),銀行代碼表!O:P,2,0)","v":{"$error":"#N/A"}}]
[null,null,null,null,null,null,null,null,null,null,null,null,null,null,null,null,null,null,null,null,null,null,null,"","","",{"$f":"VLOOKUP(LEFT(N103,3),銀行代碼表!O:P,2,0)","v":{"$error":"#N/A"}}]
[null,null,null,null,null,null,null,null,null,null,null,null,null,null,null,null,null,null,null,null,null,null,null,"","","",{"$f":"VLOOKUP(LEFT(N104,3),銀行代碼表!O:P,2,0)","v":{"$error":"#N/A"}}]
[null,null,null,null,null,null,null,null,null,null,null,null,null,null,null,null,null,null,null,null,null,null,null,"","","",{"$f":"VLOOKUP(LEFT(N105,3),銀行代碼表!O:P,2,0)","v":{"$error":"#N/A"}}]
[null,null,null,null,null,null,null,null,null,null,null,null,null,null,null,null,null,null,null,null,null,null,null,"","","",{"$f":"VLOOKUP(LEFT(N106,3),銀行代碼表!O:P,2,0)","v":{"$error":"#N/A"}}]
[null,null,null,null,null,null,null,null,null,null,null,null,null,null,null,null,null,null,null,null,null,null,null,"","","",{"$f":"VLOOKUP(LEFT(N107,3),銀行代碼表!O:P,2,0)","v":{"$error":"#N/A"}}]
[null,null,null,null,null,null,null,null,null,null,null,null,null,null,null,null,null,null,null,null,null,null,null,"","","",{"$f":"VLOOKUP(LEFT(N108,3),銀行代碼表!O:P,2,0)","v":{"$error":"#N/A"}}]
[null,null,null,null,null,null,null,null,null,null,null,null,null,null,null,null,null,null,null,null,null,null,null,"","","",{"$f":"VLOOKUP(LEFT(N109,3),銀行代碼表!O:P,2,0)","v":{"$error":"#N/A"}}]
[null,null,null,null,null,null,null,null,null,null,null,null,null,null,null,null,null,null,null,null,null,null,null,"","","",{"$f":"VLOOKUP(LEFT(N110,3),銀行代碼表!O:P,2,0)","v":{"$error":"#N/A"}}]
[null,null,null,null,null,null,null,null,null,null,null,null,null,null,null,null,null,null,null,null,null,null,null,"","","",{"$f":"VLOOKUP(LEFT(N111,3),銀行代碼表!O:P,2,0)","v":{"$error":"#N/A"}}]
[null,null,null,null,null,null,null,null,null,null,null,null,null,null,null,null,null,null,null,null,null,null,null,"","","",{"$f":"VLOOKUP(LEFT(N112,3),銀行代碼表!O:P,2,0)","v":{"$error":"#N/A"}}]
[null,null,null,null,null,null,null,null,null,null,null,null,null,null,null,null,null,null,null,null,null,null,null,"","","",{"$f":"VLOOKUP(LEFT(N113,3),銀行代碼表!O:P,2,0)","v":{"$error":"#N/A"}}]
[null,null,null,null,null,null,null,null,null,null,null,null,null,null,null,null,null,null,null,null,null,null,null,"","","",{"$f":"VLOOKUP(LEFT(N114,3),銀行代碼表!O:P,2,0)","v":{"$error":"#N/A"}}]
[null,null,null,null,null,null,null,null,null,null,null,null,null,null,null,null,null,null,null,null,null,null,null,"","","",{"$f":"VLOOKUP(LEFT(N115,3),銀行代碼表!O:P,2,0)","v":{"$error":"#N/A"}}]
[null,null,null,null,null,null,null,null,null,null,null,null,null,null,null,null,null,null,null,null,null,null,null,"","","",{"$f":"VLOOKUP(LEFT(N116,3),銀行代碼表!O:P,2,0)","v":{"$error":"#N/A"}}]
[null,null,null,null,null,null,null,null,null,null,null,null,null,null,null,null,null,null,null,null,null,null,null,{"$f":"IF(LEN(E117)=0,\"\",IF(MOD(VALUE(LEFT(VLOOKUP(LEFT(E117),AB$1:AC$65543,2,0)))+VALUE(RIGHT(VLOOKUP(LEFT(E117),AB$1:AC$65543,2,0)))*9+VALUE(MID(E117,2,1))*8 + VALUE(MID(E117,3,1))*7 + VALUE(MID(E117,4,1))*6+ VALUE(MID(E117,5,1))*5+ VALUE(MID(E117,6,1))*4 + VALUE(MID(E117,7,1))*3 + VALUE(MID(E117,8,1))*2 + VALUE(MID(E117,9,1))*1+ VALUE(MID(E117,10,1))*1,10)=0,\"正確\",\"身分證不正確\"))","v":""},"","",{"$f":"VLOOKUP(LEFT(N117,3),銀行代碼表!O:P,2,0)","v":{"$error":"#N/A"}}]
[null,null,null,null,null,null,null,null,null,null,null,null,null,null,null,null,null,null,null,null,null,null,null,"","","",{"$f":"VLOOKUP(LEFT(N118,3),銀行代碼表!O:P,2,0)","v":{"$error":"#N/A"}}]
[null,null,null,null,null,null,null,null,null,null,null,null,null,null,null,null,null,null,null,null,null,null,null,"","","",{"$f":"VLOOKUP(LEFT(N119,3),銀行代碼表!O:P,2,0)","v":{"$error":"#N/A"}}]
[null,null,null,null,null,null,null,null,null,null,null,null,null,null,null,null,null,null,null,null,null,null,null,"","","",{"$f":"VLOOKUP(LEFT(N120,3),銀行代碼表!O:P,2,0)","v":{"$error":"#N/A"}}]
[null,null,null,null,null,null,null,null,null,null,null,null,null,null,null,null,null,null,null,null,null,null,null,"","","",{"$f":"VLOOKUP(LEFT(N121,3),銀行代碼表!O:P,2,0)","v":{"$error":"#N/A"}}]
[null,null,null,null,null,null,null,null,null,null,null,null,null,null,null,null,null,null,null,null,null,null,null,"","","",{"$f":"VLOOKUP(LEFT(N122,3),銀行代碼表!O:P,2,0)","v":{"$error":"#N/A"}}]
[null,null,null,null,null,null,null,null,null,null,null,null,null,null,null,null,null,null,null,null,null,null,null,"","","",{"$f":"VLOOKUP(LEFT(N123,3),銀行代碼表!O:P,2,0)","v":{"$error":"#N/A"}}]
[null,null,null,null,null,null,null,null,null,null,null,null,null,null,null,null,null,null,null,null,null,null,null,"","","",{"$f":"VLOOKUP(LEFT(N124,3),銀行代碼表!O:P,2,0)","v":{"$error":"#N/A"}}]
[null,null,null,null,null,null,null,null,null,null,null,null,null,null,null,null,null,null,null,null,null,null,null,"","","",{"$f":"VLOOKUP(LEFT(N125,3),銀行代碼表!O:P,2,0)","v":{"$error":"#N/A"}}]
[null,null,null,null,null,null,null,null,null,null,null,null,null,null,null,null,null,null,null,null,null,null,null,"","","",{"$f":"VLOOKUP(LEFT(N126,3),銀行代碼表!O:P,2,0)","v":{"$error":"#N/A"}}]
[null,null,null,null,null,null,null,null,null,null,null,null,null,null,null,null,null,null,null,null,null,null,null,"","","",{"$f":"VLOOKUP(LEFT(N127,3),銀行代碼表!O:P,2,0)","v":{"$error":"#N/A"}}]
[null,null,null,null,null,null,null,null,null,null,null,null,null,null,null,null,null,null,null,null,null,null,null,"",{"$f":"IF(LEN(N128)=0,\"\",IF(LEN(N128)=7,\"正確\",\"銀行代碼須為7 碼\"))","v":""},{"$f":"IF(LEN(O128)=0,\"\",IF(LEN(O128)=AA128,\"正確\",\"帳號碼數應有\"&AA128&\" 碼\"))","v":""},{"$f":"VLOOKUP(LEFT(N128,3),銀行代碼表!O:P,2,0)","v":{"$error":"#N/A"}}]
[null,null,null,null,null,null,null,null,null,null,null,null,null,null,null,null,null,null,null,null,null,null,null,"","","",{"$f":"VLOOKUP(LEFT(N129,3),銀行代碼表!O:P,2,0)","v":{"$error":"#N/A"}}]
[null,null,null,null,null,null,null,null,null,null,null,null,null,null,null,null,null,null,null,null,null,null,null,"","","",{"$f":"VLOOKUP(LEFT(N130,3),銀行代碼表!O:P,2,0)","v":{"$error":"#N/A"}}]
[null,null,null,null,null,null,null,null,null,null,null,null,null,null,null,null,null,null,null,null,null,null,null,"","","",{"$f":"VLOOKUP(LEFT(N131,3),銀行代碼表!O:P,2,0)","v":{"$error":"#N/A"}}]
[null,null,null,null,null,null,null,null,null,null,null,null,null,null,null,null,null,null,null,null,null,null,null,"","","",{"$f":"VLOOKUP(LEFT(N132,3),銀行代碼表!O:P,2,0)","v":{"$error":"#N/A"}}]
[null,null,null,null,null,null,null,null,null,null,null,null,null,null,null,null,null,null,null,null,null,null,null,"","","",{"$f":"VLOOKUP(LEFT(N133,3),銀行代碼表!O:P,2,0)","v":{"$error":"#N/A"}}]
[null,null,null,null,null,null,null,null,null,null,null,null,null,null,null,null,null,null,null,null,null,null,null,"","","",{"$f":"VLOOKUP(LEFT(N134,3),銀行代碼表!O:P,2,0)","v":{"$error":"#N/A"}}]
[null,null,null,null,null,null,null,null,null,null,null,null,null,null,null,null,null,null,null,null,null,null,null,"","","",{"$f":"VLOOKUP(LEFT(N135,3),銀行代碼表!O:P,2,0)","v":{"$error":"#N/A"}}]
[null,null,null,null,null,null,null,null,null,null,null,null,null,null,null,null,null,null,null,null,null,null,null,"","","",{"$f":"VLOOKUP(LEFT(N136,3),銀行代碼表!O:P,2,0)","v":{"$error":"#N/A"}}]
[null,null,null,null,null,null,null,null,null,null,null,null,null,null,null,null,null,null,null,null,null,null,null,"","","",{"$f":"VLOOKUP(LEFT(N137,3),銀行代碼表!O:P,2,0)","v":{"$error":"#N/A"}}]
[null,null,null,null,null,null,null,null,null,null,null,null,null,null,null,null,null,null,null,null,null,null,null,"","","",{"$f":"VLOOKUP(LEFT(N138,3),銀行代碼表!O:P,2,0)","v":{"$error":"#N/A"}}]
[null,null,null,null,null,null,null,null,null,null,null,null,null,null,null,null,null,null,null,null,null,null,null,"","","",{"$f":"VLOOKUP(LEFT(N139,3),銀行代碼表!O:P,2,0)","v":{"$error":"#N/A"}}]
[null,null,null,null,null,null,null,null,null,null,null,null,null,null,null,null,null,null,null,null,null,null,null,"","","",{"$f":"VLOOKUP(LEFT(N140,3),銀行代碼表!O:P,2,0)","v":{"$error":"#N/A"}}]
[null,null,null,null,null,null,null,null,null,null,null,null,null,null,null,null,null,null,null,null,null,null,null,"","","",{"$f":"VLOOKUP(LEFT(N141,3),銀行代碼表!O:P,2,0)","v":{"$error":"#N/A"}}]
[null,null,null,null,null,null,null,null,null,null,null,null,null,null,null,null,null,null,null,null,null,null,null,"","","",{"$f":"VLOOKUP(LEFT(N142,3),銀行代碼表!O:P,2,0)","v":{"$error":"#N/A"}}]
[null,null,null,null,null,null,null,null,null,null,null,null,null,null,null,null,null,null,null,null,null,null,null,"","","",{"$f":"VLOOKUP(LEFT(N143,3),銀行代碼表!O:P,2,0)","v":{"$error":"#N/A"}}]
[null,null,null,null,null,null,null,null,null,null,null,null,null,null,null,null,null,null,null,null,null,null,null,"","","",{"$f":"VLOOKUP(LEFT(N144,3),銀行代碼表!O:P,2,0)","v":{"$error":"#N/A"}}]
[null,null,null,null,null,null,null,null,null,null,null,null,null,null,null,null,null,null,null,null,null,null,null,"","","",{"$f":"VLOOKUP(LEFT(N145,3),銀行代碼表!O:P,2,0)","v":{"$error":"#N/A"}}]
[null,null,null,null,null,null,null,null,null,null,null,null,null,null,null,null,null,null,null,null,null,null,null,"","","",{"$f":"VLOOKUP(LEFT(N146,3),銀行代碼表!O:P,2,0)","v":{"$error":"#N/A"}}]
[null,null,null,null,null,null,null,null,null,null,null,null,null,null,null,null,null,null,null,null,null,null,null,"","","",{"$f":"VLOOKUP(LEFT(N147,3),銀行代碼表!O:P,2,0)","v":{"$error":"#N/A"}}]
[null,null,null,null,null,null,null,null,null,null,null,null,null,null,null,null,null,null,null,null,null,null,null,"","","",{"$f":"VLOOKUP(LEFT(N148,3),銀行代碼表!O:P,2,0)","v":{"$error":"#N/A"}}]
[null,null,null,null,null,null,null,null,null,null,null,null,null,null,null,null,null,null,null,null,null,null,null,{"$f":"IF(LEN(E149)=0,\"\",IF(MOD(VALUE(LEFT(VLOOKUP(LEFT(E149),AB$1:AC$65543,2,0)))+VALUE(RIGHT(VLOOKUP(LEFT(E149),AB$1:AC$65543,2,0)))*9+VALUE(MID(E149,2,1))*8 + VALUE(MID(E149,3,1))*7 + VALUE(MID(E149,4,1))*6+ VALUE(MID(E149,5,1))*5+ VALUE(MID(E149,6,1))*4 + VALUE(MID(E149,7,1))*3 + VALUE(MID(E149,8,1))*2 + VALUE(MID(E149,9,1))*1+ VALUE(MID(E149,10,1))*1,10)=0,\"正確\",\"身分證不正確\"))","v":""},"","",{"$f":"VLOOKUP(LEFT(N149,3),銀行代碼表!O:P,2,0)","v":{"$error":"#N/A"}}]
[null,null,null,null,null,null,null,null,null,null,null,null,null,null,null,null,null,null,null,null,null,null,null,"","","",{"$f":"VLOOKUP(LEFT(N150,3),銀行代碼表!O:P,2,0)","v":{"$error":"#N/A"}}]
[null,null,null,null,null,null,null,null,null,null,null,null,null,null,null,null,null,null,null,null,null,null,null,"","","",{"$f":"VLOOKUP(LEFT(N151,3),銀行代碼表!O:P,2,0)","v":{"$error":"#N/A"}}]
[null,null,null,null,null,null,null,null,null,null,null,null,null,null,null,null,null,null,null,null,null,null,null,"","","",{"$f":"VLOOKUP(LEFT(N152,3),銀行代碼表!O:P,2,0)","v":{"$error":"#N/A"}}]
[null,null,null,null,null,null,null,null,null,null,null,null,null,null,null,null,null,null,null,null,null,null,null,"","","",{"$f":"VLOOKUP(LEFT(N153,3),銀行代碼表!O:P,2,0)","v":{"$error":"#N/A"}}]
[null,null,null,null,null,null,null,null,null,null,null,null,null,null,null,null,null,null,null,null,null,null,null,"","","",{"$f":"VLOOKUP(LEFT(N154,3),銀行代碼表!O:P,2,0)","v":{"$error":"#N/A"}}]
[null,null,null,null,null,null,null,null,null,null,null,null,null,null,null,null,null,null,null,null,null,null,null,"","","",{"$f":"VLOOKUP(LEFT(N155,3),銀行代碼表!O:P,2,0)","v":{"$error":"#N/A"}}]
[null,null,null,null,null,null,null,null,null,null,null,null,null,null,null,null,null,null,null,null,null,null,null,"","","",{"$f":"VLOOKUP(LEFT(N156,3),銀行代碼表!O:P,2,0)","v":{"$error":"#N/A"}}]
[null,null,null,null,null,null,null,null,null,null,null,null,null,null,null,null,null,null,null,null,null,null,null,"","","",{"$f":"VLOOKUP(LEFT(N157,3),銀行代碼表!O:P,2,0)","v":{"$error":"#N/A"}}]
[null,null,null,null,null,null,null,null,null,null,null,null,null,null,null,null,null,null,null,null,null,null,null,"","","",{"$f":"VLOOKUP(LEFT(N158,3),銀行代碼表!O:P,2,0)","v":{"$error":"#N/A"}}]
[null,null,null,null,null,null,null,null,null,null,null,null,null,null,null,null,null,null,null,null,null,null,null,"","","",{"$f":"VLOOKUP(LEFT(N159,3),銀行代碼表!O:P,2,0)","v":{"$error":"#N/A"}}]
[null,null,null,null,null,null,null,null,null,null,null,null,null,null,null,null,null,null,null,null,null,null,null,"","","",{"$f":"VLOOKUP(LEFT(N160,3),銀行代碼表!O:P,2,0)","v":{"$error":"#N/A"}}]
[null,null,null,null,null,null,null,null,null,null,null,null,null,null,null,null,null,null,null,null,null,null,null,"","","",{"$f":"VLOOKUP(LEFT(N161,3),銀行代碼表!O:P,2,0)","v":{"$error":"#N/A"}}]
[null,null,null,null,null,null,null,null,null,null,null,null,null,null,null,null,null,null,null,null,null,null,null,"","","",{"$f":"VLOOKUP(LEFT(N162,3),銀行代碼表!O:P,2,0)","v":{"$error":"#N/A"}}]
[null,null,null,null,null,null,null,null,null,null,null,null,null,null,null,null,null,null,null,null,null,null,null,"","","",{"$f":"VLOOKUP(LEFT(N163,3),銀行代碼表!O:P,2,0)","v":{"$error":"#N/A"}}]
[null,null,null,null,null,null,null,null,null,null,null,null,null,null,null,null,null,null,null,null,null,null,null,"","","",{"$f":"VLOOKUP(LEFT(N164,3),銀行代碼表!O:P,2,0)","v":{"$error":"#N/A"}}]
[null,null,null,null,null,null,null,null,null,null,null,null,null,null,null,null,null,null,null,null,null,null,null,"","","",{"$f":"VLOOKUP(LEFT(N165,3),銀行代碼表!O:P,2,0)","v":{"$error":"#N/A"}}]
[null,null,null,null,null,null,null,null,null,null,null,null,null,null,null,null,null,null,null,null,null,null,null,"","","",{"$f":"VLOOKUP(LEFT(N166,3),銀行代碼表!O:P,2,0)","v":{"$error":"#N/A"}}]
[null,null,null,null,null,null,null,null,null,null,null,null,null,null,null,null,null,null,null,null,null,null,null,"","","",{"$f":"VLOOKUP(LEFT(N167,3),銀行代碼表!O:P,2,0)","v":{"$error":"#N/A"}}]
[null,null,null,null,null,null,null,null,null,null,null,null,null,null,null,null,null,null,null,null,null,null,null,"","","",{"$f":"VLOOKUP(LEFT(N168,3),銀行代碼表!O:P,2,0)","v":{"$error":"#N/A"}}]
[null,null,null,null,null,null,null,null,null,null,null,null,null,null,null,null,null,null,null,null,null,null,null,"","","",{"$f":"VLOOKUP(LEFT(N169,3),銀行代碼表!O:P,2,0)","v":{"$error":"#N/A"}}]
[null,null,null,null,null,null,null,null,null,null,null,null,null,null,null,null,null,null,null,null,null,null,null,"","","",{"$f":"VLOOKUP(LEFT(N170,3),銀行代碼表!O:P,2,0)","v":{"$error":"#N/A"}}]
[null,null,null,null,null,null,null,null,null,null,null,null,null,null,null,null,null,null,null,null,null,null,null,"","","",{"$f":"VLOOKUP(LEFT(N171,3),銀行代碼表!O:P,2,0)","v":{"$error":"#N/A"}}]
[null,null,null,null,null,null,null,null,null,null,null,null,null,null,null,null,null,null,null,null,null,null,null,"","","",{"$f":"VLOOKUP(LEFT(N172,3),銀行代碼表!O:P,2,0)","v":{"$error":"#N/A"}}]
[null,null,null,null,null,null,null,null,null,null,null,null,null,null,null,null,null,null,null,null,null,null,null,"","","",{"$f":"VLOOKUP(LEFT(N173,3),銀行代碼表!O:P,2,0)","v":{"$error":"#N/A"}}]
[null,null,null,null,null,null,null,null,null,null,null,null,null,null,null,null,null,null,null,null,null,null,null,"","","",{"$f":"VLOOKUP(LEFT(N174,3),銀行代碼表!O:P,2,0)","v":{"$error":"#N/A"}}]
[null,null,null,null,null,null,null,null,null,null,null,null,null,null,null,null,null,null,null,null,null,null,null,"","","",{"$f":"VLOOKUP(LEFT(N175,3),銀行代碼表!O:P,2,0)","v":{"$error":"#N/A"}}]
[]
[]
[]
[]
[]
[]
[]
[]
[]
[]
[]
[]
[]
[]
[]
[]
[]
[]
[]
[]
[]
[]
[]
[]
[]
[]
[]
[]
[]
[]
[]
[]
[]
[]
[]
[]
[]
[]
[]
[]
[]
[]
[]
[]
[]
[]
[]
[]
[]
[]
[]
[]
[]
[]
[]
[]
[]
[]
[]
[]
[]
[]
[]
[]
[]
[]
[]
[]
[]
[]
[]
[]
[]
[]
[]
[]
[]
[]
[]
[]
[]
[]
[]
[]
[]
[]
[]
[]
[]
[]
[]
[]
[]
[]
[]
[]
[]
[]
[]
[]
[]
[]
[]
[]
[]
[]
[]
[]
[]
[]
[]
[]
[]
[]
[]
[]
[]
[]
[]
[]
[]
[]
[]
[]
[]
[]
[]
[]
[]
[]
[]
[]
[]
[]
[]
[]
[]
[]
[]
[]
[]
[]
[]
[]
[]
[]
[]
[]
[]
[]
[]
[]
[]
[]
[]
[]
[]
[]
[]
[]
[]
[]
[]
[]
[]
[]
[]
[]
[]
[]
[]
[]
[]
[]
[]
[]
[]
[]
[]
[]
[]
[]
[]
[]
[]
[]
[]
[]
[]
[]
[]
[]
[]
[]
[]
[]
[]
[]
[]
[]
[]
[]
[]
[]
[]
[]
[]
[]
[]
[]
[]
[]
[]
[]
[]
[]
[]
[]
[]
[]
[]
[]
[]
[]
[]
[]
[]
[]
[]
[]
[]
[]
[]
[]
[]
[]
[]
[]
[]
[]
[]
[]
[]
[]
[]
[]
[]
[]
[]
[]
[]
[]
[]
[]
[]
[]
[]
[]
[]
[]
[]
[]
[]
[]
[]
[]
[]
[]
[]
[]
[]
[]
[]
[]
[]
[]
[]
[]
[]
[]
[]
[]
[]
[]
[]
[]
[]
[]
[]
[]
[]
[]
[]
[]
[]
[]
[]
[]
[]
[]
[]
[]
[]
[]
[]
[]
[]
[]
[]
[]
[]
[]
[]
[]
[]
[]
[]
[]
[]
[]
[]
[]
[]
[]
[]
[]
[]
[]
[]
[]
[]
[]
[]
[]
[]
[]
[]
[]
[]
[]
[]
[]
[]
[]
[]
[]
[]
[]
[]
[]
[]
[]
[]
[]
[]
[]
[]
[]
[]
[]
[]
[]
[]
[]
[]
[]
[]
[]
[]
[]
[]
[]
[]
[]
[]
[]
[]
[]
[]
[]
[]
[]
[]
[]
[]
[]
[]
[]
[]
[]
[]
[]
[]
[]
[]
[]
[]
[]
[]
[]
[]
[]
[]
[]
[]
[]
[]
[]
[]
[]
[]
[]
[]
[]
[]
[]
[]
[]
[]
[]
[]
[]
[]
[]
[]
[]
[]
[]
[]
[]
[]
[]
[]
[]
[]
[]
[]
[]
[]
[]
[]
[]
[]
[]
[]
[]
[]
[]
[]
[]
[]
[]
[]
[]
[]
[]
[]
[]
[]
[]
[]
[]
[]
[]
[]
[]
[]
[]
[]
[]
[]
[]
[]
[]
[]
[]
[]
[]
[]
[]
[]
[]
[]
[]
[]
[]
[]
[]
[]
[]
[]
[]
[]
[]
[]
[]
[]
[]
[]
[]
[]
[]
[]
[]
[]
[]
[]
[]
[]
[]
[]
[]
[]
[]
[]
[]
[]
[]
[]
[]
[]
[]
[]
[]
[]
[]
[]
[]
[]
[]
[]
[]
[]
[]
[]
[]
[]
[]
[]
[]
[]
[]
[]
[]
[]
[]
[]
[]
[]
[]
[]
[]
[]
[]
[]
[]
[]
[]
[]
[]
[]
[]
[]
[]
[]
[]
[]
[]
[]
[]
[]
[]
[]
[]
[]
[]
[]
[]
[]
[]
[]
[]
[]
[]
[]
[]
[]
[]
[]
[]
[]
[]
[]
[]
[]
[]
[]
[]
[]
[]
[]
[]
[]
[]
[]
[]
[]
[]
[]
[]
[]
[]
[]
[]
[]
[]
[]
[]
[]
[]
[]
[]
[]
[]
[]
[]
[]
[]
[]
[]
[]
[]
[]
[]
[]
[]
[]
[]
[]
[]
[]
[]
[]
[]
[]
[]
[]
[]
[]
[]
[]
[]
[]
[]
[]
[]
[]
[]
[]
[]
[]
[]
[]
[]
[]
[]
[]
[]
[]
[]
[]
[]
[]
[]
[]
[]
[]
[]
[]
[]
[]
[]
[]
[]
[]
[]
[]
[]
[]
[]
[]
[]
[]
[]
[]
[]
[]
[]
[]
[]
[]
[]
[]
[]
[]
[]
[]
[]
[]
[]
[]
[]
[]
[]
[]
[]
[]
[]
[]
[]
[]
[]
[]
[]
[]
[]
[]
[]
[]
[]
[]
[]
[]
[]
[]
[]
[]
[]
[]
[]
[]
[]
[]
[]
[]
[]
[]
[]
[]
[]
[]
[]
[]
[]
[]
[]
[]
[]
[]
[]
[]
[]
[]
[]
[]
[]
[]
[]
[]
[]
[]
[]
[]
[]
[]
[]
[]
[]
[]
[]
[]
[]
[]
[]
[]
[]
[]
[]
[]
[]
[]
[]
[]
[]
[]
[]
[]
[]
[]
[]
[]
[]
[]
[]
[]
[]
[]
[]
[]
[]
[]
[]
[]
[]
[]
[]
[]
[]
[]
[]
[]
[]
[]
[]
[]
[]
[]
[]
[]
[]
[]
[]
[]
[]
[]
[]
[]
[]
[]
[]
[]
[]
[]
[]
[]
[]
[]
[]
[]
[]
[]
[]
[]
[]
[]
[]
[]
[]
[]
[]
[]
[]
[]
[]
[]
[]
[]
[]
[]
[]
[]
[]
[]
[]
[]
[]
[]
[]
[]
[]
[]
[]
[]
[]
[]
[]
[]
[]
[]
[]
[]
[]
[]
[]
[]
[]
[]
[]
[]
[]
[]
[]
[]
[]
[]
[]
[]
[]
[]
[]
[]
[]
[]
[]
[]
[]
[]
[]
[]
[]
[]
[]
[]
[]
[]
[]
[]
[]
[]
[]
[]
[]
[]
[]
[]
[]
[]
[]
[]
[]
[]
[]
[]
[]
[]
[]
[]
[]
[]
[]
[]
[]
[]
[]
[]
[]
[]
[]
[]
[]
[]
[]
[]
[]
[]
[]
[]
[]
[]
[]
[]
[]
[]
[]
[]
[]
[]
[]
[]
[]
[]
[]
[]
[]
[]
[]
[]
[]
[]
[]
[]
[]
[]
[]
[]
[]
[]
[]
[]
[]
[]
[]
[]
[]
[]
[]
[]
[]
[]
[]
[]
[]
[]
[]
[]
[]
[]
[]
[]
[]
[]
[]
[]
[]
[]
[]
[]
[]
[]
[]
[]
[]
[]
[]
[]
[]
[]
[]
[]
[]
[]
[]
[]
[]
[]
[]
[]
[]
[]
[]
[]
[]
[]
[]
[]
[]
[]
[]
[]
[]
[]
[]
[]
[]
[]
[]
[]
[]
[]
[]
[]
[]
[]
[]
[]
[]
[]
[]
[]
[]
[]
[]
[]
[]
[]
[]
[]
[]
[]
[]
[]
[]
[]
[]
[]
[]
[]
[]
[]
[]
[]
[]
[]
[]
[]
[]
[]
[]
[]
[]
[]
[]
[]
[]
[]
[]
[]
[]
[]
[]
[]
[]
[]
[]
[]
[]
[]
[]
[]
[]
[]
[]
[]
[]
[]
[]
[]
[]
[]
[]
[]
[]
[]
[]
[]
[]
[]
[]
[]
[]
[]
[]
[]
[]
[]
[]
[]
[]
[]
[]
[]
[]
[]
[]
[]
[]
[]
[]
[]
[]
[]
[]
[]
[]
[]
[]
[]
[]
[]
[]
[]
[]
[]
[]
[]
[]
[]
[]
[]
[]
[]
[]
[]
[]
[]
[]
[]
[]
[]
[]
[]
[]
[]
[]
[]
[]
[]
[]
[]
[]
[]
[]
[]
[]
[]
[]
[]
[]
[]
[]
[]
[]
[]
[]
[]
[]
[]
[]
[]
[]
[]
[]
[]
[]
[]
[]
[]
[]
[]
[]
[]
[]
[]
[]
[]
[]
[]
[]
[]
[]
[]
[]
[]
[]
[]
[]
[]
[]
[]
[]
[]
[]
[]
[]
[]
[]
[]
[]
[]
[]
[]
[]
[]
[]
[]
[]
[]
[]
[]
[]
[]
[]
[]
[]
[null,null,null,null,null,null,null,null,null,null,null,null,null,null,null,null,null,null,null,null,null,null,null,null,null,null,null,"A",10]
[null,null,null,null,null,null,null,null,null,null,null,null,null,null,null,null,null,null,null,null,null,null,null,null,null,null,null,"B",11]
[null,null,null,null,null,null,null,null,null,null,null,null,null,null,null,null,null,null,null,null,null,null,null,null,null,null,null,"C",12]
[null,null,null,null,null,null,null,null,null,null,null,null,null,null,null,null,null,null,null,null,null,null,null,null,null,null,null,"D",13]
[null,null,null,null,null,null,null,null,null,null,null,null,null,null,null,null,null,null,null,null,null,null,null,null,null,null,null,"E",14]
[null,null,null,null,null,null,null,null,null,null,null,null,null,null,null,null,null,null,null,null,null,null,null,null,null,null,null,"F",15]
[null,null,null,null,null,null,null,null,null,null,null,null,null,null,null,null,null,null,null,null,null,null,null,null,null,null,null,"G",16]
[null,null,null,null,null,null,null,null,null,null,null,null,null,null,null,null,null,null,null,null,null,null,null,null,null,null,null,"H",17]
[null,null,null,null,null,null,null,null,null,null,null,null,null,null,null,null,null,null,null,null,null,null,null,null,null,null,null,"I",34]
[null,null,null,null,null,null,null,null,null,null,null,null,null,null,null,null,null,null,null,null,null,null,null,null,null,null,null,"J",18]
[null,null,null,null,null,null,null,null,null,null,null,null,null,null,null,null,null,null,null,null,null,null,null,null,null,null,null,"L",20]
[null,null,null,null,null,null,null,null,null,null,null,null,null,null,null,null,null,null,null,null,null,null,null,null,null,null,null,"M",21]
[null,null,null,null,null,null,null,null,null,null,null,null,null,null,null,null,null,null,null,null,null,null,null,null,null,null,null,"N",22]
[null,null,null,null,null,null,null,null,null,null,null,null,null,null,null,null,null,null,null,null,null,null,null,null,null,null,null,"O",35]
[null,null,null,null,null,null,null,null,null,null,null,null,null,null,null,null,null,null,null,null,null,null,null,null,null,null,null,"P",23]
[null,null,null,null,null,null,null,null,null,null,null,null,null,null,null,null,null,null,null,null,null,null,null,null,null,null,null,"Q",24]
[null,null,null,null,null,null,null,null,null,null,null,null,null,null,null,null,null,null,null,null,null,null,null,null,null,null,null,"R",25]
[null,null,null,null,null,null,null,null,null,null,null,null,null,null,null,null,null,null,null,null,null,null,null,null,null,null,null,"S",26]
[null,null,null,null,null,null,null,null,null,null,null,null,null,null,null,null,null,null,null,null,null,null,null,null,null,null,null,"T",27]
[null,null,null,null,null,null,null,null,null,null,null,null,null,null,null,null,null,null,null,null,null,null,null,null,null,null,null,"U",28]
[null,null,null,null,null,null,null,null,null,null,null,null,null,null,null,null,null,null,null,null,null,null,null,null,null,null,null,"V",29]
[null,null,null,null,null,null,null,null,null,null,null,null,null,null,null,null,null,null,null,null,null,null,null,null,null,null,null,"W",32]
[null,null,null,null,null,null,null,null,null,null,null,null,null,null,null,null,null,null,null,null,null,null,null,null,null,null,null,"X",30]
[null,null,null,null,null,null,null,null,null,null,null,null,null,null,null,null,null,null,null,null,null,null,null,null,null,null,null,"Y",31]
[null,null,null,null,null,null,null,null,null,null,null,null,null,null,null,null,null,null,null,null,null,null,null,null,null,null,null,"Z",33]
[null,null,null,null,null,null,null,null,null,null,null,null,null,null,null,null,null,null,null,null,null,null,null,null,null,null,null,"Z",33]

{"sheet":"銀行代碼表","index":1,"n_rows":5008,"n_cols":16,"rows_kept":5008,"cut":false,"hidden":false,"merged":[]}
["分行別","銀行分行別","代碼","銀行分行別",null,null,null,null,null,"0001006","台北北門郵局",null,null,null,"銀行帳號碼數查詢"]
["國庫局","央行國庫局","0000022","央行國庫局","可於左方直接搜尋銀行分行代碼或點選下方超連",null,null,null,null,"0001010","台北東門郵局",null,null,null,"000",12]
["營業部","臺銀營業部","0040037","臺銀營業部",null,null,null,null,null,"0001023","台北漢中街郵局",null,null,null,"004",12]
["公庫部","臺銀公庫部","0040059","臺銀公庫部","銀行代碼查詢網站",null,null,null,null,"0001037","台北西園郵局",null,null,null,"005",12]
["館前分行","臺銀館前","0040071","臺銀館前",null,null,null,null,null,"0001041","台北龍山郵局",null,null,null,"006",13]
["台南分行","臺銀台南","0040093","臺銀台南",null,null,null,null,null,"0001054","台北南海郵局",null,null,null,"007",11]
["台中分行","臺銀台中","0040107","臺銀台中",null,null,null,null,null,"0001068","台北螢橋郵局",null,null,null,"008",12]
["高雄分行","臺銀高雄","0040118","臺銀高雄",null,null,null,null,null,"0001071","台北青田郵局",null,null,null,"009",14]
["基隆分行","臺銀基隆","0040129","臺銀基隆",null,null,null,null,null,"0001085","台北復興橋郵局",null,null,null,"010",14]
["中興新村分行","臺銀中興","0040130","臺銀中興",null,null,null,null,null,"0001099","台北中山郵局",null,null,null,"011",14]
["嘉義分行","臺銀嘉義","0040141","臺銀嘉義",null,null,null,null,null,"0001101","台北迪化街郵局",null,null,null,"012",12]
["新竹分行","臺銀新竹","0040152","臺銀新竹",null,null,null,null,null,"0001114","台北圓環郵局",null,null,null,"013",12]
["彰化分行","臺銀彰化","0040163","臺銀彰化",null,null,null,null,null,"0001128","行政院郵局",null,null,null,"016",12]
["屏東分行","臺銀屏東","0040174","臺銀屏東",null,null,null,null,null,"0001131","台北公館郵局",null,null,null,"017",11]
["花蓮分行","臺銀花蓮","0040185","臺銀花蓮",null,null,null,null,null,"0001145","國史館郵局",null,null,null,"018",14]
["延平分行","臺銀延平","0040196","臺銀延平",null,null,null,null,null,"0001159","總統府郵局",null,null,null,"050",11]
["中山分行","臺銀中山","0040200","臺銀中山",null,null,null,null,null,"0001176","台北雙連郵局",null,null,null,"052",14]
["高雄加工出口區分行","臺銀高加","0040211","臺銀高加",null,null,null,null,null,"0001180","台北松山郵局",null,null,null,"053",12]
["宜蘭分行","臺銀宜蘭","0040222","臺銀宜蘭",null,null,null,null,null,"0001205","台北法院郵局",null,null,null,"054",13]
["台東分行","臺銀台東","0040233","臺銀台東",null,null,null,null,null,"0001219","台北台北橋郵局",null,null,null,"057",13]
["澎湖分行","臺銀澎湖","0040244","臺銀澎湖",null,null,null,null,null,"0001222","台北師大郵局",null,null,null,"101",13]
["鳳山分行","臺銀鳳山","0040255","臺銀鳳山",null,null,null,null,null,"0001236","台大郵局",null,null,null,"102",13]
["桃園分行","臺銀桃園","0040266","臺銀桃園",null,null,null,null,null,"0001240","台北仁愛路郵局",null,null,null,"103",13]
["板橋分行","臺銀板橋","0040277","臺銀板橋",null,null,null,null,null,"0001253","立法院郵局",null,null,null,"104",14]
["新營分行","臺銀新營","0040288","臺銀新營",null,null,null,null,null,"0001267","台北信維郵局",null,null,null,"106",13]
["苗栗分行","臺銀苗栗","0040299","臺銀苗栗",null,null,null,null,null,"0001271","台北建北郵局",null,null,null,"108",12]
["豐原分行","臺銀豐原","0040303","臺銀豐原",null,null,null,null,null,"0001284","士林郵局",null,null,null,"114",13]
["斗六分行","臺銀斗六","0040314","臺銀斗六",null,null,null,null,null,"0001298","文山景美郵局",null,null,null,"115",11]
["南投分行","臺銀南投","0040325","臺銀南投",null,null,null,null,null,"0001300","台北古亭郵局",null,null,null,"118",14]
["南門分行","臺銀南門","0040336","臺銀南門",null,null,null,null,null,"0001313","台北東園郵局",null,null,null,"119",13]
["公館分行","臺銀公館","0040347","臺銀公館",null,null,null,null,null,"0001327","台北光華郵局",null,null,null,"120",14]
["左營分行","臺銀左營","0040358","臺銀左營",null,null,null,null,null,"0001331","台北南陽郵局",null,null,null,"124",14]
["北投分行","臺銀北投","0040369","臺銀北投",null,null,null,null,null,"0001344","台北中崙郵局",null,null,null,"127",11]
["霧峰分行","臺銀霧峰","0040370","臺銀霧峰",null,null,null,null,null,"0001358","台北莒光郵局",null,null,null,"130",14]
["金門分行","臺銀金門","0040381","臺銀金門",null,null,null,null,null,"0001361","台北光復郵局",null,null,null,"132",13]
["馬祖分行","臺銀馬祖","0040392","臺銀馬祖",null,null,null,null,null,"0001375","台北大直郵局",null,null,null,"139",12]
["安平分行","臺銀安平","0040406","臺銀安平",null,null,null,null,null,"0001392","台北重南郵局",null,null,null,"146",14]
["中壢分行","臺銀中壢","0040417","臺銀中壢",null,null,null,null,null,"0001421","士林社子郵局",null,null,null,"147",10]
["三重分行","臺銀三重","0040428","臺銀三重",null,null,null,null,null,"0001435","台北三張犁郵局",null,null,null,"158",14]
["頭份分行","臺銀頭份","0040439","臺銀頭份",null,null,null,null,null,"0001449","台北成功郵局",null,null,null,"161",14]
["前鎮分行","臺銀前鎮","0040440","臺銀前鎮",null,null,null,null,null,"0001452","松山機場郵局",null,null,null,"162",13]
["城中分行","臺銀城中","0040451","臺銀城中",null,null,null,null,null,"0001466","台北長安郵局",null,null,null,"163",13]
["民權分行","臺銀民權","0040462","臺銀民權",null,null,null,null,null,"0001470","台北大同郵局",null,null,null,"165",14]
["潭子分行","臺銀潭子","0040473","臺銀潭子",null,null,null,null,null,"0001483","台北西松郵局",null,null,null,"178",14]
["連城分行","臺銀連城","0040484","臺銀連城",null,null,null,null,null,"0001497","台北市府郵局",null,null,null,"179",14]
["員林分行","臺銀員林","0040495","臺銀員林",null,null,null,null,null,"0001509","台北大龍峒郵局",null,null,null,"188",14]
["松江分行","臺銀松江","0040509","臺銀松江",null,null,null,null,null,"0001512","台北五分埔郵局",null,null,null,"203",14]
["鼓山分行","臺銀鼓山","0040510","臺銀鼓山",null,null,null,null,null,"0001526","士林天母郵局",null,null,null,"204",14]
["龍山分行","臺銀龍山","0040521","臺銀龍山",null,null,null,null,null,"0001530","台北光武郵局",null,null,null,"215",14]
["忠孝分行","臺銀忠孝","0040532","臺銀忠孝",null,null,null,null,null,"0001543","台北吳興郵局",null,null,null,"216",14]
["信義分行","臺銀信義","0040543","臺銀信義",null,null,null,null,null,"0001557","台北松江路郵局",null,null,null,"222",14]
["復興分行","臺銀復興","0040554","臺銀復興",null,null,null,null,null,"0001561","台北延壽郵局",null,null,null,"223",14]
["三民分行","臺銀三民","0040565","臺銀三民",null,null,null,null,null,"0001574","台北六張犁郵局",null,null,null,"224",14]
["台中港分行","臺銀台中港","0040576","臺銀台中港",null,null,null,null,null,"0001588","台北小南門郵局",null,null,null,"606",14]
["羅東分行","臺銀羅東","0040587","臺銀羅東",null,null,null,null,null,"0001591","故宮郵局",null,null,null,"616",14]
["埔里分行","臺銀埔里","0040598","臺銀埔里",null,null,null,null,null,"0001617","台北保安郵局",null,null,null,"619",14]
["岡山分行","臺銀岡山","0040602","臺銀岡山",null,null,null,null,null,"0001621","台北史博館郵局",null,null,null,"623",14]
["新興分行","臺銀新興","0040613","臺銀新興",null,null,null,null,null,"0001648","台北火車站郵局",null,null,null,"700",14]
["苓雅分行","臺銀苓雅","0040624","臺銀苓雅",null,null,null,null,null,"0001651","台北圓山郵局",null,null,null,"803",12]
["松山分行","臺銀松山","0040646","臺銀松山",null,null,null,null,null,"0001679","台北長春路郵局",null,null,null,"804",14]
["健行分行","臺銀健行","0040657","臺銀健行",null,null,null,null,null,"0001682","台北民權郵局",null,null,null,"805",14]
["中和分行","臺銀中和","0040668","臺銀中和",null,null,null,null,null,"0001708","台北老松郵局",null,null,null,"806",14]
["太保分行","臺銀太保","0040679","臺銀太保",null,null,null,null,null,"0001711","台北汀州郵局",null,null,null,"807",14]
["竹北分行","臺銀竹北","0040680","臺銀竹北",null,null,null,null,null,"0001725","台北龍口郵局",null,null,null,"808",13]
["士林分行","臺銀士林","0040705","臺銀士林",null,null,null,null,null,"0001739","士林中正路郵局",null,null,null,"809",12]
["新莊分行","臺銀新莊","0040716","臺銀新莊",null,null,null,null,null,"0001742","台北萬大路郵局",null,null,null,"810",12]
["大甲分行","臺銀大甲","0040727","臺銀大甲",null,null,null,null,null,"0001756","文山興隆路郵局",null,null,null,"812",14]
["新竹科學園區分行","臺銀科學園","0040738","臺銀科學園",null,null,null,null,null,"0001773","士林後港郵局",null,null,null,"814",12]
["樹林分行","臺銀樹林","0040749","臺銀樹林",null,null,null,null,null,"0001787","台北永吉郵局",null,null,null,"815",14]
["新店分行","臺銀新店","0040750","臺銀新店",null,null,null,null,null,"0001791","台北華江橋郵局",null,null,null,"816",14]
["黎明分行","臺銀黎明","0040794","臺銀黎明",null,null,null,null,null,"0001802","台北逸仙郵局",null,null,null,"822",12]
["民生分行","臺銀民生","0040808","臺銀民生",null,null,null,null,null,"0001816","台北體育場郵局",null,null,null,"825",14]
["永康分行","臺銀永康","0040819","臺銀永康",null,null,null,null,null,"0001820","台北正義郵局",null,null,null,"904",14]
["三多分行","臺銀三多","0040820","臺銀三多",null,null,null,null,null,"0001833","士林蘭雅郵局",null,null,null,"928",13]
["台北世貿中心分行","臺銀世貿","0040853","臺銀世貿",null,null,null,null,null,"0001847","台北杭南郵局",null,null,null,"954",14]
["大安分行","臺銀大安","0040864","臺銀大安",null,null,null,null,null,"0001864","東吳大學郵局"]
["華江分行","臺銀華江","0040875","臺銀華江",null,null,null,null,null,"0001878","台北民生郵局"]
["潮州分行","臺銀潮州","0040886","臺銀潮州",null,null,null,null,null,"0001907","台灣科大郵局"]
["蘇澳分行","臺銀蘇澳","0040897","臺銀蘇澳",null,null,null,null,null,"0001911","台北金南郵局"]
["大雅分行","臺銀大雅","0040901","臺銀大雅",null,null,null,null,null,"0001924","台北中正堂郵局"]
["楠梓分行","臺銀楠梓","0040912","臺銀楠梓",null,null,null,null,null,"0001938","文山武功郵局"]
["台中工業區分行","臺銀中工","0040923","臺銀中工",null,null,null,null,null,"0001955","台北青年郵局"]
["敦化分行","臺銀敦化","0041067","臺銀敦化",null,null,null,null,null,"0001969","台北安和郵局"]
["南港分行","臺銀南港","0041078","臺銀南港",null,null,null,null,null,"0001972","文山萬盛郵局"]
["和平分行","臺銀和平","0041089","臺銀和平",null,null,null,null,null,"0001990","台北永春郵局"]
["水湳分行","臺銀水湳","0041090","臺銀水湳",null,null,null,null,null,"0002001","監察院郵局"]
["中崙分行","臺銀中崙","0041104","臺銀中崙",null,null,null,null,null,"0002015","台北榮星郵局"]
["土城分行","臺銀土城","0041115","臺銀土城",null,null,null,null,null,"0002046","台北北安郵局"]
["桃園國際機場分行","臺銀桃機","0041159","臺銀桃機",null,null,null,null,null,"0002050","士林芝山郵局"]
["大昌分行","臺銀大昌","0041160","臺銀大昌",null,null,null,null,null,"0002063","士林法院郵局"]
["五甲分行","臺銀五甲","0041182","臺銀五甲",null,null,null,null,null,"0002077","台北中山堂郵局"]
["博愛分行","臺銀博愛","0041193","臺銀博愛",null,null,null,null,null,"0002081","台北敦南郵局"]
["中庄分行","臺銀中庄","0041207","臺銀中庄",null,null,null,null,null,"0002094","台北世貿郵局"]
["平鎮分行","臺銀平鎮","0041218","臺銀平鎮",null,null,null,null,null,"0002106","台北南門郵局"]
["仁愛分行","臺銀仁愛","0041229","臺銀仁愛",null,null,null,null,null,"0002110","文山萬芳郵局"]
["南崁分行","臺銀南崁","0041230","臺銀南崁",null,null,null,null,null,"0002123","台北興安郵局"]
["圓山分行","臺銀圓山","0041241","臺銀圓山",null,null,null,null,null,"0002154","台大醫院郵局"]
["五股分行","臺銀五股","0041355","臺銀五股",null,null,null,null,null,"0002168","士林外雙溪郵局"]
["大里分行","臺銀大里","0041366","臺銀大里",null,null,null,null,null,"0002171","台北大安郵局"]
["安南分行","臺銀安南","0041377","臺銀安南",null,null,null,null,null,"0002185","台北台塑郵局"]
["西屯分行","臺銀西屯","0041414","臺銀西屯",null,null,null,null,null,"0002201","台北中聯郵局"]
["天母分行","臺銀天母","0041425","臺銀天母",null,null,null,null,null,"0002214","台北龍江路郵局"]
["鹿港分行","臺銀鹿港","0041436","臺銀鹿港",null,null,null,null,null,"0002228","國防後備部郵局"]
["內壢分行","臺銀內壢","0041447","臺銀內壢",null,null,null,null,null,"0002231","士林劍潭郵局"]
["台南科學園區分行","臺銀南科","0041469","臺銀南科",null,null,null,null,null,"0002245","陽明山郵局"]
["虎尾分行","臺銀虎尾","0041470","臺銀虎尾",null,null,null,null,null,"0002259","文化大學郵局"]
["淡水分行","臺銀淡水","0041481","臺銀淡水",null,null,null,null,null,"0002262","士林社新里郵局"]
["內湖分行","臺銀內湖","0041539","臺銀內湖",null,null,null,null,null,"0002280","台北信義郵局"]
["嘉北分行","臺銀嘉北","0041540","臺銀嘉北",null,null,null,null,null,"0002293","士林名山里郵局"]
["東港分行","臺銀東港","0041551","臺銀東港",null,null,null,null,null,"0002319","北投郵局"]
["汐止分行","臺銀汐止","0041562","臺銀汐止",null,null,null,null,null,"0002322","北投復興崗郵局"]
["梧棲分行","臺銀梧棲","0041573","臺銀梧棲",null,null,null,null,null,"0002336","北投石牌郵局"]
["小港分行","臺銀小港","0041595","臺銀小港",null,null,null,null,null,"0002340","北投關渡郵局"]
["中屏分行","臺銀中屏","0041609","臺銀中屏",null,null,null,null,null,"0002353","北投舊北投郵局"]
["群賢分行","臺銀群賢","0041621","臺銀群賢",null,null,null,null,null,"0002367","北投榮總郵局"]
["北大路分行","臺銀北大","0041643","臺銀北大",null,null,null,null,null,"0002371","北投文林郵局"]
["文山分行","臺銀文山","0041654","臺銀文山",null,null,null,null,null,"0002384","北投山腳郵局"]
["太平分行","臺銀太平","0041702","臺銀太平",null,null,null,null,null,"0002398","北投實踐郵局"]
["德芳分行","臺銀德芳","0041713","臺銀德芳",null,null,null,null,null,"0002400","北投致遠郵局"]
["建國分行","臺銀建國","0041724","臺銀建國",null,null,null,null,null,"0002413","北投文化郵局"]
["鹽埔分行","臺銀鹽埔","0041768","臺銀鹽埔",null,null,null,null,null,"0002427","北投明德郵局"]
["新園分行","臺銀新園","0041805","臺銀新園",null,null,null,null,null,"0002431","北投尊賢郵局"]
["東桃園分行","臺銀東桃園","0041861","臺銀東桃園",null,null,null,null,null,"0002444","北投奇岩郵局"]
["蘆洲分行","臺銀蘆洲","0041872","臺銀蘆洲",null,null,null,null,null,"0002458","北投豐年郵局"]
["高雄國際機場分行","臺銀高機","0041919","臺銀高機",null,null,null,null,null,"0002461","北投一德郵局"]
["永吉簡易型分行","臺銀永吉簡","0041931","臺銀永吉簡",null,null,null,null,null,"0002475","陽明大學郵局"]
["東門簡易型分行","臺銀東門簡","0041942","臺銀東門簡",null,null,null,null,null,"0002489","內湖郵局"]
["愛國簡易型分行","臺銀愛國簡","0041953","臺銀愛國簡",null,null,null,null,null,"0002492","內湖碧湖郵局"]
["台電簡易型分行","臺銀台電簡","0041986","臺銀台電簡",null,null,null,null,null,"0002504","內湖週美郵局"]
["北府簡易型分行","臺銀北府簡","0042053","臺銀北府簡",null,null,null,null,null,"0002518","內湖文德郵局"]
["台北港分行","臺銀台北港","0042189","臺銀台北港",null,null,null,null,null,"0002521","內湖金龍郵局"]
["臺中科學園區分行","臺銀中科","0042204","臺銀中科",null,null,null,null,null,"0002535","內湖西湖郵局"]
["高雄科學園區分行","臺銀高科","0042215","臺銀高科",null,null,null,null,null,"0002549","內湖東湖郵局"]
["東湖分行","臺銀東湖","0042237","臺銀東湖",null,null,null,null,null,"0002552","內湖大湖郵局"]
["高榮分行","臺銀高榮","0042248","臺銀高榮",null,null,null,null,null,"0002566","內湖江南郵局"]
["南港軟體園區分行","臺銀南港園","0042259","臺銀南港園",null,null,null,null,null,"0002570","內湖北勢湖郵局"]
["龍潭分行","臺銀龍潭","0042260","臺銀龍潭",null,null,null,null,null,"0002583","內湖新明郵局"]
["仁德分行","臺銀仁德","0042271","臺銀仁德",null,null,null,null,null,"0002597","內湖康寧郵局"]
["林口分行","臺銀林口","0042282","臺銀林口",null,null,null,null,null,"0002609","內湖三總郵局"]
["木柵分行","臺銀木柵","0042293","臺銀木柵",null,null,null,null,null,"0002612","南港昆陽郵局"]
["臺南創新園區分行","臺銀南創","0042307","臺銀南創",null,null,null,null,null,"0002626","中研院郵局"]
["武昌分行","臺銀武昌","0042363","臺銀武昌",null,null,null,null,null,"0002630","南港聯勤郵局"]
["臺北分行","臺銀臺北","0042385","臺銀臺北",null,null,null,null,null,"0002643","南港港三郵局"]
["金山分行","臺銀金山","0042396","臺銀金山",null,null,null,null,null,"0002657","南港富康郵局"]
["信安分行","臺銀信安","0042400","臺銀信安",null,null,null,null,null,"0002661","南港同德郵局"]
["劍潭分行","臺銀劍潭","0042411","臺銀劍潭",null,null,null,null,null,"0002674","南港郵局"]
["萬華分行","臺銀萬華","0042422","臺銀萬華",null,null,null,null,null,"0002688","南港福德郵局"]
["板新分行","臺銀板新","0042433","臺銀板新",null,null,null,null,null,"0002691","南港後山埤郵局"]
["雙和分行","臺銀雙和","0042444","臺銀雙和",null,null,null,null,null,"0002703","木柵郵局"]
["南新莊分行","臺銀南新莊","0042455","臺銀南新莊",null,null,null,null,null,"0002717","文山指南郵局"]
["桃興分行","臺銀桃興","0042466","臺銀桃興",null,null,null,null,null,"0002721","文山溝子口郵局"]
["新明分行","臺銀新明","0042477","臺銀新明",null,null,null,null,null,"0002734","文山木新郵局"]
["六家分行","臺銀六家","0042488","臺銀六家",null,null,null,null,null,"0002748","石碇郵局"]
["北臺中分行","臺銀北臺中","0042499","臺銀北臺中",null,null,null,null,null,"0002751","深坑郵局"]
["中臺中分行","臺銀中臺中","0042503","臺銀中臺中",null,null,null,null,null,"0002765","世新大學郵局"]
["嘉南分行","臺銀嘉南","0042525","臺銀嘉南",null,null,null,null,null,"0002779","台北仁杭郵局"]
["南都分行","臺銀南都","0042536","臺銀南都",null,null,null,null,null,"0002782","文山樟腳里郵局"]
["前金分行","臺銀前金","0042547","臺銀前金",null,null,null,null,null,"0002796","政大郵局"]
["北高雄分行","臺銀北高雄","0042558","臺銀北高雄",null,null,null,null,null,"0002808","石碇華梵大學郵局"]
["成功分行","臺銀成功","0042569","臺銀成功",null,null,null,null,null,"0002811","深坑草地尾郵局"]
["北花蓮分行","臺銀北花蓮","0042570","臺銀北花蓮",null,null,null,null,null,"0002825","平溪郵局"]
["新湖分行","臺銀新湖","0042709","臺銀新湖",null,null,null,null,null,"0002839","文山萬美街郵局"]
["五福分行","臺銀五福","0042710","臺銀五福",null,null,null,null,null,"0002842","金門郵局"]
["六甲頂分行","臺銀六甲頂","0042721","臺銀六甲頂",null,null,null,null,null,"0002856","金門沙美郵局"]
["中都分行","臺銀中都","0042787","臺銀中都",null,null,null,null,null,"0002860","金門頂堡郵局"]
["臺北國際機場分行","臺銀北機","0042798","臺銀北機",null,null,null,null,null,"0002873","金門烈嶼郵局"]
["新莊副都心分行","臺銀副都","0042802","臺銀副都",null,null,null,null,null,"0002887","金門尚義郵局"]
["基隆分行","土銀基隆","0050027","土銀基隆",null,null,null,null,null,"0002891","馬祖郵局"]
["中和分行","土銀中和","0050038","土銀中和",null,null,null,null,null,"0002902","馬祖馬港郵局"]
["南港分行","土銀南港","0050049","土銀南港",null,null,null,null,null,"0002916","南港軟體園區郵局"]
["台北分行","土銀台北","0050050","土銀台北",null,null,null,null,null,"0002920","台北樂群二路郵局"]
["民權分行","土銀民權","0050061","土銀民權",null,null,null,null,null,"0003500","金門山外郵局"]
["古亭分行","土銀古亭","0050072","土銀古亭",null,null,null,null,null,"0003531","馬祖西莒郵局"]
["長安分行","土銀長安","0050083","土銀長安",null,null,null,null,null,"0003544","馬祖北竿郵局"]
["士林分行","土銀士林","0050094","土銀士林",null,null,null,null,null,"0003561","馬祖東引郵局"]
["三重分行","土銀三重","0050108","土銀三重",null,null,null,null,null,"0003575","金門烏坵郵局"]
["宜蘭分行","土銀宜蘭","0050119","土銀宜蘭",null,null,null,null,null,"0003558","馬祖東莒郵局"]
["羅東分行","土銀羅東","0050120","土銀羅東",null,null,null,null,null,"0011002","基隆愛三路郵局"]
["桃園分行","土銀桃園","0050131","土銀桃園",null,null,null,null,null,"0011016","基隆港東郵局"]
["中壢分行","土銀中壢","0050142","土銀中壢",null,null,null,null,null,"0011020","基隆港西街郵局"]
["石門分行","土銀石門","0050153","土銀石門",null,null,null,null,null,"0011033","基隆七堵郵局"]
["新竹分行","土銀新竹","0050164","土銀新竹",null,null,null,null,null,"0011047","基隆中正郵局"]
["竹東分行","土銀竹東","0050175","土銀竹東",null,null,null,null,null,"0011051","基隆新民郵局"]
["花蓮分行","土銀花蓮","0050186","土銀花蓮",null,null,null,null,null,"0011064","基隆和平島郵局"]
["玉里分行","土銀玉里","0050197","土銀玉里",null,null,null,null,null,"0011078","海洋大學郵局"]
["苗栗分行","土銀苗栗","0050201","土銀苗栗",null,null,null,null,null,"0011081","基隆過港路郵局"]
["頭份分行","土銀頭份","0050212","土銀頭份",null,null,null,null,null,"0011095","基隆孝三路郵局"]
["豐原分行","土銀豐原","0050223","土銀豐原",null,null,null,null,null,"0011107","基隆中山郵局"]
["大甲分行","土銀大甲","0050234","土銀大甲",null,null,null,null,null,"0011111","基隆八斗子郵局"]
["台中分行","土銀台中","0050245","土銀台中",null,null,null,null,null,"0011124","基隆信義郵局"]
["南投分行","土銀南投","0050256","土銀南投",null,null,null,null,null,"0011138","基隆東信路郵局"]
["員林分行","土銀員林","0050267","土銀員林",null,null,null,null,null,"0011141","基隆六堵郵局"]
["斗六分行","土銀斗六","0050278","土銀斗六",null,null,null,null,null,"0011155","基隆安瀾橋郵局"]
["北港分行","土銀北港","0050289","土銀北港",null,null,null,null,null,"0011169","基隆仁二路郵局"]
["嘉義分行","土銀嘉義","0050290","土銀嘉義",null,null,null,null,null,"0011172","基隆光二路郵局"]
["新營分行","土銀新營","0050304","土銀新營",null,null,null,null,null,"0011186","基隆樂利郵局"]
["永康分行","土銀永康","0050315","土銀永康",null,null,null,null,null,"0011190","基隆南榮路郵局"]
["台南分行","土銀台南","0050326","土銀台南",null,null,null,null,null,"0011201","基隆碇內郵局"]
["高雄分行","土銀高雄","0050337","土銀高雄",null,null,null,null,null,"0011215","基隆安樂路郵局"]
["岡山分行","土銀岡山","0050348","土銀岡山",null,null,null,null,null,"0011229","基隆復興路郵局"]
["美濃分行","土銀美濃","0050359","土銀美濃",null,null,null,null,null,"0011232","基隆西定路郵局"]
["屏東分行","土銀屏東","0050360","土銀屏東",null,null,null,null,null,"0011246","基隆百福郵局"]
["台東分行","土銀台東","0050371","土銀台東",null,null,null,null,null,"0011250","基隆三沙灣郵局"]
["青年分行","土銀青年","0050382","土銀青年",null,null,null,null,null,"0011263","基隆大武崙郵局"]
["金門分行","土銀金門","0050393","土銀金門",null,null,null,null,null,"0011281","貢寮郵局"]
["澎湖分行","土銀澎湖","0050407","土銀澎湖",null,null,null,null,null,"0011294","貢寮澳底郵局"]
["營業部","土銀營業部","0050418","土銀營業部",null,null,null,null,null,"0011306","萬里郵局"]
["和平分行","土銀和平","0050452","土銀和平",null,null,null,null,null,"0011310","基隆暖暖郵局"]
["潮州分行","土銀潮州","0050463","土銀潮州",null,null,null,null,null,"0011323","金山郵局"]
["彰化分行","土銀彰化","0050474","土銀彰化",null,null,null,null,null,"0011337","雙溪郵局"]
["中山分行","土銀中山","0050485","土銀中山",null,null,null,null,null,"0011341","瑞芳郵局"]
["永和分行","土銀永和","0050496","土銀永和",null,null,null,null,null,"0011354","瑞芳九份郵局"]
["板橋分行","土銀板橋","0050500","土銀板橋",null,null,null,null,null,"0011368","瑞芳四腳亭郵局"]
["鳳山分行","土銀鳳山","0050511","土銀鳳山",null,null,null,null,null,"0011371","瑞芳金瓜石郵局"]
["湖口分行","土銀湖口","0050522","土銀湖口",null,null,null,null,null,"0011385","基隆新豐街郵局"]
["蘇澳分行","土銀蘇澳","0050533","土銀蘇澳",null,null,null,null,null,"0011399","汐止郵局"]
["新興分行","土銀新興","0050544","土銀新興",null,null,null,null,null,"0011401","汐止保長坑郵局"]
["西台中分行","土銀西台中","0050555","土銀西台中",null,null,null,null,null,"0011414","汐止樟樹灣郵局"]
["虎尾分行","土銀虎尾","0050566","土銀虎尾",null,null,null,null,null,"0011428","汐止社后郵局"]
["仁愛分行","土銀仁愛","0050577","土銀仁愛",null,null,null,null,null,"0011431","汐止龍安郵局"]
["忠孝分行","土銀忠孝","0050588","土銀忠孝",null,null,null,null,null,"0011445","汐止厚德郵局"]
["中正分行","土銀中正","0050599","土銀中正",null,null,null,null,null,"0011459","汐止翠柏郵局"]
["新店分行","土銀新店","0050614","土銀新店",null,null,null,null,null,"0011462","汐止南昌郵局"]
["北台南分行","土銀北台南","0050625","土銀北台南",null,null,null,null,null,"0011476","汐止建成路郵局"]
["松山分行","土銀松山","0050636","土銀松山",null,null,null,null,null,"0021009","台中民權路郵局"]
["內湖分行","土銀內湖","0050647","土銀內湖",null,null,null,null,null,"0021012","台中台中路郵局"]
["三民分行","土銀三民","0050658","土銀三民",null,null,null,null,null,"0021026","台中中正路郵局"]
["民雄分行","土銀民雄","0050669","土銀民雄",null,null,null,null,null,"0021030","烏日郵局"]
["大社分行","土銀大社","0050670","土銀大社",null,null,null,null,null,"0021043","台中建國路郵局"]
["前鎮分行","土銀前鎮","0050692","土銀前鎮",null,null,null,null,null,"0021057","東海大學郵局"]
["路竹分行","土銀路竹","0050706","土銀路竹",null,null,null,null,null,"0021061","霧峰民生路郵局"]
["五甲分行","土銀五甲","0050717","土銀五甲",null,null,null,null,null,"0021088","霧峰郵局"]
["太平分行","土銀太平","0050728","土銀太平",null,null,null,null,null,"0021091","大雅清泉崗郵局"]
["正濱分行","土銀正濱","0050739","土銀正濱",null,null,null,null,null,"0021103","太平長億郵局"]
["敦化分行","土銀敦化","0050740","土銀敦化",null,null,null,null,null,"0021117","大里仁化郵局"]
["蘆洲分行","土銀蘆洲","0050762","土銀蘆洲",null,null,null,null,null,"0021134","太平坪林郵局"]
["北台中分行","土銀北台中","0050773","土銀北台中",null,null,null,null,null,"0021148","太平竹仔坑郵局"]
["苓雅分行","土銀苓雅","0050784","土銀苓雅",null,null,null,null,null,"0021151","台中育才郵局"]
["信義分行","土銀信義","0050795","土銀信義",null,null,null,null,null,"0021165","台中法院郵局"]
["土城分行","土銀土城","0050809","土銀土城",null,null,null,null,null,"0021179","台中國光路郵局"]
["淡水分行","土銀淡水","0050810","土銀淡水",null,null,null,null,null,"0021182","台中公園路郵局"]
["草屯分行","土銀草屯","0050821","土銀草屯",null,null,null,null,null,"0021196","台中南屯路郵局"]
["東台南分行","土銀東台南","0050832","土銀東台南",null,null,null,null,null,"0021208","台中福平里郵局"]
["通霄分行","土銀通霄","0050843","土銀通霄",null,null,null,null,null,"0021211","大里郵局"]
["學甲分行","土銀學甲","0050854","土銀學甲",null,null,null,null,null,"0021225","大雅郵局"]
["新莊分行","土銀新莊","0050865","土銀新莊",null,null,null,null,null,"0021239","台中力行路郵局"]
["雙和分行","土銀雙和","0050876","土銀雙和",null,null,null,null,null,"0021242","台中旱溪郵局"]
["白河分行","土銀白河","0050898","土銀白河",null,null,null,null,null,"0021256","台中逢甲郵局"]
["復興分行","土銀復興","0050902","土銀復興",null,null,null,null,null,"0021260","台中雙十路郵局"]
["平鎮分行","土銀平鎮","0050913","土銀平鎮",null,null,null,null,null,"0021273","台中水湳郵局"]
["文山分行","土銀文山","0050935","土銀文山",null,null,null,null,null,"0021287","大里內新郵局"]
["中港分行","土銀中港","0050946","土銀中港",null,null,null,null,null,"0021291","台中嶺東郵局"]
["東板橋分行","土銀東板橋","0050957","土銀東板橋",null,null,null,null,null,"0021302","台中西屯郵局"]
["南崁分行","土銀南崁","0050968","土銀南崁",null,null,null,null,null,"0021316","台中五權路郵局"]
["建國分行","土銀建國","0050979","土銀建國",null,null,null,null,null,"0021320","大里草湖郵局"]
["樹林分行","土銀樹林","0050980","土銀樹林",null,null,null,null,null,"0021333","台中大智郵局"]
["東台北分行","土銀東台北","0050991","土銀東台北",null,null,null,null,null,"0021347","太平郵局"]
["西三重分行","土銀西三重","0051002","土銀西三重",null,null,null,null,null,"0021351","台中北屯郵局"]
["南台中分行","土銀南台中","0051013","土銀南台中",null,null,null,null,null,"0021364","台中東興路郵局"]
["長春分行","土銀長春","0051024","土銀長春",null,null,null,null,null,"0021378","台中漢口路郵局"]
["東新竹分行","土銀東新竹","0051035","土銀東新竹",null,null,null,null,null,"0021381","台中樹仔腳郵局"]
["新市分行","土銀新市","0051046","土銀新市",null,null,null,null,null,"0021395","台中四張犁郵局"]
["博愛分行","土銀博愛","0051057","土銀博愛",null,null,null,null,null,"0021407","台中公益路郵局"]
["中崙分行","土銀中崙","0051068","土銀中崙",null,null,null,null,null,"0021411","台中大坑口郵局"]
["華江分行","土銀華江","0051079","土銀華江",null,null,null,null,null,"0021424","台中進化路郵局"]
["竹北分行","土銀竹北","0051080","土銀竹北",null,null,null,null,null,"0021438","太平宜欣郵局"]
["安平分行","土銀安平","0051091","土銀安平",null,null,null,null,null,"0021441","台中何厝郵局"]
["嘉興分行","土銀嘉興","0051105","土銀嘉興",null,null,null,null,null,"0021455","台中南和路郵局"]
["南新莊分行","土銀南新莊","0051116","土銀南新莊",null,null,null,null,null,"0021469","台中工業區郵局"]
["三峽分行","土銀三峽","0051127","土銀三峽",null,null,null,null,null,"0021472","台中黎明郵局"]
["沙鹿分行","土銀沙鹿","0051138","土銀沙鹿",null,null,null,null,null,"0021490","台中中清路郵局"]
["南桃園分行","土銀南桃園","0051149","土銀南桃園",null,null,null,null,null,"0021501","台中大全街郵局"]
["汐止分行","土銀汐止","0051150","土銀汐止",null,null,null,null,null,"0021529","台中榮總郵局"]
["萬華分行","土銀萬華","0051161","土銀萬華",null,null,null,null,null,"0021532","台中淡溝郵局"]
["小港分行","土銀小港","0051172","土銀小港",null,null,null,null,null,"0021546","台中軍功郵局"]
["新工分行","土銀新工","0051183","土銀新工",null,null,null,null,null,"0021550","台中健行路郵局"]
["烏日分行","土銀烏日","0051194","土銀烏日",null,null,null,null,null,"0021577","大里永隆郵局"]
["西湖分行","土銀西湖","0051208","土銀西湖",null,null,null,null,null,"0021594","烏日明道郵局"]
["八德分行","土銀八德","0051219","土銀八德",null,null,null,null,null,"0021606","太平永豐路郵局"]
["北屯分行","土銀北屯","0051220","土銀北屯",null,null,null,null,null,"0021610","台中永安郵局"]
["大安分行","土銀大安","0051231","土銀大安",null,null,null,null,null,"0021637","台中文心路郵局"]
["北中壢分行","土銀北中壢","0051242","土銀北中壢",null,null,null,null,null,"0021654","台中英才郵局"]
["高樹分行","土銀高樹","0051253","土銀高樹",null,null,null,null,null,"0021668","台中松竹郵局"]
["枋寮分行","土銀枋寮","0051264","土銀枋寮",null,null,null,null,null,"0021671","台中大隆路郵局"]
["豐農分行","土銀豐農","0051275","土銀豐農",null,null,null,null,null,"0021685","烏日溪壩郵局"]
["金城分行","土銀金城","0051286","土銀金城",null,null,null,null,null,"0021699","台中福安郵局"]
["光復分行","土銀光復","0051297","土銀光復",null,null,null,null,null,"0021701","台中向上郵局"]
["左營分行","土銀左營","0051301","土銀左營",null,null,null,null,null,"0021714","大雅馬岡厝郵局"]
["北桃園分行","土銀北桃園","0051312","土銀北桃園",null,null,null,null,null,"0141009","豐原中正路郵局"]
["東港分行","土銀東港","0051323","土銀東港",null,null,null,null,null,"0141012","神岡郵局"]
["天母分行","土銀天母","0051334","土銀天母",null,null,null,null,null,"0141026","石岡郵局"]
["泰山分行","土銀泰山","0051345","土銀泰山",null,null,null,null,null,"0141030","豐原中山路郵局"]
["中科分行","土銀中科","0051356","土銀中科",null,null,null,null,null,"0141043","豐原三民路郵局"]
["大園分行","土銀大園","0051367","土銀大園",null,null,null,null,null,"0141057","沙鹿北勢郵局"]
["楊梅分行","土銀楊梅","0051378","土銀楊梅",null,null,null,null,null,"0141061","神岡圳堵郵局"]
["東門分行","土銀東門","0051389","土銀東門",null,null,null,null,null,"0141074","豐原南陽郵局"]
["城東分行","土銀城東","0051404","土銀城東",null,null,null,null,null,"0141088","豐原翁子郵局"]
["松南分行","土銀松南","0051415","土銀松南",null,null,null,null,null,"0141091","神岡社口郵局"]
["福興分行","土銀福興","0051426","土銀福興",null,null,null,null,null,"0141103","豐原博愛郵局"]
["林口分行","土銀林口","0051437","土銀林口",null,null,null,null,null,"0141117","豐原葫蘆墩郵局"]
["西屯分行","土銀西屯","0051448","土銀西屯",null,null,null,null,null,"0141121","神岡岸裡郵局"]
["內壢分行","土銀內壢","0051459","土銀內壢",null,null,null,null,null,"0141134","豐原水源郵局"]
["竹南分行","土銀竹南","0051460","土銀竹南",null,null,null,null,null,"0141148","后里郵局"]
["安南分行","土銀安南","0051471","土銀安南",null,null,null,null,null,"0141151","神岡豐洲郵局"]
["東湖分行","土銀東湖","0051482","土銀東湖",null,null,null,null,null,"0141165","后里義里郵局"]
["楠梓分行","土銀楠梓","0051493","土銀楠梓",null,null,null,null,null,"0141179","后里月眉郵局"]
["大里分行","土銀大里","0051507","土銀大里",null,null,null,null,null,"0141182","東勢郵局"]
["大灣分行","土銀大灣","0051518","土銀大灣",null,null,null,null,null,"0141196","和平谷關郵局"]
["潮榮分行","土銀潮榮","0051529","土銀潮榮",null,null,null,null,null,"0141208","新社中興嶺郵局"]
["大發分行","土銀大發","0051530","土銀大發",null,null,null,null,null,"0141211","東勢中嵙口郵局"]
["南門分行","土銀南門","0051552","土銀南門",null,null,null,null,null,"0141225","和平梨山郵局"]
["工研院分行","土銀工研院","0051563","土銀工研院",null,null,null,null,null,"0141239","新社郵局"]
["北三重分行","土銀北三重","0051574","土銀北三重",null,null,null,null,null,"0141242","豐原鐮村郵局"]
["圓通分行","土銀圓通","0051585","土銀圓通",null,null,null,null,null,"0141256","和平郵局"]
["石牌分行","土銀石牌","0051600","土銀石牌",null,null,null,null,null,"0141260","潭子郵局"]
["南屯分行","土銀南屯","0051611","土銀南屯",null,null,null,null,null,"0141273","潭子加工區郵局"]
["寶中分行","土銀寶中","0051633","土銀寶中",null,null,null,null,null,"0141287","潭子頭家厝郵局"]
["中清分行","土銀中清","0051644","土銀中清",null,null,null,null,null,"0141291","潭子東寶郵局"]
["總行","合庫總行","0060017","合庫總行",null,null,null,null,null,"0141302","潭子栗林郵局"]
["中山路分行","合庫中山路","0060028","合庫中山路",null,null,null,null,null,"0141316","潭子潭北郵局"]
["西門分行","合庫西門","0060039","合庫西門",null,null,null,null,null,"0141320","大甲郵局"]
["延平分行","合庫延平","0060040","合庫延平",null,null,null,null,null,"0141333","大安郵局"]
["大稻埕分行","合庫大稻埕","0060051","合庫大稻埕",null,null,null,null,null,"0141347","大甲廟口郵局"]
["東門分行","合庫東門","0060062","合庫東門",null,null,null,null,null,"0141351","外埔郵局"]
["松山分行","合庫松山","0060073","合庫松山",null,null,null,null,null,"0141364","大甲日南郵局"]
["新店分行","合庫新店","0060084","合庫新店",null,null,null,null,null,"0141378","大甲幼獅郵局"]
["永和分行","合庫永和","0060095","合庫永和",null,null,null,null,null,"0141381","大甲庄美郵局"]
["三重分行","合庫三重","0060109","合庫三重",null,null,null,null,null,"0141395","台中港郵局"]
["板橋分行","合庫板橋","0060110","合庫板橋",null,null,null,null,null,"0141407","沙鹿郵局"]
["基隆分行","合庫基隆","0060121","合庫基隆",null,null,null,null,null,"0141411","清水郵局"]
["宜蘭分行","合庫宜蘭","0060132","合庫宜蘭",null,null,null,null,null,"0141424","梧棲郵局"]
["蘇澳分行","合庫蘇澳","0060143","合庫蘇澳",null,null,null,null,null,"0141438","龍井郵局"]
["桃園分行","合庫桃園","0060154","合庫桃園",null,null,null,null,null,"0141441","沙鹿鹿寮郵局"]
["中壢分行","合庫中壢","0060165","合庫中壢",null,null,null,null,null,"0141455","龍井新庄郵局"]
["新竹分行","合庫新竹","0060176","合庫新竹",null,null,null,null,null,"0141469","龍井茄投郵局"]
["苗栗分行","合庫苗栗","0060187","合庫苗栗",null,null,null,null,null,"0141472","靜宜大學郵局"]
["頭份分行","合庫頭份","0060198","合庫頭份",null,null,null,null,null,"0141486","清水南社郵局"]
["豐原分行","合庫豐原","0060202","合庫豐原",null,null,null,null,null,"0141490","清水田寮郵局"]
["沙鹿分行","合庫沙鹿","0060213","合庫沙鹿",null,null,null,null,null,"0141501","梧棲臨港郵局"]
["台中分行","合庫台中","0060224","合庫台中",null,null,null,null,null,"0141515","梧棲大庄郵局"]
["彰化分行","合庫彰化","0060235","合庫彰化",null,null,null,null,null,"0141529","大肚郵局"]
["員林分行","合庫員林","0060246","合庫員林",null,null,null,null,null,"0141532","大肚追分郵局"]
["南投分行","合庫南投","0060257","合庫南投",null,null,null,null,null,"0141546","大肚蔗&#24269;郵局"]
["斗六分行","合庫斗六","0060268","合庫斗六",null,null,null,null,null,"0141550","龍井龍津郵局"]
["北港分行","合庫北港","0060279","合庫北港",null,null,null,null,null,"0031005","台南成功路郵局"]
["嘉義分行","合庫嘉義","0060280","合庫嘉義",null,null,null,null,null,"0031019","台南西門路郵局"]
["新營分行","合庫新營","0060291","合庫新營",null,null,null,null,null,"0031022","台南水交社郵局"]
["台南分行","合庫台南","0060305","合庫台南",null,null,null,null,null,"0031036","台南興華街郵局"]
["成功分行","合庫成功","0060316","合庫成功",null,null,null,null,null,"0031040","台南安平郵局"]
["鳳山分行","合庫鳳山","0060327","合庫鳳山",null,null,null,null,null,"0031053","台南中正路郵局"]
["岡山分行","合庫岡山","0060338","合庫岡山",null,null,null,null,null,"0031067","仁德車路墘郵局"]
["高雄分行","合庫高雄","0060349","合庫高雄",null,null,null,null,null,"0031071","成功大學郵局"]
["新興分行","合庫新興","0060350","合庫新興",null,null,null,null,null,"0031084","永康網寮郵局"]
["屏東分行","合庫屏東","0060361","合庫屏東",null,null,null,null,null,"0031098","歸仁郵局"]
["潮州分行","合庫潮州","0060372","合庫潮州",null,null,null,null,null,"0031100","永康郵局"]
["花蓮分行","合庫花蓮","0060383","合庫花蓮",null,null,null,null,null,"0031113","永康六甲頂郵局"]
["台東分行","合庫台東","0060394","合庫台東",null,null,null,null,null,"0031127","台南德高厝郵局"]
["澎湖分行","合庫澎湖","0060408","合庫澎湖",null,null,null,null,null,"0031131","台南永樂郵局"]
["南京東路分行","合庫南京東","0060419","合庫南京東",null,null,null,null,null,"0031144","台南友愛街郵局"]
["北高雄分行","合庫北高雄","0060420","合庫北高雄",null,null,null,null,null,"0031158","台南南門路郵局"]
["大同分行","合庫大同","0060431","合庫大同",null,null,null,null,null,"0031161","仁德太子郵局"]
["忠孝分行","合庫忠孝","0060453","合庫忠孝",null,null,null,null,null,"0031175","台南西華郵局"]
["景美分行","合庫景美","0060464","合庫景美",null,null,null,null,null,"0031189","台南東城郵局"]
["士林分行","合庫士林","0060475","合庫士林",null,null,null,null,null,"0031192","台南開元路郵局"]
["汐止分行","合庫汐止","0060486","合庫汐止",null,null,null,null,null,"0031204","台南大同路郵局"]
["新莊分行","合庫新莊","0060497","合庫新莊",null,null,null,null,null,"0031218","永康二王郵局"]
["中興分行","合庫中興","0060501","合庫中興",null,null,null,null,null,"0031221","台南普濟郵局"]
["苓雅分行","合庫苓雅","0060512","合庫苓雅",null,null,null,null,null,"0031235","台南灣裡郵局"]
["台北分行","合庫台北","0060545","合庫台北",null,null,null,null,null,"0031249","仁德二空郵局"]
["營業部","合庫營","0060567","合庫營",null,null,null,null,null,"0031252","台南大光郵局"]
["南豐原分行","合庫南豐原","0060578","合庫南豐原",null,null,null,null,null,"0031266","台南東門郵局"]
["羅東分行","合庫羅東","0060589","合庫羅東",null,null,null,null,null,"0031270","仁德郵局"]
["三民分行","合庫三民","0060590","合庫三民",null,null,null,null,null,"0031283","台南東寧路郵局"]
["城東分行","合庫城東","0060604","合庫城東",null,null,null,null,null,"0031297","台南北小北郵局"]
["佳里分行","合庫佳里","0060615","合庫佳里",null,null,null,null,null,"0031309","永康大灣郵局"]
["中和分行","合庫中和","0060626","合庫中和",null,null,null,null,null,"0031312","台南和順郵局"]
["南高雄分行","合庫南高雄","0060637","合庫南高雄",null,null,null,null,null,"0031326","永康鹽行郵局"]
["南嘉義分行","合庫南嘉義","0060648","合庫南嘉義",null,null,null,null,null,"0031330","台南鹽埕郵局"]
["竹東分行","合庫竹東","0060659","合庫竹東",null,null,null,null,null,"0031343","台南安順郵局"]
["東三重分行","合庫東三重","0060671","合庫東三重",null,null,null,null,null,"0031357","台南新義郵局"]
["南興分行","合庫南興","0060682","合庫南興",null,null,null,null,null,"0031361","台南安南郵局"]
["五權分行","合庫五權","0060693","合庫五權",null,null,null,null,null,"0031374","台南金華郵局"]
["埔里分行","合庫埔里","0060707","合庫埔里",null,null,null,null,null,"0031388","台南海佃郵局"]
["大順分行","合庫大順","0060718","合庫大順",null,null,null,null,null,"0031391","台南土城郵局"]
["南勢角分行","合庫南勢角","0060729","合庫南勢角",null,null,null,null,null,"0031403","台南小東郵局"]
["朴子分行","合庫朴子","0060730","合庫朴子",null,null,null,null,null,"0031417","台南南小北郵局"]
["大安分行","合庫大安","0060763","合庫大安",null,null,null,null,null,"0031421","永康大橋郵局"]
["民權分行","合庫民權","0060774","合庫民權",null,null,null,null,null,"0031434","永康崑山郵局"]
["東高雄分行","合庫東高雄","0060785","合庫東高雄",null,null,null,null,null,"0031451","仁德後壁厝郵局"]
["東台北分行","合庫東台北","0060796","合庫東台北",null,null,null,null,null,"0031465","永康王行郵局"]
["城內分行","合庫城內","0060800","合庫城內",null,null,null,null,null,"0031479","台南原佃郵局"]
["建國分行","合庫建國","0060811","合庫建國",null,null,null,null,null,"0031482","台南文元郵局"]
["圓山分行","合庫圓山","0060822","合庫圓山",null,null,null,null,null,"0031496","台南虎尾寮郵局"]
["信義分行","合庫信義","0060833","合庫信義",null,null,null,null,null,"0031508","歸仁南保郵局"]
["長春分行","合庫長春","0060844","合庫長春",null,null,null,null,null,"0031591","關廟郵局"]
["仁愛分行","合庫仁愛","0060855","合庫仁愛",null,null,null,null,null,"0031602","龍崎郵局"]
["玉成分行","合庫玉成","0060866","合庫玉成",null,null,null,null,null,"0031616","關廟文衡路郵局"]
["古亭分行","合庫古亭","0060877","合庫古亭",null,null,null,null,null,"0031620","台南新南郵局"]
["長安分行","合庫長安","0060888","合庫長安",null,null,null,null,null,"0031633","台南地方法院郵局"]
["松興分行","合庫松興","0060899","合庫松興",null,null,null,null,null,"0031647","台南育平郵局"]
["民族分行","合庫民族","0060903","合庫民族",null,null,null,null,null,"0041001","新興郵局"]
["復興分行","合庫復興","0060914","合庫復興",null,null,null,null,null,"0041015","左營華夏路郵局"]
["雙連分行","合庫雙連","0060925","合庫雙連",null,null,null,null,null,"0041029","苓雅郵局"]
["民生分行","合庫民生","0060936","合庫民生",null,null,null,null,null,"0041032","旗津郵局"]
["新生分行","合庫新生","0060947","合庫新生",null,null,null,null,null,"0041046","高雄蓬萊路郵局"]
["松江分行","合庫松江","0060958","合庫松江",null,null,null,null,null,"0041050","鹽埕郵局"]
["永吉分行","合庫永吉","0060969","合庫永吉",null,null,null,null,null,"0041063","楠梓郵局"]
["東新莊分行","合庫東新莊","0060981","合庫東新莊",null,null,null,null,null,"0041077","左營郵局"]
["北三重分行","合庫北三重","0060992","合庫北三重",null,null,null,null,null,"0041081","高雄站前郵局"]
["前金分行","合庫前金","0061003","合庫前金",null,null,null,null,null,"0041094","鼓山郵局"]
["成大分行","合庫成大","0061014","合庫成大",null,null,null,null,null,"0041106","前金郵局"]
["大里分行","合庫大里","0061025","合庫大里",null,null,null,null,null,"0041110","高雄內惟郵局"]
["海山分行","合庫海山","0061036","合庫海山",null,null,null,null,null,"0041123","仁武台塑郵局"]
["南台中分行","合庫南台中","0061070","合庫南台中",null,null,null,null,null,"0041137","左營南站郵局"]
["埔墘分行","合庫埔墘","0061081","合庫埔墘",null,null,null,null,null,"0041141","左營果貿郵局"]
["慈文分行","合庫慈文","0061092","合庫慈文",null,null,null,null,null,"0041168","高雄社東郵局"]
["北寧分行","合庫北寧","0061106","合庫北寧",null,null,null,null,null,"0041171","高雄德智郵局"]
["迴龍分行","合庫迴龍","0061117","合庫迴龍",null,null,null,null,null,"0041185","前鎮郵局"]
["太平分行","合庫太平","0061128","合庫太平",null,null,null,null,null,"0041199","高雄市府郵局"]
["彰營分行","合庫彰營","0061139","合庫彰營",null,null,null,null,null,"0041201","高雄鼓岩郵局"]
["彰儲分行","合庫彰儲","0061140","合庫彰儲",null,null,null,null,null,"0041214","高雄廣澤郵局"]
["虎尾分行","合庫虎尾","0061151","合庫虎尾",null,null,null,null,null,"0041231","高雄府北郵局"]
["南屯分行","合庫南屯","0061162","合庫南屯",null,null,null,null,null,"0041245","高雄三塊厝郵局"]
["西台中分行","合庫西台中","0061173","合庫西台中",null,null,null,null,null,"0041259","楠梓莒光郵局"]
["溪湖分行","合庫溪湖","0061184","合庫溪湖",null,null,null,null,null,"0041262","前鎮加工區郵局"]
["烏日分行","合庫烏日","0061195","合庫烏日",null,null,null,null,null,"0041276","高雄青年郵局"]
["和美分行","合庫和美","0061209","合庫和美",null,null,null,null,null,"0041280","高雄灣仔內郵局"]
["南桃園分行","合庫南桃園","0061210","合庫南桃園",null,null,null,null,null,"0041293","小港郵局"]
["屏南分行","合庫屏南","0061221","合庫屏南",null,null,null,null,null,"0041305","高雄師大郵局"]
["東台南分行","合庫東台南","0061232","合庫東台南",null,null,null,null,null,"0041322","高雄九如二路郵局"]
["北新竹分行","合庫北新竹","0061243","合庫北新竹",null,null,null,null,null,"0041336","高雄五塊厝郵局"]
["復旦分行","合庫復旦","0061254","合庫復旦",null,null,null,null,null,"0041340","大社郵局"]
["竹山分行","合庫竹山","0061265","合庫竹山",null,null,null,null,null,"0041353","楠梓加工區郵局"]
["前鎮分行","合庫前鎮","0061276","合庫前鎮",null,null,null,null,null,"0041367","高雄西甲郵局"]
["灣內分行","合庫灣內","0061287","合庫灣內",null,null,null,null,null,"0041371","小港機場郵局"]
["路竹分行","合庫路竹","0061298","合庫路竹",null,null,null,null,null,"0041384","高雄草衙郵局"]
["憲德分行","合庫憲德","0061302","合庫憲德",null,null,null,null,null,"0041398","高雄籬仔內郵局"]
["竹北分行","合庫竹北","0061313","合庫竹北",null,null,null,null,null,"0041400","高雄正言郵局"]
["六合分行","合庫六合","0061324","合庫六合",null,null,null,null,null,"0041413","高雄順昌郵局"]
["五洲分行","合庫五洲","0061335","合庫五洲",null,null,null,null,null,"0041427","高雄林華郵局"]
["臺大分行","合庫臺大","0061346","合庫臺大",null,null,null,null,null,"0041431","楠梓右昌郵局"]
["龜山分行","合庫龜山","0061368","合庫龜山",null,null,null,null,null,"0041444","高雄金福路郵局"]
["大溪分行","合庫大溪","0061379","合庫大溪",null,null,null,null,null,"0041458","高雄大林蒲郵局"]
["龍潭分行","合庫龍潭","0061380","合庫龍潭",null,null,null,null,null,"0041461","高雄前峰郵局"]
["中原分行","合庫中原","0061391","合庫中原",null,null,null,null,null,"0041475","高雄中鋼郵局"]
["三興分行","合庫三興","0061405","合庫三興",null,null,null,null,null,"0041489","高雄民族社區郵局"]
["敦化分行","合庫敦化","0061416","合庫敦化",null,null,null,null,null,"0041492","高雄站後郵局"]
["石牌分行","合庫石牌","0061427","合庫石牌",null,null,null,null,null,"0041504","高雄大順郵局"]
["西屯分行","合庫西屯","0061438","合庫西屯",null,null,null,null,null,"0041518","高雄台船郵局"]
["雙和分行","合庫雙和","0061449","合庫雙和",null,null,null,null,null,"0041521","仁武郵局"]
["土城分行","合庫土城","0061450","合庫土城",null,null,null,null,null,"0041535","高雄建工郵局"]
["光華分行","合庫光華","0061461","合庫光華",null,null,null,null,null,"0041549","高雄博愛路郵局"]
["北台南分行","合庫北台南","0061472","合庫北台南",null,null,null,null,null,"0041552","左營新莊仔郵局"]
["興鳳分行","合庫興鳳","0061483","合庫興鳳",null,null,null,null,null,"0041566","高雄鼎泰郵局"]
["北屯分行","合庫北屯","0061494","合庫北屯",null,null,null,null,null,"0041570","海軍官校郵局"]
["一心路分行","合庫一心路","0061508","合庫一心路",null,null,null,null,null,"0041583","高雄英德街郵局"]
["三峽分行","合庫三峽","0061519","合庫三峽",null,null,null,null,null,"0041597","中山大學郵局"]
["北嘉義分行","合庫北嘉義","0061520","合庫北嘉義",null,null,null,null,null,"0041609","高雄武廟郵局"]
["永康分行","合庫永康","0061531","合庫永康",null,null,null,null,null,"0041612","高雄民壯郵局"]
["平鎮分行","合庫平鎮","0061542","合庫平鎮",null,null,null,null,null,"0041626","高雄二苓郵局"]
["大發分行","合庫大發","0061553","合庫大發",null,null,null,null,null,"0041630","高雄大昌郵局"]
["內湖分行","合庫內湖","0061564","合庫內湖",null,null,null,null,null,"0041643","高雄文化中心郵局"]
["光復分行","合庫光復","0061575","合庫光復",null,null,null,null,null,"0041657","高雄民強郵局"]
["二重分行","合庫二重","0061586","合庫二重",null,null,null,null,null,"0041661","楠梓後勁郵局"]
["北台中分行","合庫北台中","0061601","合庫北台中",null,null,null,null,null,"0041674","高雄義民郵局"]
["軍功分行","合庫軍功","0061656","合庫軍功",null,null,null,null,null,"0041688","高雄瑞豐郵局"]
["永安分行","合庫永安","0061715","合庫永安",null,null,null,null,null,"0041691","高雄新田郵局"]
["中權分行","合庫中權","0061726","合庫中權",null,null,null,null,null,"0041703","楠梓亞洲城郵局"]
["太原分行","合庫太原","0061759","合庫太原",null,null,null,null,null,"0041721","高雄醫學大學郵局"]
["松竹分行","合庫松竹","0061760","合庫松竹",null,null,null,null,null,"0041734","高雄高分院郵局"]
["進化分行","合庫進化","0061807","合庫進化",null,null,null,null,null,"0041748","左營榮總郵局"]
["中清分行","合庫中清","0061852","合庫中清",null,null,null,null,null,"0041751","高雄高松郵局"]
["建成分行","合庫建成","0061885","合庫建成",null,null,null,null,null,"0041765","高雄地方法院郵局"]
["朝馬分行","合庫朝馬","0061900","合庫朝馬",null,null,null,null,null,"0041779","高雄中洲郵局"]
["東台中分行","合庫東台中","0061966","合庫東台中",null,null,null,null,null,"0041782","高雄康莊郵局"]
["美村分行","合庫美村","0061988","合庫美村",null,null,null,null,null,"0041796","高雄鼎金郵局"]
["黎明分行","合庫黎明","0062000","合庫黎明",null,null,null,null,null,"0041808","高雄本揚郵局"]
["昌平分行","合庫昌平","0062033","合庫昌平",null,null,null,null,null,"0041811","高雄中都郵局"]
["精武分行","合庫精武","0062044","合庫精武",null,null,null,null,null,"0041825","高雄凹仔底郵局"]
["文心分行","合庫文心","0062055","合庫文心",null,null,null,null,null,"0041839","楠梓建楠郵局"]
["神岡分行","合庫神岡","0062077","合庫神岡",null,null,null,null,null,"0041842","高雄崗山仔郵局"]
["彰中分行","合庫彰中","0063029","合庫彰中",null,null,null,null,null,"0041856","高雄中林子郵局"]
["大竹分行","合庫大竹","0063030","合庫大竹",null,null,null,null,null,"0041860","義守大學郵局"]
["林內分行","合庫林內","0063074","合庫林內",null,null,null,null,null,"0041873","高雄桂林郵局"]
["南港分行","合庫南港","0063100","合庫南港",null,null,null,null,null,"0041887","左營菜公郵局"]
["伸港分行","合庫伸港","0063111","合庫伸港",null,null,null,null,null,"0041891","左營福山郵局"]
["五股分行","合庫五股","0063122","合庫五股",null,null,null,null,null,"0041902","仁武仁雄郵局"]
["樹林分行","合庫樹林","0063133","合庫樹林",null,null,null,null,null,"0041916","高雄高等行政法院郵局"]
["林口分行","合庫林口","0063155","合庫林口",null,null,null,null,null,"0041920","高雄郵件中心郵局"]
["左營分行","合庫左營","0063166","合庫左營",null,null,null,null,null,"0041933","楠梓翠屏郵局"]
["泰山分行","合庫泰山","0063177","合庫泰山",null,null,null,null,null,"0041947","高雄君毅郵局"]
["大坪林分行","合庫大坪林","0063199","合庫大坪林",null,null,null,null,null,"0041951","仁武八德郵局"]
["鶯歌分行","合庫鶯歌","0063373","合庫鶯歌",null,null,null,null,null,"0101003","鳳山中山東路郵局"]
["蘆洲分行","合庫蘆洲","0063384","合庫蘆洲",null,null,null,null,null,"0101017","陸軍官校郵局"]
["鹿港分行","合庫鹿港","0063395","合庫鹿港",null,null,null,null,null,"0101021","鳥松郵局"]
["新樹分行","合庫新樹","0063409","合庫新樹",null,null,null,null,null,"0101034","澄清湖郵局"]
["六家分行","合庫六家","0063410","合庫六家",null,null,null,null,null,"0101048","燕巢義大醫院郵局"]
["大雅分行","合庫大雅","0063421","合庫大雅",null,null,null,null,null,"0101051","鳳山行政中心郵局"]
["八德分行","合庫八德","0063443","合庫八德",null,null,null,null,null,"0101065","鳳山文山郵局"]
["吉林分行","合庫吉林","0063454","合庫吉林",null,null,null,null,null,"0101079","大寮郵局"]
["鼓山分行","合庫鼓山","0063465","合庫鼓山",null,null,null,null,null,"0101082","鳳山大東郵局"]
["大社分行","合庫大社","0063476","合庫大社",null,null,null,null,null,"0101096","鳳山五甲郵局"]
["南京西路分行","合庫京西","0063487","合庫京西",null,null,null,null,null,"0101108","鳳山工協郵局"]
["逢甲分行","合庫逢甲","0063498","合庫逢甲",null,null,null,null,null,"0101111","大寮中庄郵局"]
["立德分行","合庫立德","0063502","合庫立德",null,null,null,null,null,"0101139","鳳山一甲郵局"]
["林園分行","合庫林園","0063513","合庫林園",null,null,null,null,null,"0101142","鳳山鳳松路郵局"]
["高雄科技園區分行","合庫高科","0063524","合庫高科",null,null,null,null,null,"0101156","大寮中興郵局"]
["蘆竹分行","合庫蘆竹","0063535","合庫蘆竹",null,null,null,null,null,"0101160","鳳山新甲郵局"]
["北中和分行","合庫北中和","0063546","合庫北中和",null,null,null,null,null,"0101187","鳥松仁美郵局"]
["新湖分行","合庫新湖","0063557","合庫新湖",null,null,null,null,null,"0101191","鳳山新富郵局"]
["丹鳳分行","合庫丹鳳","0063568","合庫丹鳳",null,null,null,null,null,"0101202","大樹九曲堂郵局"]
["旗山分行","合庫旗山","0063580","合庫旗山",null,null,null,null,null,"0101216","大樹郵局"]
["大園分行","合庫大園","0063591","合庫大園",null,null,null,null,null,"0101220","大寮大發郵局"]
["南土城分行","合庫南土城","0063605","合庫南土城",null,null,null,null,null,"0101233","鳳山三民路郵局"]
["潭子分行","合庫潭子","0063616","合庫潭子",null,null,null,null,null,"0101247","林園郵局"]
["后里分行","合庫后里","0063627","合庫后里",null,null,null,null,null,"0101251","林園三庄郵局"]
["長庚分行","合庫長庚","0063638","合庫長庚",null,null,null,null,null,"0101264","林園福興郵局"]
["楠梓分行","合庫楠梓","0063649","合庫楠梓",null,null,null,null,null,"0101278","鳥松長庚醫院郵局"]
["自強分行","合庫自強","0065012","合庫自強",null,null,null,null,null,"0101281","鳳山中崙郵局"]
["中山分行","合庫中山","0065023","合庫中山",null,null,null,null,null,"0101295","鳳山過埤郵局"]
["敦南分行","合庫敦南","0065034","合庫敦南",null,null,null,null,null,"0101307","鳳山鎮北郵局"]
["中崙分行","合庫中崙","0065045","合庫中崙",null,null,null,null,null,"0101311","旗山郵局"]
["世貿分行","合庫世貿","0065056","合庫世貿",null,null,null,null,null,"0101324","旗山旗尾郵局"]
["延吉分行","合庫延吉","0065067","合庫延吉",null,null,null,null,null,"0101338","旗山大洲郵局"]
["光復南路分行","合庫光復南","0065078","合庫光復南",null,null,null,null,null,"0101341","旗山圓潭郵局"]
["北士林分行","合庫北士林","0065089","合庫北士林",null,null,null,null,null,"0101355","內門郵局"]
["信維分行","合庫信維","0065090","合庫信維",null,null,null,null,null,"0101369","杉林郵局"]
["西湖分行","合庫西湖","0065104","合庫西湖",null,null,null,null,null,"0101372","旗山四保郵局"]
["大湖分行","合庫大湖","0065115","合庫大湖",null,null,null,null,null,"0101386","美濃郵局"]
["大橋分行","合庫大橋","0065126","合庫大橋",null,null,null,null,null,"0101390","美濃中壇郵局"]
["國醫中心分行","合庫國醫","0065137","合庫國醫",null,null,null,null,null,"0101401","甲仙郵局"]
["南門分行","合庫南門","0065159","合庫南門",null,null,null,null,null,"0101415","那瑪夏郵局"]
["新中分行","合庫新中","0065160","合庫新中",null,null,null,null,null,"0101429","六龜郵局"]
["中港分行","合庫中港","0065171","合庫中港",null,null,null,null,null,"0101432","桃源郵局"]
["衛道分行","合庫衛道","0065182","合庫衛道",null,null,null,null,null,"0101446","六龜寶來郵局"]
["忠明南路分行","合庫忠明南","0065193","合庫忠明南",null,null,null,null,null,"0101450","岡山郵局"]
["東基隆分行","合庫東基隆","0065207","合庫東基隆",null,null,null,null,null,"0101463","空軍通校郵局"]
["赤崁分行","合庫赤崁","0065218","合庫赤崁",null,null,null,null,null,"0101477","空軍官校郵局"]
["府城分行","合庫府城","0065229","合庫府城",null,null,null,null,null,"0101481","橋頭郵局"]
["開元分行","合庫開元","0065230","合庫開元",null,null,null,null,null,"0101494","空軍機校郵局"]
["港都分行","合庫港都","0065241","合庫港都",null,null,null,null,null,"0101506","彌陀郵局"]
["七賢分行","合庫七賢","0065252","合庫七賢",null,null,null,null,null,"0101510","燕巢郵局"]
["大港埔分行","合庫大港埔","0065263","合庫大港埔",null,null,null,null,null,"0101523","燕巢鳳山厝郵局"]
["十全分行","合庫十全","0065274","合庫十全",null,null,null,null,null,"0101537","梓官郵局"]
["九如分行","合庫九如","0065285","合庫九如",null,null,null,null,null,"0101541","永安郵局"]
["小港分行","合庫小港","0065296","合庫小港",null,null,null,null,null,"0101554","梓官蚵子寮郵局"]
["北三峽分行","合庫北三峽","0065300","合庫北三峽",null,null,null,null,null,"0101568","田寮郵局"]
["板新分行","合庫板新","0065311","合庫板新",null,null,null,null,null,"0101571","阿蓮郵局"]
["南三重分行","合庫南三重","0065322","合庫南三重",null,null,null,null,null,"0101585","岡山平和路郵局"]
["北新分行","合庫北新","0065333","合庫北新",null,null,null,null,null,"0101599","岡山仁壽路郵局"]
["漳和分行","合庫漳和","0065344","合庫漳和",null,null,null,null,null,"0101601","岡山五甲尾郵局"]
["寶橋分行","合庫寶橋","0065355","合庫寶橋",null,null,null,null,null,"0101614","永安竹仔港郵局"]
["新泰分行","合庫新泰","0065366","合庫新泰",null,null,null,null,null,"0101628","湖內郵局"]
["北土城分行","合庫北土城","0065377","合庫北土城",null,null,null,null,null,"0101631","湖內大湖郵局"]
["南汐止分行","合庫南汐止","0065388","合庫南汐止",null,null,null,null,null,"0101645","茄萣郵局"]
["北樹林分行","合庫北樹林","0065399","合庫北樹林",null,null,null,null,null,"0101659","路竹郵局"]
["五股工業區分行","合庫五股工","0065403","合庫五股工",null,null,null,null,null,"0101662","路竹竹南郵局"]
["北羅東分行","合庫北羅東","0065414","合庫北羅東",null,null,null,null,null,"0101676","路竹一甲郵局"]
["礁溪分行","合庫礁溪","0065425","合庫礁溪",null,null,null,null,null,"0101680","岡山大仁郵局"]
["東桃園分行","合庫東桃園","0065436","合庫東桃園",null,null,null,null,null,"0051008","嘉義文化路郵局"]
["壢新分行","合庫壢新","0065447","合庫壢新",null,null,null,null,null,"0051011","嘉義中山路郵局"]
["南崁分行","合庫南崁","0065458","合庫南崁",null,null,null,null,null,"0051025","水上南靖郵局"]
["新明分行","合庫新明","0065470","合庫新明",null,null,null,null,null,"0051039","水上中庄郵局"]
["楊梅分行","合庫楊梅","0065481","合庫楊梅",null,null,null,null,null,"0051042","嘉義站前郵局"]
["東台東分行","合庫東台東","0065492","合庫東台東",null,null,null,null,null,"0051056","嘉義民權路郵局"]
["東竹北分行","合庫東竹北","0065517","合庫東竹北",null,null,null,null,null,"0051060","太保郵局"]
["北苗栗分行","合庫北苗栗","0065528","合庫北苗栗",null,null,null,null,null,"0051073","嘉義忠孝郵局"]
["竹南分行","合庫竹南","0065539","合庫竹南",null,null,null,null,null,"0051087","嘉義北社郵局"]
["豐中分行","合庫豐中","0065540","合庫豐中",null,null,null,null,null,"0051091","水上郵局"]
["北大里分行","合庫北大里","0065551","合庫北大里",null,null,null,null,null,"0051102","嘉義玉山郵局"]
["東沙鹿分行","合庫東沙鹿","0065562","合庫東沙鹿",null,null,null,null,null,"0051116","水上回歸郵局"]
["草屯分行","合庫草屯","0065573","合庫草屯",null,null,null,null,null,"0051120","嘉義福全郵局"]
["集集分行","合庫集集","0065584","合庫集集",null,null,null,null,null,"0051133","嘉義東門郵局"]
["東埔里分行","合庫東埔里","0065595","合庫東埔里",null,null,null,null,null,"0051147","番路郵局"]
["員新分行","合庫員新","0065609","合庫員新",null,null,null,null,null,"0051151","嘉義後湖郵局"]
["南彰化分行","合庫南彰化","0065610","合庫南彰化",null,null,null,null,null,"0051164","嘉義興業路郵局"]
["北斗分行","合庫北斗","0065621","合庫北斗",null,null,null,null,null,"0051178","嘉義成功街郵局"]
["竹塹分行","合庫竹塹","0065632","合庫竹塹",null,null,null,null,null,"0051181","嘉義彌陀郵局"]
["新竹科學園區分行","合庫竹科","0065643","合庫竹科",null,null,null,null,null,"0051195","嘉義湖內郵局"]
["經國分行","合庫經國","0065654","合庫經國",null,null,null,null,null,"0051207","嘉義埤子頭郵局"]
["雲林分行","合庫雲林","0065665","合庫雲林",null,null,null,null,null,"0051211","中埔郵局"]
["北朴子分行","合庫北朴子","0065687","合庫北朴子",null,null,null,null,null,"0051224","嘉義大學郵局"]
["北新營分行","合庫北新營","0065698","合庫北新營",null,null,null,null,null,"0051238","中埔後庄郵局"]
["仁德分行","合庫仁德","0065702","合庫仁德",null,null,null,null,null,"0051241","太保南新郵局"]
["南永康分行","合庫南永康","0065713","合庫南永康",null,null,null,null,null,"0051255","大埔郵局"]
["鳳松分行","合庫鳳松","0065735","合庫鳳松",null,null,null,null,null,"0051269","竹崎郵局"]
["北岡山分行","合庫北岡山","0065746","合庫北岡山",null,null,null,null,null,"0051272","竹崎內埔郵局"]
["美濃分行","合庫美濃","0065757","合庫美濃",null,null,null,null,null,"0051286","阿里山郵局"]
["大樹分行","合庫大樹","0065768","合庫大樹",null,null,null,null,null,"0051290","嘉義林森郵局"]
["內門分行","合庫內門","0065780","合庫內門",null,null,null,null,null,"0051301","嘉義興嘉郵局"]
["東港分行","合庫東港","0065816","合庫東港",null,null,null,null,null,"0051315","太保嘉太郵局"]
["萬丹分行","合庫萬丹","0065827","合庫萬丹",null,null,null,null,null,"0051329","民雄郵局"]
["枋寮分行","合庫枋寮","0065838","合庫枋寮",null,null,null,null,null,"0051332","民雄頭橋郵局"]
["東嘉義分行","合庫東嘉義","0065849","合庫東嘉義",null,null,null,null,null,"0051346","中正大學郵局"]
["北花蓮分行","合庫北花蓮","0065850","合庫北花蓮",null,null,null,null,null,"0051350","民雄雙福郵局"]
["公館分行","合庫公館","0065872","合庫公館",null,null,null,null,null,"0051363","梅山郵局"]
["健康分行","合庫健康","0065894","合庫健康",null,null,null,null,null,"0051377","新港郵局"]
["博愛分行","合庫博愛","0065908","合庫博愛",null,null,null,null,null,"0051381","新港中洋郵局"]
["介壽分行","合庫介壽","0065919","合庫介壽",null,null,null,null,null,"0051394","六腳蒜頭郵局"]
["水湳分行","合庫水湳","0065942","合庫水湳",null,null,null,null,null,"0051406","朴子長庚醫院郵局"]
["中正分行","合庫中正","0065964","合庫中正",null,null,null,null,null,"0051410","義竹郵局"]
["坪林分行","合庫坪林","0066019","合庫坪林",null,null,null,null,null,"0051423","布袋郵局"]
["仁美分行","合庫仁美","0066064","合庫仁美",null,null,null,null,null,"0051437","布袋過溝郵局"]
["大華分行","合庫大華","0066075","合庫大華",null,null,null,null,null,"0051441","布袋大寮郵局"]
["社皮分行","合庫社皮","0066097","合庫社皮",null,null,null,null,null,"0051454","布袋新塭郵局"]
["港湖分行","合庫港湖","0066123","合庫港湖",null,null,null,null,null,"0051468","鹿草郵局"]
["五甲分行","合庫五甲","0069021","合庫五甲",null,null,null,null,null,"0051471","朴子郵局"]
["淡水分行","合庫淡水","0069043","合庫淡水",null,null,null,null,null,"0051485","朴子海通路郵局"]
["營業部","一銀營業部","0070937","一銀營業部",null,null,null,null,null,"0051499","東石郵局"]
["安和分行","一銀安和","0070948","一銀安和",null,null,null,null,null,"0051501","朴子祥和郵局"]
["南港分行","一銀南港","0071015","一銀南港",null,null,null,null,null,"0051514","大林郵局"]
["西門分行","一銀西門","0071026","一銀西門",null,null,null,null,null,"0051528","竹崎灣橋郵局"]
["忠孝路分行","一銀忠孝路","0071037","一銀忠孝路",null,null,null,null,null,"0051531","嘉義保安郵局"]
["東湖分行","一銀東湖","0071059","一銀東湖",null,null,null,null,null,"0051545","溪口郵局"]
["景美分行","一銀景美","0071060","一銀景美",null,null,null,null,null,"0051559","大林中山路郵局"]
["大直分行","一銀大直","0071071","一銀大直",null,null,null,null,null,"0061004","新竹武昌街郵局"]
["大稻埕分行","一銀大稻埕","0071118","一銀大稻埕",null,null,null,null,null,"0061018","新竹東門郵局"]
["信維分行","一銀信維","0071130","一銀信維",null,null,null,null,null,"0061021","清華大學郵局"]
["建成分行","一銀建成","0071211","一銀建成",null,null,null,null,null,"0061035","新竹復中里郵局"]
["華山分行","一銀華山","0071299","一銀華山",null,null,null,null,null,"0061049","新竹光華街郵局"]
["大同分行","一銀大同","0071314","一銀大同",null,null,null,null,null,"0061052","新竹內湖路郵局"]
["光隆分行","一銀光隆","0071325","一銀光隆",null,null,null,null,null,"0061066","新竹英明街郵局"]
["新生分行","一銀新生","0071336","一銀新生",null,null,null,null,null,"0061070","新竹關東橋郵局"]
["劍潭分行","一銀劍潭","0071358","一銀劍潭",null,null,null,null,null,"0061083","新竹樹林頭郵局"]
["圓山分行","一銀圓山","0071406","一銀圓山",null,null,null,null,null,"0061097","新竹學府路郵局"]
["中山分行","一銀中山","0071417","一銀中山",null,null,null,null,null,"0061109","新竹西門郵局"]
["中崙分行","一銀中崙","0071428","一銀中崙",null,null,null,null,null,"0061112","新竹牛埔郵局"]
["南京東路分行","一銀南京東","0071439","一銀南京東",null,null,null,null,null,"0061130","寶山郵局"]
["城東分行","一銀城東","0071440","一銀城東",null,null,null,null,null,"0061143","新竹文雅郵局"]
["民生分行","一銀民生","0071451","一銀民生",null,null,null,null,null,"0061157","新竹西大路郵局"]
["松江分行","一銀松江","0071462","一銀松江",null,null,null,null,null,"0061161","新竹民主路郵局"]
["民權分行","一銀民權","0071473","一銀民權",null,null,null,null,null,"0061174","新竹東園郵局"]
["八德分行","一銀八德","0071484","一銀八德",null,null,null,null,null,"0061188","新竹南寮郵局"]
["長春分行","一銀長春","0071495","一銀長春",null,null,null,null,null,"0061191","新竹科學園郵局"]
["內湖分行","一銀內湖","0071509","一銀內湖",null,null,null,null,null,"0061203","新竹三姓橋郵局"]
["松山分行","一銀松山","0071510","一銀松山",null,null,null,null,null,"0061217","新竹南大路郵局"]
["延吉分行","一銀延吉","0071521","一銀延吉",null,null,null,null,null,"0061221","新竹民生路郵局"]
["光復分行","一銀光復","0071532","一銀光復",null,null,null,null,null,"0061234","新竹經國路郵局"]
["興雅分行","一銀興雅","0071554","一銀興雅",null,null,null,null,null,"0061248","新竹建中郵局"]
["永春分行","一銀永春","0071576","一銀永春",null,null,null,null,null,"0061251","交通大學郵局"]
["內科園區分行","一銀內科","0071587","一銀內科",null,null,null,null,null,"0061265","新竹南勢郵局"]
["吉林分行","一銀吉林","0071598","一銀吉林",null,null,null,null,null,"0061279","新埔郵局"]
["仁愛分行","一銀仁愛","0071602","一銀仁愛",null,null,null,null,null,"0061282","新埔中正郵局"]
["大安分行","一銀大安","0071613","一銀大安",null,null,null,null,null,"0061296","竹北嘉豐郵局"]
["信義分行","一銀信義","0071624","一銀信義",null,null,null,null,null,"0061308","關西郵局"]
["復興分行","一銀復興","0071635","一銀復興",null,null,null,null,null,"0061325","寶山大崎郵局"]
["敦化分行","一銀敦化","0071646","一銀敦化",null,null,null,null,null,"0061339","竹北郵局"]
["仁和分行","一銀仁和","0071657","一銀仁和",null,null,null,null,null,"0061342","竹北中山郵局"]
["世貿分行","一銀世貿","0071668","一銀世貿",null,null,null,null,null,"0061356","竹北博愛郵局"]
["木柵分行","一銀木柵","0071679","一銀木柵",null,null,null,null,null,"0061360","竹北六家郵局"]
["松貿分行","一銀松貿","0071680","一銀松貿",null,null,null,null,null,"0061373","竹北光明郵局"]
["新湖分行","一銀新湖","0071691","一銀新湖",null,null,null,null,null,"0061387","湖口郵局"]
["古亭分行","一銀古亭","0071716","一銀古亭",null,null,null,null,null,"0061391","湖口鐵騎郵局"]
["南門分行","一銀南門","0071727","一銀南門",null,null,null,null,null,"0061402","新豐郵局"]
["公館分行","一銀公館","0071738","一銀公館",null,null,null,null,null,"0061416","中華大學郵局"]
["和平分行","一銀和平","0071761","一銀和平",null,null,null,null,null,"0061420","湖口鳳凰郵局"]
["萬華分行","一銀萬華","0071819","一銀萬華",null,null,null,null,null,"0061433","新豐山崎郵局"]
["雙園分行","一銀雙園","0071831","一銀雙園",null,null,null,null,null,"0061447","湖口新工郵局"]
["天母分行","一銀天母","0071901","一銀天母",null,null,null,null,null,"0061451","湖口長安郵局"]
["北投分行","一銀北投","0071912","一銀北投",null,null,null,null,null,"0061464","湖口德盛郵局"]
["士林分行","一銀士林","0071923","一銀士林",null,null,null,null,null,"0061478","竹東郵局"]
["建國分行","一銀建國","0071934","一銀建國",null,null,null,null,null,"0061481","芎林郵局"]
["萬隆分行","一銀萬隆","0071945","一銀萬隆",null,null,null,null,null,"0061495","橫山郵局"]
["石牌分行","一銀石牌","0071956","一銀石牌",null,null,null,null,null,"0061507","橫山內灣郵局"]
["板橋分行","一銀板橋","0072012","一銀板橋",null,null,null,null,null,"0061511","五峰郵局"]
["華江分行","一銀華江","0072023","一銀華江",null,null,null,null,null,"0061524","竹東下公館郵局"]
["樹林分行","一銀樹林","0072034","一銀樹林",null,null,null,null,null,"0061538","尖石郵局"]
["土城分行","一銀土城","0072056","一銀土城",null,null,null,null,null,"0061541","竹東二重埔郵局"]
["江子翠分行","一銀江子翠","0072067","一銀江子翠",null,null,null,null,null,"0061555","竹東長春郵局"]
["北土城分行","一銀北土城","0072078","一銀北土城",null,null,null,null,null,"0061569","竹東工研院郵局"]
["三重埔分行","一銀三重埔","0072115","一銀三重埔",null,null,null,null,null,"0061572","北埔郵局"]
["長泰分行","一銀長泰","0072126","一銀長泰",null,null,null,null,null,"0061586","峨眉郵局"]
["蘆洲分行","一銀蘆洲","0072137","一銀蘆洲",null,null,null,null,null,"0071001","屏東民生路郵局"]
["頭前分行","一銀頭前","0072148","一銀頭前",null,null,null,null,null,"0071014","屏東潭墘郵局"]
["五股分行","一銀五股","0072159","一銀五股",null,null,null,null,null,"0071028","屏東林森路郵局"]
["重陽分行","一銀重陽","0072160","一銀重陽",null,null,null,null,null,"0071031","屏東復興郵局"]
["五股工業區分行","一銀五股工","0072171","一銀五股工",null,null,null,null,null,"0071045","屏東北平路郵局"]
["淡水分行","一銀淡水","0072182","一銀淡水",null,null,null,null,null,"0071059","屏東崇蘭郵局"]
["新店分行","一銀新店","0072218","一銀新店",null,null,null,null,null,"0071062","內埔水門郵局"]
["大坪林分行","一銀大坪林","0072229","一銀大坪林",null,null,null,null,null,"0071076","屏東大埔郵局"]
["泰山分行","一銀泰山","0072300","一銀泰山",null,null,null,null,null,"0071080","麟洛郵局"]
["新莊分行","一銀新莊","0072311","一銀新莊",null,null,null,null,null,"0071093","屏東歸來郵局"]
["鶯歌分行","一銀鶯歌","0072322","一銀鶯歌",null,null,null,null,null,"0071105","長治郵局"]
["中和分行","一銀中和","0072333","一銀中和",null,null,null,null,null,"0071119","鹽埔郵局"]
["永和分行","一銀永和","0072344","一銀永和",null,null,null,null,null,"0071122","三地門郵局"]
["雙和分行","一銀雙和","0072355","一銀雙和",null,null,null,null,null,"0071136","霧台郵局"]
["連城分行","一銀連城","0072366","一銀連城",null,null,null,null,null,"0071140","瑪家郵局"]
["瑞芳分行","一銀瑞芳","0072377","一銀瑞芳",null,null,null,null,null,"0071153","屏東永安郵局"]
["埔墘分行","一銀埔墘","0072388","一銀埔墘",null,null,null,null,null,"0071167","屏東海豐郵局"]
["丹鳳分行","一銀丹鳳","0072399","一銀丹鳳",null,null,null,null,null,"0071171","屏東公館郵局"]
["基隆分行","一銀基隆","0072414","一銀基隆",null,null,null,null,null,"0071184","屏東中正路郵局"]
["哨船頭分行","一銀哨船頭","0072436","一銀哨船頭",null,null,null,null,null,"0071198","屏東廣東路郵局"]
["汐止分行","一銀汐止","0072458","一銀汐止",null,null,null,null,null,"0071200","屏東勝利路郵局"]
["汐科分行","一銀汐科","0072469","一銀汐科",null,null,null,null,null,"0071213","屏東六塊厝郵局"]
["幸福分行","一銀幸福","0072470","一銀幸福",null,null,null,null,null,"0071227","屏東厚生郵局"]
["宜蘭分行","一銀宜蘭","0072517","一銀宜蘭",null,null,null,null,null,"0071231","長治繁華郵局"]
["羅東分行","一銀羅東","0072610","一銀羅東",null,null,null,null,null,"0071244","屏東頭前溪郵局"]
["蘇澳分行","一銀蘇澳","0072621","一銀蘇澳",null,null,null,null,null,"0071261","里港郵局"]
["桃園分行","一銀桃園","0072713","一銀桃園",null,null,null,null,null,"0071275","里港三和路郵局"]
["北桃分行","一銀北桃","0072724","一銀北桃",null,null,null,null,null,"0071289","高樹郵局"]
["中正分行","一銀中正","0072735","一銀中正",null,null,null,null,null,"0071292","茂林郵局"]
["大湳分行","一銀大湳","0072791","一銀大湳",null,null,null,null,null,"0071304","萬丹郵局"]
["內壢分行","一銀內壢","0072805","一銀內壢",null,null,null,null,null,"0071318","九如郵局"]
["中壢分行","一銀中壢","0072816","一銀中壢",null,null,null,null,null,"0071321","鹽埔鹽中郵局"]
["西壢分行","一銀西壢","0072827","一銀西壢",null,null,null,null,null,"0071335","內埔郵局"]
["平鎮分行","一銀平鎮","0072838","一銀平鎮",null,null,null,null,null,"0071349","內埔龍泉郵局"]
["大園分行","一銀大園","0072849","一銀大園",null,null,null,null,null,"0071352","內埔豐田郵局"]
["南崁分行","一銀南崁","0072850","一銀南崁",null,null,null,null,null,"0071366","內埔建興郵局"]
["迴龍分行","一銀迴龍","0072872","一銀迴龍",null,null,null,null,null,"0071370","內埔學府郵局"]
["林口分行","一銀林口","0072908","一銀林口",null,null,null,null,null,"0071383","萬丹社皮郵局"]
["大溪分行","一銀大溪","0072919","一銀大溪",null,null,null,null,null,"0071397","枋寮郵局"]
["龍潭分行","一銀龍潭","0072920","一銀龍潭",null,null,null,null,null,"0071409","枋寮水底寮郵局"]
["新竹分行","一銀新竹","0073019","一銀新竹",null,null,null,null,null,"0071412","枋山郵局"]
["東門分行","一銀東門","0073020","一銀東門",null,null,null,null,null,"0071426","春日郵局"]
["竹科分行","一銀竹科","0073031","一銀竹科",null,null,null,null,null,"0071430","恆春郵局"]
["竹東分行","一銀竹東","0073112","一銀竹東",null,null,null,null,null,"0071457","恆春墾丁郵局"]
["關西分行","一銀關西","0073123","一銀關西",null,null,null,null,null,"0071461","恆春南門郵局"]
["竹北分行","一銀竹北","0073134","一銀竹北",null,null,null,null,null,"0071474","車城郵局"]
["苗栗分行","一銀苗栗","0073215","一銀苗栗",null,null,null,null,null,"0071488","牡丹郵局"]
["竹南分行","一銀竹南","0073318","一銀竹南",null,null,null,null,null,"0071491","滿州郵局"]
["頭份分行","一銀頭份","0073329","一銀頭份",null,null,null,null,null,"0071503","潮州郵局"]
["台中分行","一銀台中","0074016","一銀台中",null,null,null,null,null,"0071517","潮州新生路郵局"]
["南台中分行","一銀南台中","0074027","一銀南台中",null,null,null,null,null,"0071521","萬巒郵局"]
["北台中分行","一銀北台中","0074038","一銀北台中",null,null,null,null,null,"0071534","泰武郵局"]
["中港分行","一銀中港","0074049","一銀中港",null,null,null,null,null,"0071548","來義郵局"]
["北屯分行","一銀北屯","0074050","一銀北屯",null,null,null,null,null,"0071551","潮州南進路郵局"]
["進化分行","一銀進化","0074061","一銀進化",null,null,null,null,null,"0071565","南州郵局"]
["南屯分行","一銀南屯","0074072","一銀南屯",null,null,null,null,null,"0071579","崁頂郵局"]
["豐原分行","一銀豐原","0074119","一銀豐原",null,null,null,null,null,"0071582","竹田郵局"]
["大里分行","一銀大里","0074120","一銀大里",null,null,null,null,null,"0071596","竹田西勢郵局"]
["中科分行","一銀中科","0074153","一銀中科",null,null,null,null,null,"0071608","新埤郵局"]
["東勢分行","一銀東勢","0074212","一銀東勢",null,null,null,null,null,"0071611","林邊郵局"]
["沙鹿分行","一銀沙鹿","0074223","一銀沙鹿",null,null,null,null,null,"0071625","佳冬郵局"]
["大甲分行","一銀大甲","0074234","一銀大甲",null,null,null,null,null,"0071639","東港中正路郵局"]
["太平分行","一銀太平","0074245","一銀太平",null,null,null,null,null,"0071642","東港郵局"]
["清水分行","一銀清水","0074256","一銀清水",null,null,null,null,null,"0071656","新園郵局"]
["大雅分行","一銀大雅","0074267","一銀大雅",null,null,null,null,null,"0071660","新園烏龍郵局"]
["南投分行","一銀南投","0074315","一銀南投",null,null,null,null,null,"0071673","琉球郵局"]
["草屯分行","一銀草屯","0074418","一銀草屯",null,null,null,null,null,"0081007","彰化中央路郵局"]
["埔里分行","一銀埔里","0074429","一銀埔里",null,null,null,null,null,"0081011","和美郵局"]
["彰化分行","一銀彰化","0074511","一銀彰化",null,null,null,null,null,"0081024","花壇郵局"]
["員林分行","一銀員林","0074614","一銀員林",null,null,null,null,null,"0081038","彰化府前郵局"]
["鹿港分行","一銀鹿港","0074625","一銀鹿港",null,null,null,null,null,"0081041","彰化市仔尾郵局"]
["溪湖分行","一銀溪湖","0074636","一銀溪湖",null,null,null,null,null,"0081055","彰化過溝仔郵局"]
["北斗分行","一銀北斗","0074647","一銀北斗",null,null,null,null,null,"0081069","芬園郵局"]
["和美分行","一銀和美","0074717","一銀和美",null,null,null,null,null,"0081072","彰化西門郵局"]
["嘉義分行","一銀嘉義","0075013","一銀嘉義",null,null,null,null,null,"0081086","線西郵局"]
["興嘉分行","一銀興嘉","0075035","一銀興嘉",null,null,null,null,null,"0081090","彰化台化郵局"]
["朴子分行","一銀朴子","0075116","一銀朴子",null,null,null,null,null,"0081101","和美中寮郵局"]
["斗六分行","一銀斗六","0075219","一銀斗六",null,null,null,null,null,"0081115","彰化南瑤郵局"]
["北港分行","一銀北港","0075312","一銀北港",null,null,null,null,null,"0081129","彰化中庄仔郵局"]
["西螺分行","一銀西螺","0075323","一銀西螺",null,null,null,null,null,"0081132","彰化南郭郵局"]
["虎尾分行","一銀虎尾","0075334","一銀虎尾",null,null,null,null,null,"0081146","彰化師大郵局"]
["台南分行","一銀台南","0076010","一銀台南",null,null,null,null,null,"0081150","彰化莿桐腳郵局"]
["運河分行（客戶移撥台南分行服務）","一銀運河","0076021","一銀運河",null,null,null,null,null,"0081177","秀水郵局"]
["富強分行","一銀富強","0076043","一銀富強",null,null,null,null,null,"0081181","伸港郵局"]
["赤崁分行","一銀赤崁","0076054","一銀赤崁",null,null,null,null,null,"0081194","彰化曉陽郵局"]
["竹溪分行","一銀竹溪","0076065","一銀竹溪",null,null,null,null,null,"0081206","彰化永安街郵局"]
["金城分行","一銀金城","0076076","一銀金城",null,null,null,null,null,"0081210","彰化大竹郵局"]
["安南分行","一銀安南","0076087","一銀安南",null,null,null,null,null,"0081223","伸港全興郵局"]
["新營分行","一銀新營","0076113","一銀新營",null,null,null,null,null,"0081237","彰化光復路郵局"]
["鹽水分行","一銀鹽水","0076216","一銀鹽水",null,null,null,null,null,"0081241","溪湖郵局"]
["麻豆分行","一銀麻豆","0076227","一銀麻豆",null,null,null,null,null,"0081254","埔鹽郵局"]
["善化分行","一銀善化","0076238","一銀善化",null,null,null,null,null,"0081268","溪湖湖西郵局"]
["佳里分行","一銀佳里","0076249","一銀佳里",null,null,null,null,null,"0081271","鹿港郵局"]
["新化分行","一銀新化","0076250","一銀新化",null,null,null,null,null,"0081285","福興郵局"]
["大灣分行","一銀大灣","0076261","一銀大灣",null,null,null,null,null,"0081299","鹿港頂番郵局"]
["南科園區分行","一銀南科園","0076283","一銀南科園",null,null,null,null,null,"0081301","鹿港彰濱郵局"]
["歸仁分行","一銀歸仁","0076294","一銀歸仁",null,null,null,null,null,"0081314","福興福工郵局"]
["永康分行","一銀永康","0076308","一銀永康",null,null,null,null,null,"0081328","鹿港草港郵局"]
["高雄分行","一銀高雄","0077017","一銀高雄",null,null,null,null,null,"0081331","北斗郵局"]
["鹽埕分行","一銀鹽埕","0077028","一銀鹽埕",null,null,null,null,null,"0081345","埤頭郵局"]
["新興分行","一銀新興","0077039","一銀新興",null,null,null,null,null,"0081359","田尾郵局"]
["三民分行","一銀三民","0077040","一銀三民",null,null,null,null,null,"0081362","埤頭路口厝郵局"]
["苓雅分行","一銀苓雅","0077051","一銀苓雅",null,null,null,null,null,"0081376","溪州郵局"]
["左營分行","一銀左營","0077062","一銀左營",null,null,null,null,null,"0081380","二林郵局"]
["楠梓分行","一銀楠梓","0077073","一銀楠梓",null,null,null,null,null,"0081393","大城郵局"]
["五福分行","一銀五福","0077084","一銀五福",null,null,null,null,null,"0081405","芳苑郵局"]
["十全分行","一銀十全","0077095","一銀十全",null,null,null,null,null,"0081419","竹塘郵局"]
["前鎮分行","一銀前鎮","0077109","一銀前鎮",null,null,null,null,null,"0081422","二林萬興郵局"]
["灣內分行","一銀灣內","0077110","一銀灣內",null,null,null,null,null,"0081436","芳苑王功郵局"]
["博愛分行","一銀博愛","0077121","一銀博愛",null,null,null,null,null,"0081440","芳苑草湖郵局"]
["鼎泰分行（客戶移撥博愛分行服務）","一銀鼎泰","0077132","一銀鼎泰",null,null,null,null,null,"0081453","員林郵局"]
["小港分行","一銀小港","0077143","一銀小港",null,null,null,null,null,"0081467","大村郵局"]
["五甲分行","一銀五甲","0077202","一銀五甲",null,null,null,null,null,"0081471","埔心郵局"]
["鳳山分行","一銀鳳山","0077213","一銀鳳山",null,null,null,null,null,"0081484","員林員水路郵局"]
["路竹分行","一銀路竹","0077305","一銀路竹",null,null,null,null,null,"0081498","員林三橋郵局"]
["岡山分行","一銀岡山","0077316","一銀岡山",null,null,null,null,null,"0081500","員林西門郵局"]
["旗山分行","一銀旗山","0077327","一銀旗山",null,null,null,null,null,"0081513","永靖郵局"]
["林園分行","一銀林園","0077338","一銀林園",null,null,null,null,null,"0081527","員林南門郵局"]
["屏東分行","一銀屏東","0077419","一銀屏東",null,null,null,null,null,"0081531","埔心太平郵局"]
["潮州分行","一銀潮州","0077512","一銀潮州",null,null,null,null,null,"0081544","員林中正路郵局"]
["東港分行","一銀東港","0077523","一銀東港",null,null,null,null,null,"0081558","社頭郵局"]
["恆春分行","一銀恆春","0077534","一銀恆春",null,null,null,null,null,"0081561","社頭湳雅郵局"]
["梓本分行","一銀梓本","0077785","一銀梓本",null,null,null,null,null,"0081575","二水郵局"]
["萬巒分行","一銀萬巒","0077855","一銀萬巒",null,null,null,null,null,"0081589","田中郵局"]
["花蓮分行","一銀花蓮","0078014","一銀花蓮",null,null,null,null,null,"0081592","田中內灣郵局"]
["台東分行","一銀台東","0078117","一銀台東",null,null,null,null,null,"0081604","田中三潭郵局"]
["澎湖分行","一銀澎湖","0078210","一銀澎湖",null,null,null,null,null,"0081618","和美道周郵局"]
["營業部","華銀營","0081005","華銀營",null,null,null,null,null,"0091003","花蓮國安郵局"]
["儲蓄分行","華銀儲蓄","0081016","華銀儲蓄",null,null,null,null,null,"0091017","花蓮舊車站郵局"]
["國外營業部","華銀國","0081027","華銀國",null,null,null,null,null,"0091021","花蓮南京街郵局"]
["城內分行","華銀城內","0081038","華銀城內",null,null,null,null,null,"0091048","新城北埔郵局"]
["大稻埕分行","華銀大稻埕","0081049","華銀大稻埕",null,null,null,null,null,"0091051","秀林天祥郵局"]
["建成分行","華銀建成","0081050","華銀建成",null,null,null,null,null,"0091065","新城郵局"]
["中山分行","華銀中山","0081061","華銀中山",null,null,null,null,null,"0091079","花蓮府前路郵局"]
["圓山分行","華銀圓山","0081072","華銀圓山",null,null,null,null,null,"0091082","吉安郵局"]
["城東分行","華銀城東","0081083","華銀城東",null,null,null,null,null,"0091096","花蓮下美崙郵局"]
["西門分行","華銀西門","0081094","華銀西門",null,null,null,null,null,"0091108","吉安仁里郵局"]
["南松山分行","華銀南松山","0081108","華銀南松山",null,null,null,null,null,"0091111","花蓮港務局郵局"]
["仁愛路分行","華銀仁愛","0081119","華銀仁愛",null,null,null,null,null,"0091125","秀林和平郵局"]
["南京東路分行","華銀南京東","0081120","華銀南京東",null,null,null,null,null,"0091139","花蓮中華路郵局"]
["新生分行","華銀新生","0081131","華銀新生",null,null,null,null,null,"0091142","花蓮富國路郵局"]
["大同分行","華銀大同","0081142","華銀大同",null,null,null,null,null,"0091156","壽豐郵局"]
["松山分行","華銀松山","0081153","華銀松山",null,null,null,null,null,"0091160","壽豐豐田郵局"]
["中崙分行","華銀中崙","0081164","華銀中崙",null,null,null,null,null,"0091173","壽豐志學郵局"]
["臺北南門分行","華銀南門","0081175","華銀南門",null,null,null,null,null,"0091187","吉安宜昌郵局"]
["公館分行","華銀公館","0081186","華銀公館",null,null,null,null,null,"0091191","花蓮中山路郵局"]
["信義分行","華銀信義","0081197","華銀信義",null,null,null,null,null,"0091202","花蓮師院郵局"]
["忠孝東路分行","華銀忠孝","0081201","華銀忠孝",null,null,null,null,null,"0091216","吉安太昌郵局"]
["和平分行","華銀和平","0081212","華銀和平",null,null,null,null,null,"0091220","鳳林郵局"]
["雙園分行","華銀雙園","0081223","華銀雙園",null,null,null,null,null,"0091233","鳳林萬榮郵局"]
["士林分行","華銀士林","0081234","華銀士林",null,null,null,null,null,"0091247","鳳林林榮郵局"]
["東台北分行","華銀東台北","0081245","華銀東台北",null,null,null,null,null,"0091251","光復郵局"]
["大安分行","華銀大安","0081256","華銀大安",null,null,null,null,null,"0091278","豐濱郵局"]
["民生分行","華銀民生","0081267","華銀民生",null,null,null,null,null,"0091281","光復富田郵局"]
["復興分行","華銀復興","0081278","華銀復興",null,null,null,null,null,"0091295","瑞穗郵局"]
["龍江分行","華銀龍江","0081289","華銀龍江",null,null,null,null,null,"0091307","瑞穗富源郵局"]
["永吉分行","華銀永吉","0081290","華銀永吉",null,null,null,null,null,"0091311","玉里郵局"]
["敦化分行","華銀敦化","0081304","華銀敦化",null,null,null,null,null,"0091324","玉里泰昌郵局"]
["忠興分行","華銀忠興","0081315","華銀忠興",null,null,null,null,null,"0091338","卓溪郵局"]
["大直分行","華銀大直","0081326","華銀大直",null,null,null,null,null,"0091341","玉里三民郵局"]
["敦和分行","華銀敦和","0081337","華銀敦和",null,null,null,null,null,"0091355","玉里新興郵局"]
["東湖分行","華銀東湖","0081348","華銀東湖",null,null,null,null,null,"0091369","富里郵局"]
["東興分行","華銀東興","0081360","華銀東興",null,null,null,null,null,"0091372","富里東里郵局"]
["北南港分行","華銀北南港","0081371","華銀北南港",null,null,null,null,null,"0091386","花蓮空軍基地郵局"]
["企業大樓辦事處","華銀企業辦","0081429","華銀企業辦",null,null,null,null,null,"0091390","壽豐東華大學郵局"]
["南內湖分行","華銀南內湖","0081430","華銀南內湖",null,null,null,null,null,"0111000","宜蘭中山路郵局"]
["長安分行","華銀長安","0081452","華銀長安",null,null,null,null,null,"0111013","宜蘭金六結郵局"]
["懷生分行","華銀懷生","0081474","華銀懷生",null,null,null,null,null,"0111027","宜蘭渭水路郵局"]
["中華路分行","華銀中華路","0081485","華銀中華路",null,null,null,null,null,"0111031","員山郵局"]
["信維分行","華銀信維","0081496","華銀信維",null,null,null,null,null,"0111044","員山內城郵局"]
["延吉分行（客戶移撥忠孝東路分行服務）","華銀延吉","0081500","華銀延吉",null,null,null,null,null,"0111058","宜蘭西後街郵局"]
["埔墘分行","華銀埔墘","0081511","華銀埔墘",null,null,null,null,null,"0111061","壯圍郵局"]
["石牌分行","華銀石牌","0081522","華銀石牌",null,null,null,null,null,"0111089","宜蘭東港路郵局"]
["瑞祥分行","華銀瑞祥","0081533","華銀瑞祥",null,null,null,null,null,"0111092","宜蘭大坡路郵局"]
["台大分行","華銀台大","0081544","華銀台大",null,null,null,null,null,"0111104","宜蘭大學郵局"]
["世貿分行","華銀世貿","0081566","華銀世貿",null,null,null,null,null,"0111118","頭城郵局"]
["萬華分行","華銀萬華","0081577","華銀萬華",null,null,null,null,null,"0111121","頭城大溪港郵局"]
["南港分行","華銀南港","0081588","華銀南港",null,null,null,null,null,"0111135","頭城頂埔郵局"]
["華江分行","華銀華江","0081599","華銀華江",null,null,null,null,null,"0111149","礁溪郵局"]
["板橋分行","華銀板橋","0081603","華銀板橋",null,null,null,null,null,"0111152","礁溪四城郵局"]
["三重分行","華銀三重","0081614","華銀三重",null,null,null,null,null,"0111166","礁溪湯仔城郵局"]
["北三重分行","華銀北三重","0081625","華銀北三重",null,null,null,null,null,"0111170","宜蘭縣政府郵局"]
["新莊分行","華銀新莊","0081636","華銀新莊",null,null,null,null,null,"0111183","蘇澳郵局"]
["永和分行","華銀永和","0081647","華銀永和",null,null,null,null,null,"0111197","蘇澳南方澳郵局"]
["中和分行","華銀中和","0081658","華銀中和",null,null,null,null,null,"0111209","蘇澳港邊里郵局"]
["新店分行","華銀新店","0081669","華銀新店",null,null,null,null,null,"0111212","蘇澳馬賽郵局"]
["淡水分行","華銀淡水","0081670","華銀淡水",null,null,null,null,null,"0111226","蘇澳蘇西里郵局"]
["汐止分行","華銀汐止","0081681","華銀汐止",null,null,null,null,null,"0111230","蘇澳東澳路郵局"]
["南永和分行","華銀南永和","0081692","華銀南永和",null,null,null,null,null,"0111243","南澳郵局"]
["西三重分行","華銀西三重","0081706","華銀西三重",null,null,null,null,null,"0111257","羅東郵局"]
["南三重分行","華銀南三重","0081717","華銀南三重",null,null,null,null,null,"0111261","五結二結郵局"]
["雙和分行","華銀雙和","0081728","華銀雙和",null,null,null,null,null,"0111274","冬山郵局"]
["新泰分行","華銀新泰","0081739","華銀新泰",null,null,null,null,null,"0111288","羅東南門郵局"]
["二重分行","華銀二重","0081740","華銀二重",null,null,null,null,null,"0111291","羅東大同路郵局"]
["板新分行","華銀板新","0081751","華銀板新",null,null,null,null,null,"0111303","五結郵局"]
["五股分行","華銀五股","0081762","華銀五股",null,null,null,null,null,"0111317","冬山群英郵局"]
["北投分行","華銀北投","0081784","華銀北投",null,null,null,null,null,"0111321","五結利澤郵局"]
["西湖分行","華銀西湖","0081795","華銀西湖",null,null,null,null,null,"0111334","羅東西門郵局"]
["積穗分行","華銀積穗","0081809","華銀積穗",null,null,null,null,null,"0111348","羅東竹林郵局"]
["三和分行（客戶移撥北三重分行服務）","華銀三和","0081810","華銀三和",null,null,null,null,null,"0111351","三星郵局"]
["福和分行","華銀福和","0081821","華銀福和",null,null,null,null,null,"0111365","大同郵局"]
["南勢角分行","華銀南勢角","0081832","華銀南勢角",null,null,null,null,null,"0121006","桃園成功路郵局"]
["北蘆洲分行","華銀北蘆洲","0081843","華銀北蘆洲",null,null,null,null,null,"0121010","龜山大崗郵局"]
["蘆洲分行","華銀蘆洲","0081854","華銀蘆洲",null,null,null,null,null,"0121023","八德大湳郵局"]
["土城分行","華銀土城","0081865","華銀土城",null,null,null,null,null,"0121037","八德郵局"]
["北新分行","華銀北新","0081876","華銀北新",null,null,null,null,null,"0121041","桃園民生路郵局"]
["天母分行","華銀天母","0081898","華銀天母",null,null,null,null,null,"0121054","龜山郵局"]
["內湖分行","華銀內湖","0081902","華銀內湖",null,null,null,null,null,"0121068","龜山民安街郵局"]
["樹林分行","華銀樹林","0081913","華銀樹林",null,null,null,null,null,"0121071","桃園南門郵局"]
["樟樹灣分行","華銀樟樹灣","0081924","華銀樟樹灣",null,null,null,null,null,"0121085","桃園大樹林郵局"]
["泰山分行","華銀泰山","0081935","華銀泰山",null,null,null,null,null,"0121099","蘆竹郵局"]
["三峽分行","華銀三峽","0081946","華銀三峽",null,null,null,null,null,"0121101","桃園茄苳郵局"]
["文山分行","華銀文山","0081957","華銀文山",null,null,null,null,null,"0121114","桃園東埔郵局"]
["鶯歌分行","華銀鶯歌","0081968","華銀鶯歌",null,null,null,null,null,"0121128","桃園中路郵局"]
["北新莊分行","華銀北新莊","0081979","華銀北新莊",null,null,null,null,null,"0121131","桃園水汴頭郵局"]
["北土城分行","華銀北土城","0081980","華銀北土城",null,null,null,null,null,"0121145","桃園福林郵局"]
["林口站前分行","華銀林口站","0081991","華銀林口站",null,null,null,null,null,"0121159","桃園永安郵局"]
["基隆分行","華銀基隆","0082002","華銀基隆",null,null,null,null,null,"0121162","桃園桃鶯郵局"]
["基隆港口分行","華銀港口","0082013","華銀港口",null,null,null,null,null,"0121176","龜山樂善郵局"]
["七堵分行","華銀七堵","0082116","華銀七堵",null,null,null,null,null,"0121180","八德更寮腳郵局"]
["羅東分行","華銀羅東","0082208","華銀羅東",null,null,null,null,null,"0121193","龜山迴龍郵局"]
["宜蘭分行","華銀宜蘭","0082219","華銀宜蘭",null,null,null,null,null,"0121205","桃園大業郵局"]
["桃園分行","華銀桃園","0082404","華銀桃園",null,null,null,null,null,"0121219","桃園府前郵局"]
["中壢分行","華銀中壢","0082415","華銀中壢",null,null,null,null,null,"0121222","八德高城郵局"]
["楊梅分行","華銀楊梅","0082426","華銀楊梅",null,null,null,null,null,"0121236","桃園建國郵局"]
["壢昌分行","華銀壢昌","0082437","華銀壢昌",null,null,null,null,null,"0121240","八德麻園郵局"]
["北桃園分行","華銀北桃園","0082448","華銀北桃園",null,null,null,null,null,"0121253","龜山文化郵局"]
["南崁分行","華銀南崁","0082459","華銀南崁",null,null,null,null,null,"0121267","蘆竹山腳郵局"]
["平鎮分行","華銀平鎮","0082460","華銀平鎮",null,null,null,null,null,"0121271","蘆竹大竹郵局"]
["八德分行","華銀八德","0082471","華銀八德",null,null,null,null,null,"0121284","龜山誠園郵局"]
["龜山分行","華銀龜山","0082482","華銀龜山",null,null,null,null,null,"0121298","蘆竹錦興郵局"]
["龍潭分行","華銀龍潭","0082493","華銀龍潭",null,null,null,null,null,"0121300","桃園慈文郵局"]
["大溪分行","華銀大溪","0082507","華銀大溪",null,null,null,null,null,"0121313","大園郵局"]
["內壢分行","華銀內壢","0082518","華銀內壢",null,null,null,null,null,"0121327","大園埔心街郵局"]
["林口分行","華銀林口","0082529","華銀林口",null,null,null,null,null,"0121331","大園&#33747;林郵局"]
["觀音分行","華銀觀音","0082600","華銀觀音",null,null,null,null,null,"0121344","大園航勤北路郵局"]
["中正分行","華銀中正","0082611","華銀中正",null,null,null,null,null,"0121358","臺灣桃園國際機場郵局"]
["大園分行","華銀大園","0082622","華銀大園",null,null,null,null,null,"0121361","龜山長庚大學郵局"]
["觀音分行文化辦事處（客戶由觀音分行服務）華銀文化辦",null,"0082633",null,null,null,null,null,null,"0121375","大溪郵局"]
["觀音分行富源辦事處（客戶由觀音分行服務）華銀富源辦",null,"0082644",null,null,null,null,null,null,"0121389","蘆竹光明郵局"]
["觀音分行崙坪辦事處（客戶由觀音分行服務）華銀崙坪辦",null,"0082655",null,null,null,null,null,null,"0121392","復興郵局"]
["新竹分行","華銀新竹","0083009","華銀新竹",null,null,null,null,null,"0121404","大溪僑愛郵局"]
["竹東分行","華銀竹東","0083010","華銀竹東",null,null,null,null,null,"0121418","大溪崎頂郵局"]
["竹科分行","華銀竹科","0083021","華銀竹科",null,null,null,null,null,"0121421","大溪員樹林郵局"]
["新豐分行","華銀新豐","0083102","華銀新豐",null,null,null,null,null,"0121435","大溪南興郵局"]
["新豐分行員山辦事處（客戶由新豐分行服務）華銀員山辦",null,"0083113",null,null,null,null,null,null,"0281001","中壢建國路郵局"]
["新豐分行後湖辦事處（客戶由新豐分行服務）華銀後湖辦",null,"0083124",null,null,null,null,null,null,"0281015","中壢普仁郵局"]
["六家分行","華銀六家","0083135","華銀六家",null,null,null,null,null,"0281029","中壢內壢郵局"]
["竹南分行","華銀竹南","0083205","華銀竹南",null,null,null,null,null,"0281032","中壢龍東路郵局"]
["頭份分行","華銀頭份","0083216","華銀頭份",null,null,null,null,null,"0281046","中壢龍岡郵局"]
["苗栗分行","華銀苗栗","0083227","華銀苗栗",null,null,null,null,null,"0281050","觀音新坡郵局"]
["竹北分行","華銀竹北","0083238","華銀竹北",null,null,null,null,null,"0281063","平鎮廣明郵局"]
["大眾分行","華銀大眾","0083515","華銀大眾",null,null,null,null,null,"0281077","中壢自立郵局"]
["豐原分行","華銀豐原","0084006","華銀豐原",null,null,null,null,null,"0281081","平鎮郵局"]
["東勢分行","華銀東勢","0084017","華銀東勢",null,null,null,null,null,"0281094","中央大學郵局"]
["清水分行","華銀清水","0084028","華銀清水",null,null,null,null,null,"0281106","觀音郵局"]
["西豐原分行","華銀西豐原","0084039","華銀西豐原",null,null,null,null,null,"0281110","中壢忠義郵局"]
["台中分行","華銀台中","0084202","華銀台中",null,null,null,null,null,"0281123","中原大學郵局"]
["台中民族路分行","華銀民族","0084213","華銀民族",null,null,null,null,null,"0281137","中壢興國郵局"]
["南台中分行","華銀南台中","0084224","華銀南台中",null,null,null,null,null,"0281141","平鎮山仔頂郵局"]
["北台中分行","華銀北台中","0084235","華銀北台中",null,null,null,null,null,"0281154","中壢華勛郵局"]
["台中港路分行","華銀台中港","0084246","華銀台中港",null,null,null,null,null,"0281168","中壢東興郵局"]
["大里分行","華銀大里","0084257","華銀大里",null,null,null,null,null,"0281171","平鎮北勢郵局"]
["水湳分行","華銀水湳","0084268","華銀水湳",null,null,null,null,null,"0281185","中壢仁美郵局"]
["五權分行","華銀五權","0084279","華銀五權",null,null,null,null,null,"0281199","中壢南園郵局"]
["大甲分行","華銀大甲","0084291","華銀大甲",null,null,null,null,null,"0281201","中壢頂壢郵局"]
["太平分行","華銀太平","0084305","華銀太平",null,null,null,null,null,"0281214","中壢志廣郵局"]
["中科分行","華銀中科","0084316","華銀中科",null,null,null,null,null,"0281228","平鎮金陵郵局"]
["沙鹿分行","華銀沙鹿","0084512","華銀沙鹿",null,null,null,null,null,"0281231","新屋永安郵局"]
["草屯分行","華銀草屯","0085003","華銀草屯",null,null,null,null,null,"0281245","觀音工業區郵局"]
["南投分行","華銀南投","0085014","華銀南投",null,null,null,null,null,"0281259","新屋郵局"]
["彰化分行","華銀彰化","0085209","華銀彰化",null,null,null,null,null,"0281262","中壢環北郵局"]
["和美分行","華銀和美","0085210","華銀和美",null,null,null,null,null,"0281276","平鎮高雙郵局"]
["員林分行","華銀員林","0085221","華銀員林",null,null,null,null,null,"0281280","中壢大崙郵局"]
["鹿港分行","華銀鹿港","0085232","華銀鹿港",null,null,null,null,null,"0281293","平鎮南勢郵局"]
["溪湖分行","華銀溪湖","0085243","華銀溪湖",null,null,null,null,null,"0281305","龍潭郵局"]
["斗六分行","華銀斗六","0085405","華銀斗六",null,null,null,null,null,"0281319","龍潭大平郵局"]
["虎尾分行","華銀虎尾","0085416","華銀虎尾",null,null,null,null,null,"0281322","龍潭石門水庫郵局"]
["西螺分行","華銀西螺","0085427","華銀西螺",null,null,null,null,null,"0281336","桃園客家文化館郵局"]
["北港分行","華銀北港","0085438","華銀北港",null,null,null,null,null,"0281340","龍潭中興郵局"]
["嘉義分行","華銀嘉義","0086000","華銀嘉義",null,null,null,null,null,"0281353","龍潭新新郵局"]
["嘉南分行","華銀嘉南","0086011","華銀嘉南",null,null,null,null,null,"0281367","龍潭烏林郵局"]
["朴子分行","華銀朴子","0086022","華銀朴子",null,null,null,null,null,"0281371","龍潭核研所郵局"]
["新營分行","華銀新營","0086206","華銀新營",null,null,null,null,null,"0281384","龍潭南龍郵局"]
["麻豆分行","華銀麻豆","0086217","華銀麻豆",null,null,null,null,null,"0281398","龍潭高原郵局"]
["永康分行","華銀永康","0086228","華銀永康",null,null,null,null,null,"0281400","楊梅郵局"]
["台南分行","華銀台南","0086402","華銀台南",null,null,null,null,null,"0281413","楊梅大同郵局"]
["赤崁分行","華銀赤崁","0086413","華銀赤崁",null,null,null,null,null,"0281427","楊梅富岡郵局"]
["東台南分行","華銀東台南","0086424","華銀東台南",null,null,null,null,null,"0281431","楊梅埔心里郵局"]
["西台南分行","華銀西台南","0086435","華銀西台南",null,null,null,null,null,"0281444","楊梅幼工郵局"]
["北台南分行","華銀北台南","0086446","華銀北台南",null,null,null,null,null,"0281458","觀音草漯郵局"]
["南都分行","華銀南都","0086457","華銀南都",null,null,null,null,null,"0281461","楊梅高榮郵局"]
["安南分行","華銀安南","0086468","華銀安南",null,null,null,null,null,"0281475","楊梅光華郵局"]
["仁德分行","華銀仁德","0086479","華銀仁德",null,null,null,null,null,"0281489","楊梅秀才郵局"]
["新市分行","華銀新市","0086480","華銀新市",null,null,null,null,null,"0281492","楊梅瑞塘郵局"]
["金華分行","華銀金華","0086815","華銀金華",null,null,null,null,null,"0191001","新營中山路郵局"]
["高雄分行","華銀高雄","0087007","華銀高雄",null,null,null,null,null,"0191014","新營新進路郵局"]
["東苓分行","華銀東苓","0087018","華銀東苓",null,null,null,null,null,"0191028","新營民治路郵局"]
["新興分行","華銀新興","0087029","華銀新興",null,null,null,null,null,"0191031","柳營郵局"]
["高雄三民分行","華銀三民","0087030","華銀三民",null,null,null,null,null,"0191045","新營民生郵局"]
["苓雅分行","華銀苓雅","0087041","華銀苓雅",null,null,null,null,null,"0191059","後壁郵局"]
["前鎮分行","華銀前鎮","0087052","華銀前鎮",null,null,null,null,null,"0191062","後壁菁寮郵局"]
["高雄博愛分行","華銀博愛","0087063","華銀博愛",null,null,null,null,null,"0191076","鹽水郵局"]
["南高雄分行","華銀南高雄","0087074","華銀南高雄",null,null,null,null,null,"0191080","新營太子宮郵局"]
["東高雄分行","華銀東高雄","0087085","華銀東高雄",null,null,null,null,null,"0191093","後壁安溪寮郵局"]
["大昌分行","華銀大昌","0087096","華銀大昌",null,null,null,null,null,"0191105","鹽水茄苳腳郵局"]
["北高雄分行","華銀北高雄","0087100","華銀北高雄",null,null,null,null,null,"0191119","下營郵局"]
["楠梓分行","華銀楠梓","0087111","華銀楠梓",null,null,null,null,null,"0191122","六甲郵局"]
["左營分行","華銀左營","0087122","華銀左營",null,null,null,null,null,"0191136","白河郵局"]
["岡山分行","華銀岡山","0087199","華銀岡山",null,null,null,null,null,"0191140","東山郵局"]
["鳳山分行","華銀鳳山","0087203","華銀鳳山",null,null,null,null,null,"0191153","白河內角郵局"]
["路竹分行","華銀路竹","0087214","華銀路竹",null,null,null,null,null,"0191167","白河仙草埔郵局"]
["仁武分行","華銀仁武","0087225","華銀仁武",null,null,null,null,null,"0191171","東山東原郵局"]
["大順分行（客戶移撥大昌分行服務）","華銀大順","0087502","華銀大順",null,null,null,null,null,"0191184","柳營重溪郵局"]
["籬仔內分行","華銀籬仔內","0087513","華銀籬仔內",null,null,null,null,null,"0191198","下營中營郵局"]
["五甲分行","華銀五甲","0087524","華銀五甲",null,null,null,null,null,"0191200","新化郵局"]
["光華分行","華銀光華","0087535","華銀光華",null,null,null,null,null,"0191213","山上郵局"]
["小港分行","華銀小港","0087605","華銀小港",null,null,null,null,null,"0191227","左鎮郵局"]
["小港分行高松辦事處","華銀高松辦","0087616","華銀高松辦",null,null,null,null,null,"0191231","新化中山路郵局"]
["二苓分行","華銀二苓","0087627","華銀二苓",null,null,null,null,null,"0191244","玉井郵局"]
["大林蒲分行","華銀大林蒲","0087638","華銀大林蒲",null,null,null,null,null,"0191258","楠西郵局"]
["小港分行海汕辦事處","華銀海汕辦","0087649","華銀海汕辦",null,null,null,null,null,"0191261","曾文水庫郵局"]
["高雄桂林分行","華銀桂林","0087650","華銀桂林",null,null,null,null,null,"0191275","南化郵局"]
["屏東分行","華銀屏東","0088004","華銀屏東",null,null,null,null,null,"0191289","佳里郵局"]
["內埔分行","華銀內埔","0088015","華銀內埔",null,null,null,null,null,"0191292","將軍郵局"]
["潮州分行","華銀潮州","0088026","華銀潮州",null,null,null,null,null,"0191304","西港郵局"]
["竹田分行","華銀竹田","0088107","華銀竹田",null,null,null,null,null,"0191318","七股郵局"]
["竹田分行西勢辦事處","華銀西勢辦","0088118","華銀西勢辦",null,null,null,null,null,"0191321","佳里佳里興郵局"]
["竹田分行大明辦事處","華銀大明辦","0088129","華銀大明辦",null,null,null,null,null,"0191335","佳里中山路郵局"]
["佳冬分行","華銀佳冬","0088130","華銀佳冬",null,null,null,null,null,"0191349","北門郵局"]
["佳冬分行昌隆辦事處（客戶由佳冬分行服務）華銀昌隆辦",null,"0088141",null,null,null,null,null,null,"0191352","學甲郵局"]
["佳冬分行玉光辦事處（客戶由佳冬分行服務）華銀玉光辦",null,"0088152",null,null,null,null,null,null,"0191366","麻豆郵局"]
["佳冬分行羌園辦事處（客戶由佳冬分行服務）華銀羌園辦",null,"0088163",null,null,null,null,null,null,"0191370","麻豆總爺郵局"]
["花蓮分行","華銀花蓮","0088200","華銀花蓮",null,null,null,null,null,"0191383","麻豆新生郵局"]
["台東分行","華銀台東","0088303","華銀台東",null,null,null,null,null,"0191397","善化郵局"]
["總行營業部","彰銀營","0092200","彰銀營",null,null,null,null,null,"0191409","大內郵局"]
["吉林分行","彰銀吉林","0093003","彰銀吉林",null,null,null,null,null,"0191412","善化成功郵局"]
["城內分行","彰銀城內","0093010","彰銀城內",null,null,null,null,null,"0191426","新市大營郵局"]
["北台中分行","彰銀北台中","0094004","彰銀北台中",null,null,null,null,null,"0191430","善化溪美郵局"]
["南台中分行","彰銀南台中","0094011","彰銀南台中",null,null,null,null,null,"0191443","安定郵局"]
["北屯分行","彰銀北屯","0094028","彰銀北屯",null,null,null,null,null,"0191457","善化亞蔬郵局"]
["水湳分行","彰銀水湳","0094035","彰銀水湳",null,null,null,null,null,"0191461","新市郵局"]
["南屯分行","彰銀南屯","0094042","彰銀南屯",null,null,null,null,null,"0191474","官田隆田郵局"]
["台中分行","彰銀台中","0094059","彰銀台中",null,null,null,null,null,"0191488","官田營區郵局"]
["基隆分行","彰銀基隆","0094108","彰銀基隆",null,null,null,null,null,"0191491","官田工業區郵局"]
["仁愛分行","彰銀仁愛","0094115","彰銀仁愛",null,null,null,null,null,"0191503","新市南科園區郵局"]
["東基隆分行","彰銀東基隆","0094122","彰銀東基隆",null,null,null,null,null,"0191517","善化中山路郵局"]
["宜蘭分行","彰銀宜蘭","0094202","彰銀宜蘭",null,null,null,null,null,"0241006","馬公中正路郵局"]
["羅東分行","彰銀羅東","0094219","彰銀羅東",null,null,null,null,null,"0241010","馬公東文郵局"]
["北門分行","彰銀北門","0095005","彰銀北門",null,null,null,null,null,"0241023","西嶼郵局"]
["台北分行","彰銀台北","0095012","彰銀台北",null,null,null,null,null,"0241037","望安郵局"]
["萬華分行","彰銀萬華","0095029","彰銀萬華",null,null,null,null,null,"0241041","七美郵局"]
["西門分行","彰銀西門","0095036","彰銀西門",null,null,null,null,null,"0241054","白沙郵局"]
["永樂分行","彰銀永樂","0095043","彰銀永樂",null,null,null,null,null,"0241068","馬公中華路郵局"]
["建成分行","彰銀建成","0095050","彰銀建成",null,null,null,null,null,"0241071","湖西郵局"]
["大同分行","彰銀大同","0095067","彰銀大同",null,null,null,null,null,"0241085","馬公鎖港郵局"]
["承德分行","彰銀承德","0095074","彰銀承德",null,null,null,null,null,"0241099","湖西隘門郵局"]
["中山北路分行","彰銀中山北","0095081","彰銀中山北",null,null,null,null,null,"0261009","台東大同路郵局"]
["東門分行","彰銀東門","0095109","彰銀東門",null,null,null,null,null,"0261012","蘭嶼郵局"]
["古亭分行","彰銀古亭","0095116","彰銀古亭",null,null,null,null,null,"0261026","台東新生郵局"]
["五分埔分行","彰銀五分埔","0095123","彰銀五分埔",null,null,null,null,null,"0261030","綠島郵局"]
["大安分行","彰銀大安","0095130","彰銀大安",null,null,null,null,null,"0261043","台東中山路郵局"]
["城東分行","彰銀城東","0095147","彰銀城東",null,null,null,null,null,"0261057","台東博愛路郵局"]
["中崙分行","彰銀中崙","0095154","彰銀中崙",null,null,null,null,null,"0261061","台東卑南郵局"]
["雙園分行","彰銀雙園","0095161","彰銀雙園",null,null,null,null,null,"0261074","東河都蘭郵局"]
["士林分行","彰銀士林","0095178","彰銀士林",null,null,null,null,null,"0261088","延平郵局"]
["總部分行","彰銀總部","0095185","彰銀總部",null,null,null,null,null,"0261091","台東知本郵局"]
["松山分行","彰銀松山","0095192","彰銀松山",null,null,null,null,null,"0261103","鹿野郵局"]
["忠孝東路分行","彰銀忠孝東","0095203","彰銀忠孝東",null,null,null,null,null,"0261117","台東豐田郵局"]
["信義分行","彰銀信義","0095210","彰銀信義",null,null,null,null,null,"0261121","卑南初鹿郵局"]
["東台北分行","彰銀東台北","0095227","彰銀東台北",null,null,null,null,null,"0261134","太麻里郵局"]
["民生分行","彰銀民生","0095234","彰銀民生",null,null,null,null,null,"0261148","金峰金崙郵局"]
["西松分行","彰銀西松","0095241","彰銀西松",null,null,null,null,null,"0261165","台東馬蘭郵局"]
["復興分行","彰銀復興","0095258","彰銀復興",null,null,null,null,null,"0261179","台東豐榮郵局"]
["台北世貿中心分行","彰銀世貿","0095265","彰銀世貿",null,null,null,null,null,"0261182","關山郵局"]
["敦化分行","彰銀敦化","0095272","彰銀敦化",null,null,null,null,null,"0261196","海端郵局"]
["建國分行","彰銀建國","0095289","彰銀建國",null,null,null,null,null,"0261208","池上郵局"]
["內湖分行","彰銀內湖","0095296","彰銀內湖",null,null,null,null,null,"0261211","成功郵局"]
["天母分行","彰銀天母","0095307","彰銀天母",null,null,null,null,null,"0261225","長濱郵局"]
["中正分行","彰銀中正","0095314","彰銀中正",null,null,null,null,null,"0261239","東河泰源郵局"]
["仁和分行","彰銀仁和","0095321","彰銀仁和",null,null,null,null,null,"0261242","大武郵局"]
["永春分行","彰銀永春","0095338","彰銀永春",null,null,null,null,null,"0261256","達仁郵局"]
["光隆分行","彰銀光隆","0095345","彰銀光隆",null,null,null,null,null,"0261260","鹿野瑞源郵局"]
["木柵分行","彰銀木柵","0095352","彰銀木柵",null,null,null,null,null,"0261273","台東東方大鎮郵局"]
["新湖分行","彰銀新湖","0095369","彰銀新湖",null,null,null,null,null,"0291008","苗栗中苗郵局"]
["東湖分行","彰銀東湖","0095376","彰銀東湖",null,null,null,null,null,"0291011","苗栗大坪頂郵局"]
["南港科學園區分行","彰銀南港科","0095383","彰銀南港科",null,null,null,null,null,"0291025","頭屋郵局"]
["北投分行","彰銀北投","0095390","彰銀北投",null,null,null,null,null,"0291039","苗栗北苗郵局"]
["和平分行","彰銀和平","0095401","彰銀和平",null,null,null,null,null,"0291042","苗栗南苗郵局"]
["龍潭分行","彰銀龍潭","0095425","彰銀龍潭",null,null,null,null,null,"0291056","西湖郵局"]
["汐科分行","彰銀汐科","0095432","彰銀汐科",null,null,null,null,null,"0291060","苗栗文山郵局"]
["新樹分行","彰銀新樹","0095456","彰銀新樹",null,null,null,null,null,"0291073","苗栗福星郵局"]
["立德分行","彰銀立德","0095463","彰銀立德",null,null,null,null,null,"0291087","苗栗嘉盛郵局"]
["泰山分行","彰銀泰山","0095470","彰銀泰山",null,null,null,null,null,"0291091","公館郵局"]
["五股工業區分行","彰銀五工","0095487","彰銀五工",null,null,null,null,null,"0291102","公館鶴岡郵局"]
["南新莊分行","彰銀南新莊","0095494","彰銀南新莊",null,null,null,null,null,"0291116","銅鑼郵局"]
["三重埔分行","彰銀三重埔","0095505","彰銀三重埔",null,null,null,null,null,"0291120","苗栗府前郵局"]
["北三重埔分行","彰銀北三重","0095512","彰銀北三重",null,null,null,null,null,"0291133","後龍郵局"]
["新店分行","彰銀新店","0095529","彰銀新店",null,null,null,null,null,"0291147","通霄郵局"]
["永和分行","彰銀永和","0095536","彰銀永和",null,null,null,null,null,"0291151","通霄白沙屯郵局"]
["瑞芳分行","彰銀瑞芳","0095543","彰銀瑞芳",null,null,null,null,null,"0291164","大湖郵局"]
["新莊分行","彰銀新莊","0095550","彰銀新莊",null,null,null,null,null,"0291178","獅潭郵局"]
["樹林分行","彰銀樹林","0095567","彰銀樹林",null,null,null,null,null,"0291181","泰安郵局"]
["板橋分行","彰銀板橋","0095574","彰銀板橋",null,null,null,null,null,"0291195","三義郵局"]
["三峽分行","彰銀三峽","0095581","彰銀三峽",null,null,null,null,null,"0291207","苑裡郵局"]
["福和分行","彰銀福和","0095598","彰銀福和",null,null,null,null,null,"0291211","苑裡山腳郵局"]
["光復分行","彰銀光復","0095609","彰銀光復",null,null,null,null,null,"0291224","苑裡社苓郵局"]
["東三重分行","彰銀東三重","0095616","彰銀東三重",null,null,null,null,null,"0291238","竹南郵局"]
["北新分行","彰銀北新","0095623","彰銀北新",null,null,null,null,null,"0291241","造橋郵局"]
["南三重分行","彰銀南三重","0095630","彰銀南三重",null,null,null,null,null,"0291255","竹南中港郵局"]
["中和分行","彰銀中和","0095647","彰銀中和",null,null,null,null,null,"0291269","竹南科學園郵局"]
["西三重分行","彰銀西三重","0095654","彰銀西三重",null,null,null,null,null,"0291272","造橋大西郵局"]
["汐止分行","彰銀汐止","0095661","彰銀汐止",null,null,null,null,null,"0291286","竹南照南郵局"]
["雙和分行","彰銀雙和","0095678","彰銀雙和",null,null,null,null,null,"0291290","頭份郵局"]
["淡水分行","彰銀淡水","0095685","彰銀淡水",null,null,null,null,null,"0291301","頭份斗煥郵局"]
["楊梅分行","彰銀楊梅","0095692","彰銀楊梅",null,null,null,null,null,"0291315","三灣郵局"]
["桃園分行","彰銀桃園","0095703","彰銀桃園",null,null,null,null,null,"0291329","頭份田寮郵局"]
["中壢分行","彰銀中壢","0095710","彰銀中壢",null,null,null,null,null,"0291332","頭份上公園郵局"]
["新竹分行","彰銀新竹","0095727","彰銀新竹",null,null,null,null,null,"0291346","南庄郵局"]
["竹東分行","彰銀竹東","0095734","彰銀竹東",null,null,null,null,null,"0291350","頭份尖山郵局"]
["苗栗分行","彰銀苗栗","0095741","彰銀苗栗",null,null,null,null,null,"0291363","頭份蟠桃郵局"]
["新竹科學園區分行","彰銀新竹科","0095758","彰銀新竹科",null,null,null,null,null,"0291377","卓蘭郵局"]
["北中壢分行","彰銀北中壢","0095765","彰銀北中壢",null,null,null,null,null,"0301008","斗六西平路郵局"]
["八德分行","彰銀八德","0095772","彰銀八德",null,null,null,null,null,"0301011","莿桐郵局"]
["竹南分行","彰銀竹南","0095789","彰銀竹南",null,null,null,null,null,"0301025","斗六大崙郵局"]
["南崁分行","彰銀南崁","0095796","彰銀南崁",null,null,null,null,null,"0301039","斗六石榴郵局"]
["苑裡分行","彰銀苑裡","0095807","彰銀苑裡",null,null,null,null,null,"0301042","斗六鎮北郵局"]
["大甲分行","彰銀大甲","0095814","彰銀大甲",null,null,null,null,null,"0301056","斗六永安郵局"]
["清水分行","彰銀清水","0095821","彰銀清水",null,null,null,null,null,"0301060","莿桐饒平郵局"]
["豐原分行","彰銀豐原","0095838","彰銀豐原",null,null,null,null,null,"0301073","林內郵局"]
["東勢分行","彰銀東勢","0095845","彰銀東勢",null,null,null,null,null,"0301087","古坑郵局"]
["霧峰分行","彰銀霧峰","0095852","彰銀霧峰",null,null,null,null,null,"0301091","古坑東和郵局"]
["南豐分行","彰銀南豐","0095869","彰銀南豐",null,null,null,null,null,"0301102","古坑草嶺郵局"]
["沙鹿分行","彰銀沙鹿","0095876","彰銀沙鹿",null,null,null,null,null,"0301116","斗南郵局"]
["太平分行","彰銀太平","0095890","彰銀太平",null,null,null,null,null,"0301120","大埤郵局"]
["草屯分行","彰銀草屯","0095901","彰銀草屯",null,null,null,null,null,"0301133","斗南石龜郵局"]
["南投分行","彰銀南投","0095918","彰銀南投",null,null,null,null,null,"0301147","斗南新光郵局"]
["埔里分行","彰銀埔里","0095925","彰銀埔里",null,null,null,null,null,"0301151","西螺郵局"]
["水裡坑分行","彰銀水裡坑","0095932","彰銀水裡坑",null,null,null,null,null,"0301164","西螺埔心郵局"]
["竹山分行","彰銀竹山","0095949","彰銀竹山",null,null,null,null,null,"0301178","虎尾郵局"]
["大肚分行","彰銀大肚","0095963","彰銀大肚",null,null,null,null,null,"0301181","虎尾圓環郵局"]
["竹北分行","彰銀竹北","0095987","彰銀竹北",null,null,null,null,null,"0301195","虎尾安慶郵局"]
["彰化分行","彰銀彰化","0096006","彰銀彰化",null,null,null,null,null,"0301207","二崙郵局"]
["鹿港分行","彰銀鹿港","0096013","彰銀鹿港",null,null,null,null,null,"0301211","二崙油車郵局"]
["員林分行","彰銀員林","0096020","彰銀員林",null,null,null,null,null,"0301224","虎尾科技大學郵局"]
["溪湖分行","彰銀溪湖","0096037","彰銀溪湖",null,null,null,null,null,"0301238","土庫郵局"]
["北斗分行","彰銀北斗","0096044","彰銀北斗",null,null,null,null,null,"0301241","土庫馬光郵局"]
["西螺分行","彰銀西螺","0096051","彰銀西螺",null,null,null,null,null,"0301255","崙背郵局"]
["和美分行","彰銀和美","0096068","彰銀和美",null,null,null,null,null,"0301269","麥寮郵局"]
["大里分行","彰銀大里","0096075","彰銀大里",null,null,null,null,null,"0301272","台西郵局"]
["二林分行","彰銀二林","0096099","彰銀二林",null,null,null,null,null,"0301286","褒忠郵局"]
["斗六分行","彰銀斗六","0096100","彰銀斗六",null,null,null,null,null,"0301290","東勢厝郵局"]
["斗南分行","彰銀斗南","0096117","彰銀斗南",null,null,null,null,null,"0301301","麥寮工業區郵局"]
["虎尾分行","彰銀虎尾","0096124","彰銀虎尾",null,null,null,null,null,"0301315","麥寮橋頭郵局"]
["北港分行","彰銀北港","0096131","彰銀北港",null,null,null,null,null,"0301329","北港郵局"]
["大林分行","彰銀大林","0096204","彰銀大林",null,null,null,null,null,"0301332","北港南陽郵局"]
["嘉義分行","彰銀嘉義","0096211","彰銀嘉義",null,null,null,null,null,"0301346","北港北辰郵局"]
["東嘉義分行","彰銀東嘉義","0096228","彰銀東嘉義",null,null,null,null,null,"0301350","水林郵局"]
["新營分行","彰銀新營","0096235","彰銀新營",null,null,null,null,null,"0301363","口湖郵局"]
["永康分行","彰銀永康","0096242","彰銀永康",null,null,null,null,null,"0301377","口湖&#26924;梧郵局"]
["南科樹谷分行","彰銀南科","0096259","彰銀南科",null,null,null,null,null,"0301381","四湖郵局"]
["歸仁分行","彰銀歸仁","0096266","彰銀歸仁",null,null,null,null,null,"0301394","元長郵局"]
["台南分行","彰銀台南","0096402","彰銀台南",null,null,null,null,null,"0311004","板橋文化路郵局"]
["延平分行","彰銀延平","0096419","彰銀延平",null,null,null,null,null,"0311018","板橋大觀路郵局"]
["西台南分行","彰銀西台南","0096426","彰銀西台南",null,null,null,null,null,"0311021","土城郵局"]
["東台南分行","彰銀東台南","0096433","彰銀東台南",null,null,null,null,null,"0311035","板橋後埔郵局"]
["南台南分行","彰銀南台南","0096440","彰銀南台南",null,null,null,null,null,"0311049","板橋埔墘郵局"]
["安南分行","彰銀安南","0096457","彰銀安南",null,null,null,null,null,"0311066","板橋莒光郵局"]
["旗山分行","彰銀旗山","0096506","彰銀旗山",null,null,null,null,null,"0311070","板橋站前郵局"]
["岡山分行","彰銀岡山","0096513","彰銀岡山",null,null,null,null,null,"0311083","板橋民族路郵局"]
["鳳山分行","彰銀鳳山","0096520","彰銀鳳山",null,null,null,null,null,"0311097","板橋中正路郵局"]
["高雄分行","彰銀高雄","0098119","彰銀高雄",null,null,null,null,null,"0311109","土城工業區郵局"]
["七賢分行","彰銀七賢","0098126","彰銀七賢",null,null,null,null,null,"0311126","板橋南雅郵局"]
["鹽埕分行","彰銀鹽埕","0098133","彰銀鹽埕",null,null,null,null,null,"0311130","土城清水郵局"]
["東高雄分行","彰銀東高雄","0098140","彰銀東高雄",null,null,null,null,null,"0311143","板橋國慶郵局"]
["南高雄分行","彰銀南高雄","0098157","彰銀南高雄",null,null,null,null,null,"0311157","板橋新海郵局"]
["北高雄分行","彰銀北高雄","0098164","彰銀北高雄",null,null,null,null,null,"0311161","板橋八甲郵局"]
["三民分行","彰銀三民","0098171","彰銀三民",null,null,null,null,null,"0311174","板橋光復橋郵局"]
["前鎮分行","彰銀前鎮","0098195","彰銀前鎮",null,null,null,null,null,"0311188","板橋海山郵局"]
["九如路分行","彰銀九如路","0098206","彰銀九如路",null,null,null,null,null,"0311191","板橋港尾郵局"]
["新興分行","彰銀新興","0098213","彰銀新興",null,null,null,null,null,"0311203","土城貨饒郵局"]
["苓雅分行","彰銀苓雅","0098220","彰銀苓雅",null,null,null,null,null,"0311217","板橋江翠郵局"]
["大順分行","彰銀大順","0098237","彰銀大順",null,null,null,null,null,"0311234","板橋漢生郵局"]
["博愛分行","彰銀博愛","0098244","彰銀博愛",null,null,null,null,null,"0311248","板橋三民路郵局"]
["左營分行","彰銀左營","0098251","彰銀左營",null,null,null,null,null,"0311265","板橋浮洲郵局"]
["屏東分行","彰銀屏東","0098300","彰銀屏東",null,null,null,null,null,"0311279","土城青雲郵局"]
["東港分行","彰銀東港","0098317","彰銀東港",null,null,null,null,null,"0311282","土城平和郵局"]
["潮州分行","彰銀潮州","0098324","彰銀潮州",null,null,null,null,null,"0311296","土城學府郵局"]
["恆春分行","彰銀恆春","0098348","彰銀恆春",null,null,null,null,null,"0311308","新北市政府郵局"]
["花蓮分行","彰銀花蓮","0098404","彰銀花蓮",null,null,null,null,null,"0311311","板橋溪崑郵局"]
["台東分行","彰銀台東","0098508","彰銀台東",null,null,null,null,null,"0311325","三峽郵局"]
["思源分行","彰銀思源","0099269","彰銀思源",null,null,null,null,null,"0311339","三峽大埔郵局"]
["土城分行","彰銀土城","0099283","彰銀土城",null,null,null,null,null,"0311342","三峽中山郵局"]
["北桃園分行","彰銀北桃園","0099290","彰銀北桃園",null,null,null,null,null,"0311356","三峽橫溪郵局"]
["新明分行","彰銀新明","0099301","彰銀新明",null,null,null,null,null,"0311360","台北大學郵局"]
["埔心分行","彰銀埔心","0099318","彰銀埔心",null,null,null,null,null,"0311373","鶯歌郵局"]
["西屯分行","彰銀西屯","0099332","彰銀西屯",null,null,null,null,null,"0311387","鶯歌鳳鳴郵局"]
["大發分行","彰銀大發","0099349","彰銀大發",null,null,null,null,null,"0311391","鶯歌二橋郵局"]
["東林口分行","彰銀東林口","0099356","彰銀東林口",null,null,null,null,null,"0311402","鶯歌永昌郵局"]
["土庫分行","彰銀土庫","0099523","彰銀土庫",null,null,null,null,null,"0311416","新店郵局"]
["路竹分行","彰銀路竹","0099547","彰銀路竹",null,null,null,null,null,"0311420","新店頂城郵局"]
["蘇澳分行","彰銀蘇澳","0099554","彰銀蘇澳",null,null,null,null,null,"0311433","新店龜山郵局"]
["北台南分行","彰銀北台南","0099561","彰銀北台南",null,null,null,null,null,"0311447","新店五城郵局"]
["潭子分行","彰銀潭子","0099603","彰銀潭子",null,null,null,null,null,"0311451","新店大坪林郵局"]
["北嘉義分行","彰銀北嘉義","0099610","彰銀北嘉義",null,null,null,null,null,"0311464","新店青潭郵局"]
["北新竹分行","彰銀北新竹","0099627","彰銀北新竹",null,null,null,null,null,"0311478","新店公崙郵局"]
["建興分行","彰銀建興","0099634","彰銀建興",null,null,null,null,null,"0311481","新店檳榔路郵局"]
["三和路分行","彰銀三和","0099641","彰銀三和",null,null,null,null,null,"0311495","新店復興郵局"]
["吉成分行","彰銀吉成","0099658","彰銀吉成",null,null,null,null,null,"0311507","新店中央郵局"]
["林口分行","彰銀林口","0099689","彰銀林口",null,null,null,null,null,"0311511","坪林郵局"]
["江翠分行","彰銀江翠","0099696","彰銀江翠",null,null,null,null,null,"0311524","新店中正郵局"]
["長安東路分行","彰銀長安","0099714","彰銀長安",null,null,null,null,null,"0311538","新店寶橋郵局"]
["晴光分行","彰銀晴光","0099721","彰銀晴光",null,null,null,null,null,"0311541","新店十四份郵局"]
["大直分行","彰銀大直","0099738","彰銀大直",null,null,null,null,null,"0311555","烏來郵局"]
["松江分行","彰銀松江","0099752","彰銀松江",null,null,null,null,null,"0311569","新店永安郵局"]
["西內湖分行","彰銀西內湖","0099790","彰銀西內湖",null,null,null,null,null,"0311572","新店雙城郵局"]
["南港分行","彰銀南港","0099801","彰銀南港",null,null,null,null,null,"0311586","新店碧潭郵局"]
["中港分行","彰銀中港","0099818","彰銀中港",null,null,null,null,null,"0311590","新店屈尺郵局"]
["蘆洲分行","彰銀蘆洲","0099832","彰銀蘆洲",null,null,null,null,null,"0311601","新店水尾郵局"]
["中華路分行","彰銀中華路","0099849","彰銀中華路",null,null,null,null,null,"0311615","新店五峰郵局"]
["營業部","上銀營","0110026","上銀營",null,null,null,null,null,"0311629","新店中華路郵局"]
["儲蓄部","上銀儲","0110037","上銀儲",null,null,null,null,null,"0311632","新店玫瑰城郵局"]
["高雄分行","上銀高雄","0110048","上銀高雄",null,null,null,null,null,"0311646","永和郵局"]
["城中分行","上銀城中","0110060","上銀城中",null,null,null,null,null,"0311650","永和福和郵局"]
["台中分行","上銀台中","0110082","上銀台中",null,null,null,null,null,"0311663","永和永貞郵局"]
["東台北分行","上銀東台北","0110093","上銀東台北",null,null,null,null,null,"0311677","永和中正路郵局"]
["台南分行","上銀台南","0110107","上銀台南",null,null,null,null,null,"0311681","永和秀朗郵局"]
["桃園分行","上銀桃園","0110118","上銀桃園",null,null,null,null,null,"0311694","永和中山路郵局"]
["北高雄分行","上銀北高雄","0110129","上銀北高雄",null,null,null,null,null,"0311706","永和永安郵局"]
["三重分行","上銀三重","0110130","上銀三重",null,null,null,null,null,"0311710","中和郵局"]
["板橋分行","上銀板橋","0110141","上銀板橋",null,null,null,null,null,"0311723","中和泰和街郵局"]
["永和分行","上銀永和","0110152","上銀永和",null,null,null,null,null,"0311737","中和中山路郵局"]
["員林分行","上銀員林","0110163","上銀員林",null,null,null,null,null,"0311741","中和南勢角郵局"]
["信義分行","上銀信義","0110185","上銀信義",null,null,null,null,null,"0311754","中和連城路郵局"]
["民生分行","上銀民生","0110196","上銀民生",null,null,null,null,null,"0311768","中和中正路郵局"]
["忠孝分行","上銀忠孝","0110200","上銀忠孝",null,null,null,null,null,"0311771","中和秀山郵局"]
["龍山分行","上銀龍山","0110211","上銀龍山",null,null,null,null,null,"0311785","中和民富街郵局"]
["內湖分行","上銀內湖","0110222","上銀內湖",null,null,null,null,null,"0311799","中和宜安郵局"]
["中山分行","上銀中山","0110233","上銀中山",null,null,null,null,null,"0311801","中和國光街郵局"]
["仁愛分行","上銀仁愛","0110244","上銀仁愛",null,null,null,null,null,"0311814","中和大華郵局"]
["新莊分行","上銀新莊","0110255","上銀新莊",null,null,null,null,null,"0311828","樹林郵局"]
["中壢分行","上銀中壢","0110266","上銀中壢",null,null,null,null,null,"0311831","樹林山佳郵局"]
["松山分行","上銀松山","0110288","上銀松山",null,null,null,null,null,"0311845","樹林迴龍郵局"]
["新店分行","上銀新店","0110299","上銀新店",null,null,null,null,null,"0311859","樹林鎮前街郵局"]
["前金分行","上銀前金","0110303","上銀前金",null,null,null,null,null,"0311862","樹林育英街郵局"]
["松南分行","上銀松南","0110314","上銀松南",null,null,null,null,null,"0311876","樹林柑園郵局"]
["蘆洲分行","上銀蘆洲","0110325","上銀蘆洲",null,null,null,null,null,"0311880","樹林樹新路郵局"]
["中和分行","上銀中和","0110336","上銀中和",null,null,null,null,null,"0311893","樹林中正路郵局"]
["新竹分行","上銀新竹","0110347","上銀新竹",null,null,null,null,null,"0311905","樹林大同郵局"]
["中港分行","上銀中港","0110358","上銀中港",null,null,null,null,null,"0311919","樹林三多郵局"]
["士林分行","上銀士林","0110369","上銀士林",null,null,null,null,null,"0311922","中和興南郵局"]
["東台南分行","上銀東台南","0110370","上銀東台南",null,null,null,null,null,"0401005","南投三和郵局"]
["永康分行","上銀永康","0110381","上銀永康",null,null,null,null,null,"0401019","中寮郵局"]
["北三重分行","上銀北三重","0110392","上銀北三重",null,null,null,null,null,"0401022","南投三興郵局"]
["南京東路分行","上銀南京東","0110406","上銀南京東",null,null,null,null,null,"0401036","南投南崗郵局"]
["大里分行","上銀大里","0110417","上銀大里",null,null,null,null,null,"0401040","中寮龍安郵局"]
["土城分行","上銀土城","0110428","上銀土城",null,null,null,null,null,"0401053","南投民族路郵局"]
["世貿分行","上銀世貿","0110439","上銀世貿",null,null,null,null,null,"0401067","南投中山街郵局"]
["承德分行","上銀承德","0110440","上銀承德",null,null,null,null,null,"0401071","南投中興郵局"]
["汐止分行","上銀汐止","0110451","上銀汐止",null,null,null,null,null,"0401084","南投光明里郵局"]
["屏東分行","上銀屏東","0110462","上銀屏東",null,null,null,null,null,"0401098","集集郵局"]
["三民分行","上銀三民","0110473","上銀三民",null,null,null,null,null,"0401100","草屯郵局"]
["華江分行","上銀華江","0110484","上銀華江",null,null,null,null,null,"0401113","草屯大觀郵局"]
["豐原分行","上銀豐原","0110495","上銀豐原",null,null,null,null,null,"0401127","草屯碧山郵局"]
["鳳山分行","上銀鳳山","0110509","上銀鳳山",null,null,null,null,null,"0401131","水里郵局"]
["天母分行","上銀天母","0110510","上銀天母",null,null,null,null,null,"0401144","水里北埔郵局"]
["樹林分行","上銀樹林","0110521","上銀樹林",null,null,null,null,null,"0401158","信義郵局"]
["基隆分行","上銀基隆","0110532","上銀基隆",null,null,null,null,null,"0401161","信義和社郵局"]
["楊梅分行","上銀楊梅","0110543","上銀楊梅",null,null,null,null,null,"0401175","名間郵局"]
["內湖科技園區分行","上銀內科","0110554","上銀內科",null,null,null,null,null,"0401189","名間松嶺郵局"]
["北中和分行","上銀北中和","0110565","上銀北中和",null,null,null,null,null,"0401192","名間新街郵局"]
["西湖分行","上銀西湖","0110576","上銀西湖",null,null,null,null,null,"0401204","名間大庄郵局"]
["二重分行","上銀二重","0110598","上銀二重",null,null,null,null,null,"0401218","草屯南埔郵局"]
["延平分行","上銀延平","0110602","上銀延平",null,null,null,null,null,"0401221","竹山郵局"]
["南崁分行","上銀南崁","0110613","上銀南崁",null,null,null,null,null,"0401235","鹿谷郵局"]
["南港分行","上銀南港","0110624","上銀南港",null,null,null,null,null,"0401249","竹山後埔郵局"]
["北新竹分行","上銀北新竹","0110635","上銀北新竹",null,null,null,null,null,"0401252","竹山東埔蚋郵局"]
["宜蘭分行","上銀宜蘭","0110657","上銀宜蘭",null,null,null,null,null,"0401266","竹山延和郵局"]
["文山分行","上銀文山","0110668","上銀文山",null,null,null,null,null,"0401270","鹿谷清水郵局"]
["敦北分行","上銀敦北","0110680","上銀敦北",null,null,null,null,null,"0401283","埔里郵局"]
["東高雄分行","上銀東高雄","0110691","上銀東高雄",null,null,null,null,null,"0401297","仁愛霧社郵局"]
["竹北分行","上銀竹北","0110705","上銀竹北",null,null,null,null,null,"0401309","埔里北平街郵局"]
["松江分行","上銀松江","0110716","上銀松江",null,null,null,null,null,"0401312","埔里崎下郵局"]
["中科分行","上銀中科","0110727","上銀中科",null,null,null,null,null,"0401326","仁愛萬大郵局"]
["觀音分行","上銀觀音","0110738","上銀觀音",null,null,null,null,null,"0401330","埔里大坪頂郵局"]
["北桃園分行","上銀北桃園","0110749","上銀北桃園",null,null,null,null,null,"0401343","埔里第三市場郵局"]
["丹鳳分行","上銀丹鳳","0110750","上銀丹鳳",null,null,null,null,null,"0401357","埔里中心碑郵局"]
["北新莊分行","上銀北新莊","0110761","上銀北新莊",null,null,null,null,null,"0401361","埔里南光郵局"]
["南屯分行","上銀南屯","0110772","上銀南屯",null,null,null,null,null,"0401374","魚池郵局"]
["營業部","北富銀營","0122009","北富銀營",null,null,null,null,null,"0401388","日月潭郵局"]
["長安東路分行","北富銀長東","0122032","北富銀長東",null,null,null,null,null,"0401391","魚池頭社郵局"]
["公庫部","北富銀公庫","0122102","北富銀公庫",null,null,null,null,null,"0401403","國姓郵局"]
["城東分行","北富銀城東","0122205","北富銀城東",null,null,null,null,null,"0401417","國姓北山郵局"]
["農安分行","北富銀農安","0122216","北富銀農安",null,null,null,null,null,"0401421","國姓長流郵局"]
["士林分行","北富銀士林","0123006","北富銀士林",null,null,null,null,null,"2441007","三重中山路郵局"]
["士東分行","北富銀士東","0123017","北富銀士東",null,null,null,null,null,"2441011","三重正義郵局"]
["瑞光分行","北富銀瑞光","0123028","北富銀瑞光",null,null,null,null,null,"2441024","三重忠孝路郵局"]
["玉成分行","北富銀玉成","0123039","北富銀玉成",null,null,null,null,null,"2441038","三重二重埔郵局"]
["福港分行","北富銀福港","0123040","北富銀福港",null,null,null,null,null,"2441041","三重溪尾街郵局"]
["忠孝分行","北富銀忠孝","0123051","北富銀忠孝",null,null,null,null,null,"2441055","三重中興橋郵局"]
["承德分行","北富銀承德","0123062","北富銀承德",null,null,null,null,null,"2441069","三重中正路郵局"]
["龍江分行","北富銀龍江","0123073","北富銀龍江",null,null,null,null,null,"2441072","三重介壽路郵局"]
["延平分行","北富銀延平","0123109","北富銀延平",null,null,null,null,null,"2441090","三重永興郵局"]
["木柵分行","北富銀木柵","0123202","北富銀木柵",null,null,null,null,null,"2441101","三重五常郵局"]
["木新分行","北富銀木新","0123213","北富銀木新",null,null,null,null,null,"2441115","林口中正路郵局"]
["龍山分行","北富銀龍山","0123305","北富銀龍山",null,null,null,null,null,"2441129","林口台師大郵局"]
["八德分行","北富銀八德","0123408","北富銀八德",null,null,null,null,null,"2441132","林口國宅郵局"]
["永春分行","北富銀永春","0123419","北富銀永春",null,null,null,null,null,"2441146","林口中湖頭郵局"]
["永吉分行","北富銀永吉","0123420","北富銀永吉",null,null,null,null,null,"2441150","蘆洲郵局"]
["中山分行","北富銀中山","0123501","北富銀中山",null,null,null,null,null,"2441163","蘆洲空大郵局"]
["北投分行","北富銀北投","0123604","北富銀北投",null,null,null,null,null,"2441177","蘆洲中山路郵局"]
["石牌分行","北富銀石牌","0123615","北富銀石牌",null,null,null,null,null,"2441181","蘆洲光華路郵局"]
["大安分行","北富銀大安","0123707","北富銀大安",null,null,null,null,null,"2441194","蘆洲中原路郵局"]
["大同分行","北富銀大同","0123800","北富銀大同",null,null,null,null,null,"2441206","蘆洲民族路郵局"]
["古亭分行","北富銀古亭","0123903","北富銀古亭",null,null,null,null,null,"2441210","五股郵局"]
["雙園分行","北富銀雙園","0124003","北富銀雙園",null,null,null,null,null,"2441223","五股褒仔寮郵局"]
["萬華分行","北富銀萬華","0124014","北富銀萬華",null,null,null,null,null,"2441237","五股中興路郵局"]
["建成分行","北富銀建成","0124106","北富銀建成",null,null,null,null,null,"2441241","五股德音郵局"]
["市府分行","北富銀市府","0124117","北富銀市府",null,null,null,null,null,"2441254","八里郵局"]
["南港分行","北富銀南港","0124209","北富銀南港",null,null,null,null,null,"2441268","八里龍形郵局"]
["景美分行","北富銀景美","0124302","北富銀景美",null,null,null,null,null,"2441271","淡水郵局"]
["興隆分行","北富銀興隆","0124313","北富銀興隆",null,null,null,null,null,"2441285","淡江大學郵局"]
["內湖分行","北富銀內湖","0124405","北富銀內湖",null,null,null,null,null,"2441299","淡水竹圍郵局"]
["文德分行","北富銀文德","0124427","北富銀文德",null,null,null,null,null,"2441301","淡水水碓郵局"]
["敦化分行","北富銀敦化","0124508","北富銀敦化",null,null,null,null,null,"2441314","淡水中興郵局"]
["民生分行","北富銀民生","0124542","北富銀民生",null,null,null,null,null,"2441328","淡水義山郵局"]
["信義分行","北富銀信義","0124601","北富銀信義",null,null,null,null,null,"2441331","三芝郵局"]
["莊敬分行","北富銀莊敬","0124612","北富銀莊敬",null,null,null,null,null,"2441345","石門郵局"]
["新生簡易型分行","北富銀新生","0124623","北富銀新生",null,null,null,null,null,"2441359","淡水紅樹林郵局"]
["松江分行","北富銀松江","0124704","北富銀松江",null,null,null,null,null,"2441362","新莊郵局"]
["和平分行","北富銀和平","0124807","北富銀和平",null,null,null,null,null,"2441376","輔仁大學郵局"]
["延吉分行","北富銀延吉","0124900","北富銀延吉",null,null,null,null,null,"2441380","泰山郵局"]
["城中分行","北富銀城中","0125000","北富銀城中",null,null,null,null,null,"2441393","明志科大郵局"]
["南門分行","北富銀南門","0125103","北富銀南門",null,null,null,null,null,"2441405","新莊中港郵局"]
["復興分行","北富銀復興","0125206","北富銀復興",null,null,null,null,null,"2441419","新莊昌盛郵局"]
["西松分行","北富銀西松","0125309","北富銀西松",null,null,null,null,null,"2441422","新莊丹鳳郵局"]
["長安分行","北富銀長安","0125402","北富銀長安",null,null,null,null,null,"2441436","新莊化成路郵局"]
["桂林分行","北富銀桂林","0125505","北富銀桂林",null,null,null,null,null,"2441440","新莊幸福郵局"]
["敦和分行","北富銀敦和","0125701","北富銀敦和",null,null,null,null,null,"2441453","泰山南林郵局"]
["東門分行","北富銀東門","0125804","北富銀東門",null,null,null,null,null,"2441467","五股登林路郵局"]
["中崙分行","北富銀中崙","0125907","北富銀中崙",null,null,null,null,null,"2441471","泰山同榮郵局"]
["基隆路分行","北富基隆路","0126007","北富基隆路",null,null,null,null,null,"2441484","新莊西盛郵局"]
["金華分行","北富銀金華","0126100","北富銀金華",null,null,null,null,null,"2441498","新莊後港路郵局"]
["松南分行","北富銀松南","0126203","北富銀松南",null,null,null,null,null,"2441500","新莊思源路郵局"]
["懷生分行","北富銀懷生","0126214","北富銀懷生",null,null,null,null,null,"2441513","新莊新泰路郵局"]
["民權分行","北富銀民權","0126306","北富銀民權",null,null,null,null,null,"2441527","新莊龍鳳郵局"]
["吉林分行","北富銀吉林","0126409","北富銀吉林",null,null,null,null,null,"2441531","新莊五工郵局"]
["社子分行","北富銀社子","0126502","北富銀社子",null,null,null,null,null,"2441544","泰山貴子路郵局"]
["港都分行","北富銀港都","0126605","北富銀港都",null,null,null,null,null,"2441558","新莊民安郵局"]
["西湖分行","北富銀西湖","0126683","北富銀西湖",null,null,null,null,null,"2441561","林口郵局"]
["金城分行","北富銀金城","0126694","北富銀金城"]
["萬隆分行","北富銀萬隆","0126708","北富銀萬隆"]
["中港分行","北富銀中港","0126719","北富銀中港"]
["新莊分行","北富銀新莊","0126720","北富銀新莊"]
["桃園分行","北富銀桃園","0126731","北富銀桃園"]
["安平分行","北富銀安平","0126742","北富銀安平"]
["松隆簡易型分行","北富銀松隆","0126764","北富銀松隆"]
["埔墘分行","北富銀埔墘","0126775","北富銀埔墘"]
["北中壢分行","北富銀北中","0126786","北富銀北中"]
["三重分行","北富銀三重","0126797","北富銀三重"]
["豐原分行","北富銀豐原","0126801","北富銀豐原"]
["雙和分行","北富銀雙和","0126812","北富銀雙和"]
["鼓山分行","北富銀鼓山","0126823","北富銀鼓山"]
["風城分行","北富銀風城","0126845","北富銀風城"]
["彰化分行","北富銀彰化","0126856","北富銀彰化"]
["東湖分行","北富銀東湖","0126867","北富銀東湖"]
["永和分行","北富銀永和","0126878","北富銀永和"]
["岡山簡易型分行","北富銀岡山","0126889","北富銀岡山"]
["台北一０一分行","北富一０一","0126890","北富一０一"]
["雙連分行","北富銀雙連","0127015","北富銀雙連"]
["南京東路分行","北富銀南東","0127026","北富銀南東"]
["敦北分行","北富銀敦北","0127037","北富銀敦北"]
["仁愛分行","北富銀仁愛","0127048","北富銀仁愛"]
["高雄分行","北富銀高雄","0127059","北富銀高雄"]
["中正分行","北富銀中正","0127060","北富銀中正"]
["台中分行","北富銀台中","0127071","北富銀台中"]
["松山分行","北富銀松山","0127093","北富銀松山"]
["土城分行","北富銀土城","0127107","北富銀土城"]
["台南分行","北富銀台南","0127118","北富銀台南"]
["鳳山分行","北富銀鳳山","0127129","北富銀鳳山"]
["中壢分行","北富銀中壢","0127130","北富銀中壢"]
["安和分行","北富銀安和","0127152","北富銀安和"]
["正義分行","北富銀正義","0127163","北富銀正義"]
["大湳分行","北富銀大湳","0127174","北富銀大湳"]
["嘉義分行","北富銀嘉義","0127185","北富銀嘉義"]
["苓雅分行","北富銀苓雅","0127196","北富銀苓雅"]
["板橋分行","北富銀板橋","0127211","北富銀板橋"]
["北台中分行","北富銀北台","0127222","北富銀北台"]
["三民分行","北富銀三民","0127233","北富銀三民"]
["建國分行","北富銀建國","0127244","北富銀建國"]
["新竹分行","北富銀新竹","0127255","北富銀新竹"]
["新店分行","北富銀新店","0127266","北富銀新店"]
["天母分行","北富銀天母","0127277","北富銀天母"]
["汐止分行","北富銀汐止","0127288","北富銀汐止"]
["永康分行","北富銀永康","0127303","北富銀永康"]
["襄陽分行","北富銀襄陽","0127314","北富銀襄陽"]
["五股分行","北富銀五股","0127336","北富銀五股"]
["新營分行","北富銀新營","0127347","北富銀新營"]
["屏東分行","北富銀屏東","0127358","北富銀屏東"]
["前鎮分行","北富銀前鎮","0127369","北富銀前鎮"]
["敦南分行","北富銀敦南","0127370","北富銀敦南"]
["保生分行","北富銀保生","0127381","北富銀保生"]
["員林分行","北富銀員林","0127392","北富銀員林"]
["羅東分行","北富銀羅東","0127406","北富銀羅東"]
["瑞湖分行","北富銀瑞湖","0127417","北富銀瑞湖"]
["基和簡易型分行","北富銀基和","0127428","北富銀基和"]
["南昌簡易型分行","北富銀南昌","0127439","北富銀南昌"]
["花蓮簡易型分行","北富銀花蓮","0127451","北富銀花蓮"]
["竹北分行","北富銀竹北","0127462","北富銀竹北"]
["南台中分行","北富銀南台","0127473","北富銀南台"]
["博愛分行","北富銀博愛","0127484","北富銀博愛"]
["蘆洲分行","北富銀蘆洲","0127495","北富銀蘆洲"]
["華江分行","北富銀華江","0127509","北富銀華江"]
["大直分行","北富銀大直","0127510","北富銀大直"]
["樹林分行","北富銀樹林","0127521","北富銀樹林"]
["基隆分行","北富銀基隆","0127532","北富銀基隆"]
["竹科分行","北富銀竹科","0127543","北富銀竹科"]
["館前分行","國世館前","0130017","國世館前"]
["國外部","國世國外部","0130028","國世國外部"]
["南京東路分行","國世南京東","0130039","國世南京東"]
["高雄分行","國世高雄","0130051","國世高雄"]
["台中分行","國世台中","0130062","國世台中"]
["台北分行","國世台北","0130073","國世台北"]
["永和分行","國世永和","0130095","國世永和"]
["台南分行","國世台南","0130109","國世台南"]
["忠孝分行","國世忠孝","0130110","國世忠孝"]
["天母分行","國世天母","0130121","國世天母"]
["西台中分行","國世西台中","0130132","國世西台中"]
["東高雄分行","國世東高雄","0130143","國世東高雄"]
["信義分行","國世信義","0130154","國世信義"]
["光復分行","國世光復","0130165","國世光復"]
["板橋分行","國世板橋","0130176","國世板橋"]
["復興分行","國世復興","0130187","國世復興"]
["民權分行","國世民權","0130198","國世民權"]
["大安分行","國世大安","0130202","國世大安"]
["三重分行","國世三重","0130213","國世三重"]
["中壢分行","國世中壢","0130224","國世中壢"]
["員林分行","國世員林","0130235","國世員林"]
["新店分行","國世新店","0130246","國世新店"]
["新莊分行","國世新莊","0130257","國世新莊"]
["鳳山分行","國世鳳山","0130268","國世鳳山"]
["安和分行","國世安和","0130279","國世安和"]
["松江分行","國世松江","0130280","國世松江"]
["苓雅分行","國世苓雅","0130291","國世苓雅"]
["古亭分行","國世古亭","0130305","國世古亭"]
["建成分行","國世建成","0130316","國世建成"]
["東門分行","國世東門","0130327","國世東門"]
["桃園分行","國世桃園","0130349","國世桃園"]
["豐原分行","國世豐原","0130350","國世豐原"]
["嘉義分行","國世嘉義","0130361","國世嘉義"]
["松山分行","國世松山","0130372","國世松山"]
["前金分行","國世前金","0130383","國世前金"]
["北三重分行","國世北三重","0130394","國世北三重"]
["新竹分行","國世新竹","0130408","國世新竹"]
["永康分行","國世永康","0130419","國世永康"]
["中山分行","國世中山","0130420","國世中山"]
["埔墘分行","國世埔墘","0130431","國世埔墘"]
["新生分行","國世新生","0130442","國世新生"]
["中和分行","國世中和","0130453","國世中和"]
["清水分行","國世清水","0130464","國世清水"]
["彰化分行","國世彰化","0130475","國世彰化"]
["敦北分行","國世敦北","0130486","國世敦北"]
["中正分行","國世中正","0130497","國世中正"]
["五權分行","國世五權","0130501","國世五權"]
["東台南分行","國世東台南","0130512","國世東台南"]
["新興分行","國世新興","0130523","國世新興"]
["敦南分行","國世敦南","0130534","國世敦南"]
["後埔分行","國世後埔","0130545","國世後埔"]
["蘆洲分行","國世蘆洲","0130556","國世蘆洲"]
["西門分行","國世西門","0130567","國世西門"]
["三民分行","國世三民","0130578","國世三民"]
["前鎮分行","國世前鎮","0130590","國世前鎮"]
["土城分行","國世土城","0130604","國世土城"]
["南高雄分行","國世南高雄","0130615","國世南高雄"]
["大同分行","國世大同","0130626","國世大同"]
["成功分行","國世成功","0130637","國世成功"]
["中港分行","國世中港","0130648","國世中港"]
["世貿分行","國世世貿","0130659","國世世貿"]
["北桃園分行","國世北桃園","0130660","國世北桃園"]
["善化分行","國世善化","0130671","國世善化"]
["士林分行","國世士林","0130682","國世士林"]
["雙和分行","國世雙和","0130693","國世雙和"]
["二重分行","國世二重","0130707","國世二重"]
["花蓮分行","國世花蓮","0130729","國世花蓮"]
["內湖分行","國世內湖","0130730","國世內湖"]
["華江分行","國世華江","0130741","國世華江"]
["竹科分行","國世竹科","0130752","國世竹科"]
["南門分行","國世南門","0130763","國世南門"]
["八德分行","國世八德","0130774","國世八德"]
["永春分行","國世永春","0130785","國世永春"]
["萬華分行","國世萬華","0130796","國世萬華"]
["屏東分行","國世屏東","0131014","國世屏東"]
["台東分行","國世台東","0131025","國世台東"]
["文山分行","國世文山","0131036","國世文山"]
["新樹分行","國世新樹","0131047","國世新樹"]
["宜蘭分行","國世宜蘭","0131058","國世宜蘭"]
["南港分行","國世南港","0131069","國世南港"]
["斗六分行","國世斗六","0131070","國世斗六"]
["南投分行","國世南投","0131081","國世南投"]
["汐止分行","國世汐止","0131092","國世汐止"]
["大直分行","國世大直","0131106","國世大直"]
["左營分行","國世左營","0131117","國世左營"]
["新營分行","國世新營","0131128","國世新營"]
["大甲分行","國世大甲","0131139","國世大甲"]
["苗栗分行","國世苗栗","0131140","國世苗栗"]
["北投分行","國世北投","0131151","國世北投"]
["臨安分行","國世臨安","0131162","國世臨安"]
["幸福分行","國世幸福","0131173","國世幸福"]
["華山分行","國世華山","0131184","國世華山"]
["東湖分行","國世東湖","0131195","國世東湖"]
["岡山分行","國世岡山","0131209","國世岡山"]
["臨沂分行","國世臨沂","0131210","國世臨沂"]
["新湖分行","國世新湖","0131221","國世新湖"]
["中崙分行","國世中崙","0131232","國世中崙"]
["基隆分行","國世基隆","0131243","國世基隆"]
["樹林分行","國世樹林","0131254","國世樹林"]
["羅東分行","國世羅東","0131265","國世羅東"]
["淡水分行","國世淡水","0131276","國世淡水"]
["連城分行","國世連城","0131287","國世連城"]
["石牌分行","國世石牌","0131298","國世石牌"]
["南內湖分行","國世南內湖","0131302","國世南內湖"]
["景美分行","國世景美","0131313","國世景美"]
["大坪林分行","國世大坪林","0131324","國世大坪林"]
["丹鳳分行","國世丹鳳","0131335","國世丹鳳"]
["仁愛分行","國世仁愛","0132011","國世仁愛"]
["大昌分行","國世大昌","0132022","國世大昌"]
["民生分行","國世民生","0132033","國世民生"]
["篤行分行","國世篤行","0132044","國世篤行"]
["板東分行","國世板東","0132055","國世板東"]
["桃興分行","國世桃興","0132066","國世桃興"]
["逢甲分行","國世逢甲","0132077","國世逢甲"]
["彰泰分行","國世彰泰","0132088","國世彰泰"]
["嘉泰分行","國世嘉泰","0132099","國世嘉泰"]
["竹城分行","國世竹城","0132103","國世竹城"]
["忠誠分行","國世忠誠","0132114","國世忠誠"]
["敦化分行","國世敦化","0132125","國世敦化"]
["新泰分行","國世新泰","0132147","國世新泰"]
["文心分行","國世文心","0132158","國世文心"]
["福和分行","國世福和","0132169","國世福和"]
["四維分行","國世四維","0132170","國世四維"]
["營業部","國世營","0132181","國世營"]
["豐北分行","國世豐北","0132192","國世豐北"]
["重新分行","國世重新","0132206","國世重新"]
["北中壢分行","國世北中壢","0132217","國世北中壢"]
["城東分行","國世城東","0132228","國世城東"]
["建國分行","國世建國","0132239","國世建國"]
["學府分行","國世學府","0132251","國世學府"]
["北新分行","國世北新","0132262","國世北新"]
["信安分行","國世信安","0132273","國世信安"]
["文德分行","國世文德","0132295","國世文德"]
["中台中分行","國世中台中","0132321","國世中台中"]
["水湳分行","國世水湳","0132332","國世水湳"]
["市政分行","國世市政","0132343","國世市政"]
["東台中分行","國世東台中","0132354","國世東台中"]
["國光分行","國世國光","0132365","國世國光"]
["健行分行","國世健行","0132376","國世健行"]
["西屯分行","國世西屯","0132398","國世西屯"]
["南屯分行","國世南屯","0132402","國世南屯"]
["崇德分行","國世崇德","0132413","國世崇德"]
["北新竹分行","國世北新竹","0132446","國世北新竹"]
["香山分行","國世香山","0132457","國世香山"]
["竹北分行","國世竹北","0132468","國世竹北"]
["同德分行","國世同德","0132480","國世同德"]
["秀水簡易型分行","國世秀水簡","0132527","國世秀水簡"]
["彰美分行","國世彰美","0132549","國世彰美"]
["太平分行","國世太平","0132550","國世太平"]
["沙鹿分行","國世沙鹿","0132561","國世沙鹿"]
["大里分行","國世大里","0132583","國世大里"]
["文華簡易型分行","國世文華簡","0132608","國世文華簡"]
["大雅分行","國世大雅","0132619","國世大雅"]
["潭子簡易型分行","國世潭子簡","0132620","國世潭子簡"]
["光華分行","國世光華","0132631","國世光華"]
["西松分行","國世西松","0132642","國世西松"]
["蘭雅分行","國世蘭雅","0132653","國世蘭雅"]
["永平分行","國世永平","0132664","國世永平"]
["和平分行","國世和平","0132675","國世和平"]
["慶城分行","國世慶城","0132686","國世慶城"]
["瑞湖分行","國世瑞湖","0132697","國世瑞湖"]
["文昌分行","國世文昌","0132701","國世文昌"]
["正義分行","國世正義","0132712","國世正義"]
["新板分行","國世新板","0132723","國世新板"]
["永貞分行","國世永貞","0132734","國世永貞"]
["明誠分行","國世明誠","0132778","國世明誠"]
["營業部","高銀營","0161017","高銀營"]
["公庫部","高銀公","0161028","高銀公"]
["岡山本洲分行","高銀岡山","0161039","高銀岡山"]
["國外部","高銀國","0161040","高銀國"]
["信託部","高銀信","0161051","高銀信"]
["鳳山分行","高銀鳳山","0162003","高銀鳳山"]
["前金分行","高銀前金","0162025","高銀前金"]
["三民分行","高銀三民","0162036","高銀三民"]
["左營分行","高銀左營","0162081","高銀左營"]
["小港分行","高銀小港","0162106","高銀小港"]
["桃園分行","高銀桃園","0162117","高銀桃園"]
["前鎮分行","高銀前鎮","0162128","高銀前鎮"]
["右昌分行","高銀右昌","0162139","高銀右昌"]
["灣內分行","高銀灣內","0162140","高銀灣內"]
["屏東分行","高銀屏東","0162151","高銀屏東"]
["桂林分行","高銀桂林","0162162","高銀桂林"]
["六合分行","高銀六合","0162173","高銀六合"]
["楠梓分行","高銀楠梓","0162184","高銀楠梓"]
["鼓山分行","高銀鼓山","0162195","高銀鼓山"]
["建國分行","高銀建國","0162209","高銀建國"]
["九如分行","高銀九如","0162210","高銀九如"]
["鹽埕簡易型分行","高銀鹽埕簡","0162221","高銀鹽埕簡"]
["草衙分行","高銀草衙","0162232","高銀草衙"]
["板橋分行","高銀板橋","0162243","高銀板橋"]
["台南分行","高銀台南","0162254","高銀台南"]
["三多分行","高銀三多","0162265","高銀三多"]
["大發分行","高銀大發","0162276","高銀大發"]
["大直分行","高銀大直","0162287","高銀大直"]
["台中分行","高銀台中","0162298","高銀台中"]
["旗津簡易型分行","高銀旗津簡","0162313","高銀旗津簡"]
["南高雄分行","高銀南高雄","0162324","高銀南高雄"]
["大里分行","高銀大里","0162335","高銀大里"]
["新竹分行","高銀新竹","0162346","高銀新竹"]
["市府分行","高銀市府","0162357","高銀市府"]
["中和分行","高銀中和","0162379","高銀中和"]
["台北分行","高銀台北","0162380","高銀台北"]
["明誠分行","高銀明誠","0162405","高銀明誠"]
["北高雄分行","高銀北高雄","0162416","高銀北高雄"]
["博愛分行","高銀博愛","0162450","高銀博愛"]
["港都分行","兆豐銀港都","0170022","兆豐銀港都"]
["楠梓分行","兆豐銀楠梓","0170033","兆豐銀楠梓"]
["台中分行","兆豐銀台中","0170044","兆豐銀台中"]
["忠孝分行","兆豐銀忠孝","0170055","兆豐銀忠孝"]
["府城分行","兆豐銀府城","0170066","兆豐銀府城"]
["國外部","兆豐銀國外","0170077","兆豐銀國外"]
["台北復興分行","兆豐銀復興","0170088","兆豐銀復興"]
["財富管理處","兆豐銀財管","0170099","兆豐銀財管"]
["蘭雅分行","兆豐銀蘭雅","0170103","兆豐銀蘭雅"]
["財務部","兆豐銀財務","0170114","兆豐銀財務"]
["三重分行","兆豐銀三重","0170125","兆豐銀三重"]
["新興分行","兆豐銀新興","0170136","兆豐銀新興"]
["桃園分行","兆豐銀桃園","0170147","兆豐銀桃園"]
["中山分行","兆豐銀中山","0170158","兆豐銀中山"]
["高雄加工出口區分行","兆豐銀高加","0170169","兆豐銀高加"]
["城中分行","兆豐銀城中","0170170","兆豐銀城中"]
["北彰化分行","兆豐銀北彰","0170181","兆豐銀北彰"]
["安和分行","兆豐銀安和","0170192","兆豐銀安和"]
["竹科新安分行","兆豐銀新安","0170206","兆豐銀新安"]
["天母分行","兆豐銀天母","0170217","兆豐銀天母"]
["嘉義分行","兆豐銀嘉義","0170228","兆豐銀嘉義"]
["花蓮分行","兆豐銀花蓮","0170239","兆豐銀花蓮"]
["國際金融業務分行","兆豐銀國金","0170251","兆豐銀國金"]
["北新竹分行","兆豐銀北竹","0170262","兆豐銀北竹"]
["板南分行","兆豐銀板南","0170273","兆豐銀板南"]
["潭子分行","兆豐銀潭子","0170284","兆豐銀潭子"]
["桃園國際機場分行","兆豐銀桃機","0170295","兆豐銀桃機"]
["南台北分行","兆豐銀南北","0170309","兆豐銀南北"]
["敦南分行","兆豐銀敦南","0170310","兆豐銀敦南"]
["員林分行","兆豐銀員林","0170321","兆豐銀員林"]
["永和分行","兆豐銀永和","0170343","兆豐銀永和"]
["豐原分行","兆豐銀豐原","0170354","兆豐銀豐原"]
["民生分行","兆豐銀民生","0170365","兆豐銀民生"]
["北台中分行","兆豐銀北中","0170376","兆豐銀北中"]
["三多分行","兆豐銀三多","0170387","兆豐銀三多"]
["中壢分行","兆豐銀中壢","0170398","兆豐銀中壢"]
["三民分行","兆豐銀三民","0170402","兆豐銀三民"]
["新莊分行","兆豐銀新莊","0170413","兆豐銀新莊"]
["松南分行","兆豐銀松南","0170424","兆豐銀松南"]
["大同分行","兆豐銀大同","0170435","兆豐銀大同"]
["南台中分行","兆豐銀南中","0170446","兆豐銀南中"]
["鳳山分行","兆豐銀鳳山","0170457","兆豐銀鳳山"]
["新店分行","兆豐銀新店","0170468","兆豐銀新店"]
["東高雄分行","兆豐銀東高","0170479","兆豐銀東高"]
["信義分行","兆豐銀信義","0170480","兆豐銀信義"]
["基隆分行","兆豐銀基隆","0170491","兆豐銀基隆"]
["永康分行","兆豐銀永康","0170505","兆豐銀永康"]
["內湖分行","兆豐銀內湖","0170516","兆豐銀內湖"]
["岡山分行","兆豐銀岡山","0170527","兆豐銀岡山"]
["屏東分行","兆豐銀屏東","0170538","兆豐銀屏東"]
["松山機場分行","兆豐銀松山","0170550","兆豐銀松山"]
["土城分行","兆豐銀土城","0170561","兆豐銀土城"]
["大稻埕分行","兆豐銀大埕","0170572","兆豐銀大埕"]
["頭份分行","兆豐銀頭份","0170583","兆豐銀頭份"]
["苓雅分行","兆豐銀苓雅","0170594","兆豐銀苓雅"]
["沙鹿分行","兆豐銀沙鹿","0170608","兆豐銀沙鹿"]
["八德分行","兆豐銀八德","0170619","兆豐銀八德"]
["宜蘭分行","兆豐銀宜蘭","0170620","兆豐銀宜蘭"]
["斗六分行","兆豐銀斗六","0170631","兆豐銀斗六"]
["南投分行","兆豐銀南投","0170642","兆豐銀南投"]
["東台南分行","兆豐銀東南","0170653","兆豐銀東南"]
["高雄國際機場分行","兆豐銀高機","0170664","兆豐銀高機"]
["東內湖分行","兆豐銀東內","0170675","兆豐銀東內"]
["太平分行","兆豐銀太平","0170686","兆豐銀太平"]
["中和分行","兆豐銀中和","0170697","兆豐銀中和"]
["南京東路分行","兆豐銀南東","0170701","兆豐銀南東"]
["東台中分行","兆豐銀東中","0170712","兆豐銀東中"]
["北高雄分行","兆豐銀北高","0170723","兆豐銀北高"]
["南港分行","兆豐銀南港","0170745","兆豐銀南港"]
["竹南科學園區分行","兆豐銀竹南","0170756","兆豐銀竹南"]
["中科分行","兆豐銀中科","0170767","兆豐銀中科"]
["大甲分行","兆豐銀大甲","0170778","兆豐銀大甲"]
["林森簡易型分行","兆豐銀林森","0170789","兆豐銀林森"]
["金門分行","兆豐銀金門","0170790","兆豐銀金門"]
["南崁分行","兆豐銀南崁","0170804","兆豐銀南崁"]
["中鋼簡易型分行","兆豐銀中鋼","0170815","兆豐銀中鋼"]
["榮總分行","兆豐銀榮總","0170837","兆豐銀榮總"]
["駐外交部簡易型分行","兆豐銀外交","0170860","兆豐銀外交"]
["仁武簡易型分行","兆豐銀仁武","0171030","兆豐銀仁武"]
["高雄漁港簡易型分行","兆豐銀高港","0171166","兆豐銀高港"]
["金控總部分行","兆豐銀總部","0172015","兆豐銀總部"]
["台北分行","兆豐銀台北","0172026","兆豐銀台北"]
["新竹分行","兆豐銀新竹","0172037","兆豐銀新竹"]
["中台中分行","兆豐銀中台","0172048","兆豐銀中台"]
["高雄分行","兆豐銀高雄","0172059","兆豐銀高雄"]
["板橋分行","兆豐銀板橋","0172060","兆豐銀板橋"]
["桃興分行","兆豐銀桃興","0172071","兆豐銀桃興"]
["竹北分行","兆豐銀竹北","0172082","兆豐銀竹北"]
["敦化分行","兆豐銀敦化","0172107","兆豐銀敦化"]
["嘉興分行","兆豐銀嘉興","0172129","兆豐銀嘉興"]
["台南分行","兆豐銀台南","0172130","兆豐銀台南"]
["寶成分行","兆豐銀寶成","0172141","兆豐銀寶成"]
["竹科竹村分行","兆豐銀竹村","0172152","兆豐銀竹村"]
["世貿分行","兆豐銀世貿","0172163","兆豐銀世貿"]
["南三重分行","兆豐銀南重","0172196","兆豐銀南重"]
["南彰化分行","兆豐銀南彰","0172200","兆豐銀南彰"]
["城東分行","兆豐銀城東","0172266","兆豐銀城東"]
["五福分行","兆豐銀五福","0172277","兆豐銀五福"]
["羅東分行","兆豐銀羅東","0172288","兆豐銀羅東"]
["大安分行","兆豐銀大安","0172299","兆豐銀大安"]
["城北分行","兆豐銀城北","0172314","兆豐銀城北"]
["后里分行","兆豐銀后里","0172325","兆豐銀后里"]
["鹿港分行","兆豐銀鹿港","0172336","兆豐銀鹿港"]
["圓山分行","兆豐銀圓山","0172347","兆豐銀圓山"]
["思源分行","兆豐銀思源","0172358","兆豐銀思源"]
["北中壢分行","兆豐銀北壢","0172369","兆豐銀北壢"]
["內湖科學園區分行","兆豐銀內科","0172370","兆豐銀內科"]
["雙和分行","兆豐銀雙和","0172381","兆豐銀雙和"]
["衡陽分行","兆豐銀衡陽","0172406","兆豐銀衡陽"]
["大里分行","兆豐銀大里","0172417","兆豐銀大里"]
["台南科學園區分行","兆豐銀南科","0172428","兆豐銀南科"]
["營業部","農業金庫營","0180012","農業金庫營"]
["臺中分行","農金臺中","0180034","農金臺中"]
["高雄分行","農金高雄","0180045","農金高雄"]
["營業部","花旗台營業","0210018","花旗台營業"]
["高雄分行","花旗台高雄","0210030","花旗台高雄"]
["台中分行","花旗台台中","0210041","花旗台台中"]
["新竹分行","花旗台新竹","0210052","花旗台新竹"]
["台南分行","花旗台台南","0210063","花旗台台南"]
["桃園分行","花旗台桃園","0210074","花旗台桃園"]
["松江分行","花旗台松江","0210085","花旗台松江"]
["板橋分行","花旗台板橋","0210096","花旗台板橋"]
["文心分行","花旗台文心","0210100","花旗台文心"]
["信義分行","花旗台信義","0210111","花旗台信義"]
["天母分行","花旗台天母","0210122","花旗台天母"]
["建成分行","花旗台建成","0210133","花旗台建成"]
["中山分行","花旗台中山","0210144","花旗台中山"]
["城東分行","花旗台城東","0210155","花旗台城東"]
["永福分行","花旗台永福","0210166","花旗台永福"]
["港都分行","花旗台港都","0210177","花旗台港都"]
["中港分行","花旗台中港","0210188","花旗台中港"]
["襄陽分行","花旗台襄陽","0210199","花旗台襄陽"]
["復興分行","花旗台復興","0210203","花旗台復興"]
["新興分行","花旗台新興","0210214","花旗台新興"]
["基隆分行","花旗台基隆","0210225","花旗台基隆"]
["北桃園分行","花旗台北桃","0210236","花旗台北桃"]
["永和分行","花旗台永和","0210247","花旗台永和"]
["豐原分行","花旗台豐原","0210258","花旗台豐原"]
["民權分行","花旗台民權","0210269","花旗台民權"]
["府城分行","花旗台府城","0210270","花旗台府城"]
["苓雅分行","花旗台苓雅","0210281","花旗台苓雅"]
["松山分行","花旗台松山","0210292","花旗台松山"]
["三重分行","花旗台三重","0210306","花旗台三重"]
["員林分行","花旗台員林","0210317","花旗台員林"]
["士林分行","花旗台士林","0210328","花旗台士林"]
["板新分行","花旗台板新","0210339","花旗台板新"]
["中壢分行","花旗台中壢","0210340","花旗台中壢"]
["大安分行","花旗台大安","0210351","花旗台大安"]
["竹城分行","花旗台竹城","0210362","花旗台竹城"]
["嘉義分行","花旗台嘉義","0210373","花旗台嘉義"]
["北台中分行","花旗台北中","0210384","花旗台北中"]
["北高雄分行","花旗台北高","0210395","花旗台北高"]
["新莊分行","花旗台新莊","0210409","花旗台新莊"]
["民生分行","花旗台民生","0210410","花旗台民生"]
["彰化分行","花旗台彰化","0210421","花旗台彰化"]
["鳳山分行","花旗台鳳山","0210432","花旗台鳳山"]
["新店分行","花旗台新店","0210443","花旗台新店"]
["仁德分行","花旗台仁德","0210454","花旗台仁德"]
["高美館分行","花旗台高美","0210465","花旗台高美"]
["南京分行","花旗台南京","0210476","花旗台南京"]
["屏東分行","花旗台屏東","0210487","花旗台屏東"]
["清水分行","花旗台清水","0210498","花旗台清水"]
["中正分行","花旗台中正","0210502","花旗台中正"]
["永康分行","花旗台永康","0210513","花旗台永康"]
["羅東分行","花旗台羅東","0210524","花旗台羅東"]
["敦化分行","花旗台敦化","0210535","花旗台敦化"]
["中和分行","花旗台中和","0210546","花旗台中和"]
["大里分行","花旗台大里","0210557","花旗台大里"]
["岡山分行","花旗台岡山","0210568","花旗台岡山"]
["內湖分行","花旗台內湖","0210579","花旗台內湖"]
["南港分行","花旗台南港","0210580","花旗台南港"]
["北港分行","花旗台北港","0210591","花旗台北港"]
["斗六分行","花旗台斗六","0210627","花旗台斗六"]
["樹林分行","花旗台樹林","0210638","花旗台樹林"]
["麥寮分行","花旗台麥寮","0210649","花旗台麥寮"]
["土城分行","花旗台土城","0210650","花旗台土城"]
["竹科分行","花旗台竹科","0210661","花旗台竹科"]
["營業部","澳盛營業部","0390019","澳盛營業部"]
["高雄分行","澳盛高雄","0390020","澳盛高雄"]
["松山分行","澳盛松山","0390053","澳盛松山"]
["台中分行","澳盛台中","0390064","澳盛台中"]
["板橋分行","澳盛板橋","0390075","澳盛板橋"]
["竹北分行","澳盛竹北","0390123","澳盛竹北"]
["北屯分行","澳盛北屯","0390167","澳盛北屯"]
["鳳山分行","澳盛鳳山","0390190","澳盛鳳山"]
["彰化分行","澳盛彰化","0390204","澳盛彰化"]
["信義分行","澳盛信義","0390260","澳盛信義"]
["北高雄分行","澳盛北高雄","0390330","澳盛北高雄"]
["台南分行","澳盛台南","0390341","澳盛台南"]
["松江分行","澳盛松江","0390400","澳盛松江"]
["桃園分行","澳盛桃園","0390411","澳盛桃園"]
["企業金融部","開發企金部","0400013","開發企金部"]
["高雄分行","開發高雄","0400024","開發高雄"]
["台中分行","開發台中","0400035","開發台中"]
["桃園分行","開發桃園","0400080","開發桃園"]
["營業部","台灣工銀營","0480011","台灣工銀營"]
["竹科分行","台灣工銀竹","0480022","台灣工銀竹"]
["高雄分行","台灣工銀高","0480033","台灣工銀高"]
["台中分行","臺灣工銀中","0480055","臺灣工銀中"]
["吉林分行","臺企吉林","0500016","臺企吉林"]
["中和分行","臺企中和","0500027","臺企中和"]
["博愛分行","臺企博愛","0500038","臺企博愛"]
["北桃園分行","臺企北桃園","0500049","臺企北桃園"]
["南崁分行","臺企南崁","0500050","臺企南崁"]
["西屯分行","臺企西屯","0500061","臺企西屯"]
["忠明分行","臺企忠明","0500072","臺企忠明"]
["營業部","臺企營","0500108","臺企營"]
["大雅分行","臺企大雅","0500119","臺企大雅"]
["仁大分行","臺企仁大","0500120","臺企仁大"]
["仁愛分行","臺企仁愛","0500201","臺企仁愛"]
["松山分行","臺企松山","0500212","臺企松山"]
["建成分行","臺企建成","0500223","臺企建成"]
["士林分行","臺企士林","0500234","臺企士林"]
["永和分行","臺企永和","0500245","臺企永和"]
["新店分行","臺企新店","0500256","臺企新店"]
["新莊分行","臺企新莊","0500267","臺企新莊"]
["化成分行","臺企化成","0500278","臺企化成"]
["松江分行","臺企松江","0500407","臺企松江"]
["台北分行","臺企台北","0500500","臺企台北"]
["萬華分行","臺企萬華","0500603","臺企萬華"]
["南台北分行","臺企南台北","0500614","臺企南台北"]
["復興分行","臺企復興","0500706","臺企復興"]
["中山分行","臺企中山","0500809","臺企中山"]
["建國分行","臺企建國","0500810","臺企建國"]
["內湖分行","臺企內湖","0500821","臺企內湖"]
["南京東路分行","臺企南京東","0500902","臺企南京東"]
["忠孝分行","臺企忠孝","0501002","臺企忠孝"]
["東台北分行","臺企東台北","0501013","臺企東台北"]
["世貿分行","臺企世貿","0501024","臺企世貿"]
["永春分行","臺企永春","0501035","臺企永春"]
["南港分行","臺企南港","0501057","臺企南港"]
["松南分行","臺企松南","0501105","臺企松南"]
["東湖分行","臺企東湖","0501116","臺企東湖"]
["大安分行","臺企大安","0501208","臺企大安"]
["雙和分行","臺企雙和","0501219","臺企雙和"]
["錦和分行","臺企錦和","0501220","臺企錦和"]
["五股分行","臺企五股","0501301","臺企五股"]
["林口分行","臺企林口","0501312","臺企林口"]
["板橋分行","臺企板橋","0501404","臺企板橋"]
["樹林分行","臺企樹林","0501415","臺企樹林"]
["土城分行","臺企土城","0501426","臺企土城"]
["迴龍分行","臺企迴龍","0501437","臺企迴龍"]
["汐止分行","臺企汐止","0501448","臺企汐止"]
["基隆分行","臺企基隆","0501507","臺企基隆"]
["埔墘分行","臺企埔墘","0501518","臺企埔墘"]
["北三重分行","臺企北三重","0501529","臺企北三重"]
["南三重分行","臺企南三重","0501530","臺企南三重"]
["蘆洲分行","臺企蘆洲","0501541","臺企蘆洲"]
["宜蘭分行","臺企宜蘭","0501600","臺企宜蘭"]
["羅東分行","臺企羅東","0501703","臺企羅東"]
["蘇澳分行","臺企蘇澳","0501714","臺企蘇澳"]
["楊梅分行","臺企楊梅","0502906","臺企楊梅"]
["湖口分行","臺企湖口","0502917","臺企湖口"]
["桃園分行","臺企桃園","0503006","臺企桃園"]
["大園分行","臺企大園","0503017","臺企大園"]
["大溪分行","臺企大溪","0503028","臺企大溪"]
["中壢分行","臺企中壢","0503109","臺企中壢"]
["內壢分行","臺企內壢","0503110","臺企內壢"]
["新明分行","臺企新明","0503121","臺企新明"]
["東桃園分行","臺企東桃園","0503132","臺企東桃園"]
["新屋分行","臺企新屋","0503154","臺企新屋"]
["新竹分行","臺企新竹","0503202","臺企新竹"]
["竹北分行","臺企竹北","0503213","臺企竹北"]
["竹科分行","臺企竹科","0503224","臺企竹科"]
["八德分行","臺企八德","0503305","臺企八德"]
["龍潭分行","臺企龍潭","0503327","臺企龍潭"]
["竹東分行","臺企竹東","0503408","臺企竹東"]
["竹南分行","臺企竹南","0503501","臺企竹南"]
["頭份分行","臺企頭份","0503512","臺企頭份"]
["苗栗分行","臺企苗栗","0503604","臺企苗栗"]
["豐原分行","臺企豐原","0504601","臺企豐原"]
["后里分行","臺企后里","0504690","臺企后里"]
["太平分行","臺企太平","0504704","臺企太平"]
["大甲分行","臺企大甲","0504807","臺企大甲"]
["沙鹿分行","臺企沙鹿","0504829","臺企沙鹿"]
["烏日分行","臺企烏日","0504830","臺企烏日"]
["台中分行","臺企台中","0504900","臺企台中"]
["民權分行","臺企民權","0504911","臺企民權"]
["興中分行","臺企興中","0505000","臺企興中"]
["北屯分行","臺企北屯","0505011","臺企北屯"]
["南投分行","臺企南投","0505103","臺企南投"]
["草屯分行","臺企草屯","0505114","臺企草屯"]
["埔里分行","臺企埔里","0505206","臺企埔里"]
["潭子分行","臺企潭子","0505217","臺企潭子"]
["竹山分行","臺企竹山","0505309","臺企竹山"]
["彰化分行","臺企彰化","0505402","臺企彰化"]
["和美分行","臺企和美","0505413","臺企和美"]
["員林分行","臺企員林","0505505","臺企員林"]
["北斗分行","臺企北斗","0505608","臺企北斗"]
["二林分行","臺企二林","0505619","臺企二林"]
["斗六分行","臺企斗六","0506605","臺企斗六"]
["北港分行","臺企北港","0506708","臺企北港"]
["虎尾分行","臺企虎尾","0506719","臺企虎尾"]
["嘉義分行","臺企嘉義","0506801","臺企嘉義"]
["民雄分行","臺企民雄","0506812","臺企民雄"]
["南嘉義分行","臺企南嘉義","0506823","臺企南嘉義"]
["新營分行","臺企新營","0506904","臺企新營"]
["開元分行","臺企開元","0506915","臺企開元"]
["永康分行","臺企永康","0507004","臺企永康"]
["學甲分行","臺企學甲","0507015","臺企學甲"]
["善化分行","臺企善化","0507026","臺企善化"]
["永大分行","臺企永大","0507037","臺企永大"]
["台南分行","臺企台南","0507107","臺企台南"]
["仁德分行","臺企仁德","0507118","臺企仁德"]
["成功分行","臺企成功","0507200","臺企成功"]
["東台南分行","臺企東台南","0507211","臺企東台南"]
["安平分行","臺企安平","0507303","臺企安平"]
["花蓮分行","臺企花蓮","0507602","臺企花蓮"]
["台東分行","臺企台東","0507705","臺企台東"]
["東高雄分行","臺企東高雄","0508207","臺企東高雄"]
["岡山分行","臺企岡山","0508300","臺企岡山"]
["北鳳山分行","臺企北鳳山","0508403","臺企北鳳山"]
["苓雅分行","臺企苓雅","0508414","臺企苓雅"]
["高雄分行","臺企高雄","0508506","臺企高雄"]
["北高雄分行","臺企北高雄","0508517","臺企北高雄"]
["大昌分行","臺企大昌","0508528","臺企大昌"]
["前鎮分行","臺企前鎮","0508539","臺企前鎮"]
["九如分行","臺企九如","0508609","臺企九如"]
["三民分行","臺企三民","0508702","臺企三民"]
["鳳山分行","臺企鳳山","0508805","臺企鳳山"]
["大發分行","臺企大發","0508816","臺企大發"]
["屏東分行","臺企屏東","0508908","臺企屏東"]
["小港分行","臺企小港","0508919","臺企小港"]
["潮州分行","臺企潮州","0508920","臺企潮州"]
["營業部","渣商銀營業","0520018","渣商銀營業"]
["桃園分行","渣商銀桃園","0520030","渣商銀桃園"]
["中壢分行","渣商銀中壢","0520041","渣商銀中壢"]
["竹東分行","渣商銀竹東","0520052","渣商銀竹東"]
["竹南分行","渣商銀竹南","0520063","渣商銀竹南"]
["苗栗分行","渣商銀苗栗","0520074","渣商銀苗栗"]
["新埔分行","渣商銀新埔","0520085","渣商銀新埔"]
["頭份分行","渣商銀頭份","0520096","渣商銀頭份"]
["大溪分行","渣商銀大溪","0520100","渣商銀大溪"]
["楊梅分行","渣商銀楊梅","0520111","渣商銀楊梅"]
["新屋分行","渣商銀新屋","0520122","渣商銀新屋"]
["湖口分行","渣商銀湖口","0520133","渣商銀湖口"]
["苑裡分行","渣商銀苑裡","0520144","渣商銀苑裡"]
["大園分行","渣商銀大園","0520155","渣商銀大園"]
["龍潭分行","渣商銀龍潭","0520166","渣商銀龍潭"]
["竹北分行","渣商銀竹北","0520177","渣商銀竹北"]
["三民分行","渣商銀三民","0520199","渣商銀三民"]
["內壢分行","渣商銀內壢","0520203","渣商銀內壢"]
["八德分行","渣商銀八德","0520214","渣商銀八德"]
["新明分行","渣商銀新明","0520225","渣商銀新明"]
["永安分行","渣商銀永安","0520236","渣商銀永安"]
["公館分行","渣商銀公館","0520247","渣商銀公館"]
["通霄分行","渣商銀通霄","0520258","渣商銀通霄"]
["後龍分行","渣商銀後龍","0520269","渣商銀後龍"]
["龜山分行","渣商銀龜山","0520270","渣商銀龜山"]
["南崁分行","渣商銀南崁","0520281","渣商銀南崁"]
["新竹分行","渣商銀新竹","0520292","渣商銀新竹"]
["關西分行","渣商銀關西","0520306","渣商銀關西"]
["大樹林分行","渣商銀大樹","0520317","渣商銀大樹"]
["光復分行","渣商銀光復","0520328","渣商銀光復"]
["龍岡分行","渣商銀龍岡","0520351","渣商銀龍岡"]
["山子頂分行","渣商銀山頂","0520362","渣商銀山頂"]
["埔心分行","渣商銀埔心","0520373","渣商銀埔心"]
["新豐分行","渣商銀新豐","0520384","渣商銀新豐"]
["三義分行","渣商銀三義","0520410","渣商銀三義"]
["新莊簡易型分行","渣商銀新莊","0520421","渣商銀新莊"]
["中正分行","渣商銀中正","0520454","渣商銀中正"]
["會稽分行","渣商銀會稽","0520465","渣商銀會稽"]
["環北分行","渣商銀環北","0520476","渣商銀環北"]
["延平簡易型分行","渣商銀延平","0520498","渣商銀延平"]
["大湖簡易型分行","渣商銀大湖","0520502","渣商銀大湖"]
["新興分行","渣商銀新興","0520513","渣商銀新興"]
["新社分行","渣商銀新社","0520524","渣商銀新社"]
["科學園區分行","渣商銀園區","0520546","渣商銀園區"]
["觀音分行","渣商銀觀音","0520557","渣商銀觀音"]
["銅鑼分行","渣商銀銅鑼","0520568","渣商銀銅鑼"]
["北新竹分行","渣商銀北新","0520579","渣商銀北新"]
["平鎮簡易型分行","渣商銀平鎮","0520591","渣商銀平鎮"]
["國外部","渣商銀國外","0520605","渣商銀國外"]
["東內壢分行","渣商銀東壢","0520649","渣商銀東壢"]
["建國分行","渣商銀建國","0520672","渣商銀建國"]
["公西分行","渣商銀公西","0520683","渣商銀公西"]
["金陵分行","渣商銀金陵","0520694","渣商銀金陵"]
["莊敬分行","渣商銀莊敬","0520708","渣商銀莊敬"]
["板橋分行","渣商銀板橋","0520719","渣商銀板橋"]
["蘆洲簡易型分行","渣商銀蘆洲","0520720","渣商銀蘆洲"]
["豐原分行","渣商銀豐原","0520731","渣商銀豐原"]
["文心分行","渣商銀文心","0520742","渣商銀文心"]
["內湖分行","渣商銀內湖","0520753","渣商銀內湖"]
["九如分行","渣商銀九如","0520764","渣商銀九如"]
["台南分行","渣商銀台南","0520775","渣商銀台南"]
["嘉義分行","渣商銀嘉義","0520786","渣商銀嘉義"]
["南屯分行","渣商銀南屯","0520797","渣商銀南屯"]
["神岡分行","渣商銀神岡","0520801","渣商銀神岡"]
["東寧分行","渣商銀東寧","0520812","渣商銀東寧"]
["東海分行","渣商銀東海","0520823","渣商銀東海"]
["中和分行","渣商銀中和","0520867","渣商銀中和"]
["北屯分行","渣商銀北屯","0520878","渣商銀北屯"]
["西屯分行","渣商銀西屯","0520889","渣商銀西屯"]
["彰化分行","渣商銀彰化","0520926","渣商銀彰化"]
["敦北分行","渣商銀敦北","0520959","渣商銀敦北"]
["北高雄分行","渣商銀北高","0520960","渣商銀北高"]
["台中分行","渣商銀台中","0520971","渣商銀台中"]
["高雄分行","渣商銀高雄","0520982","渣商銀高雄"]
["復興分行","渣商銀復興","0521015","渣商銀復興"]
["大雅分行","渣商銀大雅","0521037","渣商銀大雅"]
["三多分行","渣商銀三多","0521060","渣商銀三多"]
["東台南分行","渣商銀東台","0521071","渣商銀東台"]
["五福分行","渣商銀五福","0521082","渣商銀五福"]
["西湖分行","渣商銀西湖","0521093","渣商銀西湖"]
["信義分行","渣商銀信義","0521118","渣商銀信義"]
["東台北分行","渣商銀台北","0521129","渣商銀台北"]
["敦化分行","渣商銀敦化","0521141","渣商銀敦化"]
["天母分行","渣商銀天母","0521152","渣商銀天母"]
["仁愛分行","渣商銀仁愛","0521163","渣商銀仁愛"]
["中山分行","渣商銀中山","0521185","渣商銀中山"]
["八八分行","渣商銀八八","0521196","渣商銀八八"]
["大直分行","渣商銀大直","0521200","渣商銀大直"]
["金山分行","渣商銀金山","0521211","渣商銀金山"]
["中正分行","台中銀中正","0530019","台中銀中正"]
["營業部","台中銀營業","0530020","台中銀營業"]
["南台中分行","台中銀南台","0530042","台中銀南台"]
["霧峰分行","台中銀霧峰","0530053","台中銀霧峰"]
["大甲分行","台中銀大甲","0530064","台中銀大甲"]
["沙鹿分行","台中銀沙鹿","0530075","台中銀沙鹿"]
["豐原分行","台中銀豐原","0530086","台中銀豐原"]
["東勢分行","台中銀東勢","0530097","台中銀東勢"]
["彰化分行","台中銀彰化","0530101","台中銀彰化"]
["溪湖分行","台中銀溪湖","0530112","台中銀溪湖"]
["員林分行","台中銀員林","0530123","台中銀員林"]
["田中分行","台中銀田中","0530134","台中銀田中"]
["北斗分行","台中銀北斗","0530145","台中銀北斗"]
["二林分行","台中銀二林","0530156","台中銀二林"]
["南投分行","台中銀南投","0530167","台中銀南投"]
["水里簡易型分行","台中銀水里","0530178","台中銀水里"]
["草屯分行","台中銀草屯","0530189","台中銀草屯"]
["竹山分行","台中銀竹山","0530190","台中銀竹山"]
["埔里分行","台中銀埔里","0530204","台中銀埔里"]
["鹿港分行","台中銀鹿港","0530215","台中銀鹿港"]
["西台中分行","台中銀西台","0530226","台中銀西台"]
["清水分行","台中銀清水","0530237","台中銀清水"]
["東豐原分行","台中銀東豐","0530248","台中銀東豐"]
["烏日分行","台中銀烏日","0530259","台中銀烏日"]
["北台中分行","台中銀北台","0530271","台中銀北台"]
["南豐原分行","台中銀南豐","0530307","台中銀南豐"]
["和美分行","台中銀和美","0530318","台中銀和美"]
["西屯分行","台中銀西屯","0530330","台中銀西屯"]
["太平分行","台中銀太平","0530341","台中銀太平"]
["大雅分行","台中銀大雅","0530363","台中銀大雅"]
["后里分行","台中銀后里","0530374","台中銀后里"]
["潭子分行","台中銀潭子","0530385","台中銀潭子"]
["社頭分行","台中銀社頭","0530396","台中銀社頭"]
["永靖分行","台中銀永靖","0530400","台中銀永靖"]
["花壇分行","台中銀花壇","0530411","台中銀花壇"]
["秀水分行","台中銀秀水","0530422","台中銀秀水"]
["南屯分行","台中銀南屯","0530444","台中銀南屯"]
["大肚分行","台中銀大肚","0530455","台中銀大肚"]
["神岡分行","台中銀神岡","0530466","台中銀神岡"]
["內新分行","台中銀內新","0530477","台中銀內新"]
["伸港分行","台中銀伸港","0530488","台中銀伸港"]
["北太平分行","台中銀北太","0530499","台中銀北太"]
["台中港分行","台中銀台中","0530503","台中銀台中"]
["北員林分行","台中銀北員","0530514","台中銀北員"]
["南陽分行","台中銀南陽","0530525","台中銀南陽"]
["大竹分行","台中銀大竹","0530536","台中銀大竹"]
["埤頭分行","台中銀埤頭","0530570","台中銀埤頭"]
["四民分行","台中銀四民","0530581","台中銀四民"]
["軍功分行","台中銀軍功","0530592","台中銀軍功"]
["大慶簡易型分行","台中銀大慶","0530617","台中銀大慶"]
["北屯分行","台中銀北屯","0530639","台中銀北屯"]
["埔心分行","台中銀埔心","0530662","台中銀埔心"]
["台北分行","台中銀台北","0530684","台中銀台北"]
["松山分行","台中銀松山","0530710","台中銀松山"]
["三重分行","台中銀三重","0530721","台中銀三重"]
["高雄分行","台中銀高雄","0530732","台中銀高雄"]
["龍井分行","台中銀龍井","0530754","台中銀龍井"]
["林口分行","台中銀林口","0530776","台中銀林口"]
["虎尾分行","台中銀虎尾","0530787","台中銀虎尾"]
["苑裡分行","台中銀苑裡","0530798","台中銀苑裡"]
["斗南分行","台中銀斗南","0530813","台中銀斗南"]
["竹南分行","台中銀竹南","0530824","台中銀竹南"]
["內湖分行","台中銀內湖","0530846","台中銀內湖"]
["鳳山分行","台中銀鳳山","0530857","台中銀鳳山"]
["板橋分行","台中銀板橋","0530868","台中銀板橋"]
["平鎮分行","台中銀平鎮","0530879","台中銀平鎮"]
["新莊分行","台中銀新莊","0530880","台中銀新莊"]
["民雄分行","台中銀民雄","0530891","台中銀民雄"]
["桃園分行","台中銀桃園","0530905","台中銀桃園"]
["永康分行","台中銀永康","0530916","台中銀永康"]
["竹北分行","台中銀竹北","0530927","台中銀竹北"]
["南崁分行","台中銀南崁","0530938","台中銀南崁"]
["新竹分行","台中銀新竹","0530949","台中銀新竹"]
["內壢分行","台中銀內壢","0530950","台中銀內壢"]
["新豐分行","台中銀新豐","0530961","台中銀新豐"]
["大園分行","台中銀大園","0530972","台中銀大園"]
["中壢分行","台中銀中壢","0530983","台中銀中壢"]
["龜山分行","台中銀龜山","0530994","台中銀龜山"]
["楊梅分行","台中銀楊梅","0531005","台中銀楊梅"]
["土城分行","台中銀土城","0531016","台中銀土城"]
["復興分行","台中銀復興","0531038","台中銀復興"]
["營業部","京城營","0540010","京城營"]
["台南分行","京城台南","0540032","京城台南"]
["嘉義分行","京城嘉義","0540043","京城嘉義"]
["新營分行","京城新營","0540054","京城新營"]
["鹽水分行","京城鹽水","0540065","京城鹽水"]
["虎尾分行","京城虎尾","0540076","京城虎尾"]
["斗六分行","京城斗六","0540087","京城斗六"]
["民雄分行","京城民雄","0540098","京城民雄"]
["北港分行","京城北港","0540102","京城北港"]
["麻豆分行","京城麻豆","0540113","京城麻豆"]
["朴子分行","京城朴子","0540124","京城朴子"]
["佳里分行","京城佳里","0540135","京城佳里"]
["梅山分行","京城梅山","0540146","京城梅山"]
["斗南分行","京城斗南","0540157","京城斗南"]
["東台南分行","京城東台南","0540180","京城東台南"]
["西台南分行","京城西台南","0540191","京城西台南"]
["北台南分行","京城北台南","0540205","京城北台南"]
["博愛分行","京城博愛","0540216","京城博愛"]
["西螺分行","京城西螺","0540227","京城西螺"]
["善化分行","京城善化","0540249","京城善化"]
["學甲分行","京城學甲","0540250","京城學甲"]
["開元分行","京城開元","0540272","京城開元"]
["永康分行","京城永康","0540283","京城永康"]
["新市分行","京城新市","0540294","京城新市"]
["仁德分行","京城仁德","0540308","京城仁德"]
["六甲分行","京城六甲","0540319","京城六甲"]
["安南分行","京城安南","0540320","京城安南"]
["中埔分行","京城中埔","0540331","京城中埔"]
["崙背分行","京城崙背","0540342","京城崙背"]
["西港分行","京城西港","0540353","京城西港"]
["新化分行","京城新化","0540364","京城新化"]
["竹崎分行","京城竹崎","0540375","京城竹崎"]
["安和分行","京城安和","0540397","京城安和"]
["新興分行","京城新興","0540401","京城新興"]
["中華分行","京城中華","0540412","京城中華"]
["白河分行","京城白河","0540434","京城白河"]
["興業分行","京城興業","0540445","京城興業"]
["水上分行","京城水上","0540467","京城水上"]
["府城分行","京城府城","0540489","京城府城"]
["歸仁分行","京城歸仁","0540504","京城歸仁"]
["鹽行分行","京城鹽行","0540515","京城鹽行"]
["台北分行","京城台北","0540537","京城台北"]
["大林分行","京城大林","0540548","京城大林"]
["關廟分行","京城關廟","0540607","京城關廟"]
["太保分行","京城太保","0540641","京城太保"]
["蘆洲分行","京城蘆洲","0540652","京城蘆洲"]
["玉井分行","京城玉井","0540663","京城玉井"]
["高雄分行","京城高雄","0540696","京城高雄"]
["台中分行","京城台中","0540700","京城台中"]
["內湖分行","京城內湖","0540711","京城內湖"]
["桃園分行","京城桃園","0540744","京城桃園"]
["雙和分行","京城雙和","0540755","京城雙和"]
["岡山分行","京城岡山","0540766","京城岡山"]
["中正分行","京城中正","0540777","京城中正"]
["忠孝分行","京城忠孝","0540788","京城忠孝"]
["北高雄分行","京城北高雄","0540799","京城北高雄"]
["五甲分行","京城五甲","0540803","京城五甲"]
["板橋分行","京城板橋","0540814","京城板橋"]
["文心分行","京城文心","0540825","京城文心"]
["松山分行","京城松山","0540836","京城松山"]
["新莊分行","京城新莊","0540847","京城新莊"]
["新竹分行","京城新竹","0540858","京城新竹"]
["台北分行","匯豐台台北","0810016","匯豐台台北"]
["高雄分行","匯豐台高雄","0810027","匯豐台高雄"]
["台中分行","匯豐台台中","0810049","匯豐台台中"]
["台南分行","匯豐台台南","0810050","匯豐台台南"]
["板橋分行","匯豐台板橋","0810061","匯豐台板橋"]
["桃園分行","匯豐台桃園","0810072","匯豐台桃園"]
["建國分行","匯豐台建國","0810083","匯豐台建國"]
["天母分行","匯豐台天母","0810094","匯豐台天母"]
["忠孝分行","匯豐台忠孝","0810108","匯豐台忠孝"]
["光復分行","匯豐台光復","0810120","匯豐台光復"]
["中山分行","匯豐台中山","0810131","匯豐台中山"]
["文心分行","匯豐台文心","0810142","匯豐台文心"]
["南京東路分行","匯豐台南東","0810153","匯豐台南東"]
["新板分行","匯豐台新板","0810164","匯豐台新板"]
["豐原分行","匯豐台豐原","0810175","匯豐台豐原"]
["古亭分行","匯豐台古亭","0810186","匯豐台古亭"]
["民生分行","匯豐台民生","0810197","匯豐台民生"]
["新生分行","匯豐台新生","0810201","匯豐台新生"]
["三重分行","匯豐台三重","0810212","匯豐台三重"]
["新竹分行","匯豐台新竹","0810223","匯豐台新竹"]
["松江分行","匯豐台松江","0810234","匯豐台松江"]
["永和分行","匯豐台永和","0810245","匯豐台永和"]
["彰化分行","匯豐台彰化","0810256","匯豐台彰化"]
["信義分行","匯豐台信義","0810267","匯豐台信義"]
["新莊分行","匯豐台新莊","0810278","匯豐台新莊"]
["府城分行","匯豐台府城","0810289","匯豐台府城"]
["新店分行","匯豐台新店","0810290","匯豐台新店"]
["安和分行","匯豐台安和","0810304","匯豐台安和"]
["中壢分行","匯豐台中壢","0810315","匯豐台中壢"]
["仁愛分行","匯豐台仁愛","0810326","匯豐台仁愛"]
["敦北分行","匯豐台敦北","0810337","匯豐台敦北"]
["前鎮分行","匯豐台前鎮","0810348","匯豐台前鎮"]
["大安分行","匯豐台大安","0810359","匯豐台大安"]
["內湖分行","匯豐台內湖","0810360","匯豐台內湖"]
["民權分行","匯豐台民權","0810371","匯豐台民權"]
["復興分行","匯豐台復興","0810382","匯豐台復興"]
["中和分行","匯豐台中和","0810393","匯豐台中和"]
["竹北分行","匯豐台竹北","0810500","匯豐台竹北"]
["國美分行","匯豐台國美","0810511","匯豐台國美"]
["敦南分行","匯豐台敦南","0810522","匯豐台敦南"]
["大興分行","匯豐台大興","0810533","匯豐台大興"]
["左營分行","匯豐台左營","0810555","匯豐台左營"]
["大直分行","匯豐台大直","0810566","匯豐台大直"]
["士林分行","匯豐台士林","0810577","匯豐台士林"]
["蘆洲分行","匯豐台蘆洲","0810588","匯豐台蘆洲"]
["崇德分行","匯豐台崇德","0810599","匯豐台崇德"]
["營業部","瑞興營業","1010011","瑞興營業"]
["民生分行","瑞興民生","1010020","瑞興民生"]
["建成分行","瑞興建成","1010039","瑞興建成"]
["大橋分行","瑞興大橋","1010048","瑞興大橋"]
["南京東路分行","瑞興南京東","1010057","瑞興南京東"]
["昆明分行","瑞興昆明","1010066","瑞興昆明"]
["長安分行","瑞興長安","1010075","瑞興長安"]
["永吉分行","瑞興永吉","1010084","瑞興永吉"]
["和平東路分行","瑞興和平東","1010093","瑞興和平東"]
["石牌分行","瑞興石牌","1010109","瑞興石牌"]
["內湖分行","瑞興內湖","1010118","瑞興內湖"]
["成功簡易型分行","瑞興成功簡","1010127","瑞興成功簡"]
["古亭分行","瑞興古亭","1010136","瑞興古亭"]
["景美分行","瑞興景美","1010145","瑞興景美"]
["南港分行","瑞興南港","1010154","瑞興南港"]
["信義簡易型分行","瑞興信義簡","1010163","瑞興信義簡"]
["萬華分行","瑞興萬華","1010172","瑞興萬華"]
["士林分行","瑞興士林","1010181","瑞興士林"]
["松山簡易型分行","瑞興松山簡","1010190","瑞興松山簡"]
["城內分行","瑞興城內","1010206","瑞興城內"]
["中山簡易型分行","瑞興中山簡","1010215","瑞興中山簡"]
["中和分行","瑞興中和","1010224","瑞興中和"]
["營業部","華泰銀營","1020010","華泰銀營"]
["迪化街分行","華泰銀迪化","1020029","華泰銀迪化"]
["建成分行","華泰銀建成","1020038","華泰銀建成"]
["大同分行","華泰銀大同","1020047","華泰銀大同"]
["中山分行","華泰銀中山","1020056","華泰銀中山"]
["大安分行","華泰銀大安","1020065","華泰銀大安"]
["松山分行","華泰銀松山","1020074","華泰銀松山"]
["古亭分行","華泰銀古亭","1020083","華泰銀古亭"]
["士林分行","華泰銀士林","1020092","華泰銀士林"]
["內湖分行","華泰銀內湖","1020108","華泰銀內湖"]
["信義分行","華泰銀信義","1020117","華泰銀信義"]
["永吉分行","華泰銀永吉","1020126","華泰銀永吉"]
["和平分行","華泰銀和平","1020135","華泰銀和平"]
["光復分行","華泰銀光復","1020144","華泰銀光復"]
["文山簡易型分行","華泰銀文山","1020153","華泰銀文山"]
["石牌分行","華泰銀石牌","1020171","華泰銀石牌"]
["萬華分行","華泰銀萬華","1020180","華泰銀萬華"]
["南門簡易型分行","華泰銀南門","1020199","華泰銀南門"]
["松德分行","華泰銀松德","1020205","華泰銀松德"]
["新莊分行","華泰銀新莊","1020214","華泰銀新莊"]
["中和分行","華泰銀中和","1020223","華泰銀中和"]
["板橋分行","華泰銀板橋","1020232","華泰銀板橋"]
["南京東路分行","華泰銀南京","1020241","華泰銀南京"]
["敦化分行","華泰銀敦化","1020250","華泰銀敦化"]
["新店分行","華泰銀新店","1020269","華泰銀新店"]
["中壢分行","華泰銀中壢","1020278","華泰銀中壢"]
["高雄分行","華泰銀高雄","1020287","華泰銀高雄"]
["三重分行","華泰銀三重","1020296","華泰銀三重"]
["大直分行","華泰銀大直","1020302","華泰銀大直"]
["台中分行","華泰銀台中","1020366","華泰銀台中"]
["萬華分行","新光萬華","1030019","新光萬華"]
["東台北分行","新光東台北","1030028","新光東台北"]
["龍山分行","新光龍山","1030037","新光龍山"]
["西園分行","新光西園","1030046","新光西園"]
["西門分行","新光西門","1030055","新光西門"]
["大同分行","新光大同","1030064","新光大同"]
["復興分行","新光復興","1030073","新光復興"]
["忠孝簡易型分行","新光忠孝簡","1030082","新光忠孝簡"]
["五常分行","新光五常","1030091","新光五常"]
["城北分行","新光城北","1030107","新光城北"]
["城內分行","新光城內","1030116","新光城內"]
["新湖分行","新光新湖","1030125","新光新湖"]
["松安分行","新光松安","1030134","新光松安"]
["慶城分行","新光慶城","1030143","新光慶城"]
["內湖分行","新光內湖","1030152","新光內湖"]
["莊敬分行","新光莊敬","1030161","新光莊敬"]
["松山分行","新光松山","1030170","新光松山"]
["南港分行","新光南港","1030189","新光南港"]
["林森北路分行","新光林森北","1030198","新光林森北"]
["大安簡易型分行","新光大安簡","1030204","新光大安簡"]
["新竹分行","新光新竹","1030213","新光新竹"]
["中壢分行","新光中壢","1030222","新光中壢"]
["桃園分行","新光桃園","1030231","新光桃園"]
["東三重分行","新光東三重","1030240","新光東三重"]
["竹北分行","新光竹北","1030259","新光竹北"]
["連城路分行","新光連城路","1030268","新光連城路"]
["竹科分行","新光竹科","1030277","新光竹科"]
["土城分行","新光土城","1030286","新光土城"]
["蘆洲分行","新光蘆洲","1030295","新光蘆洲"]
["建成分行","新光建成","1030301","新光建成"]
["北三重分行","新光北三重","1030310","新光北三重"]
["永和分行","新光永和","1030329","新光永和"]
["新埔分行","新光新埔","1030338","新光新埔"]
["台中分行","新光台中","1030347","新光台中"]
["中港分行","新光中港","1030356","新光中港"]
["左營華夏路分行","新光左營華","1030365","新光左營華"]
["大甲分行","新光大甲","1030374","新光大甲"]
["大墩分行","新光大墩","1030383","新光大墩"]
["員林分行","新光員林","1030392","新光員林"]
["南屯分行","新光南屯","1030408","新光南屯"]
["東台南分行","新光東台南","1030417","新光東台南"]
["大里分行","新光大里","1030426","新光大里"]
["松竹分行","新光松竹","1030435","新光松竹"]
["彰化分行","新光彰化","1030444","新光彰化"]
["樹林分行","新光樹林","1030453","新光樹林"]
["後埔分行","新光後埔","1030462","新光後埔"]
["古亭分行","新光古亭","1030471","新光古亭"]
["士林分行","新光士林","1030480","新光士林"]
["營業部","新光營業部","1030499","新光營業部"]
["丹鳳分行","新光丹鳳","1030505","新光丹鳳"]
["北投復興崗分行","新光北投復","1030514","新光北投復"]
["新生南路分行","新光新生南","1030523","新光新生南"]
["新營分行","新光新營","1030541","新光新營"]
["天母分行","新光天母","1030550","新光天母"]
["新店分行","新光新店","1030569","新光新店"]
["大直分行","新光大直","1030578","新光大直"]
["興隆簡易型分行","新光興隆簡","1030587","新光興隆簡"]
["八德分行","新光八德","1030596","新光八德"]
["長安分行","新光長安","1030611","新光長安"]
["嘉義分行","新光嘉義","1030620","新光嘉義"]
["鳳山分行","新光鳳山","1030648","新光鳳山"]
["台南分行","新光台南","1030657","新光台南"]
["北嘉義簡易型分行","新光北嘉簡","1030666","新光北嘉簡"]
["斗六分行","新光斗六","1030675","新光斗六"]
["竹南分行","新光竹南","1030684","新光竹南"]
["花蓮分行","新光花蓮","1030693","新光花蓮"]
["基隆分行","新光基隆","1030709","新光基隆"]
["宜蘭分行","新光宜蘭","1030718","新光宜蘭"]
["三峽分行","新光三峽","1030727","新光三峽"]
["路竹簡易型分行","新光路竹簡","1030736","新光路竹簡"]
["高雄分行","新光高雄","1030745","新光高雄"]
["新莊分行","新光新莊","1030754","新光新莊"]
["江子翠分行","新光江子翠","1030763","新光江子翠"]
["南勢角分行","新光南勢角","1030772","新光南勢角"]
["彌陀簡易型分行","新光彌陀簡","1030781","新光彌陀簡"]
["岡山分行","新光岡山","1030790","新光岡山"]
["北高雄分行","新光北高雄","1030806","新光北高雄"]
["小港分行","新光小港","1030824","新光小港"]
["中華分行","新光中華","1030833","新光中華"]
["承德分行","新光承德","1030842","新光承德"]
["敦南分行","新光敦南","1030851","新光敦南"]
["中和分行","新光中和","1030860","新光中和"]
["南台中分行","新光南台中","1030879","新光南台中"]
["水湳分行","新光水湳","1030888","新光水湳"]
["北屯分行","新光北屯","1030897","新光北屯"]
["西屯分行","新光西屯","1030903","新光西屯"]
["向上分行","新光向上","1030912","新光向上"]
["十甲分行","新光十甲","1030921","新光十甲"]
["豐原分行","新光豐原","1030930","新光豐原"]
["永安分行","新光永安","1030949","新光永安"]
["屏東分行","新光屏東","1030958","新光屏東"]
["東園分行","新光東園","1030967","新光東園"]
["萬丹分行","新光萬丹","1030976","新光萬丹"]
["七賢分行","新光七賢","1030985","新光七賢"]
["和生分行","新光和生","1030994","新光和生"]
["汐止分行","新光汐止","1031003","新光汐止"]
["桃北分行","新光桃北","1031012","新光桃北"]
["東新竹分行","新光東新竹","1031021","新光東新竹"]
["九如簡易型分行","新光九如簡","1031030","新光九如簡"]
["永華分行","新光永華","1031049","新光永華"]
["壢新分行","新光壢新","1031058","新光壢新"]
["沙鹿分行","新光沙鹿","1031067","新光沙鹿"]
["大雅分行","新光大雅","1031076","新光大雅"]
["草屯分行","新光草屯","1031094","新光草屯"]
["南東分行","新光南東","1031100","新光南東"]
["營業部","陽信營","1080014","陽信營"]
["石牌分行","陽信石牌","1080023","陽信石牌"]
["北投分行","陽信北投","1080032","陽信北投"]
["社子分行","陽信社子","1080041","陽信社子"]
["士林分行","陽信士林","1080050","陽信士林"]
["大屯分行","陽信大屯","1080069","陽信大屯"]
["劍潭分行","陽信劍潭","1080078","陽信劍潭"]
["蘭雅分行","陽信蘭雅","1080087","陽信蘭雅"]
["天母分行","陽信天母","1080096","陽信天母"]
["社中分行","陽信社中","1080102","陽信社中"]
["吉林分行","陽信吉林","1080111","陽信吉林"]
["成功分行","陽信成功","1080120","陽信成功"]
["民生分行","陽信民生","1080139","陽信民生"]
["延吉分行","陽信延吉","1080148","陽信延吉"]
["木柵分行","陽信木柵","1080157","陽信木柵"]
["龍江分行","陽信龍江","1080166","陽信龍江"]
["南京分行","陽信南京","1080175","陽信南京"]
["景美分行","陽信景美","1080184","陽信景美"]
["中興分行","陽信中興","1080193","陽信中興"]
["信義分行","陽信信義","1080209","陽信信義"]
["中和分行","陽信中和","1080218","陽信中和"]
["永和分行","陽信永和","1080227","陽信永和"]
["蘆洲分行","陽信蘆洲","1080236","陽信蘆洲"]
["板橋分行","陽信板橋","1080245","陽信板橋"]
["新和簡易型分行","陽信新和簡","1080263","陽信新和簡"]
["溪洲分行","陽信溪洲","1080272","陽信溪洲"]
["泰山分行","陽信泰山","1080281","陽信泰山"]
["新莊分行","陽信新莊","1080290","陽信新莊"]
["古亭分行","陽信古亭","1080306","陽信古亭"]
["三重分行","陽信三重","1080315","陽信三重"]
["大業簡易型分行","陽信大業簡","1080324","陽信大業簡"]
["雙和分行","陽信雙和","1080333","陽信雙和"]
["復興分行","陽信復興","1080342","陽信復興"]
["大安分行","陽信大安","1080351","陽信大安"]
["桃園分行","陽信桃園","1080360","陽信桃園"]
["新店分行","陽信新店","1080379","陽信新店"]
["新福簡易型分行","陽信新福簡","1080397","陽信新福簡"]
["新竹分行","陽信新竹","1080403","陽信新竹"]
["員林分行","陽信員林","1080412","陽信員林"]
["精武分行","陽信精武","1080430","陽信精武"]
["社頭簡易型分行","陽信社頭簡","1080449","陽信社頭簡"]
["屏東分行","陽信屏東","1080458","陽信屏東"]
["中正簡易型分行","陽信中正簡","1080467","陽信中正簡"]
["高雄分行","陽信高雄","1080476","陽信高雄"]
["苓雅分行","陽信苓雅","1080485","陽信苓雅"]
["北屯分行","陽信北屯","1080494","陽信北屯"]
["嘉義分行","陽信嘉義","1080500","陽信嘉義"]
["新埔分行","陽信新埔","1080519","陽信新埔"]
["台南分行","陽信台南","1080528","陽信台南"]
["東寧簡易型分行","陽信東寧簡","1080555","陽信東寧簡"]
["中華分行","陽信中華","1080564","陽信中華"]
["健康分行","陽信健康","1080573","陽信健康"]
["台中分行","陽信台中","1080582","陽信台中"]
["西華分行","陽信西華","1080607","陽信西華"]
["安順分行","陽信安順","1080616","陽信安順"]
["左營分行","陽信左營","1080634","陽信左營"]
["向上分行","陽信向上","1080643","陽信向上"]
["內湖分行","陽信內湖","1080652","陽信內湖"]
["中壢分行","陽信中壢","1080661","陽信中壢"]
["五股分行","陽信五股","1080670","陽信五股"]
["林森分行","陽信林森","1080689","陽信林森"]
["立文分行","陽信立文","1080698","陽信立文"]
["新興分行","陽信新興","1080704","陽信新興"]
["青年分行","陽信青年","1080713","陽信青年"]
["三鳳分行","陽信三鳳","1080722","陽信三鳳"]
["四維分行","陽信四維","1080731","陽信四維"]
["大公分行","陽信大公","1080740","陽信大公"]
["大順分行","陽信大順","1080759","陽信大順"]
["海光分行","陽信海光","1080768","陽信海光"]
["前鎮分行","陽信前鎮","1080777","陽信前鎮"]
["平等分行","陽信平等","1080786","陽信平等"]
["基隆分行","陽信基隆","1080795","陽信基隆"]
["小港分行","陽信小港","1080801","陽信小港"]
["右昌分行","陽信右昌","1080810","陽信右昌"]
["建國分行","陽信建國","1080829","陽信建國"]
["五甲分行","陽信五甲","1080838","陽信五甲"]
["鼎力分行","陽信鼎力","1080847","陽信鼎力"]
["楠梓分行","陽信楠梓","1080856","陽信楠梓"]
["旗山分行","陽信旗山","1080865","陽信旗山"]
["土城分行","陽信土城","1080874","陽信土城"]
["美濃簡易型分行","陽信美濃簡","1080883","陽信美濃簡"]
["林園簡易型分行","陽信林園簡","1080917","陽信林園簡"]
["岡山分行","陽信岡山","1080926","陽信岡山"]
["仁德分行","陽信仁德","1080935","陽信仁德"]
["東桃園分行","陽信東桃園","1080944","陽信東桃園"]
["永康分行","陽信永康","1080953","陽信永康"]
["南港分行","陽信南港","1080971","陽信南港"]
["里港簡易型分行","陽信里港簡","1080980","陽信里港簡"]
["東港簡易型分行","陽信東港簡","1080999","陽信東港簡"]
["萬華分行","陽信萬華","1081017","陽信萬華"]
["臺北分行","陽信臺北","1081026","陽信臺北"]
["長安分行","陽信長安","1081035","陽信長安"]
["羅東分行","陽信羅東","1081053","陽信羅東"]
["竹北分行","陽信竹北","1081062","陽信竹北"]
["重新分行","陽信重新","1081071","陽信重新"]
["彰化分行","陽信彰化","1081080","陽信彰化"]
["板橋分行","板信板橋","1180011","板信板橋"]
["後埔分行","板信後埔","1180020","板信後埔"]
["永和分行","板信永和","1180039","板信永和"]
["埔墘分行","板信埔墘","1180048","板信埔墘"]
["華江分行","板信華江","1180057","板信華江"]
["民族分行","板信民族","1180066","板信民族"]
["中和分行","板信中和","1180075","板信中和"]
["土城分行","板信土城","1180084","板信土城"]
["文化分行","板信文化","1180093","板信文化"]
["大觀分行","板信大觀","1180109","板信大觀"]
["興南分行","板信興南","1180118","板信興南"]
["小港分行","板信小港","1180145","板信小港"]
["新興分行","板信新興","1180163","板信新興"]
["前鎮分行","板信前鎮","1180181","板信前鎮"]
["陽明分行","板信陽明","1180206","板信陽明"]
["高新莊分行","板信高新莊","1180215","板信高新莊"]
["松江分行","板信松江","1180260","板信松江"]
["信義分行","板信信義","1180279","板信信義"]
["新莊分行","板信新莊","1180288","板信新莊"]
["秀朗分行","板信秀朗","1180297","板信秀朗"]
["桃園分行","板信桃園","1180303","板信桃園"]
["三重分行","板信三重","1180312","板信三重"]
["員山分行","板信員山","1180330","板信員山"]
["桃鶯分行","板信桃鶯","1180349","板信桃鶯"]
["民生分行","板信民生","1180358","板信民生"]
["龍岡分行","板信龍岡","1180367","板信龍岡"]
["樹林分行","板信樹林","1180385","板信樹林"]
["金城分行","板信金城","1180394","板信金城"]
["新竹分行","板信新竹","1180400","板信新竹"]
["八德分行","板信八德","1180419","板信八德"]
["台中分行","板信台中","1180428","板信台中"]
["台南分行","板信台南","1180437","板信台南"]
["新店分行","板信新店","1180446","板信新店"]
["內湖分行","板信內湖","1180455","板信內湖"]
["中正分行","板信中正","1180482","板信中正"]
["嘉義分行","板信嘉義","1180507","板信嘉義"]
["軍輝分行","板信軍輝","1180561","板信軍輝"]
["蘆洲分行","板信蘆洲","1180598","板信蘆洲"]
["羅東分行","板信羅東","1180604","板信羅東"]
["北台中分行","板信北台中","1180613","板信北台中"]
["成功分行","板信成功","1180622","板信成功"]
["福和分行","板信福和","1180631","板信福和"]
["營業部","板信營","1180659","板信營"]
["瑞光分行","板信瑞光","1180668","板信瑞光"]
["丹鳳分行","板信丹鳳","1180677","板信丹鳳"]
["北新分行","板信北新","1180686","板信北新"]
["台中分行","三信銀台中","1470013","三信銀台中"]
["營業部","三信銀營","1470022","三信銀營"]
["中正簡易型分行","三信銀中正","1470031","三信銀中正"]
["成功分行","三信銀成功","1470040","三信銀成功"]
["西屯分行","三信銀西屯","1470059","三信銀西屯"]
["國光分行","三信銀國光","1470068","三信銀國光"]
["大智分行","三信銀大智","1470077","三信銀大智"]
["林森分行","三信銀林森","1470086","三信銀林森"]
["南門分行","三信銀南門","1470095","三信銀南門"]
["進化分行","三信銀進化","1470101","三信銀進化"]
["南屯分行","三信銀南屯","1470110","三信銀南屯"]
["北屯分行","三信銀北屯","1470138","三信銀北屯"]
["豐原分行","三信銀豐原","1470147","三信銀豐原"]
["彰化分行","三信銀彰化","1470156","三信銀彰化"]
["員林分行","三信銀員林","1470165","三信銀員林"]
["台北分行","三信銀台北","1470183","三信銀台北"]
["桃園分行","三信銀桃園","1470192","三信銀桃園"]
["板橋分行","三信銀板橋","1470208","三信銀板橋"]
["豐信分行","三信銀豐信","1470253","三信銀豐信"]
["中山分行","三信銀中山","1470262","三信銀中山"]
["豐東簡易型分行","三信銀豐東","1470271","三信銀豐東"]
["豐樂分行","三信銀豐樂","1470280","三信銀豐樂"]
["台南分行","三信銀台南","1470299","三信銀台南"]
["高雄分行","三信銀高雄","1470305","三信銀高雄"]
["新莊分行","三信銀新莊","1470314","三信銀新莊"]
["新竹分行","三信銀新竹","1470323","三信銀新竹"]
["鳳山分行","三信銀鳳山","1470332","三信銀鳳山"]
["營業部","聯邦營","8030010","聯邦營"]
["台北分行","聯邦台北","8030021","聯邦台北"]
["桃園分行","聯邦桃園","8030032","聯邦桃園"]
["台中分行","聯邦台中","8030043","聯邦台中"]
["南京東路分行","聯邦南京","8030054","聯邦南京"]
["中壢分行","聯邦中壢","8030065","聯邦中壢"]
["三重分行","聯邦三重","8030076","聯邦三重"]
["東台北分行","聯邦東台北","8030098","聯邦東台北"]
["高雄分行","聯邦高雄","8030102","聯邦高雄"]
["板橋分行","聯邦板橋","8030113","聯邦板橋"]
["台南分行","聯邦台南","8030124","聯邦台南"]
["員林分行","聯邦員林","8030135","聯邦員林"]
["仁愛分行","聯邦仁愛","8030157","聯邦仁愛"]
["南崁分行","聯邦南崁","8030168","聯邦南崁"]
["新竹分行","聯邦新竹","8030179","聯邦新竹"]
["蘆洲分行","聯邦蘆洲","8030180","聯邦蘆洲"]
["九如分行","聯邦九如","8030205","聯邦九如"]
["雙和分行","聯邦雙和","8030216","聯邦雙和"]
["迴龍分行","聯邦迴龍","8030227","聯邦迴龍"]
["嘉義分行","聯邦嘉義","8030238","聯邦嘉義"]
["公館分行","聯邦公館","8030249","聯邦公館"]
["內壢分行","聯邦內壢","8030250","聯邦內壢"]
["忠孝分行","聯邦忠孝","8030261","聯邦忠孝"]
["新莊分行","聯邦新莊","8030272","聯邦新莊"]
["鳳山分行","聯邦鳳山","8030283","聯邦鳳山"]
["桃鶯分行","聯邦桃鶯","8030294","聯邦桃鶯"]
["龍潭分行","聯邦龍潭","8030308","聯邦龍潭"]
["新店分行","聯邦新店","8030319","聯邦新店"]
["大直分行","聯邦大直","8030320","聯邦大直"]
["中山簡易型分行","聯邦中山簡","8030331","聯邦中山簡"]
["文心分行","聯邦文心","8030342","聯邦文心"]
["健行分行","聯邦健行","8030353","聯邦健行"]
["中和分行","聯邦中和","8030364","聯邦中和"]
["內湖分行","聯邦內湖","8030375","聯邦內湖"]
["大園分行","聯邦大園","8030386","聯邦大園"]
["永和分行","聯邦永和","8030397","聯邦永和"]
["中港簡易型分行","聯邦中港簡","8030401","聯邦中港簡"]
["通化簡易型分行","聯邦通化簡","8030412","聯邦通化簡"]
["士東分行","聯邦士東","8030423","聯邦士東"]
["微風簡易型分行","聯邦微風簡","8030434","聯邦微風簡"]
["長春分行","聯邦長春","8030445","聯邦長春"]
["松江分行","聯邦松江","8030456","聯邦松江"]
["大安分行","聯邦大安","8030467","聯邦大安"]
["永吉分行","聯邦永吉","8030478","聯邦永吉"]
["文林分行","聯邦文林","8030489","聯邦文林"]
["東門分行","聯邦東門","8030490","聯邦東門"]
["敦化分行","聯邦敦化","8030504","聯邦敦化"]
["西湖分行","聯邦西湖","8030515","聯邦西湖"]
["北投簡易型分行","聯邦北投簡","8030526","聯邦北投簡"]
["北三重分行","聯邦北三重","8030537","聯邦北三重"]
["後埔分行","聯邦後埔","8030548","聯邦後埔"]
["北中和簡易型分行","聯邦北中和","8030559","聯邦北中和"]
["富國分行","聯邦富國","8030560","聯邦富國"]
["樹林分行","聯邦樹林","8030571","聯邦樹林"]
["汐止分行","聯邦汐止","8030582","聯邦汐止"]
["北桃園分行","聯邦北桃園","8030593","聯邦北桃園"]
["北中壢分行","聯邦北中壢","8030607","聯邦北中壢"]
["北台中分行","聯邦北台中","8030618","聯邦北台中"]
["民權分行","聯邦民權","8030629","聯邦民權"]
["西屯分行","聯邦西屯","8030630","聯邦西屯"]
["興中分行","聯邦興中","8030641","聯邦興中"]
["北屯分行","聯邦北屯","8030652","聯邦北屯"]
["南員林分行","聯邦南員林","8030663","聯邦南員林"]
["東嘉義分行","聯邦東嘉義","8030674","聯邦東嘉義"]
["府城分行","聯邦府城","8030685","聯邦府城"]
["豐原分行","聯邦豐原","8030696","聯邦豐原"]
["富強分行","聯邦富強","8030700","聯邦富強"]
["開元分行","聯邦開元","8030711","聯邦開元"]
["南台南分行","聯邦南台南","8030722","聯邦南台南"]
["苓雅分行","聯邦苓雅","8030733","聯邦苓雅"]
["北高雄分行","聯邦北高雄","8030744","聯邦北高雄"]
["三民分行","聯邦三民","8030755","聯邦三民"]
["五甲分行","聯邦五甲","8030766","聯邦五甲"]
["屏東分行","聯邦屏東","8030777","聯邦屏東"]
["和平分行","聯邦和平","8030788","聯邦和平"]
["永春分行","聯邦永春","8030799","聯邦永春"]
["田心分行","聯邦田心","8030803","聯邦田心"]
["安康分行","聯邦安康","8030814","聯邦安康"]
["大竹分行","聯邦大竹","8030825","聯邦大竹"]
["龜山分行","聯邦龜山","8030836","聯邦龜山"]
["林口分行","聯邦林口","8030847","聯邦林口"]
["五股分行","聯邦五股","8030858","聯邦五股"]
["高榮分行","聯邦高榮","8030869","聯邦高榮"]
["大業分行","聯邦大業","8030870","聯邦大業"]
["蘆竹分行","聯邦蘆竹","8030881","聯邦蘆竹"]
["土城分行","聯邦土城","8030892","聯邦土城"]
["南桃園分行","聯邦南桃園","8030906","聯邦南桃園"]
["集賢分行","聯邦集賢","8030917","聯邦集賢"]
["三峽分行","聯邦三峽","8030928","聯邦三峽"]
["營業部","遠銀營業部","8050012","遠銀營業部"]
["台北襄陽分行","遠銀襄陽","8050023","遠銀襄陽"]
["台北逸仙分行","遠銀逸仙","8050034","遠銀逸仙"]
["桃園分行","遠銀桃園","8050045","遠銀桃園"]
["台中公益分行","遠銀公益","8050056","遠銀公益"]
["台南分行","遠銀台南","8050067","遠銀台南"]
["高雄五福分行","遠銀五福","8050078","遠銀五福"]
["板橋南雅分行","遠銀南雅","8050090","遠銀南雅"]
["新竹林森分行","遠銀林森","8050104","遠銀林森"]
["高雄中正分行","遠銀中正","8050115","遠銀中正"]
["三重分行","遠銀三重","8050148","遠銀三重"]
["台北松江分行","遠銀松江","8050159","遠銀松江"]
["永康分行","遠銀永康","8050160","遠銀永康"]
["中壢分行","遠銀中壢","8050171","遠銀中壢"]
["永和分行","遠銀永和","8050193","遠銀永和"]
["台北東門分行","遠銀東門","8050207","遠銀東門"]
["高雄文化中心分行","遠銀文中","8050218","遠銀文中"]
["台中文心分行","遠銀文心","8050229","遠銀文心"]
["新竹科學園區分行","遠銀科園","8050230","遠銀科園"]
["桃園大興分行","遠銀大興","8050241","遠銀大興"]
["台北南門分行","遠銀南門","8050252","遠銀南門"]
["台北新莊分行","遠銀新莊","8050263","遠銀新莊"]
["台北松山分行","遠銀松山","8050274","遠銀松山"]
["新店分行","遠銀新店","8050285","遠銀新店"]
["台北重慶分行","遠銀重慶","8050296","遠銀重慶"]
["竹北分行","遠銀竹北","8050300","遠銀竹北"]
["台北忠孝分行","遠銀忠孝","8050311","遠銀忠孝"]
["林口分行","遠銀林口","8050322","遠銀林口"]
["板橋文化分行","遠銀文化","8050333","遠銀文化"]
["台中自由分行","遠銀自由","8050344","遠銀自由"]
["新莊富國分行","遠銀富國","8050355","遠銀富國"]
["台北永吉分行","遠銀永吉","8050366","遠銀永吉"]
["三重重陽簡易型分行","遠銀重陽簡","8050377","遠銀重陽簡"]
["桃園大有簡易型分行","遠銀大有簡","8050388","遠銀大有簡"]
["台北金湖簡易型分行","遠銀金湖簡","8050399","遠銀金湖簡"]
["台北農安簡易型分行","遠銀農安簡","8050403","遠銀農安簡"]
["台北中山分行","遠銀中山","8050414","遠銀中山"]
["台北古亭分行","遠銀古亭","8050425","遠銀古亭"]
["台北信義分行","遠銀信義","8050436","遠銀信義"]
["蘆洲分行","遠銀蘆洲","8050458","遠銀蘆洲"]
["中和分行","遠銀中和","8050469","遠銀中和"]
["板橋中正分行","遠銀板中正","8050470","遠銀板中正"]
["新竹經國分行","遠銀經國","8050481","遠銀經國"]
["台中大雅分行","遠銀大雅","8050492","遠銀大雅"]
["彰化分行","遠銀彰化","8050506","遠銀彰化"]
["南投分行","遠銀南投","8050517","遠銀南投"]
["嘉義分行","遠銀嘉義","8050528","遠銀嘉義"]
["高雄苓雅分行","遠銀苓雅","8050539","遠銀苓雅"]
["鳳山分行","遠銀鳳山","8050540","遠銀鳳山"]
["大里分行","遠銀大里","8050562","遠銀大里"]
["崇德分行","遠銀崇德","8050573","遠銀崇德"]
["台北一０一分行","遠銀一０一","8050595","遠銀一０一"]
["雙和分行","遠銀雙和","8050609","遠銀雙和"]
["台北南京東路分行","遠銀南京東","8050610","遠銀南京東"]
["台北大稻埕分行","遠銀大稻埕","8050621","遠銀大稻埕"]
["台中分行","元大台中","8060013","元大台中"]
["文心分行","元大文心","8060024","元大文心"]
["台北分行","元大台北","8060035","元大台北"]
["沙鹿分行","元大沙鹿","8060046","元大沙鹿"]
["豐原分行","元大豐原","8060057","元大豐原"]
["彰化分行","元大彰化","8060068","元大彰化"]
["員林分行","元大員林","8060079","元大員林"]
["三重分行","元大三重","8060080","元大三重"]
["平鎮分行","元大平鎮","8060091","元大平鎮"]
["草屯分行","元大草屯","8060105","元大草屯"]
["永康分行","元大永康","8060116","元大永康"]
["景美分行","元大景美","8060150","元大景美"]
["新竹分行","元大新竹","8060161","元大新竹"]
["鹿港分行","元大鹿港","8060172","元大鹿港"]
["斗信分行","元大斗信","8060183","元大斗信"]
["嘉義分行","元大嘉義","8060194","元大嘉義"]
["南京東路分行","元大南東","8060219","元大南東"]
["永和分行","元大永和","8060220","元大永和"]
["復興分行","元大復興","8060231","元大復興"]
["大里分行","元大大里","8060242","元大大里"]
["博愛分行","元大博愛","8060253","元大博愛"]
["苗栗分行","元大苗栗","8060264","元大苗栗"]
["崇德分行","元大崇德","8060275","元大崇德"]
["北斗分行","元大北斗","8060286","元大北斗"]
["佳里分行","元大佳里","8060297","元大佳里"]
["大甲分行","元大大甲","8060301","元大大甲"]
["虎尾分行","元大虎尾","8060312","元大虎尾"]
["士林分行","元大士林","8060334","元大士林"]
["南崁分行","元大南崁","8060345","元大南崁"]
["古亭分行","元大古亭","8060367","元大古亭"]
["新莊分行","元大新莊","8060378","元大新莊"]
["中壢分行","元大中壢","8060389","元大中壢"]
["三民分行","元大三民","8060404","元大三民"]
["城中分行","元大城中","8060415","元大城中"]
["屏東分行","元大屏東","8060426","元大屏東"]
["斗南分行","元大斗南","8060448","元大斗南"]
["板橋分行","元大板橋","8060482","元大板橋"]
["桃園分行","元大桃園","8060493","元大桃園"]
["鳳山分行","元大鳳山","8060518","元大鳳山"]
["東信分行","元大東信","8060529","元大東信"]
["內湖分行","元大內湖","8060585","元大內湖"]
["羅東分行","元大羅東","8060596","元大羅東"]
["金門分行","元大金門","8060600","元大金門"]
["台南分行","元大台南","8060611","元大台南"]
["林口分行","元大林口","8060622","元大林口"]
["竹北分行","元大竹北","8060633","元大竹北"]
["府城分行","元大府城","8060688","元大府城"]
["府東分行","元大府東","8060699","元大府東"]
["開元分行","元大開元","8060806","元大開元"]
["安和分行","元大安和","8060828","元大安和"]
["中和分行","元大中和","8060839","元大中和"]
["松江分行","元大松江","8060840","元大松江"]
["竹科分行","元大竹科","8060851","元大竹科"]
["天母分行","元大天母","8060862","元大天母"]
["蘆洲分行","元大蘆洲","8060873","元大蘆洲"]
["信義分行","元大信義","8060884","元大信義"]
["中山北路分行","元大中山北","8060895","元大中山北"]
["民生分行","元大民生","8060909","元大民生"]
["新店分行","元大新店","8060910","元大新店"]
["忠孝分行","元大忠孝","8060932","元大忠孝"]
["桃興分行","元大桃興","8060943","元大桃興"]
["中港分行","元大中港","8060954","元大中港"]
["花蓮分行","元大花蓮","8060965","元大花蓮"]
["承德分行","元大承德","8060976","元大承德"]
["太平分行","元大太平","8060987","元大太平"]
["營業部","元大營業部","8060998","元大營業部"]
["土城分行","元大土城","8061009","元大土城"]
["館前分行","元大館前","8061010","元大館前"]
["大同分行","元大大同","8061021","元大大同"]
["松山分行","元大松山","8061032","元大松山"]
["大安分行","元大大安","8061043","元大大安"]
["北三重分行","元大北三重","8061076","元大北三重"]
["上新莊分行","元大上新莊","8061087","元大上新莊"]
["高雄分行","元大高雄","8061102","元大高雄"]
["大統分行","元大大統","8061191","元大大統"]
["雙和分行","元大雙和","8061205","元大雙和"]
["北投分行","元大北投","8061216","元大北投"]
["延平分行","元大延平","8061227","元大延平"]
["文德分行","元大文德","8061238","元大文德"]
["敦南分行","元大敦南","8061249","元大敦南"]
["左營分行","元大左營","8061250","元大左營"]
["埔墘分行","元大埔墘","8061261","元大埔墘"]
["公館分行","元大公館","8061272","元大公館"]
["新店中正分行","元大新店中","8061283","元大新店中"]
["和平分行","元大和平","8061294","元大和平"]
["西門分行","元大西門","8061308","元大西門"]
["世貿分行","永豐世貿","8070014","永豐世貿"]
["敦北分行","永豐敦北","8070025","永豐敦北"]
["台中分行","永豐台中","8070036","永豐台中"]
["高雄分行","永豐高雄","8070047","永豐高雄"]
["忠孝分行","永豐忠孝","8070058","永豐忠孝"]
["西松分行","永豐西松","8070069","永豐西松"]
["板新分行","永豐板新","8070070","永豐板新"]
["敦南分行","永豐敦南","8070092","永豐敦南"]
["新泰分行","永豐新泰","8070106","永豐新泰"]
["桃園分行","永豐桃園","8070117","永豐桃園"]
["北台中分行","永豐北台中","8070128","永豐北台中"]
["台南分行","永豐台南","8070139","永豐台南"]
["松江分行","永豐松江","8070151","永豐松江"]
["嘉義分行","永豐嘉義","8070162","永豐嘉義"]
["三民分行","永豐三民","8070173","永豐三民"]
["新竹分行","永豐新竹","8070184","永豐新竹"]
["三重分行","永豐三重","8070195","永豐三重"]
["台北分行","永豐台北","8070210","永豐台北"]
["彰化分行","永豐彰化","8070221","永豐彰化"]
["岡山分行","永豐岡山","8070232","永豐岡山"]
["中壢分行","永豐中壢","8070243","永豐中壢"]
["鳳山分行","永豐鳳山","8070254","永豐鳳山"]
["中正簡易型分行","永豐中正簡","8070265","永豐中正簡"]
["北新分行","永豐北新","8070276","永豐北新"]
["屏東分行","永豐屏東","8070287","永豐屏東"]
["北桃園分行","永豐北桃園","8070298","永豐北桃園"]
["學府分行","永豐學府","8070302","永豐學府"]
["南高雄分行","永豐南高雄","8070313","永豐南高雄"]
["光華分行","永豐光華","8070324","永豐光華"]
["新生分行","永豐新生","8070335","永豐新生"]
["天母分行","永豐天母","8070346","永豐天母"]
["東板橋分行","永豐東板橋","8070357","永豐東板橋"]
["東台南分行","永豐東台南","8070368","永豐東台南"]
["竹南分行","永豐竹南","8070379","永豐竹南"]
["南台中分行","永豐南台中","8070380","永豐南台中"]
["福林簡易型分行","永豐福林簡","8070391","永豐福林簡"]
["永康分行","永豐永康","8070405","永豐永康"]
["中科分行","永豐中科","8070416","永豐中科"]
["北高雄分行","永豐北高雄","8070427","永豐北高雄"]
["金門分行","永豐金門","8070438","永豐金門"]
["信維簡易型分行","永豐信維簡","8070449","永豐信維簡"]
["中崙分行","永豐中崙","8070450","永豐中崙"]
["西湖分行","永豐西湖","8070461","永豐西湖"]
["豐原分行","永豐豐原","8070472","永豐豐原"]
["新工分行","永豐新工","8070483","永豐新工"]
["忠孝東路分行","永豐忠孝東","8071011","永豐忠孝東"]
["建成分行","永豐建成","8071033","永豐建成"]
["西門簡易型分行","永豐西門簡","8071044","永豐西門簡"]
["萬華分行","永豐萬華","8071055","永豐萬華"]
["興隆分行","永豐興隆","8071066","永豐興隆"]
["南門分行","永豐南門","8071077","永豐南門"]
["長安分行","永豐長安","8071088","永豐長安"]
["延平分行","永豐延平","8071099","永豐延平"]
["北投分行","永豐北投","8071103","永豐北投"]
["松山分行","永豐松山","8071114","永豐松山"]
["中山分行","永豐中山","8071125","永豐中山"]
["士林分行","永豐士林","8071136","永豐士林"]
["三和分行","永豐三和","8071147","永豐三和"]
["雙園分行","永豐雙園","8071158","永豐雙園"]
["永和分行","永豐永和","8071169","永豐永和"]
["板橋分行","永豐板橋","8071170","永豐板橋"]
["基隆分行","永豐基隆","8071181","永豐基隆"]
["羅東分行","永豐羅東","8071192","永豐羅東"]
["宜蘭分行","永豐宜蘭","8071206","永豐宜蘭"]
["營業部","永豐營業部","8071217","永豐營業部"]
["景美分行","永豐景美","8071228","永豐景美"]
["新莊分行","永豐新莊","8071239","永豐新莊"]
["汐止分行","永豐汐止","8071251","永豐汐止"]
["城中分行","永豐城中","8071262","永豐城中"]
["光復分行","永豐光復","8071273","永豐光復"]
["正義分行","永豐正義","8071284","永豐正義"]
["中和分行","永豐中和","8071295","永豐中和"]
["士東分行","永豐士東","8071310","永豐士東"]
["中港分行","永豐中港","8071321","永豐中港"]
["蘆洲分行","永豐蘆洲","8071332","永豐蘆洲"]
["內湖分行","永豐內湖","8071343","永豐內湖"]
["社子分行","永豐社子","8071354","永豐社子"]
["信義分行","永豐信義","8071365","永豐信義"]
["永春分行","永豐永春","8071376","永豐永春"]
["南三重分行","永豐南三重","8071387","永豐南三重"]
["積穗分行","永豐積穗","8071398","永豐積穗"]
["鶯歌分行","永豐鶯歌","8071402","永豐鶯歌"]
["新店分行","永豐新店","8071413","永豐新店"]
["西盛分行","永豐西盛","8071435","永豐西盛"]
["板橋忠孝分行","永豐板忠孝","8071446","永豐板忠孝"]
["思源分行","永豐思源","8071457","永豐思源"]
["土城分行","永豐土城","8071468","永豐土城"]
["三興分行","永豐三興","8071479","永豐三興"]
["龍江分行","永豐龍江","8071480","永豐龍江"]
["樹林分行","永豐樹林","8071491","永豐樹林"]
["五股分行","永豐五股","8071505","永豐五股"]
["松德分行","永豐松德","8071538","永豐松德"]
["東湖分行","永豐東湖","8071549","永豐東湖"]
["華江分行","永豐華江","8071550","永豐華江"]
["北三重分行","永豐北三重","8071561","永豐北三重"]
["蘭雅分行","永豐蘭雅","8071572","永豐蘭雅"]
["德惠分行","永豐德惠","8071583","永豐德惠"]
["迴龍分行","永豐迴龍","8071594","永豐迴龍"]
["仁愛分行","永豐仁愛","8071608","永豐仁愛"]
["和平分行","永豐和平","8071620","永豐和平"]
["重新分行","永豐重新","8071642","永豐重新"]
["中興分行","永豐中興","8071653","永豐中興"]
["海山分行","永豐海山","8071664","永豐海山"]
["南蘆洲分行","永豐南蘆洲","8071697","永豐南蘆洲"]
["江子翠分行","永豐江子翠","8071701","永豐江子翠"]
["民安分行","永豐民安","8071712","永豐民安"]
["苓雅分行","永豐苓雅","8071723","永豐苓雅"]
["鶯桃分行","永豐鶯桃","8071734","永豐鶯桃"]
["溪洲分行","永豐溪洲","8071745","永豐溪洲"]
["泰山分行","永豐泰山","8071756","永豐泰山"]
["汀州分行","永豐汀州","8071767","永豐汀州"]
["南港分行","永豐南港","8071778","永豐南港"]
["深坑分行","永豐深坑","8071789","永豐深坑"]
["南崁分行","永豐南崁","8071790","永豐南崁"]
["北台南分行","永豐北台南","8071804","永豐北台南"]
["西屯分行","永豐西屯","8071815","永豐西屯"]
["汐止樟樹分行","永豐汐止樟","8071826","永豐汐止樟"]
["濟南路分行","永豐濟南路","8071837","永豐濟南路"]
["淡水簡易型分行","永豐淡水簡","8071848","永豐淡水簡"]
["南桃園分行","永豐南桃園","8071859","永豐南桃園"]
["竹科分行","永豐竹科","8071860","永豐竹科"]
["員林分行","永豐員林","8071871","永豐員林"]
["林口分行","永豐林口","8071882","永豐林口"]
["內壢分行","永豐內壢","8071893","永豐內壢"]
["重慶北路分行","永豐重慶北","8071907","永豐重慶北"]
["新湖分行","永豐新湖","8071918","永豐新湖"]
["大園分行","永豐大園","8071929","永豐大園"]
["竹北光明分行","永豐竹光明","8071930","永豐竹光明"]
["竹圍分行","永豐竹圍","8071963","永豐竹圍"]
["營業部","玉山營","8080015","玉山營"]
["南京東路分行","玉山南京東","8080026","玉山南京東"]
["城東分行","玉山城東","8080048","玉山城東"]
["新莊分行","玉山新莊","8080059","玉山新莊"]
["新竹分行","玉山新竹","8080060","玉山新竹"]
["嘉義分行","玉山嘉義","8080071","玉山嘉義"]
["高雄分行","玉山高雄","8080082","玉山高雄"]
["基隆路分行","玉山基隆路","8080118","玉山基隆路"]
["雙和分行","玉山雙和","8080129","玉山雙和"]
["中壢分行","玉山中壢","8080130","玉山中壢"]
["文心分行","玉山文心","8080141","玉山文心"]
["台南分行","玉山台南","8080152","玉山台南"]
["天母分行","玉山天母","8080163","玉山天母"]
["埔墘分行","玉山埔墘","8080174","玉山埔墘"]
["桃園分行","玉山桃園","8080185","玉山桃園"]
["前鎮分行","玉山前鎮","8080196","玉山前鎮"]
["民生分行","玉山民生","8080211","玉山民生"]
["大里分行","玉山大里","8080222","玉山大里"]
["永康分行","玉山永康","8080233","玉山永康"]
["鳳山分行","玉山鳳山","8080244","玉山鳳山"]
["三重分行","玉山三重","8080255","玉山三重"]
["土城分行","玉山土城","8080266","玉山土城"]
["八德分行","玉山八德","8080277","玉山八德"]
["大墩分行","玉山大墩","8080288","玉山大墩"]
["七賢分行","玉山七賢","8080299","玉山七賢"]
["復興分行","玉山復興","8080303","玉山復興"]
["敦南分行","玉山敦南","8080314","玉山敦南"]
["重新分行","玉山重新","8080325","玉山重新"]
["彰化分行","玉山彰化","8080336","玉山彰化"]
["北高雄分行","玉山北高雄","8080347","玉山北高雄"]
["大雅分行","玉山大雅","8080358","玉山大雅"]
["楊梅分行","玉山楊梅","8080369","玉山楊梅"]
["樹林分行","玉山樹林","8080370","玉山樹林"]
["豐原分行","玉山豐原","8080381","玉山豐原"]
["斗六分行","玉山斗六","8080392","玉山斗六"]
["長春分行","玉山長春","8080406","玉山長春"]
["中山分行","玉山中山","8080417","玉山中山"]
["佳里分行","玉山佳里","8080428","玉山佳里"]
["中和分行","玉山中和","8080439","玉山中和"]
["竹南分行","玉山竹南","8080440","玉山竹南"]
["羅東分行","玉山羅東","8080451","玉山羅東"]
["內湖分行","玉山內湖","8080462","玉山內湖"]
["壢新分行","玉山壢新","8080473","玉山壢新"]
["板新分行","玉山板新","8080484","玉山板新"]
["光華分行","玉山光華","8080495","玉山光華"]
["東嘉義分行","玉山東嘉義","8080509","玉山東嘉義"]
["北天母分行","玉山北天母","8080510","玉山北天母"]
["永和分行","玉山永和","8080521","玉山永和"]
["城中分行","玉山城中","8080532","玉山城中"]
["五股分行","玉山五股","8080543","玉山五股"]
["新店分行","玉山新店","8080554","玉山新店"]
["松山分行","玉山松山","8080565","玉山松山"]
["和平分行","玉山和平","8080576","玉山和平"]
["海山分行","玉山海山","8080587","玉山海山"]
["民權分行","玉山民權","8080598","玉山民權"]
["泰山分行","玉山泰山","8080602","玉山泰山"]
["南崁分行","玉山南崁","8080613","玉山南崁"]
["大順分行","玉山大順","8080624","玉山大順"]
["左營分行","玉山左營","8080635","玉山左營"]
["楠梓分行","玉山楠梓","8080646","玉山楠梓"]
["士林分行","玉山士林","8080657","玉山士林"]
["苓雅分行","玉山苓雅","8080668","玉山苓雅"]
["三民分行","玉山三民","8080679","玉山三民"]
["南屯分行","玉山南屯","8080680","玉山南屯"]
["木柵簡易型分行","玉山木柵簡","8080691","玉山木柵簡"]
["大昌分行","玉山大昌","8080705","玉山大昌"]
["台東簡易型分行","玉山台東簡","8080716","玉山台東簡"]
["澄清分行","玉山澄清","8080727","玉山澄清"]
["小港分行","玉山小港","8080738","玉山小港"]
["北新莊分行","玉山北新莊","8080749","玉山北新莊"]
["竹北分行","玉山竹北","8080750","玉山竹北"]
["東台南分行","玉山東台南","8080761","玉山東台南"]
["福和簡易型分行","玉山福和簡","8080772","玉山福和簡"]
["基隆分行","玉山基隆","8080783","玉山基隆"]
["岡山分行","玉山岡山","8080794","玉山岡山"]
["連城分行","玉山連城","8080808","玉山連城"]
["林園分行","玉山林園","8080819","玉山林園"]
["蘆洲分行","玉山蘆洲","8080820","玉山蘆洲"]
["後庄分行","玉山後庄","8080831","玉山後庄"]
["南桃園分行","玉山南桃園","8080842","玉山南桃園"]
["東三重分行","玉山東三重","8080853","玉山東三重"]
["北投分行","玉山北投","8080864","玉山北投"]
["忠孝分行","玉山忠孝","8080875","玉山忠孝"]
["林口分行","玉山林口","8080886","玉山林口"]
["東湖分行","玉山東湖","8080897","玉山東湖"]
["北新分行","玉山北新","8080901","玉山北新"]
["中崙分行","玉山中崙","8080912","玉山中崙"]
["建成分行","玉山建成","8080923","玉山建成"]
["屏東分行","玉山屏東","8080934","玉山屏東"]
["二重分行","玉山二重","8080945","玉山二重"]
["潮州分行","玉山潮州","8080956","玉山潮州"]
["大安分行","玉山大安","8080967","玉山大安"]
["東港分行","玉山東港","8080978","玉山東港"]
["古亭分行","玉山古亭","8080989","玉山古亭"]
["草屯分行","玉山草屯","8080990","玉山草屯"]
["內埔簡易型分行","玉山內埔簡","8081001","玉山內埔簡"]
["迴龍分行","玉山迴龍","8081012","玉山迴龍"]
["花蓮分行","玉山花蓮","8081023","玉山花蓮"]
["澎湖簡易型分行","玉山澎湖簡","8081034","玉山澎湖簡"]
["三峽分行","玉山三峽","8081045","玉山三峽"]
["松江分行","玉山松江","8081056","玉山松江"]
["金華分行","玉山金華","8081067","玉山金華"]
["光復分行","玉山光復","8081078","玉山光復"]
["新湖分行","玉山新湖","8081089","玉山新湖"]
["桃鶯分行","玉山桃鶯","8081090","玉山桃鶯"]
["員林分行","玉山員林","8081104","玉山員林"]
["永安分行","玉山永安","8081115","玉山永安"]
["新豐分行","玉山新豐","8081126","玉山新豐"]
["仁德分行","玉山仁德","8081137","玉山仁德"]
["泰和簡易型分行","玉山泰和簡","8081148","玉山泰和簡"]
["西屯分行","玉山西屯","8081159","玉山西屯"]
["南勢角分行","玉山南勢角","8081160","玉山南勢角"]
["板橋分行","玉山板橋","8081171","玉山板橋"]
["南港分行","玉山南港","8081182","玉山南港"]
["東門分行","玉山東門","8081193","玉山東門"]
["南土城分行","玉山南土城","8081207","玉山南土城"]
["朴子分行","玉山朴子","8081218","玉山朴子"]
["信義分行","玉山信義","8081229","玉山信義"]
["汐止分行","玉山汐止","8081230","玉山汐止"]
["新樹分行","玉山新樹","8081241","玉山新樹"]
["中工分行","玉山中工","8081252","玉山中工"]
["龍井分行","玉山龍井","8081263","玉山龍井"]
["鹽行分行","玉山鹽行","8081274","玉山鹽行"]
["頭份分行","玉山頭份","8081285","玉山頭份"]
["後龍分行","玉山後龍","8081296","玉山後龍"]
["五權分行","玉山五權","8081300","玉山五權"]
["南永康分行","玉山南永康","8081311","玉山南永康"]
["藝文分行","玉山藝文","8081322","玉山藝文"]
["中原分行","玉山中原","8081333","玉山中原"]
["竹科分行","玉山竹科","8081344","玉山竹科"]
["太平分行","玉山太平","8081355","玉山太平"]
["台中分行","玉山台中","8081366","玉山台中"]
["建成分行","萬泰建成","8090016","萬泰建成"]
["忠孝分行","萬泰忠孝","8090027","萬泰忠孝"]
["三重分行","萬泰三重","8090038","萬泰三重"]
["台中分行","萬泰台中","8090049","萬泰台中"]
["台南分行","萬泰台南","8090050","萬泰台南"]
["高雄分行","萬泰高雄","8090061","萬泰高雄"]
["城東分行","萬泰城東","8090072","萬泰城東"]
["東台北分行","萬泰東台北","8090094","萬泰東台北"]
["板橋分行","萬泰板橋","8090108","萬泰板橋"]
["桃園分行","萬泰桃園","8090119","萬泰桃園"]
["中壢分行","萬泰中壢","8090120","萬泰中壢"]
["北高雄分行","萬泰北高雄","8090131","萬泰北高雄"]
["新莊分行","萬泰新莊","8090153","萬泰新莊"]
["中正分行","萬泰中正","8090164","萬泰中正"]
["員林分行","萬泰員林","8090175","萬泰員林"]
["營業部","萬泰營","8090197","萬泰營"]
["松江分行","萬泰松江","8090201","萬泰松江"]
["蘆洲分行","萬泰蘆洲","8090212","萬泰蘆洲"]
["鳳山分行","萬泰鳳山","8090223","萬泰鳳山"]
["新竹分行","萬泰新竹","8090234","萬泰新竹"]
["松山分行","萬泰松山","8090245","萬泰松山"]
["土城分行","萬泰土城","8090256","萬泰土城"]
["中和分行","萬泰中和","8090267","萬泰中和"]
["赤崁分行","萬泰赤崁","8090278","萬泰赤崁"]
["基隆分行","萬泰基隆","8090289","萬泰基隆"]
["斗六分行","萬泰斗六","8090290","萬泰斗六"]
["東門分行","萬泰東門","8090304","萬泰東門"]
["北門分行","萬泰北門","8090315","萬泰北門"]
["屏東分行","萬泰屏東","8090326","萬泰屏東"]
["林森簡易型分行","萬泰林森簡","8090337","萬泰林森簡"]
["歸仁簡易型分行","萬泰歸仁簡","8090348","萬泰歸仁簡"]
["海東分行","萬泰海東","8090359","萬泰海東"]
["永康分行","萬泰永康","8090371","萬泰永康"]
["天母分行","萬泰天母","8090382","萬泰天母"]
["新店分行","萬泰新店","8090393","萬泰新店"]
["大安分行","萬泰大安","8090407","萬泰大安"]
["苗栗分行","萬泰苗栗","8090429","萬泰苗栗"]
["內湖分行","萬泰內湖","8090430","萬泰內湖"]
["花蓮分行","萬泰花蓮","8090452","萬泰花蓮"]
["繼光分行","萬泰繼光","8090463","萬泰繼光"]
["彰化分行","萬泰彰化","8090474","萬泰彰化"]
["豐原分行","萬泰豐原","8090485","萬泰豐原"]
["大里簡易型分行","萬泰大里簡","8090511","萬泰大里簡"]
["嘉義分行","萬泰嘉義","8090522","萬泰嘉義"]
["風城分行","萬泰風城","8090577","萬泰風城"]
["南大分行","萬泰南大","8090588","萬泰南大"]
["竹科分行","萬泰竹科","8090599","萬泰竹科"]
["台東簡易型分行","萬泰台東簡","8090625","萬泰台東簡"]
["羅東分行","萬泰羅東","8090669","萬泰羅東"]
["台中分行","星展台中","8100010","星展台中"]
["忠孝分行","星展忠孝","8100021","星展忠孝"]
["敦北分行","星展敦北","8100032","星展敦北"]
["高雄分行","星展高雄","8100043","星展高雄"]
["桃園分行","星展桃園","8100054","星展桃園"]
["豐原分行","星展豐原","8100065","星展豐原"]
["林口分行","星展林口","8100076","星展林口"]
["台南分行","星展台南","8100098","星展台南"]
["大安分行","星展大安","8100102","星展大安"]
["新樹分行","星展新樹","8100113","星展新樹"]
["太平分行","星展太平","8100124","星展太平"]
["中清分行","星展中清","8100135","星展中清"]
["三重分行","星展三重","8100157","星展三重"]
["蘆洲分行","星展蘆洲","8100168","星展蘆洲"]
["信義分行","星展信義","8100179","星展信義"]
["中港分行","星展中港","8100180","星展中港"]
["左營分行","星展左營","8100205","星展左營"]
["汐止分行","星展汐止","8100216","星展汐止"]
["天母分行","星展天母","8100227","星展天母"]
["八德分行","星展八德","8100238","星展八德"]
["中山分行","星展中山","8100249","星展中山"]
["新莊分行","星展新莊","8100250","星展新莊"]
["板橋分行","星展板橋","8100261","星展板橋"]
["中和分行","星展中和","8100272","星展中和"]
["楠梓分行","星展楠梓","8100283","星展楠梓"]
["民權分行","星展民權","8100294","星展民權"]
["苓雅分行","星展苓雅","8100308","星展苓雅"]
["五福分行","星展五福","8100319","星展五福"]
["新店分行","星展新店","8100320","星展新店"]
["前鎮分行","星展前鎮","8100331","星展前鎮"]
["東新竹分行","星展東新竹","8100342","星展東新竹"]
["鼎強分行","星展鼎強","8100353","星展鼎強"]
["南京東路分行","星展南東","8100364","星展南東"]
["莒光分行","星展莒光","8100375","星展莒光"]
["中壢分行","星展中壢","8100386","星展中壢"]
["新竹分行","星展新竹","8100397","星展新竹"]
["大同分行","星展大同","8100401","星展大同"]
["敦南分行","星展敦南","8100412","星展敦南"]
["內湖分行","星展內湖","8100423","星展內湖"]
["營業部","台新營","8120012","台新營"]
["敦南分行","台新敦南","8120023","台新敦南"]
["新生分行","台新新生","8120045","台新新生"]
["新莊分行","台新新莊","8120056","台新新莊"]
["桃園分行","台新桃園","8120067","台新桃園"]
["台中分行","台新台中","8120078","台新台中"]
["板橋分行","台新板橋","8120089","台新板橋"]
["高雄分行","台新高雄","8120090","台新高雄"]
["台南分行","台新台南","8120104","台新台南"]
["南京東路分行","台新南京","8120115","台新南京"]
["中壢分行","台新中壢","8120126","台新中壢"]
["信託部","台新信","8120137","台新信"]
["苓雅分行","台新苓雅","8120159","台新苓雅"]
["蘆洲分行","台新蘆洲","8120160","台新蘆洲"]
["天母分行","台新天母","8120171","台新天母"]
["大里分行","台新大里","8120182","台新大里"]
["中和分行","台新中和","8120207","台新中和"]
["嘉義分行","台新嘉義","8120218","台新嘉義"]
["豐原分行","台新豐原","8120229","台新豐原"]
["花蓮分行","台新花蓮","8120230","台新花蓮"]
["新竹分行","台新新竹","8120241","台新新竹"]
["七賢分行","台新七賢","8120252","台新七賢"]
["信義分行","台新信義","8120263","台新信義"]
["北台中分行","台新北台中","8120274","台新北台中"]
["三重分行","台新三重","8120285","台新三重"]
["永福分行","台新永福","8120296","台新永福"]
["屏東分行","台新屏東","8120300","台新屏東"]
["大安分行","台新大安","8120311","台新大安"]
["龍潭分行","台新龍潭","8120322","台新龍潭"]
["崇德分行","台新崇德","8120333","台新崇德"]
["金華分行","台新金華","8120344","台新金華"]
["後甲分行","台新後甲","8120355","台新後甲"]
["海佃分行","台新海佃","8120366","台新海佃"]
["彰化分行","台新彰化","8120377","台新彰化"]
["五甲分行","台新五甲","8120388","台新五甲"]
["鳳山分行","台新鳳山","8120399","台新鳳山"]
["古亭分行","台新古亭","8120403","台新古亭"]
["建橋分行","台新建橋","8120414","台新建橋"]
["民生分行","台新民生","8120436","台新民生"]
["太平分行","台新太平","8120447","台新太平"]
["和平分行","台新和平","8120458","台新和平"]
["北高雄分行","台新北高雄","8120469","台新北高雄"]
["南新莊分行","台新南新莊","8120470","台新南新莊"]
["內湖分行","台新內湖","8120481","台新內湖"]
["永和分行","台新永和","8120492","台新永和"]
["逢甲分行","台新逢甲","8120517","台新逢甲"]
["竹科分行","台新竹科","8120528","台新竹科"]
["南屯分行","台新南屯","8120540","台新南屯"]
["大直分行","台新大直","8120551","台新大直"]
["南門分行","台新南門","8120562","台新南門"]
["西門分行","台新西門","8120610","台新西門"]
["敦北分行","台新敦北","8120621","台新敦北"]
["忠孝分行","台新忠孝","8120632","台新忠孝"]
["復興分行","台新復興","8120643","台新復興"]
["板南分行","台新板南","8120654","台新板南"]
["民權分行","台新民權","8120665","台新民權"]
["五福分行","台新五福","8120676","台新五福"]
["建北分行","台新建北","8120687","台新建北"]
["三和分行","台新三和","8120698","台新三和"]
["北新店分行","台新北新店","8120702","台新北新店"]
["府城分行","台新府城","8120713","台新府城"]
["東高雄分行","台新東高雄","8120724","台新東高雄"]
["基隆路分行","台新基隆路","8120735","台新基隆路"]
["新店分行","台新新店","8120746","台新新店"]
["北桃園分行","台新北桃園","8120757","台新北桃園"]
["西台中分行","台新西台中","8120768","台新西台中"]
["延平分行","台新延平","8120779","台新延平"]
["南崁分行","台新南崁","8120780","台新南崁"]
["景平分行","台新景平","8120791","台新景平"]
["文心分行","台新文心","8120805","台新文心"]
["岡山分行","台新岡山","8120816","台新岡山"]
["台北分行","台新台北","8120827","台新台北"]
["大雅分行","台新大雅","8120838","台新大雅"]
["汐止分行","台新汐止","8120849","台新汐止"]
["南屏分行","台新南屏","8120850","台新南屏"]
["石牌分行","台新石牌","8120861","台新石牌"]
["永康分行","台新永康","8120872","台新永康"]
["南松山分行","台新南松山","8120883","台新南松山"]
["淡水分行","台新淡水","8120894","台新淡水"]
["東基隆分行","台新東基隆","8120908","台新東基隆"]
["新板分行","台新新板","8120919","台新新板"]
["北師分行","台新北師","8120920","台新北師"]
["佳里分行","台新佳里","8120931","台新佳里"]
["江翠分行","台新江翠","8120942","台新江翠"]
["松德分行","台新松德","8120975","台新松德"]
["北大分行","台新北大","8120986","台新北大"]
["南港分行","台新南港","8120997","台新南港"]
["關東橋分行","台新關東橋","8121008","台新關東橋"]
["竹北分行","台新竹北","8121019","台新竹北"]
["南寮分行","台新南寮","8121020","台新南寮"]
["八德分行","台新八德","8121031","台新八德"]
["員林分行","台新員林","8121042","台新員林"]
["市府分行","台新市府","8121053","台新市府"]
["右昌分行","台新右昌","8121064","台新右昌"]
["沙鹿分行","台新沙鹿","8121075","台新沙鹿"]
["頭份分行","台新頭份","8121086","台新頭份"]
["羅東分行","台新羅東","8121097","台新羅東"]
["東湖分行","台新東湖","8121101","台新東湖"]
["文山分行","台新文山","8121112","台新文山"]
["苓雅分行","大眾苓雅","8140014","大眾苓雅"]
["敦化分行","大眾敦化","8140025","大眾敦化"]
["屏東分行","大眾屏東","8140036","大眾屏東"]
["高雄分行","大眾高雄","8140047","大眾高雄"]
["鳳山分行","大眾鳳山","8140058","大眾鳳山"]
["台南分行","大眾台南","8140069","大眾台南"]
["嘉義分行","大眾嘉義","8140070","大眾嘉義"]
["台北分行","大眾台北","8140081","大眾台北"]
["新莊分行","大眾新莊","8140092","大眾新莊"]
["中壢分行","大眾中壢","8140106","大眾中壢"]
["台中分行","大眾台中","8140117","大眾台中"]
["大昌分行","大眾大昌","8140128","大眾大昌"]
["新生分行","大眾新生","8140151","大眾新生"]
["板橋分行","大眾板橋","8140162","大眾板橋"]
["沙鹿分行","大眾沙鹿","8140173","大眾沙鹿"]
["博愛分行","大眾博愛","8140184","大眾博愛"]
["長春分行","大眾長春","8140209","大眾長春"]
["三重分行","大眾三重","8140210","大眾三重"]
["桃園分行","大眾桃園","8140221","大眾桃園"]
["永康分行","大眾永康","8140232","大眾永康"]
["右昌分行","大眾右昌","8140243","大眾右昌"]
["前金簡易型分行","大眾前金簡","8140254","大眾前金簡"]
["五甲分行","大眾五甲","8140265","大眾五甲"]
["文山簡易型分行","大眾文山簡","8140276","大眾文山簡"]
["中和分行","大眾中和","8140287","大眾中和"]
["新營分行","大眾新營","8140298","大眾新營"]
["大和平分行","大眾大和平","8140302","大眾大和平"]
["西台南分行","大眾西台南","8140313","大眾西台南"]
["內湖分行","大眾內湖","8140324","大眾內湖"]
["灣裡分行","大眾灣裡","8140335","大眾灣裡"]
["安南分行","大眾安南","8140346","大眾安南"]
["江翠分行","大眾江翠","8140357","大眾江翠"]
["長庚分行","大眾長庚","8140368","大眾長庚"]
["東台南分行","大眾東台南","8140379","大眾東台南"]
["營業部","大眾營業部","8140380","大眾營業部"]
["新竹分行","大眾新竹","8140391","大眾新竹"]
["汐止簡易型分行","大眾汐止簡","8140405","大眾汐止簡"]
["天母分行","大眾天母","8140416","大眾天母"]
["仁愛分行","大眾仁愛","8140427","大眾仁愛"]
["澄清簡易型分行","大眾澄清簡","8140438","大眾澄清簡"]
["永和分行","大眾永和","8140450","大眾永和"]
["小港簡易型分行","大眾小港簡","8140461","大眾小港簡"]
["竹北簡易型分行","大眾竹北簡","8140472","大眾竹北簡"]
["北桃園分行","大眾北桃園","8140483","大眾北桃園"]
["永春簡易型分行","大眾永春簡","8140494","大眾永春簡"]
["圓山分行","大眾圓山","8140508","大眾圓山"]
["豐原簡易型分行","大眾豐原簡","8140519","大眾豐原簡"]
["彰化簡易型分行","大眾彰化簡","8140520","大眾彰化簡"]
["北高雄簡易型分行","大眾北高雄","8140531","大眾北高雄"]
["大里簡易型分行","大眾大里簡","8140542","大眾大里簡"]
["北台中分行","大眾北台中","8140553","大眾北台中"]
["中屏簡易型分行","大眾中屏簡","8140564","大眾中屏簡"]
["旗津分行","大眾旗津","8140575","大眾旗津"]
["左營分行","大眾左營","8140586","大眾左營"]
["鹽埕簡易型分行","大眾鹽埕簡","8140597","大眾鹽埕簡"]
["前鎮分行","大眾前鎮","8140601","大眾前鎮"]
["明誠分行","大眾明誠","8140612","大眾明誠"]
["中正分行","大眾中正","8140726","大眾中正"]
["東湖分行","大眾東湖","8140737","大眾東湖"]
["安和分行","大眾安和","8140759","大眾安和"]
["敦南分行","大眾敦南","8140760","大眾敦南"]
["南門簡易型分行","大眾南門簡","8140771","大眾南門簡"]
["新板分行","大眾新板","8140782","大眾新板"]
["新店分行","大眾新店","8140793","大眾新店"]
["南屯分行","大眾南屯","8140807","大眾南屯"]
["中山分行","大眾中山","8140818","大眾中山"]
["東門分行","大眾東門","8140829","大眾東門"]
["營業部","日盛銀營","8150015","日盛銀營"]
["松江分行","日盛銀松江","8150026","日盛銀松江"]
["延平分行","日盛銀延平","8150037","日盛銀延平"]
["內湖分行","日盛銀內湖","8150048","日盛銀內湖"]
["桃園分行","日盛銀桃園","8150059","日盛銀桃園"]
["台中分行","日盛銀台中","8150060","日盛銀台中"]
["台南分行","日盛銀台南","8150071","日盛銀台南"]
["高雄分行","日盛銀高雄","8150093","日盛銀高雄"]
["新莊分行","日盛銀新莊","8150107","日盛銀新莊"]
["中壢分行","日盛銀中壢","8150118","日盛銀中壢"]
["松山分行","日盛銀松山","8150129","日盛銀松山"]
["松南分行","日盛銀松南","8150130","日盛銀松南"]
["八德分行","日盛銀八德","8150141","日盛銀八德"]
["板橋分行","日盛銀板橋","8150163","日盛銀板橋"]
["信義分行","日盛銀信義","8150174","日盛銀信義"]
["苓雅分行","日盛銀苓雅","8150185","日盛銀苓雅"]
["前金分行","日盛銀前金","8150196","日盛銀前金"]
["嘉義分行","日盛銀嘉義","8150211","日盛銀嘉義"]
["三重分行","日盛銀三重","8150222","日盛銀三重"]
["北台中分行","日盛銀北台","8150233","日盛銀北台"]
["雙和分行","日盛銀雙和","8150244","日盛銀雙和"]
["士林分行","日盛銀士林","8150255","日盛銀士林"]
["樹林分行","日盛銀樹林","8150266","日盛銀樹林"]
["北桃園分行","日盛銀北桃","8150277","日盛銀北桃"]
["新竹分行","日盛銀新竹","8150288","日盛銀新竹"]
["敦化分行","日盛銀敦化","8150299","日盛銀敦化"]
["三民分行","日盛銀三民","8150303","日盛銀三民"]
["新營分行","日盛銀新營","8150314","日盛銀新營"]
["頭份分行","日盛銀頭份","8150325","日盛銀頭份"]
["大里分行","日盛銀大里","8150336","日盛銀大里"]
["光復分行","日盛銀光復","8150347","日盛銀光復"]
["員林分行","日盛銀員林","8150358","日盛銀員林"]
["虎尾分行","日盛銀虎尾","8150369","日盛銀虎尾"]
["屏東分行","日盛銀屏東","8150370","日盛銀屏東"]
["南門分行","日盛銀南門","8150381","日盛銀南門"]
["大安分行","日盛銀大安","8150392","日盛銀大安"]
["敦北分行","日盛銀敦北","8150406","日盛銀敦北"]
["南京分行","日盛銀南京","8150417","日盛銀南京"]
["竹北分行","日盛銀竹北","8150428","日盛銀竹北"]
["安平分行","日盛銀安平","8150439","日盛銀安平"]
["新店分行","日盛銀新店","8150451","日盛銀新店"]
["土城分行","日盛銀土城","8150462","日盛銀土城"]
["南港分行","日盛銀南港","8150473","日盛銀南港"]
["蘆洲分行","日盛銀蘆洲","8150484","日盛銀蘆洲"]
["長安東路分行","安泰長安東","8160016","安泰長安東"]
["信義分行","安泰信義","8160027","安泰信義"]
["營業部","安泰營","8160038","安泰營"]
["新生分行","安泰新生","8160049","安泰新生"]
["桃園分行","安泰桃園","8160050","安泰桃園"]
["新莊分行","安泰新莊","8160061","安泰新莊"]
["台中分行","安泰台中","8160072","安泰台中"]
["高雄分行","安泰高雄","8160083","安泰高雄"]
["台南分行","安泰台南","8160094","安泰台南"]
["興隆分行","安泰興隆","8160108","安泰興隆"]
["延平分行","安泰延平","8160119","安泰延平"]
["中壢分行","安泰中壢","8160120","安泰中壢"]
["板橋分行","安泰板橋","8160131","安泰板橋"]
["豐原分行","安泰豐原","8160142","安泰豐原"]
["前金分行","安泰前金","8160153","安泰前金"]
["中和分行","安泰中和","8160164","安泰中和"]
["鳳山分行","安泰鳳山","8160186","安泰鳳山"]
["松江分行","安泰松江","8160197","安泰松江"]
["中崙分行","安泰中崙","8160201","安泰中崙"]
["嘉義分行","安泰嘉義","8160212","安泰嘉義"]
["三重簡易型分行","安泰三重簡","8160223","安泰三重簡"]
["沙鹿分行","安泰沙鹿","8160245","安泰沙鹿"]
["新竹分行","安泰新竹","8160256","安泰新竹"]
["員林分行","安泰員林","8160267","安泰員林"]
["建國分行","安泰建國","8160278","安泰建國"]
["北高雄分行","安泰北高雄","8160289","安泰北高雄"]
["新店分行","安泰新店","8160290","安泰新店"]
["和平分行","安泰和平","8160304","安泰和平"]
["成功分行","安泰成功","8160315","安泰成功"]
["通化簡易型分行","安泰通化簡","8160326","安泰通化簡"]
["南門分行","安泰南門","8160337","安泰南門"]
["汀州簡易型分行","安泰汀州簡","8160348","安泰汀州簡"]
["農安分行","安泰農安","8160359","安泰農安"]
["景美分行","安泰景美","8160360","安泰景美"]
["民權分行","安泰民權","8160371","安泰民權"]
["松山分行","安泰松山","8160382","安泰松山"]
["內湖簡易型分行","安泰內湖簡","8160393","安泰內湖簡"]
["忠孝分行","安泰忠孝","8160407","安泰忠孝"]
["蘆洲分行","安泰蘆洲","8160418","安泰蘆洲"]
["永康分行","安泰永康","8160429","安泰永康"]
["西壢分行","安泰西壢","8160430","安泰西壢"]
["北桃園簡易型分行","安泰北桃園","8160441","安泰北桃園"]
["幸福分行","安泰幸福","8160452","安泰幸福"]
["天母分行","安泰天母","8160463","安泰天母"]
["龍潭簡易型分行","安泰龍潭簡","8160474","安泰龍潭簡"]
["復興分行","安泰復興","8160485","安泰復興"]
["永吉簡易型分行","安泰永吉簡","8160496","安泰永吉簡"]
["石牌簡易型分行","安泰石牌簡","8160500","安泰石牌簡"]
["八德簡易型分行","安泰八德簡","8160511","安泰八德簡"]
["竹北簡易型分行","安泰竹北簡","8160522","安泰竹北簡"]
["永和分行","安泰永和","8160533","安泰永和"]
["西湖簡易型分行","安泰西湖簡","8160544","安泰西湖簡"]
["土城簡易型分行","安泰土城簡","8160555","安泰土城簡"]
["敦北分行","中信銀敦北","8220015","中信銀敦北"]
["台中分行","中信銀台中","8220026","中信銀台中"]
["高雄分行","中信銀高雄","8220037","中信銀高雄"]
["台南分行","中信銀台南","8220059","中信銀台南"]
["三重分行","中信銀三重","8220060","中信銀三重"]
["城東分行","中信銀城東","8220071","中信銀城東"]
["嘉義分行","中信銀嘉義","8220082","中信銀嘉義"]
["中崙分行","中信銀中崙","8220093","中信銀中崙"]
["城中分行","中信銀城中","8220107","中信銀城中"]
["三民分行","中信銀三民","8220118","中信銀三民"]
["中壢分行","中信銀中壢","8220129","中信銀中壢"]
["雙和分行","中信銀雙和","8220130","中信銀雙和"]
["中山分行","中信銀中山","8220141","中信銀中山"]
["仁愛分行","中信銀仁愛","8220152","中信銀仁愛"]
["敦南分行","中信銀敦南","8220163","中信銀敦南"]
["板橋分行","中信銀板橋","8220174","中信銀板橋"]
["忠孝分行","中信銀忠孝","8220185","中信銀忠孝"]
["新興分行","中信銀新興","8220196","中信銀新興"]
["南京東路分行","中信銀南京","8220200","中信銀南京"]
["西台南分行","中信銀西台","8220222","中信銀西台"]
["松山分行","中信銀松山","8220255","中信銀松山"]
["新莊分行","中信銀新莊","8220266","中信銀新莊"]
["桃園分行","中信銀桃園","8220277","中信銀桃園"]
["中港分行","中信銀中港","8220288","中信銀中港"]
["新竹分行","中信銀新竹","8220299","中信銀新竹"]
["蘆洲分行","中信銀蘆洲","8220303","中信銀蘆洲"]
["新店分行","中信銀新店","8220314","中信銀新店"]
["員林分行","中信銀員林","8220325","中信銀員林"]
["東新竹分行","中信銀東新","8220336","中信銀東新"]
["公館分行","中信銀公館","8220347","中信銀公館"]
["永康分行","中信銀永康","8220358","中信銀永康"]
["土城分行","中信銀土城","8220369","中信銀土城"]
["頭份分行","中信銀頭份","8220370","中信銀頭份"]
["基隆分行","中信銀基隆","8220381","中信銀基隆"]
["豐原分行","中信銀豐原","8220392","中信銀豐原"]
["天母分行","中信銀天母","8220406","中信銀天母"]
["板新分行","中信銀板新","8220417","中信銀板新"]
["彰化分行","中信銀彰化","8220428","中信銀彰化"]
["東高雄分行","中信銀東高","8220439","中信銀東高"]
["中華分行","中信銀中華","8220440","中信銀中華"]
["內湖分行","中信銀內湖","8220451","中信銀內湖"]
["斗六分行","中信銀斗六","8220462","中信銀斗六"]
["文心分行","中信銀文心","8220473","中信銀文心"]
["重陽分行","中信銀重陽","8220484","中信銀重陽"]
["永吉分行","中信銀永吉","8220495","中信銀永吉"]
["前鎮簡易型分行","中信銀前鎮","8220509","中信銀前鎮"]
["南崁分行","中信銀南崁","8220510","中信銀南崁"]
["永和分行","中信銀永和","8220521","中信銀永和"]
["公益分行","中信銀公益","8220532","中信銀公益"]
["市府分行","中信銀市府","8220543","中信銀市府"]
["經國分行","中信銀經國","8220554","中信銀經國"]
["右昌簡易型分行","中信銀右昌","8220565","中信銀右昌"]
["江翠分行","中信銀江翠","8220576","中信銀江翠"]
["東湖簡易型分行","中信銀東湖","8220587","中信銀東湖"]
["中原分行","中信銀中原","8220598","中信銀中原"]
["大安分行","中信銀大安","8220602","中信銀大安"]
["北高雄分行","中信銀北高","8220613","中信銀北高"]
["承德分行","中信銀承德","8220624","中信銀承德"]
["復興分行","中信銀復興","8220635","中信銀復興"]
["石牌分行","中信銀石牌","8220646","中信銀石牌"]
["城北分行","中信銀城北","8220657","中信銀城北"]
["萬華分行","中信銀萬華","8220668","中信銀萬華"]
["西松分行","中信銀西松","8220679","中信銀西松"]
["北投分行","中信銀北投","8220680","中信銀北投"]
["安和分行","中信銀安和","8220691","中信銀安和"]
["大同簡易型分行","中信銀大同","8220705","中信銀大同"]
["瑞光分行","中信銀瑞光","8220716","中信銀瑞光"]
["宜蘭分行","中信銀宜蘭","8220727","中信銀宜蘭"]
["民生分行","中信銀民生","8220738","中信銀民生"]
["中和分行","中信銀中和","8220749","中信銀中和"]
["重新分行","中信銀重新","8220750","中信銀重新"]
["丹鳳分行","中信銀丹鳳","8220761","中信銀丹鳳"]
["北新店分行","中信北新店","8220772","中信北新店"]
["汐止分行","中信銀汐止","8220783","中信銀汐止"]
["金城分行","中信銀金城","8220794","中信銀金城"]
["樹林分行","中信銀樹林","8220808","中信銀樹林"]
["南勢角分行","中信銀南勢","8220819","中信銀南勢"]
["北新莊分行","中信北新莊","8220820","中信北新莊"]
["南桃園分行","中信銀南桃","8220853","中信銀南桃"]
["北桃園分行","中信北桃園","8220864","中信北桃園"]
["竹科分行","中信銀竹科","8220875","中信銀竹科"]
["營業部","中信銀營","8220901","中信銀營"]
["八德分行","中信銀八德","8221012","中信銀八德"]
["林口分行","中信銀林口","8221023","中信銀林口"]
["竹北分行","中信銀竹北","8221034","中信銀竹北"]
["南屯分行","中信銀南屯","8221045","中信銀南屯"]
["大里分行","中信銀大里","8221056","中信銀大里"]
["北台中簡易型分行","中信銀北台","8221067","中信銀北台"]
["南投簡易型分行","中信銀南投","8221078","中信銀南投"]
["仁德簡易型分行","中信銀仁德","8221090","中信銀仁德"]
["中台南分行","中信銀中台","8221104","中信銀中台"]
["東台南分行","中信銀東台","8221115","中信銀東台"]
["台東簡易型分行","中信銀台東","8221126","中信銀台東"]
["南台南分行","中信銀南台","8221137","中信銀南台"]
["新營分行","中信銀新營","8221148","中信銀新營"]
["科博館分行","中信銀科博","8221159","中信銀科博"]
["西屯簡易型分行","中信銀西屯","8221160","中信銀西屯"]
["民族分行","中信銀民族","8221171","中信銀民族"]
["南高雄分行","中信銀南高","8221182","中信銀南高"]
["九如分行","中信銀九如","8221193","中信銀九如"]
["屏東分行","中信銀屏東","8221207","中信銀屏東"]
["復北分行","中信銀復北","8221218","中信銀復北"]
["鳳山分行","中信銀鳳山","8221229","中信銀鳳山"]
["五甲分行","中信銀五甲","8221230","中信銀五甲"]
["延吉分行","中信銀延吉","8221241","中信銀延吉"]
["信義分行","中信銀信義","8221252","中信銀信義"]
["青年分行","中信銀青年","8221263","中信銀青年"]
["岡山簡易型分行","中信銀岡山","8221274","中信銀岡山"]
["士林分行","中信銀士林","8221285","中信銀士林"]
["東民生分行","中信東民生","8221296","中信東民生"]
["文山分行","中信銀文山","8221300","中信銀文山"]
["淡水簡易型分行","中信銀淡水","8222101","中信銀淡水"]
["民安簡易型分行","中信銀民安","8222112","中信銀民安"]
["二重埔簡易型分行","中信銀二重","8222123","中信銀二重"]
["富錦分行","中信銀富錦","8222134","中信銀富錦"]
["站前分行","中信銀站前","8222145","中信銀站前"]
["惠中簡易型分行","中信銀惠中","8222156","中信銀惠中"]
["東蘆洲分行","中信銀東蘆","8222167","中信銀東蘆"]
["木柵分行","中信銀木柵","8222178","中信銀木柵"]
["東花蓮分行","中信銀東花","8222189","中信銀東花"]
["寶山分行","中信銀寶山","8222190","中信銀寶山"]
["藝文分行","中信銀藝文","8222204","中信銀藝文"]
["東門分行","中信銀東門","8222215","中信銀東門"]
["新板特區分行","中信銀新板","8222226","中信銀新板"]
["三和分行","中信銀三和","8222237","中信銀三和"]
["劍潭分行","中信銀劍潭","8222248","中信銀劍潭"]
["北蘆洲分行","中信北蘆洲","8222259","中信北蘆洲"]
["寶強分行","中信銀寶強","8222260","中信銀寶強"]
["華山分行","中信銀華山","8222271","中信銀華山"]
["龍江分行","中信銀龍江","8222282","中信銀龍江"]
["成功分行","中信銀成功","8222293","中信銀成功"]
["市政分行","中信銀市政","8223108","中信銀市政"]
["大直分行","中信銀大直","8223119","中信銀大直"]
["景美分行","中信銀景美","8223120","中信銀景美"]
["內壢簡易型分行","中信銀內壢","8223131","中信銀內壢"]
["重慶分行","中信銀重慶","8223142","中信銀重慶"]
["長安分行","中信銀長安","8223153","中信銀長安"]
["羅東分行","中信銀羅東","8223164","中信銀羅東"]
["南中壢分行","中信南中壢","8223175","中信南中壢"]
["板和簡易型分行","中信銀板和","8223186","中信銀板和"]
["花蓮分行","中信銀花蓮","8223197","中信銀花蓮"]
["北天母分行","中信銀北天","8223201","中信銀北天"]
["民權西路分行","中信銀民權","8223212","中信銀民權"]
["佳里分行","中信銀佳里","8223223","中信銀佳里"]
["博愛分行","中信銀博愛","8223234","中信銀博愛"]
["鹽行分行","中信銀鹽行","8223245","中信銀鹽行"]
["光復分行","中信銀光復","8223267","中信銀光復"]
["營業部（永欣證券）","北九營","1060016","北九營"]
["興隆分社","北九興隆","1060025","北九興隆"]
["雙園分社","北九雙園","1060034","北九雙園"]
["西門分社","北九西門","1060043","北九西門"]
["古亭分社","北九古亭","1060052","北九古亭"]
["中正分社","北九中正","1060061","北九中正"]
["松山分社","北九松山","1060070","北九松山"]
["士林分社","北九士林","1060089","北九士林"]
["東湖分社","北九東湖","1060098","北九東湖"]
["安和分社","北九安和","1060104","北九安和"]
["民生分社","北九民生","1060113","北九民生"]
["雙連分社","北九雙連","1060122","北九雙連"]
["重慶分社","北九重慶","1060131","北九重慶"]
["木柵分社","北九木柵","1060140","北九木柵"]
["環南分社","北九環南","1060159","北九環南"]
["大直分社","北九大直","1060168","北九大直"]
["萬大分社","北九萬大","1060177","北九萬大"]
["信義分社","北九信義","1060186","北九信義"]
["營業部","基一營","1140015","基一營"]
["仁一路分社","基一仁一路","1140024","基一仁一路"]
["愛三路分社","基一愛三路","1140033","基一愛三路"]
["忠二路分社","基一忠二路","1140042","基一忠二路"]
["安一路分社","基一安一路","1140051","基一安一路"]
["信二路分社","基一信二路","1140060","基一信二路"]
["中華路分社","基一中華路","1140079","基一中華路"]
["八斗子分社","基一八斗子","1140088","基一八斗子"]
["南興路分社","基一南興路","1140097","基一南興路"]
["大武崙分社","基一大武崙","1140103","基一大武崙"]
["碇內分社","基一碇內","1140112","基一碇內"]
["仁二路分社","基一仁二路","1140121","基一仁二路"]
["營業部（公誠證券收付處）","基二營","1150014","基二營"]
["廟口分社","基二廟口","1150023","基二廟口"]
["中正分社","基二中正","1150032","基二中正"]
["新店分社（國際證券收付處）","基二新店","1150041","基二新店"]
["七堵分社","基二七堵","1150050","基二七堵"]
["安樂分社","基二安樂","1150069","基二安樂"]
["信義分社","基二信義","1150078","基二信義"]
["港東分社","基二港東","1150087","基二港東"]
["暖暖分社","基二暖暖","1150096","基二暖暖"]
["安和分社","基二安和","1150102","基二安和"]
["臺北分社","基二臺北","1150111","基二臺北"]
["百福分社","基二百福","1150120","基二百福"]
["基金簡易型分社","基二基金簡","1150139","基二基金簡"]
["新豐簡易型分社","基二新豐簡","1150148","基二新豐簡"]
["復興簡易型分社","基二復興簡","1150157","基二復興簡"]
["營業部","淡一營","1190010","淡一營"]
["三重分社","淡一三重","1190029","淡一三重"]
["三芝分社","淡一三芝","1190038","淡一三芝"]
["八里分社","淡一八里","1190047","淡一八里"]
["石門分社","淡一石門","1190056","淡一石門"]
["竹圍分社","淡一竹圍","1190065","淡一竹圍"]
["水碓分社","淡一水碓","1190074","淡一水碓"]
["英專分社","淡一英專","1190083","淡一英專"]
["義山分社","淡一義山","1190092","淡一義山"]
["龍形分社","淡一龍形","1190108","淡一龍形"]
["金山分社","淡一金山","1190117","淡一金山"]
["萬里分社","淡一萬里","1190126","淡一萬里"]
["板橋分社","淡一板橋","1190135","淡一板橋"]
["營業部","竹一營","1300013","竹一營"]
["城中分社","竹一城中","1300022","竹一城中"]
["武昌分社","竹一武昌","1300031","竹一武昌"]
["新社分社","竹一新社","1300040","竹一新社"]
["竹北分社","竹一竹北","1300059","竹一竹北"]
["三民分社","竹一三民","1300068","竹一三民"]
["香山分社","竹一香山","1300077","竹一香山"]
["東南分社","竹一東南","1300086","竹一東南"]
["光復分社","竹一光復","1300095","竹一光復"]
["南寮分社","竹一南寮","1300101","竹一南寮"]
["南香山分社","竹一南香山","1300110","竹一南香山"]
["武陵分社","竹一武陵","1300129","竹一武陵"]
["延平分社","竹一延平","1300138","竹一延平"]
["建功分社","竹一建功","1300147","竹一建功"]
["市中分社","竹三市中","1320011","竹三市中"]
["民生分社","竹三民生","1320020","竹三民生"]
["營業部","竹三營","1320039","竹三營"]
["中正分社","竹三中正","1320048","竹三中正"]
["東南分社","竹三東南","1320057","竹三東南"]
["西門分社","竹三西門","1320066","竹三西門"]
["東光分社","竹三東光","1320075","竹三東光"]
["香山分社","竹三香山","1320084","竹三香山"]
["竹南分社","竹三竹南","1320093","竹三竹南"]
["延平分社","竹三延平","1320109","竹三延平"]
["光華分社","竹三光華","1320118","竹三光華"]
["新豐分社","竹三新豐","1320127","竹三新豐"]
["竹北分社","竹三竹北","1320136","竹三竹北"]
["六家簡易型分社","竹三六家簡","1320145","竹三六家簡"]
["營業部","中二營","1460014","中二營"]
["文昌分社","中二文昌","1460023","中二文昌"]
["南屯分社","中二南屯","1460032","中二南屯"]
["五權分社","中二五權","1460041","中二五權"]
["東南分社","中二東南","1460050","中二東南"]
["大智分社","中二大智","1460069","中二大智"]
["港路分社","中二港路","1460078","中二港路"]
["精進分社","中二精進","1460087","中二精進"]
["中興分社","中二中興","1460096","中二中興"]
["水湳分社","中二水湳","1460102","中二水湳"]
["中和分社","中二中和","1460111","中二中和"]
["松竹分社","中二松竹","1460120","中二松竹"]
["向上分社","中二向上","1460139","中二向上"]
["大雅分社","中二大雅","1460148","中二大雅"]
["西屯分社","中二西屯","1460157","中二西屯"]
["太平分社","中二太平","1460166","中二太平"]
["大里分社","中二大里","1460175","中二大里"]
["車路口分社","彰六車路口","1620012","彰六車路口"]
["營業部","彰六營","1620021","彰六營"]
["觀音亭口分社","彰六觀音亭","1620030","彰六觀音亭"]
["華陽分社","彰六華陽","1620049","彰六華陽"]
["和美分社","彰六和美","1620058","彰六和美"]
["花壇分社","彰六花壇","1620067","彰六花壇"]
["曉陽分社","彰六曉陽","1620076","彰六曉陽"]
["伸港分社","彰六伸港","1620085","彰六伸港"]
["秀水分社","彰六秀水","1620094","彰六秀水"]
["福興分社","彰六福興","1620100","彰六福興"]
["營業部（永昌收付處）","彰十營","1630011","彰十營"]
["華山分社","彰十華山","1630020","彰十華山"]
["三民分社","彰十三民","1630039","彰十三民"]
["中華分社","彰十中華","1630048","彰十中華"]
["大竹分社","彰十大竹","1630057","彰十大竹"]
["和美分社","彰十和美","1630066","彰十和美"]
["大埔分社","彰十大埔","1630075","彰十大埔"]
["埔鹽分社","彰十埔鹽","1630084","彰十埔鹽"]
["溪湖分社","彰十溪湖","1630093","彰十溪湖"]
["伸港分社","彰十伸港","1630109","彰十伸港"]
["營業部","鹿信營","1650019","鹿信營"]
["彰鹿分社","鹿信彰鹿","1650028","鹿信彰鹿"]
["頂番分社","鹿信頂番","1650037","鹿信頂番"]
["埔鹽分社","鹿信埔鹽","1650046","鹿信埔鹽"]
["彰濱分社","鹿信彰濱","1650055","鹿信彰濱"]
["管嶼分社","鹿信管嶼","1650064","鹿信管嶼"]
["王功分社","鹿信王功","1650073","鹿信王功"]
["草港分社","鹿信草港","1650082","鹿信草港"]
["溪湖分社","鹿信溪湖","1650091","鹿信溪湖"]
["營業部","高三營","2040011","高三營"]
["八德分社","高三八德","2040020","高三八德"]
["苓雅分社","高三苓雅","2040039","高三苓雅"]
["新興分社","高三新興","2040048","高三新興"]
["三民分社","高三三民","2040057","高三三民"]
["鼓山分社","高三鼓山","2040066","高三鼓山"]
["臨海分社","高三臨海","2040075","高三臨海"]
["前鎮分社","高三前鎮","2040084","高三前鎮"]
["前金分社","高三前金","2040093","高三前金"]
["左營分社","高三左營","2040109","高三左營"]
["青年分社","高三青年","2040118","高三青年"]
["楠梓分社","高三楠梓","2040127","高三楠梓"]
["三多分社","高三三多","2040136","高三三多"]
["灣子分社","高三灣子","2040145","高三灣子"]
["天祥分社（國際代收處）","高三天祥","2040154","高三天祥"]
["陽明分社","高三陽明","2040163","高三陽明"]
["武廟分社","高三武廟","2040172","高三武廟"]
["瑞祥分社","高三瑞祥","2040181","高三瑞祥"]
["右昌分社","高三右昌","2040190","高三右昌"]
["一心分社","高三一心","2040206","高三一心"]
["復興分社（光隆，日盛證券收付處）","花一復興","2150017","花一復興"]
["自由分社","花一自由","2150026","花一自由"]
["中華分社","花一中華","2150035","花一中華"]
["總社〈營業部〉","花一總","2150044","花一總"]
["美崙分社","花一美崙","2150053","花一美崙"]
["信義簡易型分社","花一信義","2150062","花一信義"]
["自強分社","花一自強","2150071","花一自強"]
["國光簡易型分社","花一國光簡","2150080","花一國光簡"]
["鳳山分社","花一鳳山","2150099","花一鳳山"]
["建國簡易型分社","花一建國簡","2150105","花一建國簡"]
["永康分社","花一永康","2150114","花一永康"]
["慶豐簡易型分社","花一慶豐簡","2150123","花一慶豐簡"]
["台東分社","花一台東","2150132","花一台東"]
["仁武分社","花一仁武","2150141","花一仁武"]
["橋頭分社","花一橋頭","2150150","花一橋頭"]
["營業部","花二營","2160016","花二營"]
["中山分社","花二中山","2160025","花二中山"]
["主里分社","花二主里","2160034","花二主里"]
["美崙分社","花二美崙","2160043","花二美崙"]
["中正分社","花二中正","2160052","花二中正"]
["富國分社","花二富國","2160061","花二富國"]
["田蒲分社","花二田蒲","2160070","花二田蒲"]
["建國分社","花二建國","2160089","花二建國"]
["壽豐分社","花二壽豐","2160098","花二壽豐"]
["玉里分社","花二玉里","2160104","花二玉里"]
["台東分社","花二台東","2160122","花二台東"]
["大里分社","花二大里","2160131","花二大里"]
["太平分社","花二太平","2160140","花二太平"]
["大雅分社","花二大雅","2160159","花二大雅"]
["烏日分社","花二烏日","2160168","花二烏日"]
["公益分社","花二公益","2160177","花二公益"]
["營業部","北五營","1040018","北五營"]
["吉林分社","北五吉林","1040027","北五吉林"]
["大同分社","北五大同","1040036","北五大同"]
["中山分社","北五中山","1040045","北五中山"]
["松山分社","北五松山","1040054","北五松山"]
["大安分社","北五大安","1040063","北五大安"]
["石牌分社","北五石牌","1040072","北五石牌"]
["南港分社","北五南港","1040081","北五南港"]
["文山分社","北五文山","1040090","北五文山"]
["中正分社","北五中正","1040106","北五中正"]
["北投分社","北五北投","1040115","北五北投"]
["內湖分社","北五內湖","1040124","北五內湖"]
["天母分社","北五天母","1040133","北五天母"]
["營業部","淡信營","1200016","淡信營"]
["水碓分社","淡信水碓","1200025","淡信水碓"]
["竹圍分社","淡信竹圍","1200034","淡信竹圍"]
["英專分社","淡信英專","1200043","淡信英專"]
["義山分社","淡信義山","1200052","淡信義山"]
["三芝分社","淡信三芝","1200061","淡信三芝"]
["八里分部","淡信八里","1200070","淡信八里"]
["成州分社","淡信成州","1200089","淡信成州"]
["五股分社","淡信五股","1200098","淡信五股"]
["營業部","宜信營","1240012","宜信營"]
["復興分社","宜信復興","1240021","宜信復興"]
["東門分社","宜信東門","1240030","宜信東門"]
["頭城分社","宜信頭城","1240058","宜信頭城"]
["礁溪分社","宜信礁溪","1240067","宜信礁溪"]
["營業部","桃信營業","1270019","桃信營業"]
["大林分社","桃信大林","1270028","桃信大林"]
["永興分社","桃信永興","1270037","桃信永興"]
["南華分社","桃信南華","1270046","桃信南華"]
["介壽分社","桃信介壽","1270055","桃信介壽"]
["中山分社","桃信中山","1270064","桃信中山"]
["永安分社","桃信永安","1270073","桃信永安"]
["會稽分社","桃信會稽","1270082","桃信會稽"]
["莊敬分社","桃信莊敬","1270091","桃信莊敬"]
["大湳分社","桃信大湳","1270107","桃信大湳"]
["南崁分社","桃信南崁","1270116","桃信南崁"]
["營業部","彰一營","1580019","彰一營"]
["中華分社","彰一中華","1580028","彰一中華"]
["曉陽分社","彰一曉陽","1580037","彰一曉陽"]
["彰美分社","彰一彰美","1580046","彰一彰美"]
["花壇分社","彰一花壇","1580055","彰一花壇"]
["大竹分社","彰一大竹","1580064","彰一大竹"]
["和美分社","彰一和美","1580073","彰一和美"]
["中正分社","彰一中正","1580082","彰一中正"]
["營業部","彰五營","1610013","彰五營"]
["華山分社","彰五華山","1610022","彰五華山"]
["彰南路分社","彰五彰南路","1610031","彰五彰南路"]
["東芳分社","彰五東芳","1610040","彰五東芳"]
["旭光分社","彰五旭光","1610059","彰五旭光"]
["大里分社","彰五大里","1610068","彰五大里"]
["營業部","嘉三營","1780013","嘉三營"]
["中埔分社","嘉三中埔","1780022","嘉三中埔"]
["新榮分社","嘉三新榮","1780031","嘉三新榮"]
["北興分社","嘉三北興","1780040","嘉三北興"]
["忠孝分社","嘉三忠孝","1780059","嘉三忠孝"]
["興嘉分社","嘉三興嘉","1780068","嘉三興嘉"]
["新南分社","嘉三新南","1780077","嘉三新南"]
["新興分社","嘉三新興","1780086","嘉三新興"]
["美源分社","嘉三美源","1780095","嘉三美源"]
["新生分社","嘉三新生","1780101","嘉三新生"]
["民生分社","嘉三民生","1780110","嘉三民生"]
["營業部","南三營","1880010","南三營"]
["東門分社","南三東門","1880029","南三東門"]
["西門分社","南三西門","1880038","南三西門"]
["安平分社","南三安平","1880047","南三安平"]
["成功分社","南三成功","1880056","南三成功"]
["大同分社","南三大同","1880065","南三大同"]
["文賢分社","南三文賢","1880074","南三文賢"]
["金華分社","南三金華","1880083","南三金華"]
["小東分社","南三小東","1880092","南三小東"]
["開元分社","南三開元","1880108","南三開元"]
["中華分社","南三中華","1880117","南三中華"]
["大灣分社","南三大灣","1880126","南三大灣"]
["安中分社","南三安中","1880135","南三安中"]
["營業部","澎一營","2220017","澎一營"]
["民權分社","澎一民權","2220026","澎一民權"]
["光復分社","澎一光復","2220035","澎一光復"]
["澎南分社","澎一澎南","2220044","澎一澎南"]
["赤崁分社","澎一赤崁","2220053","澎一赤崁"]
["西嶼分社","澎一西嶼","2220062","澎一西嶼"]
["湖西分社","澎一湖西","2220080","澎一湖西"]
["港都分社","澎一港都","2220099","澎一港都"]
["朝陽分社","澎一朝陽","2220105","澎一朝陽"]
["營業部","澎二營","2230016","澎二營"]
["民生分社","澎二民生","2230025","澎二民生"]
["陽明分社","澎二陽明","2230034","澎二陽明"]
["澎南分社","澎二澎南","2230043","澎二澎南"]
["白沙分社","澎二白沙","2230052","澎二白沙"]
["西嶼分社","澎二西嶼","2230061","澎二西嶼"]
["湖西分社","澎二湖西","2230070","澎二湖西"]
["漁港分社","澎二漁港","2230089","澎二漁港"]
["中興分社","澎二中興","2230098","澎二中興"]
["營業部","金門營","2240015","金門營"]
["金沙分社","金門金沙","2240024","金門金沙"]
["金湖分社","金門金湖","2240033","金門金湖"]
["烈嶼分社","金門烈嶼","2240042","金門烈嶼"]
["桃園區漁會","桃漁本會","5060012","桃漁本會"]
["新竹區漁會","竹漁本會","5070013","竹漁本會"]
["基隆區漁會","基漁","5030019","基漁"]
["新北市瑞芳區漁會","瑞漁本會","5040010","瑞漁本會"]
["深澳分部","瑞漁深澳","5040021","瑞漁深澳"]
["新北市萬里區漁會","萬里區漁會","5040032","萬里區漁會"]
["萬里分部","萬里漁萬里","5040054","萬里漁萬里"]
["宜蘭縣頭城區漁會","頭漁本會","5050011","頭漁本會"]
["大溪分部","頭漁大溪","5050033","頭漁大溪"]
["壯圍分部","頭漁壯圍","5050066","頭漁壯圍"]
["宜蘭縣蘇澳區漁會","蘇漁本會","5050022","蘇漁本會"]
["雲林區漁會","雲林漁本會","5120011","雲林漁本會"]
["台西分部","雲林漁台西","5120022","雲林漁台西"]
["口湖分部","雲林漁口湖","5120033","雲林漁口湖"]
["麥寮分部","雲林漁麥寮","5120044","雲林漁麥寮"]
["三條崙分部","雲林漁三條","5120055","雲林漁三條"]
["嘉義區漁會","嘉義漁本會","5150014","嘉義漁本會"]
["新塭分部","嘉義漁新塭","5150025","嘉義漁新塭"]
["義竹分部","嘉義漁義竹","5150036","嘉義漁義竹"]
["過溝分部","嘉義漁過溝","5150047","嘉義漁過溝"]
["東石分部","嘉義漁東石","5150058","嘉義漁東石"]
["過路分部","嘉義漁過路","5150069","嘉義漁過路"]
["副瀨分部","嘉義漁副瀨","5150070","嘉義漁副瀨"]
["景山分部","嘉義漁景山","5150081","嘉義漁景山"]
["南市區漁會","南市漁本會","5170016","南市漁本會"]
["四草分部","南市漁四草","5170027","南市漁四草"]
["安南分部","南市漁安南","5170038","南市漁安南"]
["南縣區漁會","南縣漁本會","5180017","南縣漁本會"]
["七股分部","南縣漁七股","5180028","南縣漁七股"]
["北門分部","南縣漁北門","5180039","南縣漁北門"]
["將軍港分部","南縣漁將軍","5180040","南縣漁將軍"]
["青山港分部","南縣漁青山","5180051","南縣漁青山"]
["永吉分部","南縣漁永吉","5180073","南縣漁永吉"]
["高雄區漁會信用部","高漁會信用","5200012","高漁會信用"]
["旗津分部","高漁旗津","5200034","高漁旗津"]
["援中港分部","高漁援中港","5200056","高漁援中港"]
["小港區漁會信用部","港漁信用","5200023","港漁信用"]
["興達港區漁會","興達漁本會","5210024","興達漁本會"]
["下茄萣分部","興達漁下茄","5210035","興達漁下茄"]
["林園區漁會","林漁本會","5210068","林漁本會"]
["彌陀區漁會","彌漁本會","5210079","彌漁本會"]
["舊港分部","彌漁舊港","5210105","彌漁舊港"]
["南寮分部","彌漁南寮","5210149","彌漁南寮"]
["永安區漁會","永漁本會","5210091","永漁本會"]
["琉球區漁會","琉漁本會","5230015","琉漁本會"]
["東港區漁會","東漁本會","5230037","東漁本會"]
["興台分部","東漁興台","5230118","東漁興台"]
["新園分部","東漁新園","5230129","東漁新園"]
["林邊區漁會","林邊漁本會","5230048","林邊漁本會"]
["塭豐分部","林邊漁塭豐","5230059","林邊漁塭豐"]
["崎峰分部","林邊漁崎峰","5230082","林邊漁崎峰"]
["水利分部","林邊漁水利","5230093","林邊漁水利"]
["新港區漁會","新漁本會","5240016","新漁本會"]
["澎湖區漁會","澎湖漁本會","5250017","澎湖漁本會"]
["西嶼分部","澎湖漁西嶼","5250028","澎湖漁西嶼"]
["白沙分部","澎湖漁白沙","5250039","澎湖漁白沙"]
["南龍區漁會","南龍漁本會","9540703","南龍漁本會"]
["竹南分部","南龍漁竹南","9540714","南龍漁竹南"]
["彰化區漁會","彰漁本會","9548905","彰漁本會"]
["王功分部","彰漁王功","9548916","彰漁王功"]
["芳苑分部","彰漁芳苑","9548927","彰漁芳苑"]
["大城分部","彰漁大城","9548938","彰漁大城"]
["草港分部","彰漁草港","9548949","彰漁草港"]
["福興分部","彰漁福興","9548950","彰漁福興"]
["伸港分部","彰漁伸港","9548961","彰漁伸港"]
["埔心分部","彰漁埔心","9548972","彰漁埔心"]
["通苑區漁會","通苑漁本會","9549500","通苑漁本會"]
["苑裡分部","通苑漁苑裡","9549511","通苑漁苑裡"]
["信用部","高區農信","6050018","高區農信"]
["三民分部","高區農三民","6050029","高區農三民"]
["鼓山分部","高區農鼓山","6050030","高區農鼓山"]
["新興分部","高區農新興","6050041","高區農新興"]
["鼎力分部","高區農鼎力","6050052","高區農鼎力"]
["苓雅分部","高區農苓雅","6050063","高區農苓雅"]
["前鎮分部","高區農前鎮","6050074","高區農前鎮"]
["楠梓分部","高區農楠梓","6050085","高區農楠梓"]
["右昌分部","高區農右昌","6050096","高區農右昌"]
["後勁分部","高區農後勁","6050100","高區農後勁"]
["左營分部","高區農左營","6050111","高區農左營"]
["營北分部","高區農營北","6050122","高區農營北"]
["新庄分部","高區農新庄","6050133","高區農新庄"]
["臺中地區農會信用部","中區農信","6250014","中區農信"]
["西屯分部","中區農西屯","6250025","中區農西屯"]
["北屯分部","中區農北屯","6250036","中區農北屯"]
["南屯分部","中區農南屯","6250047","中區農南屯"]
["四民分部","中區農四民","6250058","中區農四民"]
["西區分部","中區農西區","6250069","中區農西區"]
["東區分部","中區農東區","6250070","中區農東區"]
["南區分部","中區農南區","6250092","中區農南區"]
["北區分部","中區農北區","6250117","中區農北區"]
["軍功分部","中區農軍功","6250139","中區農軍功"]
["大坑分部","中區農大坑","6250140","中區農大坑"]
["信用部","汐農信","9030109","汐農信"]
["社后分部","汐農社后","9030110","汐農社后"]
["橫科分部","汐農橫科","9030121","汐農橫科"]
["白雲分部","汐農白雲","9030132","汐農白雲"]
["大新分部","汐農大新","9030143","汐農大新"]
["中興分部","汐農中興","9030154","汐農中興"]
["中正分部","汐農中正","9030165","汐農中正"]
["樟樹分部","汐農樟樹","9030176","汐農樟樹"]
["大同分部","汐農大同","9030187","汐農大同"]
["信用部","莊農","9040018","莊農"]
["丹鳳分部","莊農丹鳳","9040029","莊農丹鳳"]
["頭前分部","莊農頭前","9040030","莊農頭前"]
["西盛分部","莊農西盛","9040063","莊農西盛"]
["中港分部","莊農中港","9040074","莊農中港"]
["後港分部","莊農後港","9040085","莊農後港"]
["營盤分部","莊農營盤","9040096","莊農營盤"]
["瓊林分部","莊農瓊林","9040100","莊農瓊林"]
["思源分部","莊農思源","9040111","莊農思源"]
["新泰分部","莊農新泰","9040122","莊農新泰"]
["桃園市農會","桃農本會","6080011","桃農本會"]
["大林分部","桃農大林","6080468","桃農大林"]
["會稽分部","桃農會稽","6080479","桃農會稽"]
["中路分部","桃農中路","6080527","桃農中路"]
["慈文分部","桃農慈文","6080538","桃農慈文"]
["埔子分部","桃農埔子","6080631","桃農埔子"]
["龍山分部","桃農龍山","6080642","桃農龍山"]
["大溪鎮農會","大溪本會","6080033","大溪本會"]
["一心分部","大溪一心","6080158","大溪一心"]
["中新分部","大溪中新","6080169","大溪中新"]
["新峰分部","大溪新峰","6080170","大溪新峰"]
["埔頂分部","大溪埔頂","6080181","大溪埔頂"]
["員林分部","大溪員林","6080387","大溪員林"]
["僑愛分部","大溪僑愛","6080435","大溪僑愛"]
["崎頂分部","大溪崎頂","6080712","大溪崎頂"]
["南興分部","大溪南興","6080826","大溪南興"]
["楊梅市農會","楊梅本會","6080044","楊梅本會"]
["老街分部","楊梅老街","6080192","楊梅老街"]
["埔心分部","楊梅埔心","6080206","楊梅埔心"]
["富岡分部","楊梅富岡","6080217","楊梅富岡"]
["大平分部","楊梅大平","6080697","楊梅大平"]
["大園鄉農會","大園本會","6080055","大園本會"]
["埔心分部","大園埔心","6080228","大園埔心"]
["竹圍分部","大園竹圍","6080239","大園竹圍"]
["三和分部","大園三和","6080240","大園三和"]
["和平分部","大園和平","6080561","大園和平"]
["五權分部","大園五權","6080745","大園五權"]
["潮音分部","大園潮音","6080756","大園潮音"]
["蘆竹鄉農會","蘆竹本會","6080066","蘆竹本會"]
["新興分部","蘆竹新興","6080251","蘆竹新興"]
["山腳分部","蘆竹山腳","6080262","蘆竹山腳"]
["宏竹分部","蘆竹宏竹","6080273","蘆竹宏竹"]
["大竹分部","蘆竹大竹","6080284","蘆竹大竹"]
["外社分部","蘆竹外社","6080398","蘆竹外社"]
["蘆竹分部","蘆竹蘆竹","6080402","蘆竹蘆竹"]
["中福分部","蘆竹中福","6080505","蘆竹中福"]
["五福分部","蘆竹五福","6080516","蘆竹五福"]
["海湖分部","蘆竹海湖","6080859","蘆竹海湖"]
["龜山鄉農會","龜山本會","6080077","龜山本會"]
["樂善分部","龜山樂善","6080147","龜山樂善"]
["大崗分部","龜山大崗","6080295","龜山大崗"]
["山頂分部","龜山山頂","6080376","龜山山頂"]
["龍壽分部","龜山龍壽","6080572","龜山龍壽"]
["南上分部","龜山南上","6080583","龜山南上"]
["公西分部","龜山公西","6080620","龜山公西"]
["嶺頂分部","龜山嶺頂","6080723","龜山嶺頂"]
["山福分部","龜山山福","6080804","龜山山福"]
["舊路分部","龜山舊路","6080848","龜山舊路"]
["八德市農會","八德本會","6080088","八德本會"]
["大湳分部","八德大湳","6080309","八德大湳"]
["瑞豐分部","八德瑞豐","6080446","八德瑞豐"]
["大福分部","八德大福","6080457","八德大福"]
["茄苳分部","八德茄苳","6080549","八德茄苳"]
["桃鶯分部","八德桃鶯","6080550","八德桃鶯"]
["霄裡分部","八德霄裡","6080837","八德霄裡"]
["新屋鄉農會","新屋本會","6080103","新屋本會"]
["永安分部","新屋永安","6080310","新屋永安"]
["大坡分部","新屋大坡","6080321","新屋大坡"]
["高榮分部","新屋高榮","6080594","新屋高榮"]
["龍潭鄉農會","龍潭本會","6080114","龍潭本會"]
["中興分部","龍潭中興","6080480","龍潭中興"]
["烏林分部","龍潭烏林","6080491","龍潭烏林"]
["高平分部","龍潭高平","6080778","龍潭高平"]
["八德分部","龍潭八德","6080790","龍潭八德"]
["復興鄉農會","復興本會","6080136","復興本會"]
["三民分部","復興三民","6080619","復興三民"]
["平鎮市農會","平鎮本會","6080686","平鎮本會"]
["北勢分部","平鎮北勢","6080099","平鎮北勢"]
["山峰分部","平鎮山峰","6080365","平鎮山峰"]
["龍岡分部","平鎮龍岡","6080413","平鎮龍岡"]
["宋屋分部","平鎮宋屋","6080424","平鎮宋屋"]
["金陵分部","平鎮金陵","6080767","平鎮金陵"]
["臺南地區農會信用部","南區農信用","9220012","南區農信用"]
["成功分部","南區農成功","9220023","南區農成功"]
["聯合分部","南區農聯合","9220034","南區農聯合"]
["安順分部","南區農安順","9220056","南區農安順"]
["和順分部","南區農和順","9220067","南區農和順"]
["土城分部","南區農土城","9220078","南區農土城"]
["灣裡分部","南區農灣裡","9220089","南區農灣裡"]
["大里區農會","里農本會","9010015","里農本會"]
["內新辦事處","里農內新","9010026","里農內新"]
["草湖辦事處","里農草湖","9010037","里農草湖"]
["健民辦事處","里農健民","9010048","里農健民"]
["東榮辦事處","里農東榮","9010059","里農東榮"]
["金城辦事處","里農金城","9010060","里農金城"]
["十九甲辦事處","里農十九甲","9010071","里農十九甲"]
["仁化辦事處","里農仁化","9010093","里農仁化"]
["國光辦事處","里農國光","9010107","里農國光"]
["成功辦事處","里農成功","9010118","里農成功"]
["冬山鄉農會","冬農本會","9120086","冬農本會"]
["羅東辦事處","冬農羅東","9120189","冬農羅東"]
["順安辦事處","冬農順安","9120190","冬農順安"]
["廣興辦事處","冬農廣興","9120271","冬農廣興"]
["群英分部","冬農群英","9120488","冬農群英"]
["草屯鎮農會","草屯本會","9160024","草屯本會"]
["雙冬辦事處","草屯雙冬","9160183","草屯雙冬"]
["南埔分部","草屯南埔","9160493","草屯南埔"]
["芬草路分部","草屯芬草路","9160600","草屯芬草路"]
["虎山路分部","草屯虎山路","9160611","草屯虎山路"]
["北勢分部","草屯北勢","9160677","草屯北勢"]
["富寮分部","草屯富寮","9160688","草屯富寮"]
["新庄分部","草屯新庄","9160758","草屯新庄"]
["板橋區農會","板農本會","9280018","板農本會"]
["後埔辦事處","板農後埔","9280029","板農後埔"]
["埔墘辦事處","板農埔墘","9280030","板農埔墘"]
["社後辦事處","板農社後","9280041","板農社後"]
["江翠辦事處","板農江翠","9280052","板農江翠"]
["溪崑辦事處","板農溪崑","9280063","板農溪崑"]
["浮洲辦事處","板農浮洲","9280074","板農浮洲"]
["新埔辦事處","板農新埔","9280111","板農新埔"]
["文化辦事處","板農文化","9280122","板農文化"]
["基隆市農會","基隆農會","6030016","基隆農會"]
["安樂分會","基隆安樂","6030027","基隆安樂"]
["百福分會","基隆百福","6030038","基隆百福"]
["愛六路分部","基隆愛六路","6030049","基隆愛六路"]
["三重區農會","重農","6060019","重農"]
["溪美分部","重農溪美","6060606","重農溪美"]
["力行分部","重農力行","6060710","重農力行"]
["三民分部","重農三民","6060721","重農三民"]
["光復分部","重農光復","6060916","重農光復"]
["成功分部","重農成功","6060938","重農成功"]
["慈福分部","重農慈福","6061119","重農慈福"]
["淡水區農會","淡農","6060031","淡農"]
["中興分部","淡農中興","6060798","淡農中興"]
["竹圍分部","淡農竹圍","6060802","淡農竹圍"]
["水碓分部","淡農水碓","6060813","淡農水碓"]
["福德分部","淡農福德","6061061","淡農福德"]
["義山分部","淡農義山","6061348","淡農義山"]
["新興分部","淡農新興","6061360","淡農新興"]
["樹林區農會","樹農本會","6060042","樹農本會"]
["三多分部","樹農三多","6060237","樹農三多"]
["山佳分部","樹農山佳","6060248","樹農山佳"]
["柑園分部","樹農柑園","6060259","樹農柑園"]
["保安分部","樹農保安","6060754","樹農保安"]
["東山分部","樹農東山","6061027","樹農東山"]
["金寮分部","樹農金寮","6061038","樹農金寮"]
["圳安分部","樹農圳安","6061120","樹農圳安"]
["大同分部","樹農大同","6061315","樹農大同"]
["復興分部","樹農復興","6061337","樹農復興"]
["鶯歌區農會","鶯農","6060053","鶯農"]
["二橋分部","鶯農二橋","6060503","鶯農二橋"]
["鳳鳴分部","鶯農鳳鳴","6060514","鶯農鳳鳴"]
["永昌分部","鶯農永昌","6061197","鶯農永昌"]
["三峽區農會","三峽本會","6060064","三峽本會"]
["成福分部","三峽農成福","6060260","三峽農成福"]
["橫溪分部","三峽農橫溪","6060558","三峽農橫溪"]
["大埔分部","三峽農大埔","6060673","三峽農大埔"]
["北大分部","三峽農北大","6061131","三峽農北大"]
["民生分部","三峽農民生","6061359","三峽農民生"]
["土城區農會","土城農會","6060097","土城農會"]
["清水分部","土城農清水","6060318","土城農清水"]
["頂埔分部","土城農頂埔","6060684","土城農頂埔"]
["貨饒分部","土城農貨饒","6060695","土城農貨饒"]
["峰廷分部","土城農峰廷","6060891","土城農峰廷"]
["廣福分部","土城農廣福","6060905","土城農廣福"]
["蘆洲區農會","蘆農","6060101","蘆農"]
["長安分部","蘆農長安","6060569","蘆農長安"]
["成功分部","蘆農成功","6060835","蘆農成功"]
["長榮分部","蘆農長榮","6061072","蘆農長榮"]
["五股區農會信用部","五股農會信","6060112","五股農會信"]
["興珍辦事處","五股興珍辦","6060329","五股興珍辦"]
["成州分部","五股成州","6060330","五股成州"]
["德泰辦事處","五股德泰辦","6060709","五股德泰辦"]
["五福分部","五股五福","6060950","五股五福"]
["德音分部","五股德音","6061083","五股德音"]
["成德分部","五股成德","6061094","五股成德"]
["成功分部","五股成功","6061175","五股成功"]
["林口區農會","林口區農會","6060123","林口區農會"]
["南勢分部","林口南勢","6060341","林口南勢"]
["泰山區農會","泰農","6060134","泰農"]
["貴子分部","泰農貴子","6060651","泰農貴子"]
["明志分部","泰農明志","6060662","泰農明志"]
["貴和分部","泰農貴和","6060927","泰農貴和"]
["泰林分部","泰農泰林","6061005","泰農泰林"]
["泰友分部","泰農泰友","6061016","泰農泰友"]
["坪林區農會","坪林本會","6060145","坪林本會"]
["八里區農會","八里農會","6060156","八里農會"]
["埤頭分部","八里農埤頭","6060765","八里農埤頭"]
["龍形分部","八里農龍形","6060824","八里農龍形"]
["金山地區農會","金農","6060167","金農"]
["萬里分部","金農萬里","6060352","金農萬里"]
["野柳分部","金農野柳","6060857","金農野柳"]
["瑞芳地區農會","瑞芳本會","6060178","瑞芳本會"]
["九份分部","瑞芳九份","6060374","瑞芳九份"]
["四腳亭分部","瑞芳四腳亭","6060385","瑞芳四腳亭"]
["雙溪辦事處","瑞芳雙溪","6060396","瑞芳雙溪"]
["貢寮辦事處","瑞芳貢寮","6060400","瑞芳貢寮"]
["澳底分部","瑞芳澳底","6060411","瑞芳澳底"]
["龍興分部","瑞芳龍興","6060868","瑞芳龍興"]
["福隆辦事處","瑞芳福隆","6060961","瑞芳福隆"]
["新店地區農會","店農本會","6060189","店農本會"]
["德安分部","店農德安","6060363","店農德安"]
["中正分部","店農中正","6060422","店農中正"]
["烏來分部","店農烏來","6060433","店農烏來"]
["新和分部","店農新和","6061108","店農新和"]
["青潭辦事處","店農青潭","6061245","店農青潭"]
["安康分部","店農安康","6061326","店農安康"]
["中和地區農會","和農本會","6060190","和農本會"]
["中正分部","和農中正","6060444","和農中正"]
["員山分部","和農員山","6060455","和農員山"]
["智光分部","和農智光","6060570","和農智光"]
["連城分部","和農連城","6060581","和農連城"]
["民享分部","和農民享","6060592","和農民享"]
["錦和分部","和農錦和","6060732","和農錦和"]
["仁愛分部","和農仁愛","6060743","和農仁愛"]
["竹林分部","和農竹林","6061223","和農竹林"]
["興南分部","和農興南","6061289","和農興南"]
["深坑區農會","深坑本會","6060204","深坑本會"]
["萬順辦事處","深坑萬順","6061201","深坑萬順"]
["石碇區農會","石碇農","6060466","石碇農"]
["平溪區農會","平溪本會","6060477","平溪本會"]
["石門區農會","石門本會","6060499","石門本會"]
["老梅分部","石門老梅","6060547","石門老梅"]
["三芝區農會","芝農本會","6061290","芝農本會"]
["北新庄分部","芝農北新庄","6060846","芝農北新庄"]
["宜蘭市農會","宜農","6070010","宜農"]
["神農分部","宜農神農","6070308","宜農神農"]
["南門分部","宜農南門","6070386","宜農南門"]
["新店分部","宜農新店","6070412","宜農新店"]
["延平分部","宜農延平","6070515","宜農延平"]
["頭城鎮農會","頭城本會","6070021","頭城本會"]
["大溪分部","頭城大溪","6070113","頭城大溪"]
["金面分部","頭城金面","6070342","頭城金面"]
["竹安分部","頭城竹安","6070478","頭城竹安"]
["羅東鎮農會","羅農本會","6070032","羅農本會"]
["民權辦事處","羅農民權","6070283","羅農民權"]
["南門辦事處","羅農南門","6070319","羅農南門"]
["北門辦事處","羅農北門","6070364","羅農北門"]
["中正路辦事處","羅農中正路","6070375","羅農中正路"]
["東門辦事處","羅農東門","6070467","羅農東門"]
["壯圍鄉農會","壯圍本會","6070054","壯圍本會"]
["古亭辦事處","壯圍古亭辦","6070135","壯圍古亭辦"]
["美城分部","壯圍美城","6070526","壯圍美城"]
["員山鄉農會","員山本會","6070065","員山本會"]
["同樂分部","員山同樂","6070146","員山同樂"]
["深溝分部","員山深溝","6070331","員山深溝"]
["大湖分部","員山大湖","6070445","員山大湖"]
["五結鄉農會","五結本會","6070076","五結本會"]
["利澤分部","五結利澤","6070157","五結利澤"]
["二結分部","五結二結","6070168","五結二結"]
["四結分部","五結四結","6070179","五結四結"]
["蘇澳地區農會","蘇澳本會","6070098","蘇澳本會"]
["南方澳分部","蘇澳南方澳","6070205","蘇澳南方澳"]
["南澳分部","蘇澳南澳","6070216","蘇澳南澳"]
["新馬分部","蘇澳新馬","6070227","蘇澳新馬"]
["新城分部","蘇澳新城","6070238","蘇澳新城"]
["龍德分部","蘇澳龍德","6070423","蘇澳龍德"]
["三星地區農會","三星本會","6070102","三星本會"]
["大洲辦事處","三星大洲辦","6070249","三星大洲辦"]
["福山辦事處","三星福山辦","6070250","三星福山辦"]
["大隱辦事處","三星大隱辦","6070353","三星大隱辦"]
["大同辦事處","三星大同辦","6070434","三星大同辦"]
["中華民國農會中壢辦事處信用部","中華民國信","6090089","中華民國信"]
["大崙分部","中華民國崙","6090090","中華民國崙"]
["關西鎮農會","關西本會","6100016","關西本會"]
["石光分部","關西石光","6100131","關西石光"]
["錦山分部","關西錦山","6100142","關西錦山"]
["新埔鎮農會","新埔本會","6100027","新埔本會"]
["照門分部","新埔照門","6100393","新埔照門"]
["竹北市農會","竹北本會","6100038","竹北本會"]
["六家分部","竹北六家","6100153","竹北六家"]
["豐田分部","竹北豐田","6100290","竹北豐田"]
["鳳岡分部","竹北鳳岡","6100304","竹北鳳岡"]
["高鐵分部","竹北高鐵","6100430","竹北高鐵"]
["湖口鄉農會","湖口農會","6100050","湖口農會"]
["中興辦事處","湖口中興","6100348","湖口中興"]
["客家樓分部","湖口客家樓","6100474","湖口客家樓"]
["新竹市農會信用部","竹市農","6100061","竹市農"]
["三姓橋分部","竹市農三姓","6100186","竹市農三姓"]
["樹林頭分部","竹市農樹林","6100315","竹市農樹林"]
["光復分部","竹市農光復","6100337","竹市農光復"]
["內湖分部","竹市農內湖","6100359","竹市農內湖"]
["民權分部","竹市農民權","6100360","竹市農民權"]
["新興分部","竹市農新興","6100429","竹市農新興"]
["虎林分部","竹市農虎林","6100441","竹市農虎林"]
["光華分部","竹市農光華","6100452","竹市農光華"]
["芎林鄉農會","芎林農","6100072","芎林農"]
["秀湖分部","芎林秀湖","6100197","芎林秀湖"]
["石潭分部","芎林石潭","6100326","芎林石潭"]
["寶山鄉農會","寶山農","6100083","寶山農"]
["新城分部","寶山農新城","6100201","寶山農新城"]
["寶山分部","寶山農寶山","6100212","寶山農寶山"]
["峨眉鄉農會","峨眉農","6100094","峨眉農"]
["富興分部","峨眉農富興","6100371","峨眉農富興"]
["北埔鄉農會","北埔農","6100108","北埔農"]
["竹東地區農會","竹東本會","6100119","竹東本會"]
["竹中分部","竹東竹中","6100223","竹東竹中"]
["二重辦事處","竹東二重","6100234","竹東二重"]
["五峰辦事處","竹東五峰","6100256","竹東五峰"]
["東寧辦事處","竹東東寧","6100382","竹東東寧"]
["橫山地區農會","橫山本會","6100120","橫山本會"]
["橫山分部","橫山橫山","6100267","橫山橫山"]
["尖石分部","橫山尖石","6100289","橫山尖石"]
["新豐鄉農會","新豐農會","6100463","新豐農會"]
["後龍鎮農會","後龍本會","6110062","後龍本會"]
["豐富分部","後龍豐富","6110501","後龍豐富"]
["北投區農會","北投農本會","6230012","北投農本會"]
["石牌分部","北投農石牌","6230078","北投農石牌"]
["關渡分部","北投農關渡","6230089","北投農關渡"]
["立農分部","北投農立農","6230126","北投農立農"]
["大屯分部","北投農大屯","6230137","北投農大屯"]
["福興分部","北投農福興","6230241","北投農福興"]
["士林區農會","士農","6230023","士農"]
["社子分會","士農社子","6230090","士農社子"]
["文林分會","士農文林","6230148","士農文林"]
["天母分會","士農天母","6230159","士農天母"]
["陽明山分部","士農陽明山","6230207","士農陽明山"]
["延平分部","士農延平","6230229","士農延平"]
["內湖區農會","內湖農本會","6230034","內湖農本會"]
["潭美分部","內湖農潭美","6230104","內湖農潭美"]
["東湖分部","內湖農東湖","6230171","內湖農東湖"]
["西湖分部","內湖農西湖","6230182","內湖農西湖"]
["民權分部","內湖農民權","6230274","內湖農民權"]
["南港區農會","南港農","6230045","南港農"]
["中研分部","南港中研","6230115","南港中研"]
["後山埤分部","南港後山埤","6230218","南港後山埤"]
["木柵區農會","木柵農會","6230056","木柵農會"]
["木新分部","木柵木新","6230252","木柵木新"]
["景美區農會","景美農","6230067","景美農"]
["豐原區農會","豐原農會","6121107","豐原農會"]
["神岡區農會","神岡農會","6121118","神岡農會"]
["名間鄉農會","名間本會","6130075","名間本會"]
["新街分部","名間新街","6130260","名間新街"]
["大庄分部","名間大庄","6130271","名間大庄"]
["赤水分部","名間赤水","6130282","名間赤水"]
["松柏嶺分部","名間松柏嶺","6130293","名間松柏嶺"]
["新光分部","名間新光","6130466","名間新光"]
["員林鎮農會","員林本會","6140043","員林本會"]
["東山分部","員林東山","6140526","員林東山"]
["百果山分部","員林百果山","6140700","員林百果山"]
["二林鎮農會","二林農會","6140087","二林農會"]
["原斗分部","二林原斗","6140711","二林原斗"]
["挖仔分部","二林挖仔","6140799","二林挖仔"]
["中山分部","二林中山","6140858","二林中山"]
["萬興分部","二林萬興","6141291","二林萬興"]
["秀水鄉農會","秀水本會","6140124","秀水本會"]
["福安分部","秀水福安","6140320","秀水福安"]
["馬鳴分部","秀水馬鳴","6140478","秀水馬鳴"]
["金興分部","秀水金興","6140515","秀水金興"]
["埔心鄉農會","埔心本會","6140179","埔心本會"]
["舊館分部","埔心舊館","6140559","埔心舊館"]
["明聖分部","埔心明聖","6140593","埔心明聖"]
["永靖鄉農會","永靖本會","6140180","永靖本會"]
["永安分部","永靖永安","6140696","永靖永安"]
["五福分部","永靖五福","6140733","永靖五福"]
["同安分部","永靖同安","6140870","永靖同安"]
["永興分部","永靖永興","6141028","永靖永興"]
["埤頭鄉農會","埤頭本會","6140227","埤頭本會"]
["路口厝分部","埤頭路口厝","6140401","埤頭路口厝"]
["埤頭分部","埤頭埤頭","6140412","埤頭埤頭"]
["芙朝分部","埤頭芙朝","6140423","埤頭芙朝"]
["竹塘鄉農會","竹塘本會","6140261","竹塘本會"]
["長安分部","竹塘長安","6141017","竹塘長安"]
["芬園鄉農會","芬園農會","6141327","芬園農會"]
["芳苑鄉農會","芳苑農會","6141338","芳苑農會"]
["斗六市農會","斗六本會","6160012","斗六本會"]
["石榴分部","斗六石榴","6160492","斗六石榴"]
["鎮南分部","斗六鎮南","6160595","斗六鎮南"]
["光興分部","斗六光興","6160609","斗六光興"]
["成功分部","斗六成功","6160746","斗六成功"]
["虎溪分部","斗六虎溪","6160757","斗六虎溪"]
["虎尾鎮農會","虎尾農","6160023","虎尾農"]
["德興分部","虎尾農德興","6160414","虎尾農德興"]
["大屯分部","虎尾農大屯","6160506","虎尾農大屯"]
["惠來分部","虎尾農惠來","6160517","虎尾農惠來"]
["頂溪分部","虎尾農頂溪","6160610","虎尾農頂溪"]
["立仁分部","虎尾農立仁","6160779","虎尾農立仁"]
["西螺鎮農會","西螺本會","6160034","西螺本會"]
["埤源分部","西螺埤源","6160403","西螺埤源"]
["九隆分部","西螺九隆","6160528","西螺九隆"]
["和心分部","西螺和心","6160539","西螺和心"]
["建興分部","西螺建興","6160540","西螺建興"]
["中山分部","西螺中山","6160621","西螺中山"]
["斗南鎮農會","斗南鎮農會","6160056","斗南鎮農會"]
["石龜溪分部","斗南石龜溪","6160218","斗南石龜溪"]
["西埤分部","斗南西埤","6160458","斗南西埤"]
["新光分部","斗南新光","6160469","斗南新光"]
["明昌分部","斗南明昌","6160702","斗南明昌"]
["西岐分部","斗南西岐","6160735","斗南西岐"]
["古坑鄉農會","古坑本會","6160078","古坑本會"]
["永光分部","古坑永光","6160230","古坑永光"]
["東和分部","古坑東和","6160241","古坑東和"]
["大埤鄉農會","大埤本會","6160089","大埤本會"]
["怡然分部","大埤怡然","6160252","大埤怡然"]
["嘉興分部","大埤嘉興","6160562","大埤嘉興"]
["莿桐鄉農會","莿桐本會","6160090","莿桐本會"]
["饒平分部","莿桐饒平","6160263","莿桐饒平"]
["六合分部","莿桐六合","6160436","莿桐六合"]
["二崙鄉農會","二崙本會","6160115","二崙本會"]
["油車分部","二崙油車","6160274","二崙油車"]
["永定分部","二崙永定","6160285","二崙永定"]
["崙背鄉農會","崙背本會","6160126","崙背本會"]
["豐榮分部","崙背豐榮","6160713","崙背豐榮"]
["台西鄉農會","台西本會","6160137","台西本會"]
["崙豐分部","台西崙豐","6160296","台西崙豐"]
["牛厝分部","台西牛厝","6160643","台西牛厝"]
["蚊港分部","台西蚊港","6160665","台西蚊港"]
["褒忠鄉農會","褒忠本會","6160148","褒忠本會"]
["四湖鄉農會","四湖本會","6160160","四湖本會"]
["飛沙分部","四湖飛沙","6160300","四湖飛沙"]
["溪底分部","四湖溪底","6160447","四湖溪底"]
["林厝分部","四湖林厝","6160573","四湖林厝"]
["泊子分部","四湖泊子","6160698","四湖泊子"]
["口湖鄉農會","口湖本會","6160171","口湖本會"]
["宜梧分部","口湖宜梧","6160311","口湖宜梧"]
["金湖分部","口湖金湖","6160322","口湖金湖"]
["下崙分部","口湖下崙","6160333","口湖下崙"]
["朴子市農會","朴子本會","6170024","朴子本會"]
["開元分部","朴子開元","6170219","朴子開元"]
["文化分部","朴子文化","6170220","朴子文化"]
["松梅分部","朴子松梅","6170231","朴子松梅"]
["大慷榔分部","朴子大慷榔","6171353","朴子大慷榔"]
["雙溪口分部","朴子雙溪口","6171364","朴子雙溪口"]
["布袋鎮農會","布袋本會","6170035","布袋本會"]
["過溝分部","布袋過溝","6170242","布袋過溝"]
["永安分部","布袋永安","6170253","布袋永安"]
["新厝分部","布袋新厝","6170769","布袋新厝"]
["新塭辦事處","布袋新塭辦","6171375","布袋新塭辦"]
["大林鎮農會","大林本會","6170046","大林本會"]
["吉林分部","大林吉林","6170264","大林吉林"]
["溝背分部","大林溝背","6170275","大林溝背"]
["大美分部","大林大美","6170286","大林大美"]
["排路分部","大林排路","6170297","大林排路"]
["中林分部","大林中林","6170781","大林中林"]
["中坑分部","大林中坑","6171467","大林中坑"]
["民雄鄉農會","民雄本會","6170057","民雄本會"]
["北斗分部","民雄北斗","6170301","民雄北斗"]
["山中分部","民雄山中","6170312","民雄山中"]
["菁埔分部","民雄菁埔","6170323","民雄菁埔"]
["秀林分部","民雄秀林","6170714","民雄秀林"]
["三興分部","民雄三興","6171478","民雄三興"]
["興南分部","民雄興南","6171489","民雄興南"]
["溪口鄉農會","溪口本會","6170068","溪口本會"]
["柴林分部","溪口柴林","6170334","溪口柴林"]
["崙尾分部","溪口崙尾","6170345","溪口崙尾"]
["柳溝分部","溪口柳溝","6171386","溪口柳溝"]
["東石鄉農會","東石本會","6170079","東石本會"]
["東石分部","東石東石","6170356","東石東石"]
["副瀨分部","東石農副瀨","6170367","東石農副瀨"]
["下楫分部","東石農下楫","6170378","東石農下楫"]
["西崙分部","東石農西崙","6170389","東石農西崙"]
["義竹鄉農會","義竹本會","6170080","義竹本會"]
["過路分部","義竹過路","6170390","義竹過路"]
["光榮分部","義竹光榮","6170404","義竹光榮"]
["新店分部","義竹新店","6171397","義竹新店"]
["鹿草鄉農會","鹿草本會","6170091","鹿草本會"]
["下潭分部","鹿草下潭","6170415","鹿草下潭"]
["後堀分部","鹿草後堀","6170426","鹿草後堀"]
["重寮分部","鹿草重寮","6171331","鹿草重寮"]
["松山分部","鹿草松山","6171401","鹿草松山"]
["太保市農會","太保本會","6170105","太保本會"]
["後潭分部","太保後潭","6170437","太保後潭"]
["新埤分部","太保新埤","6170448","太保新埤"]
["南新分部","太保南新","6170459","太保南新"]
["嘉太分部","太保嘉太","6170758","太保嘉太"]
["安東分部","太保安東","6171412","太保安東"]
["水上鄉農會","水上本會","6170116","水上本會"]
["成功分部","水上成功","6170460","水上成功"]
["南靖分部","水上南靖","6170471","水上南靖"]
["大崙分部","水上大崙","6170482","水上大崙"]
["忠和分部","水上忠和","6170493","水上忠和"]
["北回分部","水上北回","6170507","水上北回"]
["柳林分部","水上柳林","6170518","水上柳林"]
["民生分部","水上民生","6170725","水上民生"]
["番路鄉農會","番路本會","6170138","番路本會"]
["觸口分部","番路觸口","6170563","番路觸口"]
["隙頂分部","番路隙頂","6171320","番路隙頂"]
["竹崎地區農會","竹崎本會","6170149","竹崎本會"]
["內埔分部","竹崎內埔","6170574","竹崎內埔"]
["灣橋分部","竹崎灣橋","6170585","竹崎灣橋"]
["東義分部","竹崎東義","6170596","竹崎東義"]
["大埔分部","竹崎大埔","6170699","竹崎大埔"]
["石棹分部","竹崎石棹","6171423","竹崎石棹"]
["鹿滿分部","竹崎鹿滿","6171490","竹崎鹿滿"]
["梅山鄉農會","梅山本會","6170150","梅山本會"]
["瑞里分部","梅山瑞里","6170600","梅山瑞里"]
["太平分部","梅山太平","6170611","梅山太平"]
["太和分部","梅山太和","6170622","梅山太和"]
["六腳鄉農會","六腳本會","6170806","六腳本會"]
["蒜頭分部","六腳蒜頭","6170172","六腳蒜頭"]
["港尾寮分部","六腳港尾","6170666","六腳港尾"]
["六腳分部","六腳六腳","6170677","六腳六腳"]
["灣內分部","六腳灣內","6170688","六腳灣內"]
["更寮分部","六腳更寮","6170703","六腳更寮"]
["蘇崙分部","六腳蘇崙","6171434","六腳蘇崙"]
["新港鄉農會","新港本會","6170817","新港本會"]
["月眉分部","新港月眉","6170633","新港月眉"]
["大潭分部","新港大潭","6170644","新港大潭"]
["崙子分部","新港崙子","6170655","新港崙子"]
["安和分部","新港安和","6171261","新港安和"]
["嘉義市農會","嘉市本會","6170862","嘉市本會"]
["吳鳳分部","嘉市吳鳳","6170013","嘉市吳鳳"]
["福全分部","嘉市福全","6170194","嘉市福全"]
["北興分部","嘉市北興","6170208","嘉市北興"]
["宣信分部","嘉市宣信","6171272","嘉市宣信"]
["民生分部","嘉市民生","6171283","嘉市民生"]
["新營區農會","新營本會","6180025","新營本會"]
["太子宮分部","新營太子宮","6180335","新營太子宮"]
["延平分部","新營延平","6180346","新營延平"]
["三民分部","新營三民","6181066","新營三民"]
["中正分部","新營中正","6181217","新營中正"]
["鹽水區農會","鹽水本會","6180036","鹽水本會"]
["歡雅分部","鹽水歡雅","6180357","鹽水歡雅"]
["圣頭港分部","鹽水圣頭港","6180368","鹽水圣頭港"]
["佳里區農會","佳里本會","6180069","佳里本會"]
["佳興分部","佳里農佳興","6180416","佳里農佳興"]
["子龍分部","佳里農子龍","6180427","佳里農子龍"]
["塭內分部","佳里農塭內","6180438","佳里農塭內"]
["延平分部","佳里農延平","6180449","佳里農延平"]
["新生分部","佳里農新生","6181158","佳里農新生"]
["善化區農會","善化本會","6180081","善化本會"]
["東關里分部","善化東關里","6180450","善化東關里"]
["六分寮分部","善化六分寮","6180461","善化六分寮"]
["茄拔分部","善化茄拔","6181365","善化茄拔"]
["六甲區農會","六甲本會","6180139","六甲本會"]
["林鳳營辦事處","六甲農林鳳","6180612","六甲農林鳳"]
["西港區農會","西港本會","6180162","西港本會"]
["後營分部","西港後營","6180689","西港後營"]
["竹林分部","西港竹林","6180715","西港竹林"]
["將軍區農會","將軍本會","6180184","將軍本會"]
["苓仔寮分部","將軍苓仔寮","6180771","將軍苓仔寮"]
["將軍分部","將軍將軍","6180782","將軍將軍"]
["馬沙溝分部","將軍馬沙溝","6180793","將軍馬沙溝"]
["青鯤鯓分部","將軍青鯤鯓","6180807","將軍青鯤鯓"]
["北門區農會","北門本會","6180195","北門本會"]
["溪底寮分部","北門溪底寮","6180818","北門溪底寮"]
["蚵寮分部","北門蚵寮","6180829","北門蚵寮"]
["三慈分部","北門三慈","6181206","北門三慈"]
["玉井區農會","玉井農","6180243","玉井農"]
["歸仁區農會","歸仁本會","6180298","歸仁本會"]
["大潭武東辦事處","歸仁農大潭","6180966","歸仁農大潭"]
["大廟分部","歸仁農大廟","6180977","歸仁農大廟"]
["新市場分部","歸仁農新市","6180988","歸仁農新市"]
["歸南分部","歸仁農歸南","6181239","歸仁農歸南"]
["永康區農會","永康本會","6180324","永康本會"]
["大灣分部","永康大灣","6181011","永康大灣"]
["鹽行分部","永康鹽行","6181181","永康鹽行"]
["中華分部","永康中華","6181240","永康中華"]
["崑山分部","永康崑山","6181262","永康崑山"]
["龍潭分部","永康龍潭","6181343","永康龍潭"]
["楠西區農會","楠西農會","6181402","楠西農會"]
["鳳山區農會","鳳農","6190015","鳳農"]
["五甲分部","鳳農五甲","6190266","鳳農五甲"]
["老爺分部","鳳農老爺","6190738","鳳農老爺"]
["市場分部","鳳農市場","6190749","鳳農市場"]
["文山分部","鳳農文山","6190864","鳳農文山"]
["東區分部","鳳農東區","6190886","鳳農東區"]
["鎮北分部","鳳農鎮北","6190897","鳳農鎮北"]
["過埤分部","鳳農過埤","6190990","鳳農過埤"]
["岡山區農會","岡山本會","6190026","岡山本會"]
["市場分部","岡山市場","6190277","岡山市場"]
["嘉興分部","岡山嘉興","6190288","岡山嘉興"]
["仁壽分部","岡山仁壽","6190299","岡山仁壽"]
["協榮分部","岡山協榮","6190772","岡山協榮"]
["後紅分部","岡山後紅","6191067","岡山後紅"]
["旗山區農會","旗農本會","6190037","旗農本會"]
["旗尾分部","旗農旗尾","6190314","旗農旗尾"]
["溪洲分部","旗農溪洲","6190325","旗農溪洲"]
["南溪洲分部","旗農南溪洲","6190336","旗農南溪洲"]
["嶺口分部","旗農嶺口","6190347","旗農嶺口"]
["中正分部","旗農中正","6190358","旗農中正"]
["美濃區農會","美濃農本會","6190048","美濃農本會"]
["中壇分部","美濃農中壇","6190369","美濃農中壇"]
["龍肚分部","美濃農龍肚","6190370","美濃農龍肚"]
["廣興分部","美濃農廣興","6190381","美濃農廣興"]
["南隆分部","美濃農南隆","6190392","美濃農南隆"]
["橋頭區農會","橋頭本會","6190059","橋頭本會"]
["橋頭分部","橋頭橋頭","6190716","橋頭橋頭"]
["甲圍辦事處","橋頭甲圍辦","6190901","橋頭甲圍辦"]
["隆豐和分部","橋頭隆豐和","6190923","橋頭隆豐和"]
["五林分部","橋頭五林","6190934","橋頭五林"]
["燕巢區農會","燕巢本會","6190060","燕巢本會"]
["鳳雄分部","燕巢鳳雄","6190406","燕巢鳳雄"]
["深水分部","燕巢深水","6190417","燕巢深水"]
["安招分部","燕巢安招","6190680","燕巢安招"]
["田寮區農會","田寮本會","6190071","田寮本會"]
["新興分部","田寮新興","6190794","田寮新興"]
["崇德分部","田寮崇德","6190808","田寮崇德"]
["阿蓮區農會","阿蓮本會","6190082","阿蓮本會"]
["中路分部","阿蓮中路","6190624","阿蓮中路"]
["復安分部","阿蓮復安","6191078","阿蓮復安"]
["路竹區農會","路竹本會","6190093","路竹本會"]
["竹滬分部","路竹竹滬","6190428","路竹竹滬"]
["一甲分部","路竹一甲","6190439","路竹一甲"]
["下坑分部","路竹下坑","6190440","路竹下坑"]
["三爺分部","路竹三爺","6190451","路竹三爺"]
["湖內區農會","湖內本會","6190107","湖內本會"]
["大湖分部","湖內大湖","6190462","湖內大湖"]
["海埔分部","湖內海埔","6190657","湖內海埔"]
["太爺分部","湖內太爺","6190853","湖內太爺"]
["茄萣區農會","茄萣本會","6190118","茄萣本會"]
["白砂崙分部","茄萣白砂崙","6190750","茄萣白砂崙"]
["彌陀區農會","彌陀本會","6190129","彌陀本會"]
["南安分部","彌陀南安","6190646","彌陀南安"]
["壽齡分部","彌陀壽齡","6190783","彌陀壽齡"]
["永安區農會","永安本會","6190130","永安本會"]
["保寧分部","永安保寧","6190679","永安保寧"]
["維新分部","永安維新","6190761","永安維新"]
["梓官區農會","梓官本會","6190141","梓官本會"]
["赤崁分部","梓官赤崁","6190473","梓官赤崁"]
["大舍分部","梓官大舍","6190484","梓官大舍"]
["梓官分部","梓官梓官","6190495","梓官梓官"]
["林園區農會","林園本會","6190185","林園本會"]
["中厝分部","林園中厝","6190831","林園中厝"]
["大寮區農會","大寮本會","6190196","大寮本會"]
["大寮分部","大寮大寮","6190565","大寮大寮"]
["中庄分部","大寮中庄","6190576","大寮中庄"]
["後庄分部","大寮後庄","6190587","大寮後庄"]
["昭明分部","大寮昭明","6190598","大寮昭明"]
["潮寮分部","大寮潮寮","6190602","大寮潮寮"]
["翁園分部","大寮翁園","6191012","大寮翁園"]
["仁武區農會","仁武本會","6190211","仁武本會"]
["灣內分部","仁武灣內","6190727","仁武灣內"]
["八卦分部","仁武八卦","6191045","仁武八卦"]
["大社區農會","大社本會","6190222","大社本會"]
["杉林區農會","杉林本會","6190244","杉林本會"]
["甲仙地區農會","甲仙本會","6190255","甲仙本會"]
["桃源分部","甲仙桃源","6190819","甲仙桃源"]
["那瑪夏分部","甲仙那瑪夏","6190989","甲仙那瑪夏"]
["六龜區農會","六龜農會","6190303","六龜農會"]
["鳥松區農會","鳥松本會","6191089","鳥松本會"]
["仁美分部","鳥松仁美","6190967","鳥松仁美"]
["澄清湖分部","鳥松澄清湖","6191090","鳥松澄清湖"]
["大樹區農會","大樹本會","6191104","大樹本會"]
["內門區農會","內門農會","6191115","內門農會"]
["溝坪分部","內門溝坪","6190978","內門溝坪"]
["觀亭分部","內門觀亭","6191001","內門觀亭"]
["東港鎮農會","東港農信","6200031","東港農信"]
["下部分部","東港農下部","6200721","東港農下部"]
["恆春鎮農會","恆春本會","6200042","恆春本會"]
["墾丁分部","恆春墾丁","6200547","恆春墾丁"]
["麟洛鄉農會","麟洛本會","6200075","麟洛本會"]
["九如鄉農會","九如農信","6200086","九如農信"]
["洽興分部","九如洽興","6200787","九如洽興"]
["里港鄉農會","里港本會","6200112","里港本會"]
["土庫辦事處","里港農土庫","6200330","里港農土庫"]
["載興辦事處","里港農載興","6200341","里港農載興"]
["三廓分部","里港農三廓","6200628","里港農三廓"]
["塔樓分部","里港農塔樓","6200950","里港農塔樓"]
["崁頂鄉農會","崁頂農會","6200167","崁頂農會"]
["力社分部","崁頂農力社","6200709","崁頂農力社"]
["港東分部","崁頂農港東","6200710","崁頂農港東"]
["南州地區農會","南州本會","6200189","南州本會"]
["新埤分部","南州新埤","6200813","南州新埤"]
["琉球鄉農會","琉球農","6200204","琉球農"]
["滿州鄉農會","滿州本會","6200215","滿州本會"]
["枋山地區農會","枋山農","6200259","枋山農"]
["枋山分部","枋山枋山","6200743","枋山枋山"]
["加祿分部","枋山加祿","6200754","枋山加祿"]
["屏東市農會","屏市農會","6200868","屏市農會"]
["車城地區農會","車城農會","6200879","車城農會"]
["屏東縣農會","屏東縣農會","6200880","屏東縣農會"]
["枋寮地區農會","枋寮農會","6200891","枋寮農會"]
["竹田鄉農會","竹田農會","6200905","竹田農會"]
["萬丹鄉農會","萬丹農會","6200916","萬丹農會"]
["長治鄉農會","長治農會","6200927","長治農會"]
["林邊鄉農會","林邊本會","6200938","林邊本會"]
["佳冬鄉農會","佳冬本會","6200949","佳冬本會"]
["吉安鄉農會","吉安本會","6210021","吉安本會"]
["仁里分部","吉安仁里","6210102","吉安仁里"]
["北昌分部","吉安北昌","6210227","吉安北昌"]
["宜昌分部","吉安宜昌","6210238","吉安宜昌"]
["壽豐鄉農會","壽豐本會","6210032","壽豐本會"]
["志學分部","壽豐志學","6210124","壽豐志學"]
["豐裡分部","壽豐豐裡","6210331","壽豐豐裡"]
["富里鄉農會","富里本會","6210043","富里本會"]
["東竹分部","富里東竹","6210135","富里東竹"]
["東里分部","富里東里","6210146","富里東里"]
["新秀地區農會","新秀本會","6210098","新秀本會"]
["新城分部","新秀新城","6210191","新秀新城"]
["嘉里分部","新秀嘉里","6210205","新秀嘉里"]
["秀林分部","新秀秀林","6210216","新秀秀林"]
["關山鎮農會","關山本會","6220011","關山本會"]
["海端分部","關山海端","6220239","關山海端"]
["成功鎮農會","成功本會","6220022","成功本會"]
["忠孝分部","成功忠孝","6220206","成功忠孝"]
["信義分部","成功信義","6220251","成功信義"]
["池上鄉農會","池上本會","6220033","池上本會"]
["長濱鄉農會","長濱本會","6220055","長濱本會"]
["台東地區農會","台東本會","6220066","台東本會"]
["豐里分部","台東豐里","6220099","台東豐里"]
["台東分部","台東台東","6220125","台東台東"]
["知本分部","台東知本","6220136","台東知本"]
["綠島分部","台東綠島","6220147","台東綠島"]
["初鹿分部","台東初鹿","6220158","台東初鹿"]
["太平分部","台東太平","6220217","台東太平"]
["蘭嶼分部","台東蘭嶼","6220228","台東蘭嶼"]
["新園分部","台東新園","6220284","台東新園"]
["鹿野地區農會","鹿野本會","6220077","鹿野本會"]
["瑞源分部","鹿野瑞源","6220169","鹿野瑞源"]
["瑞豐分部","鹿野瑞豐","6220240","鹿野瑞豐"]
["太麻里地區農會","太麻里本會","6220088","太麻里本會"]
["美和分部","太麻里美和","6220170","太麻里美和"]
["金崙分部","太麻里金崙","6220181","太麻里金崙"]
["大武分部","太麻里大武","6220192","太麻里大武"]
["東河鄉農會","東河本會","6220103","東河本會"]
["東河分部","東河東河","6220044","東河東河"]
["泰源分部","東河泰源","6220114","東河泰源"]
["澎湖縣農會信用部","澎農信","6240013","澎農信"]
["湖西分部","澎農湖西","6240024","澎農湖西"]
["西嶼分部","澎農西嶼","6240035","澎農西嶼"]
["望安分部","澎農望安","6240046","澎農望安"]
["白沙分部","澎農白沙","6240057","澎農白沙"]
["七美分部","澎農七美","6240068","澎農七美"]
["連江縣農會","連江縣農會","6270016","連江縣農會"]
["小港區農會","小港農會","9520103","小港農會"]
["彰化市農會","彰化市本會","9540024","彰化市本會"]
["礁溪鄉農會","礁溪本會","9540105","礁溪本會"]
["四結分部","礁溪四結","9540116","礁溪四結"]
["龍潭分部","礁溪龍潭","9540127","礁溪龍潭"]
["德陽分部","礁溪德陽","9540138","礁溪德陽"]
["二水鄉農會","二水本會","9540208","二水本會"]
["公館鄉農會","公館本會","9540301","公館本會"]
["福基辦事處","公館福基辦","9540312","公館福基辦"]
["五谷辦事處","公館五谷辦","9540334","公館五谷辦"]
["鶴岡辦事處","公館鶴岡辦","9540345","公館鶴岡辦"]
["阿里山鄉農會","阿里山本會","9540404","阿里山本會"]
["中山分部","阿里山中山","9540415","阿里山中山"]
["達邦分部","阿里山達邦","9540426","阿里山達邦"]
["獅潭鄉農會","獅潭本會","9540507","獅潭本會"]
["汶水分部","獅潭汶水","9540518","獅潭汶水"]
["大安區農會","大安農本會","9540600","大安農本會"]
["海墘辦事處","大安農海墘","9540611","大安農海墘"]
["松雅分部","大安松雅","9540622","大安松雅"]
["大肚區農會","大肚本會","9540806","大肚本會"]
["王田分部","大肚王田","9540817","大肚王田"]
["福山辦事處","大肚福山辦","9540828","大肚福山辦"]
["蔗廓辦事處","大肚蔗廓辦","9540839","大肚蔗廓辦"]
["成功分部","大肚成功","9540840","大肚成功"]
["龍井區農會","龍井本會","9540909","龍井本會"]
["龍泉辦事處","龍井龍泉辦","9540910","龍井龍泉辦"]
["龍津辦事處","龍井龍津辦","9540921","龍井龍津辦"]
["新庄辦事處","龍井新庄辦","9540932","龍井新庄辦"]
["國際辦事處","龍井國際辦","9540943","龍井國際辦"]
["卓蘭鎮農會","卓蘭本會","9541009","卓蘭本會"]
["竹南鎮農會","竹農本會","9541102","竹農本會"]
["中港分部","竹農中港","9541113","竹農中港"]
["大埔分部","竹農大埔","9541124","竹農大埔"]
["龍鳳分部","竹農龍鳳","9541135","竹農龍鳳"]
["頭份鎮農會","頭份本會","9541205","頭份本會"]
["珊湖分部","頭份珊湖","9541216","頭份珊湖"]
["上街分部","頭份上街","9541227","頭份上街"]
["尖山分部","頭份尖山","9541238","頭份尖山"]
["中山分部","頭份中山","9541249","頭份中山"]
["三灣鄉農會","三灣本會","9541308","三灣本會"]
["造橋鄉農會","造橋本會","9541401","造橋本會"]
["大西辦事處","造橋大西辦","9541412","造橋大西辦"]
["朝陽辦事處","造橋朝陽辦","9541423","造橋朝陽辦"]
["龍昇辦事處","造橋龍昇辦","9541434","造橋龍昇辦"]
["豐湖辦事處","造橋豐湖辦","9541456","造橋豐湖辦"]
["頭屋鄉農會","頭屋本會","9541504","頭屋本會"]
["明德分部","頭屋明德","9541515","頭屋明德"]
["苗栗市農會","苗栗本會","9541607","苗栗本會"]
["北苗辦事處","苗栗北苗辦","9541618","苗栗北苗辦"]
["南苗辦事處","苗栗南苗辦","9541629","苗栗南苗辦"]
["嘉盛辦事處","苗栗嘉盛辦","9541630","苗栗嘉盛辦"]
["西湖鄉農會","西湖本會","9541700","西湖本會"]
["五湖分部","西湖五湖","9541711","西湖五湖"]
["通霄鎮農會","通霄本會","9541803","通霄本會"]
["白沙屯分部","通霄白沙屯","9541814","通霄白沙屯"]
["銅鑼鄉農會","銅鑼本會","9541906","銅鑼本會"]
["中平分部","銅鑼中平","9541917","銅鑼中平"]
["新隆分部","銅鑼新隆","9541928","銅鑼新隆"]
["南投市農會","南投本會","9542006","南投本會"]
["內興分部","南投內興","9542017","南投內興"]
["永豐分部","南投永豐","9542028","南投永豐"]
["福山分部","南投福山","9542039","南投福山"]
["營南分部","南投營南","9542040","南投營南"]
["營北分部","南投營北","9542051","南投營北"]
["鳳山分部","南投鳳山","9542062","南投鳳山"]
["漳和分部","南投漳和","9542073","南投漳和"]
["水里鄉農會","水里本會","9542109","水里本會"]
["上安分部","水里上安","9542110","水里上安"]
["玉峰分部","水里玉峰","9542121","水里玉峰"]
["民和分部","水里民和","9542132","水里民和"]
["信義鄉農會","信義本會","9542202","信義本會"]
["和社分部","信義和社","9542213","信義和社"]
["地利分部","信義地利","9542224","信義地利"]
["集集鎮農會","集集本會","9542305","集集本會"]
["田寮分部","集集田寮","9542316","集集田寮"]
["埔里鎮農會","埔里本會","9542408","埔里本會"]
["合成分部","埔里合成","9542419","埔里合成"]
["愛蘭分部","埔里愛蘭","9542420","埔里愛蘭"]
["北安分部","埔里北安","9542431","埔里北安"]
["中寮鄉農會","中寮本會","9542501","中寮本會"]
["爽文分部","中寮爽文","9542512","中寮爽文"]
["義和分部","中寮義和","9542545","中寮義和"]
["內城分部","中寮內城","9542556","中寮內城"]
["永福分部","中寮永福","9542567","中寮永福"]
["魚池鄉農會","魚池本會","9542604","魚池本會"]
["頭社分部","魚池頭社","9542615","魚池頭社"]
["日月潭分部","魚池日月潭","9542626","魚池日月潭"]
["東光分部","魚池東光","9542637","魚池東光"]
["共和分部","魚池共和","9542648","魚池共和"]
["五城分部","魚池五城","9542659","魚池五城"]
["國姓鄉農會","國姓本會","9542707","國姓本會"]
["國姓分部","國姓國姓","9542718","國姓國姓"]
["長流分部","國姓長流","9542729","國姓長流"]
["北山分部","國姓北山","9542730","國姓北山"]
["北港分部","國姓北港","9542741","國姓北港"]
["福龜分部","國姓福龜","9542752","國姓福龜"]
["南港分部","國姓南港","9542763","國姓南港"]
["鹿谷鄉農會","鹿谷本會","9542800","鹿谷本會"]
["廣興分部","鹿谷廣興","9542811","鹿谷廣興"]
["初鄉分部","鹿谷初鄉","9542822","鹿谷初鄉"]
["竹林分部","鹿谷竹林","9542833","鹿谷竹林"]
["坪頂分部","鹿谷坪頂","9542844","鹿谷坪頂"]
["永隆分部","鹿谷永隆","9542855","鹿谷永隆"]
["瑞田分部","鹿谷瑞田","9542866","鹿谷瑞田"]
["鳳凰分部","鹿谷鳳凰","9542877","鹿谷鳳凰"]
["仁愛鄉農會","仁愛本會","9542903","仁愛本會"]
["苑裡鎮農會","苑裡本會","9543003","苑裡本會"]
["山腳分部","苑裡山腳","9543014","苑裡山腳"]
["社苓分部","苑裡社苓","9543025","苑裡社苓"]
["三義鄉農會","三義本會","9543106","三義本會"]
["鯉魚潭分部","三義鯉魚潭","9543117","三義鯉魚潭"]
["大湖地區農會","大湖本會","9543209","大湖本會"]
["新開分部","大湖新開","9543210","大湖新開"]
["南湖分部","大湖南湖","9543221","大湖南湖"]
["清安分部","大湖清安","9543232","大湖清安"]
["大湖分部","大湖農大湖","9543243","大湖農大湖"]
["南庄鄉農會","南庄本會","9543302","南庄本會"]
["田美分部","南庄田美","9543313","南庄田美"]
["南富分部","南庄南富","9543324","南庄南富"]
["線西鄉農會","線西本會","9543405","線西本會"]
["太平區農會","太平本會","9543508","太平本會"]
["新光分部","太平新光","9543519","太平新光"]
["頭汴分部","太平頭汴","9543520","太平頭汴"]
["光隆分部","太平光隆","9543531","太平光隆"]
["中山分部","太平中山","9543542","太平中山"]
["東平分部","太平東平","9543553","太平東平"]
["坪林分部","太平坪林","9543564","太平坪林"]
["花蓮市農會","花農本會","9543601","花農本會"]
["花商分部","花農花商","9543612","花農花商"]
["自強分部","花農自強","9543634","花農自強"]
["美崙分部","花農美崙","9543645","花農美崙"]
["林內鄉農會","林內本會","9543704","林內本會"]
["田尾鄉農會","田尾本會","9543807","田尾本會"]
["溪畔分部","田尾溪畔","9543818","田尾溪畔"]
["福田分部","田尾福田","9543829","田尾福田"]
["海豐分部","田尾海豐","9543830","田尾海豐"]
["北斗鎮農會","北斗本會","9543900","北斗本會"]
["大甲區農會","大甲本會","9544000","大甲本會"]
["順天分部","大甲順天","9544011","大甲順天"]
["日南分部","大甲日南","9544022","大甲日南"]
["西岐分部","大甲西岐","9544033","大甲西岐"]
["幼獅社區分部","大甲幼獅","9544044","大甲幼獅"]
["庄美分部","大甲庄美","9544055","大甲庄美"]
["台中市石岡區農會","石岡區農會","9544103","石岡區農會"]
["和盛分部","石岡和盛","9544114","石岡和盛"]
["萬興辦事處","石岡萬興","9544125","石岡萬興"]
["新社區農會","新社本會","9544206","新社本會"]
["福興分部","新社福興","9544217","新社福興"]
["中興嶺分部","新社中興嶺","9544228","新社中興嶺"]
["梧棲區農會","梧棲本會","9544309","梧棲本會"]
["興農分部","梧棲興農","9544310","梧棲興農"]
["安寧分部","梧棲安寧","9544321","梧棲安寧"]
["大莊分部","梧棲大莊","9544332","梧棲大莊"]
["南簡辦事處","梧棲南簡辦","9544343","梧棲南簡辦"]
["后里區農會","后里本會","9544402","后里本會"]
["義里分部","后里義里","9544413","后里義里"]
["公館分部","后里公館","9544424","后里公館"]
["眉山分部","后里眉山","9544435","后里眉山"]
["清水區農會","清水本會","9544505","清水本會"]
["臨江辦事處","清水臨江辦","9544516","清水臨江辦"]
["南社分部","清水南社","9544527","清水南社"]
["霧峰區農會","霧峰本會","9544608","霧峰本會"]
["北柳分部","霧峰北柳","9544619","霧峰北柳"]
["萬豐分部","霧峰萬豐","9544620","霧峰萬豐"]
["吉峰分部","霧峰吉峰","9544631","霧峰吉峰"]
["舊正分部","霧峰舊正","9544642","霧峰舊正"]
["吉峰路分部","霧峰吉峰路","9544653","霧峰吉峰路"]
["外埔區農會","外埔本會","9544701","外埔本會"]
["土城辦事處","外埔土城辦","9544712","外埔土城辦"]
["大東分部","外埔大東","9544723","外埔大東"]
["烏日區農會","烏日本會","9544804","烏日本會"]
["溪埧分部","烏日溪埧","9544815","烏日溪埧"]
["九德分部","烏日九德","9544826","烏日九德"]
["成功分部","烏日成功","9544837","烏日成功"]
["潭子區農會","潭子本會","9544907","潭子本會"]
["頭家分部","潭子頭家","9544918","潭子頭家"]
["東寶分部","潭子東寶","9544929","潭子東寶"]
["栗林辦事處","潭子栗林","9544930","潭子栗林"]
["甘蔗辦事處","潭子甘蔗辦","9544941","潭子甘蔗辦"]
["伸港鄉農會","伸港本會","9545007","伸港本會"]
["和美鎮農會","和美本會","9545100","和美本會"]
["塗厝分部","和美塗厝","9545122","和美塗厝"]
["新庄分部","和美新庄","9545133","和美新庄"]
["鎮平分部","和美鎮平","9545144","和美鎮平"]
["花壇鄉農會","花壇本會","9545203","花壇本會"]
["白沙分部","花壇白沙","9545214","花壇白沙"]
["灣雅分部","花壇灣雅","9545225","花壇灣雅"]
["口庄分部","花壇口庄","9545236","花壇口庄"]
["長沙分部","花壇長沙","9545258","花壇長沙"]
["福興鄉農會","福興本會","9545306","福興本會"]
["管嶼分部","福興農管嶼","9545317","福興農管嶼"]
["外中分部","福興農外中","9545328","福興農外中"]
["大村鄉農會","大村本會","9545409","大村本會"]
["大村分部","大村大村","9545410","大村大村"]
["美港分部","大村美港","9545421","大村美港"]
["大西辦事處","大村大西辦","9545432","大村大西辦"]
["村東辦事處","大村村東辦","9545443","大村村東辦"]
["溪湖鎮農會","溪湖本會","9545502","溪湖本會"]
["社頭鄉農會","社頭本會","9545605","社頭本會"]
["湳雅分部","社頭湳雅","9545616","社頭湳雅"]
["橋頭分部","社頭橋頭","9545627","社頭橋頭"]
["清水分部","社頭清水","9545638","社頭清水"]
["大城鄉農會","大城本會","9545708","大城本會"]
["西港分部","大城西港","9545719","大城西港"]
["溪州鄉農會","溪州本會","9545801","溪州本會"]
["西畔分部","溪州西畔","9545812","溪州西畔"]
["大庄分部","溪州大庄","9545823","溪州大庄"]
["田中鎮農會","田中本會","9545904","田中本會"]
["南投縣竹山鎮農會","竹山鎮農會","9546004","竹山鎮農會"]
["社寮分部","竹山農社寮","9546015","竹山農社寮"]
["瑞竹分部","竹山農瑞竹","9546026","竹山農瑞竹"]
["延平分部","竹山農延平","9546037","竹山農延平"]
["中央分部","竹山農中央","9546048","竹山農中央"]
["麥寮鄉農會","麥寮本會","9546107","麥寮本會"]
["橋頭分部","麥寮橋頭","9546118","麥寮橋頭"]
["雲林縣東勢鄉農會","勢鄉農本會","9546200","勢鄉農本會"]
["新坤辦事處","勢鄉農新坤","9546211","勢鄉農新坤"]
["土庫鎮農會","土庫本會","9546303","土庫本會"]
["馬光分部","土庫馬光","9546314","土庫馬光"]
["新庄辦事處","土庫新庄辦","9546325","土庫新庄辦"]
["忠正辦事處","土庫忠正辦","9546336","土庫忠正辦"]
["後埔分部","土庫後埔","9546358","土庫後埔"]
["元長鄉農會","元長本會","9546406","元長本會"]
["鹿寮分部","元長鹿寮","9546417","元長鹿寮"]
["客庴分部","元長客庴","9546428","元長客庴"]
["北港鎮農會","北港本會","9546509","北港本會"]
["好收分部","北港好收","9546510","北港好收"]
["水林鄉農會","水林本會","9546602","水林本會"]
["蔦松辦事處","水林蔦松","9546613","水林蔦松"]
["西井辦事處","水林西井","9546624","水林西井"]
["溪墘辦事處","水林溪墘","9546635","水林溪墘"]
["宏仁分部","水林宏仁","9546646","水林宏仁"]
["中埔鄉農會","中埔本會","9546705","中埔本會"]
["三層分部","中埔三層","9546716","中埔三層"]
["同仁分部","中埔同仁","9546727","中埔同仁"]
["金蘭分部","中埔金蘭","9546738","中埔金蘭"]
["隆興分部","中埔隆興","9546749","中埔隆興"]
["和睦分部","中埔和睦","9546750","中埔和睦"]
["沄水分部","中埔沄水","9546761","中埔沄水"]
["和興分部","中埔和興","9546772","中埔和興"]
["和美分部","中埔和美","9546783","中埔和美"]
["鹿港鎮農會","鹿港本會","9546808","鹿港本會"]
["草港分部","鹿港草港","9546819","鹿港草港"]
["頂番分部","鹿港頂番","9546820","鹿港頂番"]
["海埔分部","鹿港海埔","9546831","鹿港海埔"]
["東崎分部","鹿港東崎","9546842","鹿港東崎"]
["瑞穗鄉本會","瑞穗本會","9546901","瑞穗本會"]
["富源分部","瑞穗富源","9546912","瑞穗富源"]
["官田區農會","官田本會","9547001","官田本會"]
["西庄辦事處","官田西庄辦","9547012","官田西庄辦"]
["官田辦事處","官田官田辦","9547023","官田官田辦"]
["二鎮辦事處","官田二鎮辦","9547034","官田二鎮辦"]
["渡頭辦事處","官田渡頭辦","9547045","官田渡頭辦"]
["湖山辦事處","官田湖山辦","9547056","官田湖山辦"]
["大內區農會","大內本會","9547104","大內本會"]
["二溪辦事處","大內二溪辦","9547115","大內二溪辦"]
["頭社分部","大內頭社","9547126","大內頭社"]
["環湖分部","大內環湖","9547137","大內環湖"]
["新市區農會","新市本會","9547207","新市本會"]
["大社分部","新市大社","9547218","新市大社"]
["左鎮區農會","左鎮本會","9547300","左鎮本會"]
["山上區農會","山上本會","9547403","山上本會"]
["柳營區農會","柳營本會","9547506","柳營本會"]
["太康辦事處","柳營太康辦","9547517","柳營太康辦"]
["重溪辦事處","柳營重溪辦","9547528","柳營重溪辦"]
["旭山辦事處","柳營旭山辦","9547539","柳營旭山辦"]
["果毅辦事處","柳營果毅辦","9547540","柳營果毅辦"]
["七股區農會","七股本會","9547609","七股本會"]
["玉溪地區農會","玉溪本會","9547702","玉溪本會"]
["卓溪分部","玉溪卓溪","9547713","玉溪卓溪"]
["松浦分部","玉溪松浦","9547724","玉溪松浦"]
["學甲區農會","學甲本會","9547805","學甲本會"]
["中洲分部","學甲中洲","9547816","學甲中洲"]
["宅港分部","學甲宅港","9547827","學甲宅港"]
["頂洲分部","學甲頂洲","9547838","學甲頂洲"]
["草圣分部","學甲草圣","9547849","學甲草圣"]
["大灣分部","學甲大灣","9547850","學甲大灣"]
["下營區農會","下營本會","9547908","下營本會"]
["中興分部","下營中興","9547919","下營中興"]
["中營分部","下營中營","9547920","下營中營"]
["甲中分部","下營甲中","9547931","下營甲中"]
["埔鹽鄉農會","埔鹽本會","9548053","埔鹽本會"]
["新水分部","埔鹽新水","9548064","埔鹽新水"]
["麻豆區農會","麻豆本會","9548101","麻豆本會"]
["光復分部","麻豆光復","9548112","麻豆光復"]
["新生辦事處","麻豆新生辦","9548123","麻豆新生辦"]
["復光分部","麻豆復光","9548134","麻豆復光"]
["安業分部","麻豆安業","9548145","麻豆安業"]
["仁德區農會","仁德本會","9548204","仁德本會"]
["太子分部","仁德太子","9548215","仁德太子"]
["後壁分部","仁德後壁","9548226","仁德後壁"]
["保安分部","仁德保安","9548237","仁德保安"]
["中洲分部","仁德中洲","9548248","仁德中洲"]
["二行分部","仁德二行","9548259","仁德二行"]
["關廟區農會","關廟本會","9548307","關廟本會"]
["龜洞辦事處","關廟龜洞辦","9548318","關廟龜洞辦"]
["埤頭辦事處","關廟埤頭辦","9548329","關廟埤頭辦"]
["龍崎區農會","龍崎區本會","9548400","龍崎區本會"]
["龍船分部","龍崎龍船","9548411","龍崎龍船"]
["安定區農會","安定本會","9548503","安定本會"]
["蘇厝分部","安定蘇厝","9548514","安定蘇厝"]
["港口辦事處","安定港口辦","9548525","安定港口辦"]
["中沙分部","安定中沙","9548536","安定中沙"]
["海寮分部","安定海寮","9548547","安定海寮"]
["白河區農會","白河本會","9548606","白河本會"]
["市場分部","白河市場","9548617","白河市場"]
["關嶺分部","白河關嶺","9548628","白河關嶺"]
["竹門分部","白河竹門","9548639","白河竹門"]
["玉豐分部","白河玉豐","9548640","白河玉豐"]
["內角分部","白河內角","9548651","白河內角"]
["東山區農會","東山本會","9548709","東山本會"]
["東原辦事處","東山東原辦","9548710","東山東原辦"]
["青山辦事處","東山青山辦","9548721","東山青山辦"]
["南溪辦事處","東山南溪辦","9548732","東山南溪辦"]
["聖賢辦事處","東山聖賢辦","9548743","東山聖賢辦"]
["後壁區農會","後壁本會","9548802","後壁本會"]
["菁寮辦事處","後壁菁寮辦","9548813","後壁菁寮辦"]
["安溪辦事處","後壁安溪辦","9548824","後壁安溪辦"]
["上茄苳分部","後壁上茄苳","9548835","後壁上茄苳"]
["新東分部","後壁新東","9548846","後壁新東"]
["竹新分部","後壁竹新","9548857","後壁竹新"]
["內埔地區農會","內埔本會","9549005","內埔本會"]
["豐田分部","內埔豐田","9549016","內埔豐田"]
["東勢分部","內埔東勢","9549027","內埔東勢"]
["龍泉分部","內埔龍泉","9549038","內埔龍泉"]
["水門分部","內埔水門","9549049","內埔水門"]
["老埤分部","內埔老埤","9549050","內埔老埤"]
["鳳榮地區農會","鳳榮本會","9549108","鳳榮本會"]
["林榮分部","鳳榮農林榮","9549119","鳳榮農林榮"]
["萬榮分部","鳳榮農萬榮","9549120","鳳榮農萬榮"]
["光豐地區農會","光豐本會","9549201","光豐本會"]
["大富分部","光豐農大富","9549212","光豐農大富"]
["豐濱分部","光豐豐濱","9549223","光豐豐濱"]
["和平區農會","和平本會","9549304","和平本會"]
["梨山辦事處","和平梨山","9549315","和平梨山"]
["雙崎辦事處","和平雙崎","9549326","和平雙崎"]
["大雅區農會","大雅本會","9549407","大雅本會"]
["上楓分部","大雅上楓","9549418","大雅上楓"]
["馬岡辦事處","大雅馬岡","9549429","大雅馬岡"]
["忠義辦事處","大雅忠義","9549430","大雅忠義"]
["橫山分部","大雅橫山","9549452","大雅橫山"]
["台中市東勢區農會","東勢區農會","9549603","東勢區農會"]
["台中市沙鹿區農會","沙鹿區農會","9549706","沙鹿區農會"]
["北勢分部","沙鹿北勢","9549717","沙鹿北勢"]
["鹿峰分部","沙鹿鹿峰","9549728","沙鹿鹿峰"]
["西明辦事處","沙鹿西明","9549739","沙鹿西明"]
["公館辦事處","沙鹿公館","9549740","沙鹿公館"]
["新化區農會","新農本會","9549809","新農本會"]
["那拔林分部","新農那拔林","9549810","新農那拔林"]
["中山分部","新農中山","9549821","新農中山"]
["南化區農會","南化本會","9549902","南化本會"]
["台北分行","瑞穗銀台北","0200017","瑞穗銀台北"]
["高雄分行","瑞穗銀高雄","0200028","瑞穗銀高雄"]
["台中分行","瑞穗銀台中","0200040","瑞穗銀台中"]
["美國銀行台北分行","美銀台北","0220019","美銀台北"]
["台北分行","盤谷台北","0230010","盤谷台北"]
["高雄分行","盤谷高雄","0230032","盤谷高雄"]
["台中分行","盤谷台中","0230043","盤谷台中"]
["台北分行","首都台北","0250012","首都台北"]
["台北分行","道富銀台北","0300010","道富銀台北"]
["台北分行","德銀台北","0720014","德銀台北"]
["台北分行","東亞銀台北","0750006","東亞銀台北"]
["高雄分行","東亞銀高雄","0750028","東亞銀高雄"]
["台北分行","摩根大通銀","0760018","摩根大通銀"]
["台北分行","巴黎台北","0820017","巴黎台北"]
["高雄分行","巴黎高雄","0820039","巴黎高雄"]
["台北分行","新僑台北","0850009","新僑台北"]
["台北分行","東方匯理北","0860011","東方匯理北"]
["台北分行","瑞士台北","0920010","瑞士台北"]
["台中分行","瑞士台中","0920032","瑞士台中"]
["高雄分行","瑞士高雄","0920043","瑞士高雄"]
["台北分行","安智銀行","0930011","安智銀行"]
["台北分行","三菱日聯台","0980016","三菱日聯台"]
["台北分行","三井住友北","3210019","三井住友北"]
["臺北分行","中銀臺北","3800016","中銀臺北"]
["臺北分行","交銀臺北","3810888","交銀臺北"]
["臺北分行","建行臺北","3820018","建行臺北"]
["台北總公司","豐票台北","0600019","豐票台北"]
["台北總公司","華票台北","0610010","華票台北"]
["高雄分公司","華票高雄","0610021","華票高雄"]
["台中分公司","華票台中","0610032","華票台中"]
["台南分公司","華票台南","0610043","華票台南"]
["桃園分公司","華票桃園","0610054","華票桃園"]
["板橋分公司","華票板橋","0610065","華票板橋"]
["台北總公司","國票台北","0620011","國票台北"]
["台中分公司","國票台中","0620022","國票台中"]
["台南分公司","國票台南","0620033","國票台南"]
["高雄分公司","國票高雄","0620044","國票高雄"]
["嘉義分公司","國票嘉義","0620055","國票嘉義"]
["桃園分公司","國票桃園","0620066","國票桃園"]
["板橋分公司","國票板橋","0620077","國票板橋"]
["中山分公司","國票中山","0620088","國票中山"]
["新竹分公司","國票新竹","0620099","國票新竹"]
["總公司","萬票總公司","0660015","萬票總公司"]
["總公司","大慶票總","3720015","大慶票總"]
["關貿網路股份有限公司","關貿網路","9950016","關貿網路"]
["財政部國庫署","國庫署","9960017","國庫署"]
["中部辦公室","國庫署中辦","9960028","國庫署中辦"]
["郵政劃撥儲金","郵政劃撥","7000010","郵政劃撥"]
["郵政存簿儲金","郵政存簿",7000021,"郵政存簿"]

{"sheet":"出納複匯用","index":2,"n_rows":1768,"n_cols":9,"rows_kept":1768,"cut":false,"hidden":false,"merged":[]}
[{"$f":"+轉帳過程檔!A2","v":""},{"$f":"+轉帳過程檔!C2","v":0},{"$f":"+轉帳過程檔!G2","v":0},{"$f":"+轉帳過程檔!B2","v":0}]
[{"$f":"+轉帳過程檔!A3","v":""},{"$f":"+轉帳過程檔!C3","v":0},{"$f":"+轉帳過程檔!G3","v":0},{"$f":"+轉帳過程檔!B3","v":0},null,null,null,"總金額",{"$f":"SUM(C:C)/2","v":0}]
[{"$f":"+轉帳過程檔!A4","v":""},{"$f":"+轉帳過程檔!C4","v":0},{"$f":"+轉帳過程檔!G4","v":0},{"$f":"+轉帳過程檔!B4","v":0},null,null,null,"筆數",{"$f":"+COUNTIF(C:C,\">0\")-1","v":-1}]
[{"$f":"+轉帳過程檔!A5","v":""},{"$f":"+轉帳過程檔!C5","v":0},{"$f":"+轉帳過程檔!G5","v":0},{"$f":"+轉帳過程檔!B5","v":0}]
[{"$f":"+轉帳過程檔!A6","v":""},{"$f":"+轉帳過程檔!C6","v":0},{"$f":"+轉帳過程檔!G6","v":0},{"$f":"+轉帳過程檔!B6","v":0}]
[{"$f":"+轉帳過程檔!A7","v":""},{"$f":"+轉帳過程檔!C7","v":0},{"$f":"+轉帳過程檔!G7","v":0},{"$f":"+轉帳過程檔!B7","v":0}]
[{"$f":"+轉帳過程檔!A8","v":""},{"$f":"+轉帳過程檔!C8","v":0},{"$f":"+轉帳過程檔!G8","v":0},{"$f":"+轉帳過程檔!B8","v":0}]
[{"$f":"+轉帳過程檔!A9","v":""},{"$f":"+轉帳過程檔!C9","v":0},{"$f":"+轉帳過程檔!G9","v":0},{"$f":"+轉帳過程檔!B9","v":0}]
[{"$f":"+轉帳過程檔!A10","v":""},{"$f":"+轉帳過程檔!C10","v":0},{"$f":"+轉帳過程檔!G10","v":0},{"$f":"+轉帳過程檔!B10","v":0}]
[{"$f":"+轉帳過程檔!A11","v":""},{"$f":"+轉帳過程檔!C11","v":0},{"$f":"+轉帳過程檔!G11","v":0},{"$f":"+轉帳過程檔!B11","v":0}]
[{"$f":"+轉帳過程檔!A12","v":""},{"$f":"+轉帳過程檔!C12","v":0},{"$f":"+轉帳過程檔!G12","v":0},{"$f":"+轉帳過程檔!B12","v":0}]
[{"$f":"+轉帳過程檔!A13","v":""},{"$f":"+轉帳過程檔!C13","v":0},{"$f":"+轉帳過程檔!G13","v":0},{"$f":"+轉帳過程檔!B13","v":0}]
[{"$f":"+轉帳過程檔!A14","v":""},{"$f":"+轉帳過程檔!C14","v":0},{"$f":"+轉帳過程檔!G14","v":0},{"$f":"+轉帳過程檔!B14","v":0}]
[{"$f":"+轉帳過程檔!A15","v":""},{"$f":"+轉帳過程檔!C15","v":0},{"$f":"+轉帳過程檔!G15","v":0},{"$f":"+轉帳過程檔!B15","v":0}]
[{"$f":"+轉帳過程檔!A16","v":""},{"$f":"+轉帳過程檔!C16","v":0},{"$f":"+轉帳過程檔!G16","v":0},{"$f":"+轉帳過程檔!B16","v":0}]
[{"$f":"+轉帳過程檔!A17","v":""},{"$f":"+轉帳過程檔!C17","v":0},{"$f":"+轉帳過程檔!G17","v":0},{"$f":"+轉帳過程檔!B17","v":0}]
[{"$f":"+轉帳過程檔!A18","v":""},{"$f":"+轉帳過程檔!C18","v":0},{"$f":"+轉帳過程檔!G18","v":0},{"$f":"+轉帳過程檔!B18","v":0}]
[{"$f":"+轉帳過程檔!A19","v":""},{"$f":"+轉帳過程檔!C19","v":0},{"$f":"+轉帳過程檔!G19","v":0},{"$f":"+轉帳過程檔!B19","v":0}]
[{"$f":"+轉帳過程檔!A20","v":""},{"$f":"+轉帳過程檔!C20","v":0},{"$f":"+轉帳過程檔!G20","v":0},{"$f":"+轉帳過程檔!B20","v":0}]
[{"$f":"+轉帳過程檔!A21","v":""},{"$f":"+轉帳過程檔!C21","v":0},{"$f":"+轉帳過程檔!G21","v":0},{"$f":"+轉帳過程檔!B21","v":0}]
[{"$f":"+轉帳過程檔!A22","v":""},{"$f":"+轉帳過程檔!C22","v":0},{"$f":"+轉帳過程檔!G22","v":0},{"$f":"+轉帳過程檔!B22","v":0}]
[{"$f":"+轉帳過程檔!A23","v":""},{"$f":"+轉帳過程檔!C23","v":0},{"$f":"+轉帳過程檔!G23","v":0},{"$f":"+轉帳過程檔!B23","v":0}]
[{"$f":"+轉帳過程檔!A24","v":""},{"$f":"+轉帳過程檔!C24","v":0},{"$f":"+轉帳過程檔!G24","v":0},{"$f":"+轉帳過程檔!B24","v":0}]
[{"$f":"+轉帳過程檔!A25","v":""},{"$f":"+轉帳過程檔!C25","v":0},{"$f":"+轉帳過程檔!G25","v":0},{"$f":"+轉帳過程檔!B25","v":0}]
[{"$f":"+轉帳過程檔!A26","v":""},{"$f":"+轉帳過程檔!C26","v":0},{"$f":"+轉帳過程檔!G26","v":0},{"$f":"+轉帳過程檔!B26","v":0}]
[{"$f":"+轉帳過程檔!A27","v":""},{"$f":"+轉帳過程檔!C27","v":0},{"$f":"+轉帳過程檔!G27","v":0},{"$f":"+轉帳過程檔!B27","v":0}]
[{"$f":"+轉帳過程檔!A28","v":""},{"$f":"+轉帳過程檔!C28","v":0},{"$f":"+轉帳過程檔!G28","v":0},{"$f":"+轉帳過程檔!B28","v":0}]
[{"$f":"+轉帳過程檔!A29","v":""},{"$f":"+轉帳過程檔!C29","v":0},{"$f":"+轉帳過程檔!G29","v":0},{"$f":"+轉帳過程檔!B29","v":0}]
[{"$f":"+轉帳過程檔!A30","v":""},{"$f":"+轉帳過程檔!C30","v":0},{"$f":"+轉帳過程檔!G30","v":0},{"$f":"+轉帳過程檔!B30","v":0}]
[{"$f":"+轉帳過程檔!A31","v":""},{"$f":"+轉帳過程檔!C31","v":0},{"$f":"+轉帳過程檔!G31","v":0},{"$f":"+轉帳過程檔!B31","v":0}]
[{"$f":"+轉帳過程檔!A32","v":""},{"$f":"+轉帳過程檔!C32","v":0},{"$f":"+轉帳過程檔!G32","v":0},{"$f":"+轉帳過程檔!B32","v":0}]
[{"$f":"+轉帳過程檔!A33","v":""},{"$f":"+轉帳過程檔!C33","v":0},{"$f":"+轉帳過程檔!G33","v":0},{"$f":"+轉帳過程檔!B33","v":0}]
[{"$f":"+轉帳過程檔!A34","v":""},{"$f":"+轉帳過程檔!C34","v":0},{"$f":"+轉帳過程檔!G34","v":0},{"$f":"+轉帳過程檔!B34","v":0}]
[{"$f":"+轉帳過程檔!A35","v":""},{"$f":"+轉帳過程檔!C35","v":0},{"$f":"+轉帳過程檔!G35","v":0},{"$f":"+轉帳過程檔!B35","v":0}]
[{"$f":"+轉帳過程檔!A36","v":""},{"$f":"+轉帳過程檔!C36","v":0},{"$f":"+轉帳過程檔!G36","v":0},{"$f":"+轉帳過程檔!B36","v":0}]
[{"$f":"+轉帳過程檔!A37","v":""},{"$f":"+轉帳過程檔!C37","v":0},{"$f":"+轉帳過程檔!G37","v":0},{"$f":"+轉帳過程檔!B37","v":0}]
[{"$f":"+轉帳過程檔!A38","v":""},{"$f":"+轉帳過程檔!C38","v":0},{"$f":"+轉帳過程檔!G38","v":0},{"$f":"+轉帳過程檔!B38","v":0}]
[{"$f":"+轉帳過程檔!A39","v":""},{"$f":"+轉帳過程檔!C39","v":0},{"$f":"+轉帳過程檔!G39","v":0},{"$f":"+轉帳過程檔!B39","v":0}]
[{"$f":"+轉帳過程檔!A40","v":""},{"$f":"+轉帳過程檔!C40","v":0},{"$f":"+轉帳過程檔!G40","v":0},{"$f":"+轉帳過程檔!B40","v":0}]
[{"$f":"+轉帳過程檔!A41","v":""},{"$f":"+轉帳過程檔!C41","v":0},{"$f":"+轉帳過程檔!G41","v":0},{"$f":"+轉帳過程檔!B41","v":0}]
[{"$f":"+轉帳過程檔!A42","v":""},{"$f":"+轉帳過程檔!C42","v":0},{"$f":"+轉帳過程檔!G42","v":0},{"$f":"+轉帳過程檔!B42","v":0}]
[{"$f":"+轉帳過程檔!A43","v":""},{"$f":"+轉帳過程檔!C43","v":0},{"$f":"+轉帳過程檔!G43","v":0},{"$f":"+轉帳過程檔!B43","v":0}]
[{"$f":"+轉帳過程檔!A44","v":""},{"$f":"+轉帳過程檔!C44","v":0},{"$f":"+轉帳過程檔!G44","v":0},{"$f":"+轉帳過程檔!B44","v":0}]
[{"$f":"+轉帳過程檔!A45","v":""},{"$f":"+轉帳過程檔!C45","v":0},{"$f":"+轉帳過程檔!G45","v":0},{"$f":"+轉帳過程檔!B45","v":0}]
[{"$f":"+轉帳過程檔!A46","v":""},{"$f":"+轉帳過程檔!C46","v":0},{"$f":"+轉帳過程檔!G46","v":0},{"$f":"+轉帳過程檔!B46","v":0}]
[{"$f":"+轉帳過程檔!A47","v":""},{"$f":"+轉帳過程檔!C47","v":0},{"$f":"+轉帳過程檔!G47","v":0},{"$f":"+轉帳過程檔!B47","v":0}]
[{"$f":"+轉帳過程檔!A48","v":""},{"$f":"+轉帳過程檔!C48","v":0},{"$f":"+轉帳過程檔!G48","v":0},{"$f":"+轉帳過程檔!B48","v":0}]
[{"$f":"+轉帳過程檔!A49","v":""},{"$f":"+轉帳過程檔!C49","v":0},{"$f":"+轉帳過程檔!G49","v":0},{"$f":"+轉帳過程檔!B49","v":0}]
[{"$f":"+轉帳過程檔!A50","v":""},{"$f":"+轉帳過程檔!C50","v":0},{"$f":"+轉帳過程檔!G50","v":0},{"$f":"+轉帳過程檔!B50","v":0}]
[{"$f":"+轉帳過程檔!A51","v":""},{"$f":"+轉帳過程檔!C51","v":0},{"$f":"+轉帳過程檔!G51","v":0},{"$f":"+轉帳過程檔!B51","v":0}]
[{"$f":"+轉帳過程檔!A52","v":""},{"$f":"+轉帳過程檔!C52","v":0},{"$f":"+轉帳過程檔!G52","v":0},{"$f":"+轉帳過程檔!B52","v":0}]
[{"$f":"+轉帳過程檔!A53","v":""},{"$f":"+轉帳過程檔!C53","v":0},{"$f":"+轉帳過程檔!G53","v":0},{"$f":"+轉帳過程檔!B53","v":0}]
[{"$f":"+轉帳過程檔!A54","v":""},{"$f":"+轉帳過程檔!C54","v":0},{"$f":"+轉帳過程檔!G54","v":0},{"$f":"+轉帳過程檔!B54","v":0}]
[{"$f":"+轉帳過程檔!A55","v":""},{"$f":"+轉帳過程檔!C55","v":0},{"$f":"+轉帳過程檔!G55","v":0},{"$f":"+轉帳過程檔!B55","v":0}]
[{"$f":"+轉帳過程檔!A56","v":""},{"$f":"+轉帳過程檔!C56","v":0},{"$f":"+轉帳過程檔!G56","v":0},{"$f":"+轉帳過程檔!B56","v":0}]
[{"$f":"+轉帳過程檔!A57","v":""},{"$f":"+轉帳過程檔!C57","v":0},{"$f":"+轉帳過程檔!G57","v":0},{"$f":"+轉帳過程檔!B57","v":0}]
[{"$f":"+轉帳過程檔!A58","v":""},{"$f":"+轉帳過程檔!C58","v":0},{"$f":"+轉帳過程檔!G58","v":0},{"$f":"+轉帳過程檔!B58","v":0}]
[{"$f":"+轉帳過程檔!A59","v":""},{"$f":"+轉帳過程檔!C59","v":0},{"$f":"+轉帳過程檔!G59","v":0},{"$f":"+轉帳過程檔!B59","v":0}]
[{"$f":"+轉帳過程檔!A60","v":""},{"$f":"+轉帳過程檔!C60","v":0},{"$f":"+轉帳過程檔!G60","v":0},{"$f":"+轉帳過程檔!B60","v":0}]
[{"$f":"+轉帳過程檔!A61","v":""},{"$f":"+轉帳過程檔!C61","v":0},{"$f":"+轉帳過程檔!G61","v":0},{"$f":"+轉帳過程檔!B61","v":0}]
[{"$f":"+轉帳過程檔!A62","v":""},{"$f":"+轉帳過程檔!C62","v":0},{"$f":"+轉帳過程檔!G62","v":0},{"$f":"+轉帳過程檔!B62","v":0}]
[{"$f":"+轉帳過程檔!A63","v":""},{"$f":"+轉帳過程檔!C63","v":0},{"$f":"+轉帳過程檔!G63","v":0},{"$f":"+轉帳過程檔!B63","v":0}]
[{"$f":"+轉帳過程檔!A64","v":""},{"$f":"+轉帳過程檔!C64","v":0},{"$f":"+轉帳過程檔!G64","v":0},{"$f":"+轉帳過程檔!B64","v":0}]
[{"$f":"+轉帳過程檔!A65","v":""},{"$f":"+轉帳過程檔!C65","v":0},{"$f":"+轉帳過程檔!G65","v":0},{"$f":"+轉帳過程檔!B65","v":0}]
[{"$f":"+轉帳過程檔!A66","v":""},{"$f":"+轉帳過程檔!C66","v":0},{"$f":"+轉帳過程檔!G66","v":0},{"$f":"+轉帳過程檔!B66","v":0}]
[{"$f":"+轉帳過程檔!A67","v":""},{"$f":"+轉帳過程檔!C67","v":0},{"$f":"+轉帳過程檔!G67","v":0},{"$f":"+轉帳過程檔!B67","v":0}]
[{"$f":"+轉帳過程檔!A68","v":""},{"$f":"+轉帳過程檔!C68","v":0},{"$f":"+轉帳過程檔!G68","v":0},{"$f":"+轉帳過程檔!B68","v":0}]
[{"$f":"+轉帳過程檔!A69","v":""},{"$f":"+轉帳過程檔!C69","v":0},{"$f":"+轉帳過程檔!G69","v":0},{"$f":"+轉帳過程檔!B69","v":0}]
[{"$f":"+轉帳過程檔!A70","v":""},{"$f":"+轉帳過程檔!C70","v":0},{"$f":"+轉帳過程檔!G70","v":0},{"$f":"+轉帳過程檔!B70","v":0}]
[{"$f":"+轉帳過程檔!A71","v":""},{"$f":"+轉帳過程檔!C71","v":0},{"$f":"+轉帳過程檔!G71","v":0},{"$f":"+轉帳過程檔!B71","v":0}]
[{"$f":"+轉帳過程檔!A72","v":""},{"$f":"+轉帳過程檔!C72","v":0},{"$f":"+轉帳過程檔!G72","v":0},{"$f":"+轉帳過程檔!B72","v":0}]
[{"$f":"+轉帳過程檔!A73","v":""},{"$f":"+轉帳過程檔!C73","v":0},{"$f":"+轉帳過程檔!G73","v":0},{"$f":"+轉帳過程檔!B73","v":0}]
[{"$f":"+轉帳過程檔!A74","v":""},{"$f":"+轉帳過程檔!C74","v":0},{"$f":"+轉帳過程檔!G74","v":0},{"$f":"+轉帳過程檔!B74","v":0}]
[{"$f":"+轉帳過程檔!A75","v":""},{"$f":"+轉帳過程檔!C75","v":0},{"$f":"+轉帳過程檔!G75","v":0},{"$f":"+轉帳過程檔!B75","v":0}]
[{"$f":"+轉帳過程檔!A76","v":""},{"$f":"+轉帳過程檔!C76","v":0},{"$f":"+轉帳過程檔!G76","v":0},{"$f":"+轉帳過程檔!B76","v":0}]
[{"$f":"+轉帳過程檔!A77","v":""},{"$f":"+轉帳過程檔!C77","v":0},{"$f":"+轉帳過程檔!G77","v":0},{"$f":"+轉帳過程檔!B77","v":0}]
[{"$f":"+轉帳過程檔!A78","v":""},{"$f":"+轉帳過程檔!C78","v":0},{"$f":"+轉帳過程檔!G78","v":0},{"$f":"+轉帳過程檔!B78","v":0}]
[{"$f":"+轉帳過程檔!A79","v":""},{"$f":"+轉帳過程檔!C79","v":0},{"$f":"+轉帳過程檔!G79","v":0},{"$f":"+轉帳過程檔!B79","v":0}]
[{"$f":"+轉帳過程檔!A80","v":""},{"$f":"+轉帳過程檔!C80","v":0},{"$f":"+轉帳過程檔!G80","v":0},{"$f":"+轉帳過程檔!B80","v":0}]
[{"$f":"+轉帳過程檔!A81","v":""},{"$f":"+轉帳過程檔!C81","v":0},{"$f":"+轉帳過程檔!G81","v":0},{"$f":"+轉帳過程檔!B81","v":0}]
[{"$f":"+轉帳過程檔!A82","v":""},{"$f":"+轉帳過程檔!C82","v":0},{"$f":"+轉帳過程檔!G82","v":0},{"$f":"+轉帳過程檔!B82","v":0}]
[{"$f":"+轉帳過程檔!A83","v":""},{"$f":"+轉帳過程檔!C83","v":0},{"$f":"+轉帳過程檔!G83","v":0},{"$f":"+轉帳過程檔!B83","v":0}]
[{"$f":"+轉帳過程檔!A84","v":""},{"$f":"+轉帳過程檔!C84","v":0},{"$f":"+轉帳過程檔!G84","v":0},{"$f":"+轉帳過程檔!B84","v":0}]
[{"$f":"+轉帳過程檔!A85","v":""},{"$f":"+轉帳過程檔!C85","v":0},{"$f":"+轉帳過程檔!G85","v":0},{"$f":"+轉帳過程檔!B85","v":0}]
[{"$f":"+轉帳過程檔!A86","v":""},{"$f":"+轉帳過程檔!C86","v":0},{"$f":"+轉帳過程檔!G86","v":0},{"$f":"+轉帳過程檔!B86","v":0}]
[{"$f":"+轉帳過程檔!A87","v":""},{"$f":"+轉帳過程檔!C87","v":0},{"$f":"+轉帳過程檔!G87","v":0},{"$f":"+轉帳過程檔!B87","v":0}]
[{"$f":"+轉帳過程檔!A88","v":""},{"$f":"+轉帳過程檔!C88","v":0},{"$f":"+轉帳過程檔!G88","v":0},{"$f":"+轉帳過程檔!B88","v":0}]
[{"$f":"+轉帳過程檔!A89","v":""},{"$f":"+轉帳過程檔!C89","v":0},{"$f":"+轉帳過程檔!G89","v":0},{"$f":"+轉帳過程檔!B89","v":0}]
[{"$f":"+轉帳過程檔!A90","v":""},{"$f":"+轉帳過程檔!C90","v":0},{"$f":"+轉帳過程檔!G90","v":0},{"$f":"+轉帳過程檔!B90","v":0}]
[{"$f":"+轉帳過程檔!A91","v":""},{"$f":"+轉帳過程檔!C91","v":0},{"$f":"+轉帳過程檔!G91","v":0},{"$f":"+轉帳過程檔!B91","v":0}]
[{"$f":"+轉帳過程檔!A92","v":""},{"$f":"+轉帳過程檔!C92","v":0},{"$f":"+轉帳過程檔!G92","v":0},{"$f":"+轉帳過程檔!B92","v":0}]
[{"$f":"+轉帳過程檔!A93","v":""},{"$f":"+轉帳過程檔!C93","v":0},{"$f":"+轉帳過程檔!G93","v":0},{"$f":"+轉帳過程檔!B93","v":0}]
[{"$f":"+轉帳過程檔!A94","v":""},{"$f":"+轉帳過程檔!C94","v":0},{"$f":"+轉帳過程檔!G94","v":0},{"$f":"+轉帳過程檔!B94","v":0}]
[{"$f":"+轉帳過程檔!A95","v":""},{"$f":"+轉帳過程檔!C95","v":0},{"$f":"+轉帳過程檔!G95","v":0},{"$f":"+轉帳過程檔!B95","v":0}]
[{"$f":"+轉帳過程檔!A96","v":""},{"$f":"+轉帳過程檔!C96","v":0},{"$f":"+轉帳過程檔!G96","v":0},{"$f":"+轉帳過程檔!B96","v":0}]
[{"$f":"+轉帳過程檔!A97","v":""},{"$f":"+轉帳過程檔!C97","v":0},{"$f":"+轉帳過程檔!G97","v":0},{"$f":"+轉帳過程檔!B97","v":0}]
[{"$f":"+轉帳過程檔!A98","v":""},{"$f":"+轉帳過程檔!C98","v":0},{"$f":"+轉帳過程檔!G98","v":0},{"$f":"+轉帳過程檔!B98","v":0}]
[{"$f":"+轉帳過程檔!A99","v":""},{"$f":"+轉帳過程檔!C99","v":0},{"$f":"+轉帳過程檔!G99","v":0},{"$f":"+轉帳過程檔!B99","v":0}]
[{"$f":"+轉帳過程檔!A100","v":""},{"$f":"+轉帳過程檔!C100","v":0},{"$f":"+轉帳過程檔!G100","v":0},{"$f":"+轉帳過程檔!B100","v":0}]
[{"$f":"+轉帳過程檔!A101","v":""},{"$f":"+轉帳過程檔!C101","v":0},{"$f":"+轉帳過程檔!G101","v":0},{"$f":"+轉帳過程檔!B101","v":0}]
[{"$f":"+轉帳過程檔!A102","v":""},{"$f":"+轉帳過程檔!C102","v":0},{"$f":"+轉帳過程檔!G102","v":0},{"$f":"+轉帳過程檔!B102","v":0}]
[{"$f":"+轉帳過程檔!A103","v":""},{"$f":"+轉帳過程檔!C103","v":0},{"$f":"+轉帳過程檔!G103","v":0},{"$f":"+轉帳過程檔!B103","v":0}]
[{"$f":"+轉帳過程檔!A104","v":""},{"$f":"+轉帳過程檔!C104","v":0},{"$f":"+轉帳過程檔!G104","v":0},{"$f":"+轉帳過程檔!B104","v":0}]
[{"$f":"+轉帳過程檔!A105","v":""},{"$f":"+轉帳過程檔!C105","v":0},{"$f":"+轉帳過程檔!G105","v":0},{"$f":"+轉帳過程檔!B105","v":0}]
[{"$f":"+轉帳過程檔!A106","v":""},{"$f":"+轉帳過程檔!C106","v":0},{"$f":"+轉帳過程檔!G106","v":0},{"$f":"+轉帳過程檔!B106","v":0}]
[{"$f":"+轉帳過程檔!A107","v":""},{"$f":"+轉帳過程檔!C107","v":0},{"$f":"+轉帳過程檔!G107","v":0},{"$f":"+轉帳過程檔!B107","v":0}]
[{"$f":"+轉帳過程檔!A108","v":""},{"$f":"+轉帳過程檔!C108","v":0},{"$f":"+轉帳過程檔!G108","v":0},{"$f":"+轉帳過程檔!B108","v":0}]
[{"$f":"+轉帳過程檔!A109","v":""},{"$f":"+轉帳過程檔!C109","v":0},{"$f":"+轉帳過程檔!G109","v":0},{"$f":"+轉帳過程檔!B109","v":0}]
[{"$f":"+轉帳過程檔!A110","v":""},{"$f":"+轉帳過程檔!C110","v":0},{"$f":"+轉帳過程檔!G110","v":0},{"$f":"+轉帳過程檔!B110","v":0}]
[{"$f":"+轉帳過程檔!A111","v":""},{"$f":"+轉帳過程檔!C111","v":0},{"$f":"+轉帳過程檔!G111","v":0},{"$f":"+轉帳過程檔!B111","v":0}]
[{"$f":"+轉帳過程檔!A112","v":""},{"$f":"+轉帳過程檔!C112","v":0},{"$f":"+轉帳過程檔!G112","v":0},{"$f":"+轉帳過程檔!B112","v":0}]
[{"$f":"+轉帳過程檔!A113","v":""},{"$f":"+轉帳過程檔!C113","v":0},{"$f":"+轉帳過程檔!G113","v":0},{"$f":"+轉帳過程檔!B113","v":0}]
[{"$f":"+轉帳過程檔!A114","v":""},{"$f":"+轉帳過程檔!C114","v":0},{"$f":"+轉帳過程檔!G114","v":0},{"$f":"+轉帳過程檔!B114","v":0}]
[{"$f":"+轉帳過程檔!A115","v":""},{"$f":"+轉帳過程檔!C115","v":0},{"$f":"+轉帳過程檔!G115","v":0},{"$f":"+轉帳過程檔!B115","v":0}]
[{"$f":"+轉帳過程檔!A116","v":""},{"$f":"+轉帳過程檔!C116","v":0},{"$f":"+轉帳過程檔!G116","v":0},{"$f":"+轉帳過程檔!B116","v":0}]
[{"$f":"+轉帳過程檔!A117","v":""},{"$f":"+轉帳過程檔!C117","v":0},{"$f":"+轉帳過程檔!G117","v":0},{"$f":"+轉帳過程檔!B117","v":0}]
[{"$f":"+轉帳過程檔!A118","v":""},{"$f":"+轉帳過程檔!C118","v":0},{"$f":"+轉帳過程檔!G118","v":0},{"$f":"+轉帳過程檔!B118","v":0}]
[{"$f":"+轉帳過程檔!A119","v":""},{"$f":"+轉帳過程檔!C119","v":0},{"$f":"+轉帳過程檔!G119","v":0},{"$f":"+轉帳過程檔!B119","v":0}]
[{"$f":"+轉帳過程檔!A120","v":""},{"$f":"+轉帳過程檔!C120","v":0},{"$f":"+轉帳過程檔!G120","v":0},{"$f":"+轉帳過程檔!B120","v":0}]
[{"$f":"+轉帳過程檔!A121","v":""},{"$f":"+轉帳過程檔!C121","v":0},{"$f":"+轉帳過程檔!G121","v":0},{"$f":"+轉帳過程檔!B121","v":0}]
[{"$f":"+轉帳過程檔!A122","v":""},{"$f":"+轉帳過程檔!C122","v":0},{"$f":"+轉帳過程檔!G122","v":0},{"$f":"+轉帳過程檔!B122","v":0}]
[{"$f":"+轉帳過程檔!A123","v":""},{"$f":"+轉帳過程檔!C123","v":0},{"$f":"+轉帳過程檔!G123","v":0},{"$f":"+轉帳過程檔!B123","v":0}]
[{"$f":"+轉帳過程檔!A124","v":""},{"$f":"+轉帳過程檔!C124","v":0},{"$f":"+轉帳過程檔!G124","v":0},{"$f":"+轉帳過程檔!B124","v":0}]
[{"$f":"+轉帳過程檔!A125","v":""},{"$f":"+轉帳過程檔!C125","v":0},{"$f":"+轉帳過程檔!G125","v":0},{"$f":"+轉帳過程檔!B125","v":0}]
[{"$f":"+轉帳過程檔!A126","v":""},{"$f":"+轉帳過程檔!C126","v":0},{"$f":"+轉帳過程檔!G126","v":0},{"$f":"+轉帳過程檔!B126","v":0}]
[{"$f":"+轉帳過程檔!A127","v":""},{"$f":"+轉帳過程檔!C127","v":0},{"$f":"+轉帳過程檔!G127","v":0},{"$f":"+轉帳過程檔!B127","v":0}]
[{"$f":"+轉帳過程檔!A128","v":""},{"$f":"+轉帳過程檔!C128","v":0},{"$f":"+轉帳過程檔!G128","v":0},{"$f":"+轉帳過程檔!B128","v":0}]
[{"$f":"+轉帳過程檔!A129","v":""},{"$f":"+轉帳過程檔!C129","v":0},{"$f":"+轉帳過程檔!G129","v":0},{"$f":"+轉帳過程檔!B129","v":0}]
[{"$f":"+轉帳過程檔!A130","v":""},{"$f":"+轉帳過程檔!C130","v":0},{"$f":"+轉帳過程檔!G130","v":0},{"$f":"+轉帳過程檔!B130","v":0}]
[{"$f":"+轉帳過程檔!A131","v":""},{"$f":"+轉帳過程檔!C131","v":0},{"$f":"+轉帳過程檔!G131","v":0},{"$f":"+轉帳過程檔!B131","v":0}]
[{"$f":"+轉帳過程檔!A132","v":""},{"$f":"+轉帳過程檔!C132","v":0},{"$f":"+轉帳過程檔!G132","v":0},{"$f":"+轉帳過程檔!B132","v":0}]
[{"$f":"+轉帳過程檔!A133","v":""},{"$f":"+轉帳過程檔!C133","v":0},{"$f":"+轉帳過程檔!G133","v":0},{"$f":"+轉帳過程檔!B133","v":0}]
[{"$f":"+轉帳過程檔!A134","v":""},{"$f":"+轉帳過程檔!C134","v":0},{"$f":"+轉帳過程檔!G134","v":0},{"$f":"+轉帳過程檔!B134","v":0}]
[{"$f":"+轉帳過程檔!A135","v":""},{"$f":"+轉帳過程檔!C135","v":0},{"$f":"+轉帳過程檔!G135","v":0},{"$f":"+轉帳過程檔!B135","v":0}]
[{"$f":"+轉帳過程檔!A136","v":""},{"$f":"+轉帳過程檔!C136","v":0},{"$f":"+轉帳過程檔!G136","v":0},{"$f":"+轉帳過程檔!B136","v":0}]
[{"$f":"+轉帳過程檔!A137","v":""},{"$f":"+轉帳過程檔!C137","v":0},{"$f":"+轉帳過程檔!G137","v":0},{"$f":"+轉帳過程檔!B137","v":0}]
[{"$f":"+轉帳過程檔!A138","v":""},{"$f":"+轉帳過程檔!C138","v":0},{"$f":"+轉帳過程檔!G138","v":0},{"$f":"+轉帳過程檔!B138","v":0}]
[{"$f":"+轉帳過程檔!A139","v":""},{"$f":"+轉帳過程檔!C139","v":0},{"$f":"+轉帳過程檔!G139","v":0},{"$f":"+轉帳過程檔!B139","v":0}]
[{"$f":"+轉帳過程檔!A140","v":""},{"$f":"+轉帳過程檔!C140","v":0},{"$f":"+轉帳過程檔!G140","v":0},{"$f":"+轉帳過程檔!B140","v":0}]
[{"$f":"+轉帳過程檔!A141","v":""},{"$f":"+轉帳過程檔!C141","v":0},{"$f":"+轉帳過程檔!G141","v":0},{"$f":"+轉帳過程檔!B141","v":0}]
[{"$f":"+轉帳過程檔!A142","v":""},{"$f":"+轉帳過程檔!C142","v":0},{"$f":"+轉帳過程檔!G142","v":0},{"$f":"+轉帳過程檔!B142","v":0}]
[{"$f":"+轉帳過程檔!A143","v":""},{"$f":"+轉帳過程檔!C143","v":0},{"$f":"+轉帳過程檔!G143","v":0},{"$f":"+轉帳過程檔!B143","v":0}]
[{"$f":"+轉帳過程檔!A144","v":""},{"$f":"+轉帳過程檔!C144","v":0},{"$f":"+轉帳過程檔!G144","v":0},{"$f":"+轉帳過程檔!B144","v":0}]
[{"$f":"+轉帳過程檔!A145","v":""},{"$f":"+轉帳過程檔!C145","v":0},{"$f":"+轉帳過程檔!G145","v":0},{"$f":"+轉帳過程檔!B145","v":0}]
[{"$f":"+轉帳過程檔!A146","v":""},{"$f":"+轉帳過程檔!C146","v":0},{"$f":"+轉帳過程檔!G146","v":0},{"$f":"+轉帳過程檔!B146","v":0}]
[{"$f":"+轉帳過程檔!A147","v":""},{"$f":"+轉帳過程檔!C147","v":0},{"$f":"+轉帳過程檔!G147","v":0},{"$f":"+轉帳過程檔!B147","v":0}]
[{"$f":"+轉帳過程檔!A148","v":""},{"$f":"+轉帳過程檔!C148","v":0},{"$f":"+轉帳過程檔!G148","v":0},{"$f":"+轉帳過程檔!B148","v":0}]
[{"$f":"+轉帳過程檔!A149","v":""},{"$f":"+轉帳過程檔!C149","v":0},{"$f":"+轉帳過程檔!G149","v":0},{"$f":"+轉帳過程檔!B149","v":0}]
[{"$f":"+轉帳過程檔!A150","v":""},{"$f":"+轉帳過程檔!C150","v":0},{"$f":"+轉帳過程檔!G150","v":0},{"$f":"+轉帳過程檔!B150","v":0}]
[{"$f":"+轉帳過程檔!A151","v":""},{"$f":"+轉帳過程檔!C151","v":0},{"$f":"+轉帳過程檔!G151","v":0},{"$f":"+轉帳過程檔!B151","v":0}]
[{"$f":"+轉帳過程檔!A152","v":""},{"$f":"+轉帳過程檔!C152","v":0},{"$f":"+轉帳過程檔!G152","v":0},{"$f":"+轉帳過程檔!B152","v":0}]
[{"$f":"+轉帳過程檔!A153","v":""},{"$f":"+轉帳過程檔!C153","v":0},{"$f":"+轉帳過程檔!G153","v":0},{"$f":"+轉帳過程檔!B153","v":0}]
[{"$f":"+轉帳過程檔!A154","v":""},{"$f":"+轉帳過程檔!C154","v":0},{"$f":"+轉帳過程檔!G154","v":0},{"$f":"+轉帳過程檔!B154","v":0}]
[{"$f":"+轉帳過程檔!A155","v":""},{"$f":"+轉帳過程檔!C155","v":0},{"$f":"+轉帳過程檔!G155","v":0},{"$f":"+轉帳過程檔!B155","v":0}]
[{"$f":"+轉帳過程檔!A156","v":""},{"$f":"+轉帳過程檔!C156","v":0},{"$f":"+轉帳過程檔!G156","v":0},{"$f":"+轉帳過程檔!B156","v":0}]
[{"$f":"+轉帳過程檔!A157","v":""},{"$f":"+轉帳過程檔!C157","v":0},{"$f":"+轉帳過程檔!G157","v":0},{"$f":"+轉帳過程檔!B157","v":0}]
[{"$f":"+轉帳過程檔!A158","v":""},{"$f":"+轉帳過程檔!C158","v":0},{"$f":"+轉帳過程檔!G158","v":0},{"$f":"+轉帳過程檔!B158","v":0}]
[{"$f":"+轉帳過程檔!A159","v":""},{"$f":"+轉帳過程檔!C159","v":0},{"$f":"+轉帳過程檔!G159","v":0},{"$f":"+轉帳過程檔!B159","v":0}]
[{"$f":"+轉帳過程檔!A160","v":""},{"$f":"+轉帳過程檔!C160","v":0},{"$f":"+轉帳過程檔!G160","v":0},{"$f":"+轉帳過程檔!B160","v":0}]
[{"$f":"+轉帳過程檔!A161","v":""},{"$f":"+轉帳過程檔!C161","v":0},{"$f":"+轉帳過程檔!G161","v":0},{"$f":"+轉帳過程檔!B161","v":0}]
[{"$f":"+轉帳過程檔!A162","v":""},{"$f":"+轉帳過程檔!C162","v":0},{"$f":"+轉帳過程檔!G162","v":0},{"$f":"+轉帳過程檔!B162","v":0}]
[{"$f":"+轉帳過程檔!A163","v":""},{"$f":"+轉帳過程檔!C163","v":0},{"$f":"+轉帳過程檔!G163","v":0},{"$f":"+轉帳過程檔!B163","v":0}]
[{"$f":"+轉帳過程檔!A164","v":""},{"$f":"+轉帳過程檔!C164","v":0},{"$f":"+轉帳過程檔!G164","v":0},{"$f":"+轉帳過程檔!B164","v":0}]
[{"$f":"+轉帳過程檔!A165","v":""},{"$f":"+轉帳過程檔!C165","v":0},{"$f":"+轉帳過程檔!G165","v":0},{"$f":"+轉帳過程檔!B165","v":0}]
[{"$f":"+轉帳過程檔!A166","v":""},{"$f":"+轉帳過程檔!C166","v":0},{"$f":"+轉帳過程檔!G166","v":0},{"$f":"+轉帳過程檔!B166","v":0}]
[{"$f":"+轉帳過程檔!A167","v":""},{"$f":"+轉帳過程檔!C167","v":0},{"$f":"+轉帳過程檔!G167","v":0},{"$f":"+轉帳過程檔!B167","v":0}]
[{"$f":"+轉帳過程檔!A168","v":""},{"$f":"+轉帳過程檔!C168","v":0},{"$f":"+轉帳過程檔!G168","v":0},{"$f":"+轉帳過程檔!B168","v":0}]
[{"$f":"+轉帳過程檔!A169","v":""},{"$f":"+轉帳過程檔!C169","v":0},{"$f":"+轉帳過程檔!G169","v":0},{"$f":"+轉帳過程檔!B169","v":0}]
[{"$f":"+轉帳過程檔!A170","v":""},{"$f":"+轉帳過程檔!C170","v":0},{"$f":"+轉帳過程檔!G170","v":0},{"$f":"+轉帳過程檔!B170","v":0}]
[{"$f":"+轉帳過程檔!A171","v":""},{"$f":"+轉帳過程檔!C171","v":0},{"$f":"+轉帳過程檔!G171","v":0},{"$f":"+轉帳過程檔!B171","v":0}]
[{"$f":"+轉帳過程檔!A172","v":""},{"$f":"+轉帳過程檔!C172","v":0},{"$f":"+轉帳過程檔!G172","v":0},{"$f":"+轉帳過程檔!B172","v":0}]
[{"$f":"+轉帳過程檔!A173","v":""},{"$f":"+轉帳過程檔!C173","v":0},{"$f":"+轉帳過程檔!G173","v":0},{"$f":"+轉帳過程檔!B173","v":0}]
[{"$f":"+轉帳過程檔!A174","v":""},{"$f":"+轉帳過程檔!C174","v":0},{"$f":"+轉帳過程檔!G174","v":0},{"$f":"+轉帳過程檔!B174","v":0}]
[{"$f":"+轉帳過程檔!A175","v":""},{"$f":"+轉帳過程檔!C175","v":0},{"$f":"+轉帳過程檔!G175","v":0},{"$f":"+轉帳過程檔!B175","v":0}]
[{"$f":"+轉帳過程檔!A176","v":""},{"$f":"+轉帳過程檔!C176","v":0},{"$f":"+轉帳過程檔!G176","v":0},{"$f":"+轉帳過程檔!B176","v":0}]
[{"$f":"+轉帳過程檔!A177","v":""},{"$f":"+轉帳過程檔!C177","v":0},{"$f":"+轉帳過程檔!G177","v":0},{"$f":"+轉帳過程檔!B177","v":0}]
[{"$f":"+轉帳過程檔!A178","v":""},{"$f":"+轉帳過程檔!C178","v":0},{"$f":"+轉帳過程檔!G178","v":0},{"$f":"+轉帳過程檔!B178","v":0}]
[{"$f":"+轉帳過程檔!A179","v":""},{"$f":"+轉帳過程檔!C179","v":0},{"$f":"+轉帳過程檔!G179","v":0},{"$f":"+轉帳過程檔!B179","v":0}]
[{"$f":"+轉帳過程檔!A180","v":""},{"$f":"+轉帳過程檔!C180","v":0},{"$f":"+轉帳過程檔!G180","v":0},{"$f":"+轉帳過程檔!B180","v":0}]
[{"$f":"+轉帳過程檔!A181","v":""},{"$f":"+轉帳過程檔!C181","v":0},{"$f":"+轉帳過程檔!G181","v":0},{"$f":"+轉帳過程檔!B181","v":0}]
[{"$f":"+轉帳過程檔!A182","v":""},{"$f":"+轉帳過程檔!C182","v":0},{"$f":"+轉帳過程檔!G182","v":0},{"$f":"+轉帳過程檔!B182","v":0}]
[{"$f":"+轉帳過程檔!A183","v":""},{"$f":"+轉帳過程檔!C183","v":0},{"$f":"+轉帳過程檔!G183","v":0},{"$f":"+轉帳過程檔!B183","v":0}]
[{"$f":"+轉帳過程檔!A184","v":""},{"$f":"+轉帳過程檔!C184","v":0},{"$f":"+轉帳過程檔!G184","v":0},{"$f":"+轉帳過程檔!B184","v":0}]
[{"$f":"+轉帳過程檔!A185","v":""},{"$f":"+轉帳過程檔!C185","v":0},{"$f":"+轉帳過程檔!G185","v":0},{"$f":"+轉帳過程檔!B185","v":0}]
[{"$f":"+轉帳過程檔!A186","v":""},{"$f":"+轉帳過程檔!C186","v":0},{"$f":"+轉帳過程檔!G186","v":0},{"$f":"+轉帳過程檔!B186","v":0}]
[{"$f":"+轉帳過程檔!A187","v":""},{"$f":"+轉帳過程檔!C187","v":0},{"$f":"+轉帳過程檔!G187","v":0},{"$f":"+轉帳過程檔!B187","v":0}]
[{"$f":"+轉帳過程檔!A188","v":""},{"$f":"+轉帳過程檔!C188","v":0},{"$f":"+轉帳過程檔!G188","v":0},{"$f":"+轉帳過程檔!B188","v":0}]
[{"$f":"+轉帳過程檔!A189","v":""},{"$f":"+轉帳過程檔!C189","v":0},{"$f":"+轉帳過程檔!G189","v":0},{"$f":"+轉帳過程檔!B189","v":0}]
[{"$f":"+轉帳過程檔!A190","v":""},{"$f":"+轉帳過程檔!C190","v":0},{"$f":"+轉帳過程檔!G190","v":0},{"$f":"+轉帳過程檔!B190","v":0}]
[{"$f":"+轉帳過程檔!A191","v":""},{"$f":"+轉帳過程檔!C191","v":0},{"$f":"+轉帳過程檔!G191","v":0},{"$f":"+轉帳過程檔!B191","v":0}]
[{"$f":"+轉帳過程檔!A192","v":""},{"$f":"+轉帳過程檔!C192","v":0},{"$f":"+轉帳過程檔!G192","v":0},{"$f":"+轉帳過程檔!B192","v":0}]
[{"$f":"+轉帳過程檔!A193","v":""},{"$f":"+轉帳過程檔!C193","v":0},{"$f":"+轉帳過程檔!G193","v":0},{"$f":"+轉帳過程檔!B193","v":0}]
[{"$f":"+轉帳過程檔!A194","v":""},{"$f":"+轉帳過程檔!C194","v":0},{"$f":"+轉帳過程檔!G194","v":0},{"$f":"+轉帳過程檔!B194","v":0}]
[{"$f":"+轉帳過程檔!A195","v":""},{"$f":"+轉帳過程檔!C195","v":0},{"$f":"+轉帳過程檔!G195","v":0},{"$f":"+轉帳過程檔!B195","v":0}]
[{"$f":"+轉帳過程檔!A196","v":""},{"$f":"+轉帳過程檔!C196","v":0},{"$f":"+轉帳過程檔!G196","v":0},{"$f":"+轉帳過程檔!B196","v":0}]
[{"$f":"+轉帳過程檔!A197","v":""},{"$f":"+轉帳過程檔!C197","v":0},{"$f":"+轉帳過程檔!G197","v":0},{"$f":"+轉帳過程檔!B197","v":0}]
[{"$f":"+轉帳過程檔!A198","v":""},{"$f":"+轉帳過程檔!C198","v":0},{"$f":"+轉帳過程檔!G198","v":0},{"$f":"+轉帳過程檔!B198","v":0}]
[{"$f":"+轉帳過程檔!A199","v":""},{"$f":"+轉帳過程檔!C199","v":0},{"$f":"+轉帳過程檔!G199","v":0},{"$f":"+轉帳過程檔!B199","v":0}]
[{"$f":"+轉帳過程檔!A200","v":""},{"$f":"+轉帳過程檔!C200","v":0},{"$f":"+轉帳過程檔!G200","v":0},{"$f":"+轉帳過程檔!B200","v":0}]
[{"$f":"+轉帳過程檔!A201","v":""},{"$f":"+轉帳過程檔!C201","v":0},{"$f":"+轉帳過程檔!G201","v":0},{"$f":"+轉帳過程檔!B201","v":0}]
[{"$f":"+轉帳過程檔!A202","v":""},{"$f":"+轉帳過程檔!C202","v":0},{"$f":"+轉帳過程檔!G202","v":0},{"$f":"+轉帳過程檔!B202","v":0}]
[{"$f":"+轉帳過程檔!A203","v":""},{"$f":"+轉帳過程檔!C203","v":0},{"$f":"+轉帳過程檔!G203","v":0},{"$f":"+轉帳過程檔!B203","v":0}]
[{"$f":"+轉帳過程檔!A204","v":""},{"$f":"+轉帳過程檔!C204","v":0},{"$f":"+轉帳過程檔!G204","v":0},{"$f":"+轉帳過程檔!B204","v":0}]
[{"$f":"+轉帳過程檔!A205","v":""},{"$f":"+轉帳過程檔!C205","v":0},{"$f":"+轉帳過程檔!G205","v":0},{"$f":"+轉帳過程檔!B205","v":0}]
[{"$f":"+轉帳過程檔!A206","v":""},{"$f":"+轉帳過程檔!C206","v":0},{"$f":"+轉帳過程檔!G206","v":0},{"$f":"+轉帳過程檔!B206","v":0}]
[{"$f":"+轉帳過程檔!A207","v":""},{"$f":"+轉帳過程檔!C207","v":0},{"$f":"+轉帳過程檔!G207","v":0},{"$f":"+轉帳過程檔!B207","v":0}]
[{"$f":"+轉帳過程檔!A208","v":""},{"$f":"+轉帳過程檔!C208","v":0},{"$f":"+轉帳過程檔!G208","v":0},{"$f":"+轉帳過程檔!B208","v":0}]
[{"$f":"+轉帳過程檔!A209","v":""},{"$f":"+轉帳過程檔!C209","v":0},{"$f":"+轉帳過程檔!G209","v":0},{"$f":"+轉帳過程檔!B209","v":0}]
[{"$f":"+轉帳過程檔!A210","v":""},{"$f":"+轉帳過程檔!C210","v":0},{"$f":"+轉帳過程檔!G210","v":0},{"$f":"+轉帳過程檔!B210","v":0}]
[{"$f":"+轉帳過程檔!A211","v":""},{"$f":"+轉帳過程檔!C211","v":0},{"$f":"+轉帳過程檔!G211","v":0},{"$f":"+轉帳過程檔!B211","v":0}]
[{"$f":"+轉帳過程檔!A212","v":""},{"$f":"+轉帳過程檔!C212","v":0},{"$f":"+轉帳過程檔!G212","v":0},{"$f":"+轉帳過程檔!B212","v":0}]
[{"$f":"+轉帳過程檔!A213","v":""},{"$f":"+轉帳過程檔!C213","v":0},{"$f":"+轉帳過程檔!G213","v":0},{"$f":"+轉帳過程檔!B213","v":0}]
[{"$f":"+轉帳過程檔!A214","v":""},{"$f":"+轉帳過程檔!C214","v":0},{"$f":"+轉帳過程檔!G214","v":0},{"$f":"+轉帳過程檔!B214","v":0}]
[{"$f":"+轉帳過程檔!A215","v":""},{"$f":"+轉帳過程檔!C215","v":0},{"$f":"+轉帳過程檔!G215","v":0},{"$f":"+轉帳過程檔!B215","v":0}]
[{"$f":"+轉帳過程檔!A216","v":""},{"$f":"+轉帳過程檔!C216","v":0},{"$f":"+轉帳過程檔!G216","v":0},{"$f":"+轉帳過程檔!B216","v":0}]
[{"$f":"+轉帳過程檔!A217","v":""},{"$f":"+轉帳過程檔!C217","v":0},{"$f":"+轉帳過程檔!G217","v":0},{"$f":"+轉帳過程檔!B217","v":0}]
[{"$f":"+轉帳過程檔!A218","v":""},{"$f":"+轉帳過程檔!C218","v":0},{"$f":"+轉帳過程檔!G218","v":0},{"$f":"+轉帳過程檔!B218","v":0}]
[{"$f":"+轉帳過程檔!A219","v":""},{"$f":"+轉帳過程檔!C219","v":0},{"$f":"+轉帳過程檔!G219","v":0},{"$f":"+轉帳過程檔!B219","v":0}]
[{"$f":"+轉帳過程檔!A220","v":""},{"$f":"+轉帳過程檔!C220","v":0},{"$f":"+轉帳過程檔!G220","v":0},{"$f":"+轉帳過程檔!B220","v":0}]
[{"$f":"+轉帳過程檔!A221","v":""},{"$f":"+轉帳過程檔!C221","v":0},{"$f":"+轉帳過程檔!G221","v":0},{"$f":"+轉帳過程檔!B221","v":0}]
[{"$f":"+轉帳過程檔!A222","v":""},{"$f":"+轉帳過程檔!C222","v":0},{"$f":"+轉帳過程檔!G222","v":0},{"$f":"+轉帳過程檔!B222","v":0}]
[{"$f":"+轉帳過程檔!A223","v":""},{"$f":"+轉帳過程檔!C223","v":0},{"$f":"+轉帳過程檔!G223","v":0},{"$f":"+轉帳過程檔!B223","v":0}]
[{"$f":"+轉帳過程檔!A224","v":""},{"$f":"+轉帳過程檔!C224","v":0},{"$f":"+轉帳過程檔!G224","v":0},{"$f":"+轉帳過程檔!B224","v":0}]
[{"$f":"+轉帳過程檔!A225","v":""},{"$f":"+轉帳過程檔!C225","v":0},{"$f":"+轉帳過程檔!G225","v":0},{"$f":"+轉帳過程檔!B225","v":0}]
[{"$f":"+轉帳過程檔!A226","v":""},{"$f":"+轉帳過程檔!C226","v":0},{"$f":"+轉帳過程檔!G226","v":0},{"$f":"+轉帳過程檔!B226","v":0}]
[{"$f":"+轉帳過程檔!A227","v":""},{"$f":"+轉帳過程檔!C227","v":0},{"$f":"+轉帳過程檔!G227","v":0},{"$f":"+轉帳過程檔!B227","v":0}]
[{"$f":"+轉帳過程檔!A228","v":""},{"$f":"+轉帳過程檔!C228","v":0},{"$f":"+轉帳過程檔!G228","v":0},{"$f":"+轉帳過程檔!B228","v":0}]
[{"$f":"+轉帳過程檔!A229","v":""},{"$f":"+轉帳過程檔!C229","v":0},{"$f":"+轉帳過程檔!G229","v":0},{"$f":"+轉帳過程檔!B229","v":0}]
[{"$f":"+轉帳過程檔!A230","v":""},{"$f":"+轉帳過程檔!C230","v":0},{"$f":"+轉帳過程檔!G230","v":0},{"$f":"+轉帳過程檔!B230","v":0}]
[{"$f":"+轉帳過程檔!A231","v":""},{"$f":"+轉帳過程檔!C231","v":0},{"$f":"+轉帳過程檔!G231","v":0},{"$f":"+轉帳過程檔!B231","v":0}]
[{"$f":"+轉帳過程檔!A232","v":""},{"$f":"+轉帳過程檔!C232","v":0},{"$f":"+轉帳過程檔!G232","v":0},{"$f":"+轉帳過程檔!B232","v":0}]
[{"$f":"+轉帳過程檔!A233","v":""},{"$f":"+轉帳過程檔!C233","v":0},{"$f":"+轉帳過程檔!G233","v":0},{"$f":"+轉帳過程檔!B233","v":0}]
[{"$f":"+轉帳過程檔!A234","v":""},{"$f":"+轉帳過程檔!C234","v":0},{"$f":"+轉帳過程檔!G234","v":0},{"$f":"+轉帳過程檔!B234","v":0}]
[{"$f":"+轉帳過程檔!A235","v":""},{"$f":"+轉帳過程檔!C235","v":0},{"$f":"+轉帳過程檔!G235","v":0},{"$f":"+轉帳過程檔!B235","v":0}]
[{"$f":"+轉帳過程檔!A236","v":""},{"$f":"+轉帳過程檔!C236","v":0},{"$f":"+轉帳過程檔!G236","v":0},{"$f":"+轉帳過程檔!B236","v":0}]
[{"$f":"+轉帳過程檔!A237","v":""},{"$f":"+轉帳過程檔!C237","v":0},{"$f":"+轉帳過程檔!G237","v":0},{"$f":"+轉帳過程檔!B237","v":0}]
[{"$f":"+轉帳過程檔!A238","v":""},{"$f":"+轉帳過程檔!C238","v":0},{"$f":"+轉帳過程檔!G238","v":0},{"$f":"+轉帳過程檔!B238","v":0}]
[{"$f":"+轉帳過程檔!A239","v":""},{"$f":"+轉帳過程檔!C239","v":0},{"$f":"+轉帳過程檔!G239","v":0},{"$f":"+轉帳過程檔!B239","v":0}]
[{"$f":"+轉帳過程檔!A240","v":""},{"$f":"+轉帳過程檔!C240","v":0},{"$f":"+轉帳過程檔!G240","v":0},{"$f":"+轉帳過程檔!B240","v":0}]
[{"$f":"+轉帳過程檔!A241","v":""},{"$f":"+轉帳過程檔!C241","v":0},{"$f":"+轉帳過程檔!G241","v":0},{"$f":"+轉帳過程檔!B241","v":0}]
[{"$f":"+轉帳過程檔!A242","v":""},{"$f":"+轉帳過程檔!C242","v":0},{"$f":"+轉帳過程檔!G242","v":0},{"$f":"+轉帳過程檔!B242","v":0}]
[{"$f":"+轉帳過程檔!A243","v":""},{"$f":"+轉帳過程檔!C243","v":0},{"$f":"+轉帳過程檔!G243","v":0},{"$f":"+轉帳過程檔!B243","v":0}]
[{"$f":"+轉帳過程檔!A244","v":""},{"$f":"+轉帳過程檔!C244","v":0},{"$f":"+轉帳過程檔!G244","v":0},{"$f":"+轉帳過程檔!B244","v":0}]
[{"$f":"+轉帳過程檔!A245","v":""},{"$f":"+轉帳過程檔!C245","v":0},{"$f":"+轉帳過程檔!G245","v":0},{"$f":"+轉帳過程檔!B245","v":0}]
[{"$f":"+轉帳過程檔!A246","v":""},{"$f":"+轉帳過程檔!C246","v":0},{"$f":"+轉帳過程檔!G246","v":0},{"$f":"+轉帳過程檔!B246","v":0}]
[{"$f":"+轉帳過程檔!A247","v":""},{"$f":"+轉帳過程檔!C247","v":0},{"$f":"+轉帳過程檔!G247","v":0},{"$f":"+轉帳過程檔!B247","v":0}]
[{"$f":"+轉帳過程檔!A248","v":""},{"$f":"+轉帳過程檔!C248","v":0},{"$f":"+轉帳過程檔!G248","v":0},{"$f":"+轉帳過程檔!B248","v":0}]
[{"$f":"+轉帳過程檔!A249","v":""},{"$f":"+轉帳過程檔!C249","v":0},{"$f":"+轉帳過程檔!G249","v":0},{"$f":"+轉帳過程檔!B249","v":0}]
[{"$f":"+轉帳過程檔!A250","v":""},{"$f":"+轉帳過程檔!C250","v":0},{"$f":"+轉帳過程檔!G250","v":0},{"$f":"+轉帳過程檔!B250","v":0}]
[{"$f":"+轉帳過程檔!A251","v":""},{"$f":"+轉帳過程檔!C251","v":0},{"$f":"+轉帳過程檔!G251","v":0},{"$f":"+轉帳過程檔!B251","v":0}]
[{"$f":"+轉帳過程檔!A252","v":""},{"$f":"+轉帳過程檔!C252","v":0},{"$f":"+轉帳過程檔!G252","v":0},{"$f":"+轉帳過程檔!B252","v":0}]
[{"$f":"+轉帳過程檔!A253","v":""},{"$f":"+轉帳過程檔!C253","v":0},{"$f":"+轉帳過程檔!G253","v":0},{"$f":"+轉帳過程檔!B253","v":0}]
[{"$f":"+轉帳過程檔!A254","v":""},{"$f":"+轉帳過程檔!C254","v":0},{"$f":"+轉帳過程檔!G254","v":0},{"$f":"+轉帳過程檔!B254","v":0}]
[{"$f":"+轉帳過程檔!A255","v":""},{"$f":"+轉帳過程檔!C255","v":0},{"$f":"+轉帳過程檔!G255","v":0},{"$f":"+轉帳過程檔!B255","v":0}]
[{"$f":"+轉帳過程檔!A256","v":""},{"$f":"+轉帳過程檔!C256","v":0},{"$f":"+轉帳過程檔!G256","v":0},{"$f":"+轉帳過程檔!B256","v":0}]
[{"$f":"+轉帳過程檔!A257","v":""},{"$f":"+轉帳過程檔!C257","v":0},{"$f":"+轉帳過程檔!G257","v":0},{"$f":"+轉帳過程檔!B257","v":0}]
[{"$f":"+轉帳過程檔!A258","v":""},{"$f":"+轉帳過程檔!C258","v":0},{"$f":"+轉帳過程檔!G258","v":0},{"$f":"+轉帳過程檔!B258","v":0}]
[{"$f":"+轉帳過程檔!A259","v":""},{"$f":"+轉帳過程檔!C259","v":0},{"$f":"+轉帳過程檔!G259","v":0},{"$f":"+轉帳過程檔!B259","v":0}]
[{"$f":"+轉帳過程檔!A260","v":""},{"$f":"+轉帳過程檔!C260","v":0},{"$f":"+轉帳過程檔!G260","v":0},{"$f":"+轉帳過程檔!B260","v":0}]
[{"$f":"+轉帳過程檔!A261","v":""},{"$f":"+轉帳過程檔!C261","v":0},{"$f":"+轉帳過程檔!G261","v":0},{"$f":"+轉帳過程檔!B261","v":0}]
[{"$f":"+轉帳過程檔!A262","v":""},{"$f":"+轉帳過程檔!C262","v":0},{"$f":"+轉帳過程檔!G262","v":0},{"$f":"+轉帳過程檔!B262","v":0}]
[{"$f":"+轉帳過程檔!A263","v":""},{"$f":"+轉帳過程檔!C263","v":0},{"$f":"+轉帳過程檔!G263","v":0},{"$f":"+轉帳過程檔!B263","v":0}]
[{"$f":"+轉帳過程檔!A264","v":""},{"$f":"+轉帳過程檔!C264","v":0},{"$f":"+轉帳過程檔!G264","v":0},{"$f":"+轉帳過程檔!B264","v":0}]
[{"$f":"+轉帳過程檔!A265","v":""},{"$f":"+轉帳過程檔!C265","v":0},{"$f":"+轉帳過程檔!G265","v":0},{"$f":"+轉帳過程檔!B265","v":0}]
[{"$f":"+轉帳過程檔!A266","v":""},{"$f":"+轉帳過程檔!C266","v":0},{"$f":"+轉帳過程檔!G266","v":0},{"$f":"+轉帳過程檔!B266","v":0}]
[{"$f":"+轉帳過程檔!A267","v":""},{"$f":"+轉帳過程檔!C267","v":0},{"$f":"+轉帳過程檔!G267","v":0},{"$f":"+轉帳過程檔!B267","v":0}]
[{"$f":"+轉帳過程檔!A268","v":""},{"$f":"+轉帳過程檔!C268","v":0},{"$f":"+轉帳過程檔!G268","v":0},{"$f":"+轉帳過程檔!B268","v":0}]
[{"$f":"+轉帳過程檔!A269","v":""},{"$f":"+轉帳過程檔!C269","v":0},{"$f":"+轉帳過程檔!G269","v":0},{"$f":"+轉帳過程檔!B269","v":0}]
[{"$f":"+轉帳過程檔!A270","v":""},{"$f":"+轉帳過程檔!C270","v":0},{"$f":"+轉帳過程檔!G270","v":0},{"$f":"+轉帳過程檔!B270","v":0}]
[{"$f":"+轉帳過程檔!A271","v":""},{"$f":"+轉帳過程檔!C271","v":0},{"$f":"+轉帳過程檔!G271","v":0},{"$f":"+轉帳過程檔!B271","v":0}]
[{"$f":"+轉帳過程檔!A272","v":""},{"$f":"+轉帳過程檔!C272","v":0},{"$f":"+轉帳過程檔!G272","v":0},{"$f":"+轉帳過程檔!B272","v":0}]
[{"$f":"+轉帳過程檔!A273","v":""},{"$f":"+轉帳過程檔!C273","v":0},{"$f":"+轉帳過程檔!G273","v":0},{"$f":"+轉帳過程檔!B273","v":0}]
[{"$f":"+轉帳過程檔!A274","v":""},{"$f":"+轉帳過程檔!C274","v":0},{"$f":"+轉帳過程檔!G274","v":0},{"$f":"+轉帳過程檔!B274","v":0}]
[{"$f":"+轉帳過程檔!A275","v":""},{"$f":"+轉帳過程檔!C275","v":0},{"$f":"+轉帳過程檔!G275","v":0},{"$f":"+轉帳過程檔!B275","v":0}]
[{"$f":"+轉帳過程檔!A276","v":""},{"$f":"+轉帳過程檔!C276","v":0},{"$f":"+轉帳過程檔!G276","v":0},{"$f":"+轉帳過程檔!B276","v":0}]
[{"$f":"+轉帳過程檔!A277","v":""},{"$f":"+轉帳過程檔!C277","v":0},{"$f":"+轉帳過程檔!G277","v":0},{"$f":"+轉帳過程檔!B277","v":0}]
[{"$f":"+轉帳過程檔!A278","v":""},{"$f":"+轉帳過程檔!C278","v":0},{"$f":"+轉帳過程檔!G278","v":0},{"$f":"+轉帳過程檔!B278","v":0}]
[{"$f":"+轉帳過程檔!A279","v":""},{"$f":"+轉帳過程檔!C279","v":0},{"$f":"+轉帳過程檔!G279","v":0},{"$f":"+轉帳過程檔!B279","v":0}]
[{"$f":"+轉帳過程檔!A280","v":""},{"$f":"+轉帳過程檔!C280","v":0},{"$f":"+轉帳過程檔!G280","v":0},{"$f":"+轉帳過程檔!B280","v":0}]
[{"$f":"+轉帳過程檔!A281","v":""},{"$f":"+轉帳過程檔!C281","v":0},{"$f":"+轉帳過程檔!G281","v":0},{"$f":"+轉帳過程檔!B281","v":0}]
[{"$f":"+轉帳過程檔!A282","v":""},{"$f":"+轉帳過程檔!C282","v":0},{"$f":"+轉帳過程檔!G282","v":0},{"$f":"+轉帳過程檔!B282","v":0}]
[{"$f":"+轉帳過程檔!A283","v":""},{"$f":"+轉帳過程檔!C283","v":0},{"$f":"+轉帳過程檔!G283","v":0},{"$f":"+轉帳過程檔!B283","v":0}]
[{"$f":"+轉帳過程檔!A284","v":""},{"$f":"+轉帳過程檔!C284","v":0},{"$f":"+轉帳過程檔!G284","v":0},{"$f":"+轉帳過程檔!B284","v":0}]
[{"$f":"+轉帳過程檔!A285","v":""},{"$f":"+轉帳過程檔!C285","v":0},{"$f":"+轉帳過程檔!G285","v":0},{"$f":"+轉帳過程檔!B285","v":0}]
[{"$f":"+轉帳過程檔!A286","v":""},{"$f":"+轉帳過程檔!C286","v":0},{"$f":"+轉帳過程檔!G286","v":0},{"$f":"+轉帳過程檔!B286","v":0}]
[{"$f":"+轉帳過程檔!A287","v":""},{"$f":"+轉帳過程檔!C287","v":0},{"$f":"+轉帳過程檔!G287","v":0},{"$f":"+轉帳過程檔!B287","v":0}]
[{"$f":"+轉帳過程檔!A288","v":""},{"$f":"+轉帳過程檔!C288","v":0},{"$f":"+轉帳過程檔!G288","v":0},{"$f":"+轉帳過程檔!B288","v":0}]
[{"$f":"+轉帳過程檔!A289","v":""},{"$f":"+轉帳過程檔!C289","v":0},{"$f":"+轉帳過程檔!G289","v":0},{"$f":"+轉帳過程檔!B289","v":0}]
[{"$f":"+轉帳過程檔!A290","v":""},{"$f":"+轉帳過程檔!C290","v":0},{"$f":"+轉帳過程檔!G290","v":0},{"$f":"+轉帳過程檔!B290","v":0}]
[{"$f":"+轉帳過程檔!A291","v":""},{"$f":"+轉帳過程檔!C291","v":0},{"$f":"+轉帳過程檔!G291","v":0},{"$f":"+轉帳過程檔!B291","v":0}]
[{"$f":"+轉帳過程檔!A292","v":""},{"$f":"+轉帳過程檔!C292","v":0},{"$f":"+轉帳過程檔!G292","v":0},{"$f":"+轉帳過程檔!B292","v":0}]
[{"$f":"+轉帳過程檔!A293","v":""},{"$f":"+轉帳過程檔!C293","v":0},{"$f":"+轉帳過程檔!G293","v":0},{"$f":"+轉帳過程檔!B293","v":0}]
[{"$f":"+轉帳過程檔!A294","v":""},{"$f":"+轉帳過程檔!C294","v":0},{"$f":"+轉帳過程檔!G294","v":0},{"$f":"+轉帳過程檔!B294","v":0}]
[{"$f":"+轉帳過程檔!A295","v":""},{"$f":"+轉帳過程檔!C295","v":0},{"$f":"+轉帳過程檔!G295","v":0},{"$f":"+轉帳過程檔!B295","v":0}]
[{"$f":"+轉帳過程檔!A296","v":""},{"$f":"+轉帳過程檔!C296","v":0},{"$f":"+轉帳過程檔!G296","v":0},{"$f":"+轉帳過程檔!B296","v":0}]
[{"$f":"+轉帳過程檔!A297","v":""},{"$f":"+轉帳過程檔!C297","v":0},{"$f":"+轉帳過程檔!G297","v":0},{"$f":"+轉帳過程檔!B297","v":0}]
[{"$f":"+轉帳過程檔!A298","v":""},{"$f":"+轉帳過程檔!C298","v":0},{"$f":"+轉帳過程檔!G298","v":0},{"$f":"+轉帳過程檔!B298","v":0}]
[{"$f":"+轉帳過程檔!A299","v":""},{"$f":"+轉帳過程檔!C299","v":0},{"$f":"+轉帳過程檔!G299","v":0},{"$f":"+轉帳過程檔!B299","v":0}]
[{"$f":"+轉帳過程檔!A300","v":""},{"$f":"+轉帳過程檔!C300","v":0},{"$f":"+轉帳過程檔!G300","v":0},{"$f":"+轉帳過程檔!B300","v":0}]
[{"$f":"+轉帳過程檔!A301","v":""},{"$f":"+轉帳過程檔!C301","v":0},{"$f":"+轉帳過程檔!G301","v":0},{"$f":"+轉帳過程檔!B301","v":0}]
[{"$f":"+轉帳過程檔!A302","v":""},{"$f":"+轉帳過程檔!C302","v":0},{"$f":"+轉帳過程檔!G302","v":0},{"$f":"+轉帳過程檔!B302","v":0}]
[{"$f":"+轉帳過程檔!A303","v":""},{"$f":"+轉帳過程檔!C303","v":0},{"$f":"+轉帳過程檔!G303","v":0},{"$f":"+轉帳過程檔!B303","v":0}]
[{"$f":"+轉帳過程檔!A304","v":""},{"$f":"+轉帳過程檔!C304","v":0},{"$f":"+轉帳過程檔!G304","v":0},{"$f":"+轉帳過程檔!B304","v":0}]
[{"$f":"+轉帳過程檔!A305","v":""},{"$f":"+轉帳過程檔!C305","v":0},{"$f":"+轉帳過程檔!G305","v":0},{"$f":"+轉帳過程檔!B305","v":0}]
[{"$f":"+轉帳過程檔!A306","v":""},{"$f":"+轉帳過程檔!C306","v":0},{"$f":"+轉帳過程檔!G306","v":0},{"$f":"+轉帳過程檔!B306","v":0}]
[{"$f":"+轉帳過程檔!A307","v":""},{"$f":"+轉帳過程檔!C307","v":0},{"$f":"+轉帳過程檔!G307","v":0},{"$f":"+轉帳過程檔!B307","v":0}]
[{"$f":"+轉帳過程檔!A308","v":""},{"$f":"+轉帳過程檔!C308","v":0},{"$f":"+轉帳過程檔!G308","v":0},{"$f":"+轉帳過程檔!B308","v":0}]
[{"$f":"+轉帳過程檔!A309","v":""},{"$f":"+轉帳過程檔!C309","v":0},{"$f":"+轉帳過程檔!G309","v":0},{"$f":"+轉帳過程檔!B309","v":0}]
[{"$f":"+轉帳過程檔!A310","v":""},{"$f":"+轉帳過程檔!C310","v":0},{"$f":"+轉帳過程檔!G310","v":0},{"$f":"+轉帳過程檔!B310","v":0}]
[{"$f":"+轉帳過程檔!A311","v":""},{"$f":"+轉帳過程檔!C311","v":0},{"$f":"+轉帳過程檔!G311","v":0},{"$f":"+轉帳過程檔!B311","v":0}]
[{"$f":"+轉帳過程檔!A312","v":""},{"$f":"+轉帳過程檔!C312","v":0},{"$f":"+轉帳過程檔!G312","v":0},{"$f":"+轉帳過程檔!B312","v":0}]
[{"$f":"+轉帳過程檔!A313","v":""},{"$f":"+轉帳過程檔!C313","v":0},{"$f":"+轉帳過程檔!G313","v":0},{"$f":"+轉帳過程檔!B313","v":0}]
[{"$f":"+轉帳過程檔!A314","v":""},{"$f":"+轉帳過程檔!C314","v":0},{"$f":"+轉帳過程檔!G314","v":0},{"$f":"+轉帳過程檔!B314","v":0}]
[{"$f":"+轉帳過程檔!A315","v":""},{"$f":"+轉帳過程檔!C315","v":0},{"$f":"+轉帳過程檔!G315","v":0},{"$f":"+轉帳過程檔!B315","v":0}]
[{"$f":"+轉帳過程檔!A316","v":""},{"$f":"+轉帳過程檔!C316","v":0},{"$f":"+轉帳過程檔!G316","v":0},{"$f":"+轉帳過程檔!B316","v":0}]
[{"$f":"+轉帳過程檔!A317","v":""},{"$f":"+轉帳過程檔!C317","v":0},{"$f":"+轉帳過程檔!G317","v":0},{"$f":"+轉帳過程檔!B317","v":0}]
[{"$f":"+轉帳過程檔!A318","v":""},{"$f":"+轉帳過程檔!C318","v":0},{"$f":"+轉帳過程檔!G318","v":0},{"$f":"+轉帳過程檔!B318","v":0}]
[{"$f":"+轉帳過程檔!A319","v":""},{"$f":"+轉帳過程檔!C319","v":0},{"$f":"+轉帳過程檔!G319","v":0},{"$f":"+轉帳過程檔!B319","v":0}]
[{"$f":"+轉帳過程檔!A320","v":""},{"$f":"+轉帳過程檔!C320","v":0},{"$f":"+轉帳過程檔!G320","v":0},{"$f":"+轉帳過程檔!B320","v":0}]
[{"$f":"+轉帳過程檔!A321","v":""},{"$f":"+轉帳過程檔!C321","v":0},{"$f":"+轉帳過程檔!G321","v":0},{"$f":"+轉帳過程檔!B321","v":0}]
[{"$f":"+轉帳過程檔!A322","v":""},{"$f":"+轉帳過程檔!C322","v":0},{"$f":"+轉帳過程檔!G322","v":0},{"$f":"+轉帳過程檔!B322","v":0}]
[{"$f":"+轉帳過程檔!A323","v":""},{"$f":"+轉帳過程檔!C323","v":0},{"$f":"+轉帳過程檔!G323","v":0},{"$f":"+轉帳過程檔!B323","v":0}]
[{"$f":"+轉帳過程檔!A324","v":""},{"$f":"+轉帳過程檔!C324","v":0},{"$f":"+轉帳過程檔!G324","v":0},{"$f":"+轉帳過程檔!B324","v":0}]
[{"$f":"+轉帳過程檔!A325","v":""},{"$f":"+轉帳過程檔!C325","v":0},{"$f":"+轉帳過程檔!G325","v":0},{"$f":"+轉帳過程檔!B325","v":0}]
[{"$f":"+轉帳過程檔!A326","v":""},{"$f":"+轉帳過程檔!C326","v":0},{"$f":"+轉帳過程檔!G326","v":0},{"$f":"+轉帳過程檔!B326","v":0}]
[{"$f":"+轉帳過程檔!A327","v":""},{"$f":"+轉帳過程檔!C327","v":0},{"$f":"+轉帳過程檔!G327","v":0},{"$f":"+轉帳過程檔!B327","v":0}]
[{"$f":"+轉帳過程檔!A328","v":""},{"$f":"+轉帳過程檔!C328","v":0},{"$f":"+轉帳過程檔!G328","v":0},{"$f":"+轉帳過程檔!B328","v":0}]
[{"$f":"+轉帳過程檔!A329","v":""},{"$f":"+轉帳過程檔!C329","v":0},{"$f":"+轉帳過程檔!G329","v":0},{"$f":"+轉帳過程檔!B329","v":0}]
[{"$f":"+轉帳過程檔!A330","v":""},{"$f":"+轉帳過程檔!C330","v":0},{"$f":"+轉帳過程檔!G330","v":0},{"$f":"+轉帳過程檔!B330","v":0}]
[{"$f":"+轉帳過程檔!A331","v":""},{"$f":"+轉帳過程檔!C331","v":0},{"$f":"+轉帳過程檔!G331","v":0},{"$f":"+轉帳過程檔!B331","v":0}]
[{"$f":"+轉帳過程檔!A332","v":""},{"$f":"+轉帳過程檔!C332","v":0},{"$f":"+轉帳過程檔!G332","v":0},{"$f":"+轉帳過程檔!B332","v":0}]
[{"$f":"+轉帳過程檔!A333","v":""},{"$f":"+轉帳過程檔!C333","v":0},{"$f":"+轉帳過程檔!G333","v":0},{"$f":"+轉帳過程檔!B333","v":0}]
[{"$f":"+轉帳過程檔!A334","v":""},{"$f":"+轉帳過程檔!C334","v":0},{"$f":"+轉帳過程檔!G334","v":0},{"$f":"+轉帳過程檔!B334","v":0}]
[{"$f":"+轉帳過程檔!A335","v":""},{"$f":"+轉帳過程檔!C335","v":0},{"$f":"+轉帳過程檔!G335","v":0},{"$f":"+轉帳過程檔!B335","v":0}]
[{"$f":"+轉帳過程檔!A336","v":""},{"$f":"+轉帳過程檔!C336","v":0},{"$f":"+轉帳過程檔!G336","v":0},{"$f":"+轉帳過程檔!B336","v":0}]
[{"$f":"+轉帳過程檔!A337","v":""},{"$f":"+轉帳過程檔!C337","v":0},{"$f":"+轉帳過程檔!G337","v":0},{"$f":"+轉帳過程檔!B337","v":0}]
[{"$f":"+轉帳過程檔!A338","v":""},{"$f":"+轉帳過程檔!C338","v":0},{"$f":"+轉帳過程檔!G338","v":0},{"$f":"+轉帳過程檔!B338","v":0}]
[{"$f":"+轉帳過程檔!A339","v":""},{"$f":"+轉帳過程檔!C339","v":0},{"$f":"+轉帳過程檔!G339","v":0},{"$f":"+轉帳過程檔!B339","v":0}]
[{"$f":"+轉帳過程檔!A340","v":""},{"$f":"+轉帳過程檔!C340","v":0},{"$f":"+轉帳過程檔!G340","v":0},{"$f":"+轉帳過程檔!B340","v":0}]
[{"$f":"+轉帳過程檔!A341","v":""},{"$f":"+轉帳過程檔!C341","v":0},{"$f":"+轉帳過程檔!G341","v":0},{"$f":"+轉帳過程檔!B341","v":0}]
[{"$f":"+轉帳過程檔!A342","v":""},{"$f":"+轉帳過程檔!C342","v":0},{"$f":"+轉帳過程檔!G342","v":0},{"$f":"+轉帳過程檔!B342","v":0}]
[{"$f":"+轉帳過程檔!A343","v":""},{"$f":"+轉帳過程檔!C343","v":0},{"$f":"+轉帳過程檔!G343","v":0},{"$f":"+轉帳過程檔!B343","v":0}]
[{"$f":"+轉帳過程檔!A344","v":""},{"$f":"+轉帳過程檔!C344","v":0},{"$f":"+轉帳過程檔!G344","v":0},{"$f":"+轉帳過程檔!B344","v":0}]
[{"$f":"+轉帳過程檔!A345","v":""},{"$f":"+轉帳過程檔!C345","v":0},{"$f":"+轉帳過程檔!G345","v":0},{"$f":"+轉帳過程檔!B345","v":0}]
[{"$f":"+轉帳過程檔!A346","v":""},{"$f":"+轉帳過程檔!C346","v":0},{"$f":"+轉帳過程檔!G346","v":0},{"$f":"+轉帳過程檔!B346","v":0}]
[{"$f":"+轉帳過程檔!A347","v":""},{"$f":"+轉帳過程檔!C347","v":0},{"$f":"+轉帳過程檔!G347","v":0},{"$f":"+轉帳過程檔!B347","v":0}]
[{"$f":"+轉帳過程檔!A348","v":""},{"$f":"+轉帳過程檔!C348","v":0},{"$f":"+轉帳過程檔!G348","v":0},{"$f":"+轉帳過程檔!B348","v":0}]
[{"$f":"+轉帳過程檔!A349","v":""},{"$f":"+轉帳過程檔!C349","v":0},{"$f":"+轉帳過程檔!G349","v":0},{"$f":"+轉帳過程檔!B349","v":0}]
[{"$f":"+轉帳過程檔!A350","v":""},{"$f":"+轉帳過程檔!C350","v":0},{"$f":"+轉帳過程檔!G350","v":0},{"$f":"+轉帳過程檔!B350","v":0}]
[{"$f":"+轉帳過程檔!A351","v":""},{"$f":"+轉帳過程檔!C351","v":0},{"$f":"+轉帳過程檔!G351","v":0},{"$f":"+轉帳過程檔!B351","v":0}]
[{"$f":"+轉帳過程檔!A352","v":""},{"$f":"+轉帳過程檔!C352","v":0},{"$f":"+轉帳過程檔!G352","v":0},{"$f":"+轉帳過程檔!B352","v":0}]
[{"$f":"+轉帳過程檔!A353","v":""},{"$f":"+轉帳過程檔!C353","v":0},{"$f":"+轉帳過程檔!G353","v":0},{"$f":"+轉帳過程檔!B353","v":0}]
[{"$f":"+轉帳過程檔!A354","v":""},{"$f":"+轉帳過程檔!C354","v":0},{"$f":"+轉帳過程檔!G354","v":0},{"$f":"+轉帳過程檔!B354","v":0}]
[{"$f":"+轉帳過程檔!A355","v":""},{"$f":"+轉帳過程檔!C355","v":0},{"$f":"+轉帳過程檔!G355","v":0},{"$f":"+轉帳過程檔!B355","v":0}]
[{"$f":"+轉帳過程檔!A356","v":""},{"$f":"+轉帳過程檔!C356","v":0},{"$f":"+轉帳過程檔!G356","v":0},{"$f":"+轉帳過程檔!B356","v":0}]
[{"$f":"+轉帳過程檔!A357","v":""},{"$f":"+轉帳過程檔!C357","v":0},{"$f":"+轉帳過程檔!G357","v":0},{"$f":"+轉帳過程檔!B357","v":0}]
[{"$f":"+轉帳過程檔!A358","v":""},{"$f":"+轉帳過程檔!C358","v":0},{"$f":"+轉帳過程檔!G358","v":0},{"$f":"+轉帳過程檔!B358","v":0}]
[{"$f":"+轉帳過程檔!A359","v":""},{"$f":"+轉帳過程檔!C359","v":0},{"$f":"+轉帳過程檔!G359","v":0},{"$f":"+轉帳過程檔!B359","v":0}]
[{"$f":"+轉帳過程檔!A360","v":""},{"$f":"+轉帳過程檔!C360","v":0},{"$f":"+轉帳過程檔!G360","v":0},{"$f":"+轉帳過程檔!B360","v":0}]
[{"$f":"+轉帳過程檔!A361","v":""},{"$f":"+轉帳過程檔!C361","v":0},{"$f":"+轉帳過程檔!G361","v":0},{"$f":"+轉帳過程檔!B361","v":0}]
[{"$f":"+轉帳過程檔!A362","v":""},{"$f":"+轉帳過程檔!C362","v":0},{"$f":"+轉帳過程檔!G362","v":0},{"$f":"+轉帳過程檔!B362","v":0}]
[{"$f":"+轉帳過程檔!A363","v":""},{"$f":"+轉帳過程檔!C363","v":0},{"$f":"+轉帳過程檔!G363","v":0},{"$f":"+轉帳過程檔!B363","v":0}]
[{"$f":"+轉帳過程檔!A364","v":""},{"$f":"+轉帳過程檔!C364","v":0},{"$f":"+轉帳過程檔!G364","v":0},{"$f":"+轉帳過程檔!B364","v":0}]
[{"$f":"+轉帳過程檔!A365","v":""},{"$f":"+轉帳過程檔!C365","v":0},{"$f":"+轉帳過程檔!G365","v":0},{"$f":"+轉帳過程檔!B365","v":0}]
[{"$f":"+轉帳過程檔!A366","v":""},{"$f":"+轉帳過程檔!C366","v":0},{"$f":"+轉帳過程檔!G366","v":0},{"$f":"+轉帳過程檔!B366","v":0}]
[{"$f":"+轉帳過程檔!A367","v":""},{"$f":"+轉帳過程檔!C367","v":0},{"$f":"+轉帳過程檔!G367","v":0},{"$f":"+轉帳過程檔!B367","v":0}]
[{"$f":"+轉帳過程檔!A368","v":""},{"$f":"+轉帳過程檔!C368","v":0},{"$f":"+轉帳過程檔!G368","v":0},{"$f":"+轉帳過程檔!B368","v":0}]
[{"$f":"+轉帳過程檔!A369","v":""},{"$f":"+轉帳過程檔!C369","v":0},{"$f":"+轉帳過程檔!G369","v":0},{"$f":"+轉帳過程檔!B369","v":0}]
[{"$f":"+轉帳過程檔!A370","v":""},{"$f":"+轉帳過程檔!C370","v":0},{"$f":"+轉帳過程檔!G370","v":0},{"$f":"+轉帳過程檔!B370","v":0}]
[{"$f":"+轉帳過程檔!A371","v":""},{"$f":"+轉帳過程檔!C371","v":0},{"$f":"+轉帳過程檔!G371","v":0},{"$f":"+轉帳過程檔!B371","v":0}]
[{"$f":"+轉帳過程檔!A372","v":""},{"$f":"+轉帳過程檔!C372","v":0},{"$f":"+轉帳過程檔!G372","v":0},{"$f":"+轉帳過程檔!B372","v":0}]
[{"$f":"+轉帳過程檔!A373","v":""},{"$f":"+轉帳過程檔!C373","v":0},{"$f":"+轉帳過程檔!G373","v":0},{"$f":"+轉帳過程檔!B373","v":0}]
[{"$f":"+轉帳過程檔!A374","v":""},{"$f":"+轉帳過程檔!C374","v":0},{"$f":"+轉帳過程檔!G374","v":0},{"$f":"+轉帳過程檔!B374","v":0}]
[{"$f":"+轉帳過程檔!A375","v":""},{"$f":"+轉帳過程檔!C375","v":0},{"$f":"+轉帳過程檔!G375","v":0},{"$f":"+轉帳過程檔!B375","v":0}]
[{"$f":"+轉帳過程檔!A376","v":""},{"$f":"+轉帳過程檔!C376","v":0},{"$f":"+轉帳過程檔!G376","v":0},{"$f":"+轉帳過程檔!B376","v":0}]
[{"$f":"+轉帳過程檔!A377","v":""},{"$f":"+轉帳過程檔!C377","v":0},{"$f":"+轉帳過程檔!G377","v":0},{"$f":"+轉帳過程檔!B377","v":0}]
[{"$f":"+轉帳過程檔!A378","v":""},{"$f":"+轉帳過程檔!C378","v":0},{"$f":"+轉帳過程檔!G378","v":0},{"$f":"+轉帳過程檔!B378","v":0}]
[{"$f":"+轉帳過程檔!A379","v":""},{"$f":"+轉帳過程檔!C379","v":0},{"$f":"+轉帳過程檔!G379","v":0},{"$f":"+轉帳過程檔!B379","v":0}]
[{"$f":"+轉帳過程檔!A380","v":""},{"$f":"+轉帳過程檔!C380","v":0},{"$f":"+轉帳過程檔!G380","v":0},{"$f":"+轉帳過程檔!B380","v":0}]
[{"$f":"+轉帳過程檔!A381","v":""},{"$f":"+轉帳過程檔!C381","v":0},{"$f":"+轉帳過程檔!G381","v":0},{"$f":"+轉帳過程檔!B381","v":0}]
[{"$f":"+轉帳過程檔!A382","v":""},{"$f":"+轉帳過程檔!C382","v":0},{"$f":"+轉帳過程檔!G382","v":0},{"$f":"+轉帳過程檔!B382","v":0}]
[{"$f":"+轉帳過程檔!A383","v":""},{"$f":"+轉帳過程檔!C383","v":0},{"$f":"+轉帳過程檔!G383","v":0},{"$f":"+轉帳過程檔!B383","v":0}]
[{"$f":"+轉帳過程檔!A384","v":""},{"$f":"+轉帳過程檔!C384","v":0},{"$f":"+轉帳過程檔!G384","v":0},{"$f":"+轉帳過程檔!B384","v":0}]
[{"$f":"+轉帳過程檔!A385","v":""},{"$f":"+轉帳過程檔!C385","v":0},{"$f":"+轉帳過程檔!G385","v":0},{"$f":"+轉帳過程檔!B385","v":0}]
[{"$f":"+轉帳過程檔!A386","v":""},{"$f":"+轉帳過程檔!C386","v":0},{"$f":"+轉帳過程檔!G386","v":0},{"$f":"+轉帳過程檔!B386","v":0}]
[{"$f":"+轉帳過程檔!A387","v":""},{"$f":"+轉帳過程檔!C387","v":0},{"$f":"+轉帳過程檔!G387","v":0},{"$f":"+轉帳過程檔!B387","v":0}]
[{"$f":"+轉帳過程檔!A388","v":""},{"$f":"+轉帳過程檔!C388","v":0},{"$f":"+轉帳過程檔!G388","v":0},{"$f":"+轉帳過程檔!B388","v":0}]
[{"$f":"+轉帳過程檔!A389","v":""},{"$f":"+轉帳過程檔!C389","v":0},{"$f":"+轉帳過程檔!G389","v":0},{"$f":"+轉帳過程檔!B389","v":0}]
[{"$f":"+轉帳過程檔!A390","v":""},{"$f":"+轉帳過程檔!C390","v":0},{"$f":"+轉帳過程檔!G390","v":0},{"$f":"+轉帳過程檔!B390","v":0}]
[{"$f":"+轉帳過程檔!A391","v":""},{"$f":"+轉帳過程檔!C391","v":0},{"$f":"+轉帳過程檔!G391","v":0},{"$f":"+轉帳過程檔!B391","v":0}]
[{"$f":"+轉帳過程檔!A392","v":""},{"$f":"+轉帳過程檔!C392","v":0},{"$f":"+轉帳過程檔!G392","v":0},{"$f":"+轉帳過程檔!B392","v":0}]
[{"$f":"+轉帳過程檔!A393","v":""},{"$f":"+轉帳過程檔!C393","v":0},{"$f":"+轉帳過程檔!G393","v":0},{"$f":"+轉帳過程檔!B393","v":0}]
[{"$f":"+轉帳過程檔!A394","v":""},{"$f":"+轉帳過程檔!C394","v":0},{"$f":"+轉帳過程檔!G394","v":0},{"$f":"+轉帳過程檔!B394","v":0}]
[{"$f":"+轉帳過程檔!A395","v":""},{"$f":"+轉帳過程檔!C395","v":0},{"$f":"+轉帳過程檔!G395","v":0},{"$f":"+轉帳過程檔!B395","v":0}]
[{"$f":"+轉帳過程檔!A396","v":""},{"$f":"+轉帳過程檔!C396","v":0},{"$f":"+轉帳過程檔!G396","v":0},{"$f":"+轉帳過程檔!B396","v":0}]
[{"$f":"+轉帳過程檔!A397","v":""},{"$f":"+轉帳過程檔!C397","v":0},{"$f":"+轉帳過程檔!G397","v":0},{"$f":"+轉帳過程檔!B397","v":0}]
[{"$f":"+轉帳過程檔!A398","v":""},{"$f":"+轉帳過程檔!C398","v":0},{"$f":"+轉帳過程檔!G398","v":0},{"$f":"+轉帳過程檔!B398","v":0}]
[{"$f":"+轉帳過程檔!A399","v":""},{"$f":"+轉帳過程檔!C399","v":0},{"$f":"+轉帳過程檔!G399","v":0},{"$f":"+轉帳過程檔!B399","v":0}]
[{"$f":"+轉帳過程檔!A400","v":""},{"$f":"+轉帳過程檔!C400","v":0},{"$f":"+轉帳過程檔!G400","v":0},{"$f":"+轉帳過程檔!B400","v":0}]
[{"$f":"+轉帳過程檔!A401","v":""},{"$f":"+轉帳過程檔!C401","v":0},{"$f":"+轉帳過程檔!G401","v":0},{"$f":"+轉帳過程檔!B401","v":0}]
[{"$f":"+轉帳過程檔!A402","v":""},{"$f":"+轉帳過程檔!C402","v":0},{"$f":"+轉帳過程檔!G402","v":0},{"$f":"+轉帳過程檔!B402","v":0}]
[{"$f":"+轉帳過程檔!A403","v":""},{"$f":"+轉帳過程檔!C403","v":0},{"$f":"+轉帳過程檔!G403","v":0},{"$f":"+轉帳過程檔!B403","v":0}]
[{"$f":"+轉帳過程檔!A404","v":""},{"$f":"+轉帳過程檔!C404","v":0},{"$f":"+轉帳過程檔!G404","v":0},{"$f":"+轉帳過程檔!B404","v":0}]
[{"$f":"+轉帳過程檔!A405","v":""},{"$f":"+轉帳過程檔!C405","v":0},{"$f":"+轉帳過程檔!G405","v":0},{"$f":"+轉帳過程檔!B405","v":0}]
[{"$f":"+轉帳過程檔!A406","v":""},{"$f":"+轉帳過程檔!C406","v":0},{"$f":"+轉帳過程檔!G406","v":0},{"$f":"+轉帳過程檔!B406","v":0}]
[{"$f":"+轉帳過程檔!A407","v":""},{"$f":"+轉帳過程檔!C407","v":0},{"$f":"+轉帳過程檔!G407","v":0},{"$f":"+轉帳過程檔!B407","v":0}]
[{"$f":"+轉帳過程檔!A408","v":""},{"$f":"+轉帳過程檔!C408","v":0},{"$f":"+轉帳過程檔!G408","v":0},{"$f":"+轉帳過程檔!B408","v":0}]
[{"$f":"+轉帳過程檔!A409","v":""},{"$f":"+轉帳過程檔!C409","v":0},{"$f":"+轉帳過程檔!G409","v":0},{"$f":"+轉帳過程檔!B409","v":0}]
[{"$f":"+轉帳過程檔!A410","v":""},{"$f":"+轉帳過程檔!C410","v":0},{"$f":"+轉帳過程檔!G410","v":0},{"$f":"+轉帳過程檔!B410","v":0}]
[{"$f":"+轉帳過程檔!A411","v":""},{"$f":"+轉帳過程檔!C411","v":0},{"$f":"+轉帳過程檔!G411","v":0},{"$f":"+轉帳過程檔!B411","v":0}]
[{"$f":"+轉帳過程檔!A412","v":""},{"$f":"+轉帳過程檔!C412","v":0},{"$f":"+轉帳過程檔!G412","v":0},{"$f":"+轉帳過程檔!B412","v":0}]
[{"$f":"+轉帳過程檔!A413","v":""},{"$f":"+轉帳過程檔!C413","v":0},{"$f":"+轉帳過程檔!G413","v":0},{"$f":"+轉帳過程檔!B413","v":0}]
[{"$f":"+轉帳過程檔!A414","v":""},{"$f":"+轉帳過程檔!C414","v":0},{"$f":"+轉帳過程檔!G414","v":0},{"$f":"+轉帳過程檔!B414","v":0}]
[{"$f":"+轉帳過程檔!A415","v":""},{"$f":"+轉帳過程檔!C415","v":0},{"$f":"+轉帳過程檔!G415","v":0},{"$f":"+轉帳過程檔!B415","v":0}]
[{"$f":"+轉帳過程檔!A416","v":""},{"$f":"+轉帳過程檔!C416","v":0},{"$f":"+轉帳過程檔!G416","v":0},{"$f":"+轉帳過程檔!B416","v":0}]
[{"$f":"+轉帳過程檔!A417","v":""},{"$f":"+轉帳過程檔!C417","v":0},{"$f":"+轉帳過程檔!G417","v":0},{"$f":"+轉帳過程檔!B417","v":0}]
[{"$f":"+轉帳過程檔!A418","v":""},{"$f":"+轉帳過程檔!C418","v":0},{"$f":"+轉帳過程檔!G418","v":0},{"$f":"+轉帳過程檔!B418","v":0}]
[{"$f":"+轉帳過程檔!A419","v":""},{"$f":"+轉帳過程檔!C419","v":0},{"$f":"+轉帳過程檔!G419","v":0},{"$f":"+轉帳過程檔!B419","v":0}]
[{"$f":"+轉帳過程檔!A420","v":""},{"$f":"+轉帳過程檔!C420","v":0},{"$f":"+轉帳過程檔!G420","v":0},{"$f":"+轉帳過程檔!B420","v":0}]
[{"$f":"+轉帳過程檔!A421","v":""},{"$f":"+轉帳過程檔!C421","v":0},{"$f":"+轉帳過程檔!G421","v":0},{"$f":"+轉帳過程檔!B421","v":0}]
[{"$f":"+轉帳過程檔!A422","v":""},{"$f":"+轉帳過程檔!C422","v":0},{"$f":"+轉帳過程檔!G422","v":0},{"$f":"+轉帳過程檔!B422","v":0}]
[{"$f":"+轉帳過程檔!A423","v":""},{"$f":"+轉帳過程檔!C423","v":0},{"$f":"+轉帳過程檔!G423","v":0},{"$f":"+轉帳過程檔!B423","v":0}]
[{"$f":"+轉帳過程檔!A424","v":""},{"$f":"+轉帳過程檔!C424","v":0},{"$f":"+轉帳過程檔!G424","v":0},{"$f":"+轉帳過程檔!B424","v":0}]
[{"$f":"+轉帳過程檔!A425","v":""},{"$f":"+轉帳過程檔!C425","v":0},{"$f":"+轉帳過程檔!G425","v":0},{"$f":"+轉帳過程檔!B425","v":0}]
[{"$f":"+轉帳過程檔!A426","v":""},{"$f":"+轉帳過程檔!C426","v":0},{"$f":"+轉帳過程檔!G426","v":0},{"$f":"+轉帳過程檔!B426","v":0}]
[{"$f":"+轉帳過程檔!A427","v":""},{"$f":"+轉帳過程檔!C427","v":0},{"$f":"+轉帳過程檔!G427","v":0},{"$f":"+轉帳過程檔!B427","v":0}]
[{"$f":"+轉帳過程檔!A428","v":""},{"$f":"+轉帳過程檔!C428","v":0},{"$f":"+轉帳過程檔!G428","v":0},{"$f":"+轉帳過程檔!B428","v":0}]
[{"$f":"+轉帳過程檔!A429","v":""},{"$f":"+轉帳過程檔!C429","v":0},{"$f":"+轉帳過程檔!G429","v":0},{"$f":"+轉帳過程檔!B429","v":0}]
[{"$f":"+轉帳過程檔!A430","v":""},{"$f":"+轉帳過程檔!C430","v":0},{"$f":"+轉帳過程檔!G430","v":0},{"$f":"+轉帳過程檔!B430","v":0}]
[{"$f":"+轉帳過程檔!A431","v":""},{"$f":"+轉帳過程檔!C431","v":0},{"$f":"+轉帳過程檔!G431","v":0},{"$f":"+轉帳過程檔!B431","v":0}]
[{"$f":"+轉帳過程檔!A432","v":""},{"$f":"+轉帳過程檔!C432","v":0},{"$f":"+轉帳過程檔!G432","v":0},{"$f":"+轉帳過程檔!B432","v":0}]
[{"$f":"+轉帳過程檔!A433","v":""},{"$f":"+轉帳過程檔!C433","v":0},{"$f":"+轉帳過程檔!G433","v":0},{"$f":"+轉帳過程檔!B433","v":0}]
[{"$f":"+轉帳過程檔!A434","v":""},{"$f":"+轉帳過程檔!C434","v":0},{"$f":"+轉帳過程檔!G434","v":0},{"$f":"+轉帳過程檔!B434","v":0}]
[{"$f":"+轉帳過程檔!A435","v":""},{"$f":"+轉帳過程檔!C435","v":0},{"$f":"+轉帳過程檔!G435","v":0},{"$f":"+轉帳過程檔!B435","v":0}]
[{"$f":"+轉帳過程檔!A436","v":""},{"$f":"+轉帳過程檔!C436","v":0},{"$f":"+轉帳過程檔!G436","v":0},{"$f":"+轉帳過程檔!B436","v":0}]
[{"$f":"+轉帳過程檔!A437","v":""},{"$f":"+轉帳過程檔!C437","v":0},{"$f":"+轉帳過程檔!G437","v":0},{"$f":"+轉帳過程檔!B437","v":0}]
[{"$f":"+轉帳過程檔!A438","v":""},{"$f":"+轉帳過程檔!C438","v":0},{"$f":"+轉帳過程檔!G438","v":0},{"$f":"+轉帳過程檔!B438","v":0}]
[{"$f":"+轉帳過程檔!A439","v":""},{"$f":"+轉帳過程檔!C439","v":0},{"$f":"+轉帳過程檔!G439","v":0},{"$f":"+轉帳過程檔!B439","v":0}]
[{"$f":"+轉帳過程檔!A440","v":""},{"$f":"+轉帳過程檔!C440","v":0},{"$f":"+轉帳過程檔!G440","v":0},{"$f":"+轉帳過程檔!B440","v":0}]
[{"$f":"+轉帳過程檔!A441","v":""},{"$f":"+轉帳過程檔!C441","v":0},{"$f":"+轉帳過程檔!G441","v":0},{"$f":"+轉帳過程檔!B441","v":0}]
[{"$f":"+轉帳過程檔!A442","v":""},{"$f":"+轉帳過程檔!C442","v":0},{"$f":"+轉帳過程檔!G442","v":0},{"$f":"+轉帳過程檔!B442","v":0}]
[{"$f":"+轉帳過程檔!A443","v":""},{"$f":"+轉帳過程檔!C443","v":0},{"$f":"+轉帳過程檔!G443","v":0},{"$f":"+轉帳過程檔!B443","v":0}]
[{"$f":"+轉帳過程檔!A444","v":""},{"$f":"+轉帳過程檔!C444","v":0},{"$f":"+轉帳過程檔!G444","v":0},{"$f":"+轉帳過程檔!B444","v":0}]
[{"$f":"+轉帳過程檔!A445","v":""},{"$f":"+轉帳過程檔!C445","v":0},{"$f":"+轉帳過程檔!G445","v":0},{"$f":"+轉帳過程檔!B445","v":0}]
[{"$f":"+轉帳過程檔!A446","v":""},{"$f":"+轉帳過程檔!C446","v":0},{"$f":"+轉帳過程檔!G446","v":0},{"$f":"+轉帳過程檔!B446","v":0}]
[{"$f":"+轉帳過程檔!A447","v":""},{"$f":"+轉帳過程檔!C447","v":0},{"$f":"+轉帳過程檔!G447","v":0},{"$f":"+轉帳過程檔!B447","v":0}]
[{"$f":"+轉帳過程檔!A448","v":""},{"$f":"+轉帳過程檔!C448","v":0},{"$f":"+轉帳過程檔!G448","v":0},{"$f":"+轉帳過程檔!B448","v":0}]
[{"$f":"+轉帳過程檔!A449","v":""},{"$f":"+轉帳過程檔!C449","v":0},{"$f":"+轉帳過程檔!G449","v":0},{"$f":"+轉帳過程檔!B449","v":0}]
[{"$f":"+轉帳過程檔!A450","v":""},{"$f":"+轉帳過程檔!C450","v":0},{"$f":"+轉帳過程檔!G450","v":0},{"$f":"+轉帳過程檔!B450","v":0}]
[{"$f":"+轉帳過程檔!A451","v":""},{"$f":"+轉帳過程檔!C451","v":0},{"$f":"+轉帳過程檔!G451","v":0},{"$f":"+轉帳過程檔!B451","v":0}]
[{"$f":"+轉帳過程檔!A452","v":""},{"$f":"+轉帳過程檔!C452","v":0},{"$f":"+轉帳過程檔!G452","v":0},{"$f":"+轉帳過程檔!B452","v":0}]
[{"$f":"+轉帳過程檔!A453","v":""},{"$f":"+轉帳過程檔!C453","v":0},{"$f":"+轉帳過程檔!G453","v":0},{"$f":"+轉帳過程檔!B453","v":0}]
[{"$f":"+轉帳過程檔!A454","v":""},{"$f":"+轉帳過程檔!C454","v":0},{"$f":"+轉帳過程檔!G454","v":0},{"$f":"+轉帳過程檔!B454","v":0}]
[{"$f":"+轉帳過程檔!A455","v":""},{"$f":"+轉帳過程檔!C455","v":0},{"$f":"+轉帳過程檔!G455","v":0},{"$f":"+轉帳過程檔!B455","v":0}]
[{"$f":"+轉帳過程檔!A456","v":""},{"$f":"+轉帳過程檔!C456","v":0},{"$f":"+轉帳過程檔!G456","v":0},{"$f":"+轉帳過程檔!B456","v":0}]
[{"$f":"+轉帳過程檔!A457","v":""},{"$f":"+轉帳過程檔!C457","v":0},{"$f":"+轉帳過程檔!G457","v":0},{"$f":"+轉帳過程檔!B457","v":0}]
[{"$f":"+轉帳過程檔!A458","v":""},{"$f":"+轉帳過程檔!C458","v":0},{"$f":"+轉帳過程檔!G458","v":0},{"$f":"+轉帳過程檔!B458","v":0}]
[{"$f":"+轉帳過程檔!A459","v":""},{"$f":"+轉帳過程檔!C459","v":0},{"$f":"+轉帳過程檔!G459","v":0},{"$f":"+轉帳過程檔!B459","v":0}]
[{"$f":"+轉帳過程檔!A460","v":""},{"$f":"+轉帳過程檔!C460","v":0},{"$f":"+轉帳過程檔!G460","v":0},{"$f":"+轉帳過程檔!B460","v":0}]
[{"$f":"+轉帳過程檔!A461","v":""},{"$f":"+轉帳過程檔!C461","v":0},{"$f":"+轉帳過程檔!G461","v":0},{"$f":"+轉帳過程檔!B461","v":0}]
[{"$f":"+轉帳過程檔!A462","v":""},{"$f":"+轉帳過程檔!C462","v":0},{"$f":"+轉帳過程檔!G462","v":0},{"$f":"+轉帳過程檔!B462","v":0}]
[{"$f":"+轉帳過程檔!A463","v":""},{"$f":"+轉帳過程檔!C463","v":0},{"$f":"+轉帳過程檔!G463","v":0},{"$f":"+轉帳過程檔!B463","v":0}]
[{"$f":"+轉帳過程檔!A464","v":""},{"$f":"+轉帳過程檔!C464","v":0},{"$f":"+轉帳過程檔!G464","v":0},{"$f":"+轉帳過程檔!B464","v":0}]
[{"$f":"+轉帳過程檔!A465","v":""},{"$f":"+轉帳過程檔!C465","v":0},{"$f":"+轉帳過程檔!G465","v":0},{"$f":"+轉帳過程檔!B465","v":0}]
[{"$f":"+轉帳過程檔!A466","v":""},{"$f":"+轉帳過程檔!C466","v":0},{"$f":"+轉帳過程檔!G466","v":0},{"$f":"+轉帳過程檔!B466","v":0}]
[{"$f":"+轉帳過程檔!A467","v":""},{"$f":"+轉帳過程檔!C467","v":0},{"$f":"+轉帳過程檔!G467","v":0},{"$f":"+轉帳過程檔!B467","v":0}]
[{"$f":"+轉帳過程檔!A468","v":""},{"$f":"+轉帳過程檔!C468","v":0},{"$f":"+轉帳過程檔!G468","v":0},{"$f":"+轉帳過程檔!B468","v":0}]
[{"$f":"+轉帳過程檔!A469","v":""},{"$f":"+轉帳過程檔!C469","v":0},{"$f":"+轉帳過程檔!G469","v":0},{"$f":"+轉帳過程檔!B469","v":0}]
[{"$f":"+轉帳過程檔!A470","v":""},{"$f":"+轉帳過程檔!C470","v":0},{"$f":"+轉帳過程檔!G470","v":0},{"$f":"+轉帳過程檔!B470","v":0}]
[{"$f":"+轉帳過程檔!A471","v":""},{"$f":"+轉帳過程檔!C471","v":0},{"$f":"+轉帳過程檔!G471","v":0},{"$f":"+轉帳過程檔!B471","v":0}]
[{"$f":"+轉帳過程檔!A472","v":""},{"$f":"+轉帳過程檔!C472","v":0},{"$f":"+轉帳過程檔!G472","v":0},{"$f":"+轉帳過程檔!B472","v":0}]
[{"$f":"+轉帳過程檔!A473","v":""},{"$f":"+轉帳過程檔!C473","v":0},{"$f":"+轉帳過程檔!G473","v":0},{"$f":"+轉帳過程檔!B473","v":0}]
[{"$f":"+轉帳過程檔!A474","v":""},{"$f":"+轉帳過程檔!C474","v":0},{"$f":"+轉帳過程檔!G474","v":0},{"$f":"+轉帳過程檔!B474","v":0}]
[{"$f":"+轉帳過程檔!A475","v":""},{"$f":"+轉帳過程檔!C475","v":0},{"$f":"+轉帳過程檔!G475","v":0},{"$f":"+轉帳過程檔!B475","v":0}]
[{"$f":"+轉帳過程檔!A476","v":""},{"$f":"+轉帳過程檔!C476","v":0},{"$f":"+轉帳過程檔!G476","v":0},{"$f":"+轉帳過程檔!B476","v":0}]
[{"$f":"+轉帳過程檔!A477","v":""},{"$f":"+轉帳過程檔!C477","v":0},{"$f":"+轉帳過程檔!G477","v":0},{"$f":"+轉帳過程檔!B477","v":0}]
[{"$f":"+轉帳過程檔!A478","v":""},{"$f":"+轉帳過程檔!C478","v":0},{"$f":"+轉帳過程檔!G478","v":0},{"$f":"+轉帳過程檔!B478","v":0}]
[{"$f":"+轉帳過程檔!A479","v":""},{"$f":"+轉帳過程檔!C479","v":0},{"$f":"+轉帳過程檔!G479","v":0},{"$f":"+轉帳過程檔!B479","v":0}]
[{"$f":"+轉帳過程檔!A480","v":""},{"$f":"+轉帳過程檔!C480","v":0},{"$f":"+轉帳過程檔!G480","v":0},{"$f":"+轉帳過程檔!B480","v":0}]
[{"$f":"+轉帳過程檔!A481","v":""},{"$f":"+轉帳過程檔!C481","v":0},{"$f":"+轉帳過程檔!G481","v":0},{"$f":"+轉帳過程檔!B481","v":0}]
[{"$f":"+轉帳過程檔!A482","v":""},{"$f":"+轉帳過程檔!C482","v":0},{"$f":"+轉帳過程檔!G482","v":0},{"$f":"+轉帳過程檔!B482","v":0}]
[{"$f":"+轉帳過程檔!A483","v":""},{"$f":"+轉帳過程檔!C483","v":0},{"$f":"+轉帳過程檔!G483","v":0},{"$f":"+轉帳過程檔!B483","v":0}]
[{"$f":"+轉帳過程檔!A484","v":""},{"$f":"+轉帳過程檔!C484","v":0},{"$f":"+轉帳過程檔!G484","v":0},{"$f":"+轉帳過程檔!B484","v":0}]
[{"$f":"+轉帳過程檔!A485","v":""},{"$f":"+轉帳過程檔!C485","v":0},{"$f":"+轉帳過程檔!G485","v":0},{"$f":"+轉帳過程檔!B485","v":0}]
[{"$f":"+轉帳過程檔!A486","v":""},{"$f":"+轉帳過程檔!C486","v":0},{"$f":"+轉帳過程檔!G486","v":0},{"$f":"+轉帳過程檔!B486","v":0}]
[{"$f":"+轉帳過程檔!A487","v":""},{"$f":"+轉帳過程檔!C487","v":0},{"$f":"+轉帳過程檔!G487","v":0},{"$f":"+轉帳過程檔!B487","v":0}]
[{"$f":"+轉帳過程檔!A488","v":""},{"$f":"+轉帳過程檔!C488","v":0},{"$f":"+轉帳過程檔!G488","v":0},{"$f":"+轉帳過程檔!B488","v":0}]
[{"$f":"+轉帳過程檔!A489","v":""},{"$f":"+轉帳過程檔!C489","v":0},{"$f":"+轉帳過程檔!G489","v":0},{"$f":"+轉帳過程檔!B489","v":0}]
[{"$f":"+轉帳過程檔!A490","v":""},{"$f":"+轉帳過程檔!C490","v":0},{"$f":"+轉帳過程檔!G490","v":0},{"$f":"+轉帳過程檔!B490","v":0}]
[{"$f":"+轉帳過程檔!A491","v":""},{"$f":"+轉帳過程檔!C491","v":0},{"$f":"+轉帳過程檔!G491","v":0},{"$f":"+轉帳過程檔!B491","v":0}]
[{"$f":"+轉帳過程檔!A492","v":""},{"$f":"+轉帳過程檔!C492","v":0},{"$f":"+轉帳過程檔!G492","v":0},{"$f":"+轉帳過程檔!B492","v":0}]
[{"$f":"+轉帳過程檔!A493","v":""},{"$f":"+轉帳過程檔!C493","v":0},{"$f":"+轉帳過程檔!G493","v":0},{"$f":"+轉帳過程檔!B493","v":0}]
[{"$f":"+轉帳過程檔!A494","v":""},{"$f":"+轉帳過程檔!C494","v":0},{"$f":"+轉帳過程檔!G494","v":0},{"$f":"+轉帳過程檔!B494","v":0}]
[{"$f":"+轉帳過程檔!A495","v":""},{"$f":"+轉帳過程檔!C495","v":0},{"$f":"+轉帳過程檔!G495","v":0},{"$f":"+轉帳過程檔!B495","v":0}]
[{"$f":"+轉帳過程檔!A496","v":""},{"$f":"+轉帳過程檔!C496","v":0},{"$f":"+轉帳過程檔!G496","v":0},{"$f":"+轉帳過程檔!B496","v":0}]
[{"$f":"+轉帳過程檔!A497","v":""},{"$f":"+轉帳過程檔!C497","v":0},{"$f":"+轉帳過程檔!G497","v":0},{"$f":"+轉帳過程檔!B497","v":0}]
[{"$f":"+轉帳過程檔!A498","v":""},{"$f":"+轉帳過程檔!C498","v":0},{"$f":"+轉帳過程檔!G498","v":0},{"$f":"+轉帳過程檔!B498","v":0}]
[{"$f":"+轉帳過程檔!A499","v":""},{"$f":"+轉帳過程檔!C499","v":0},{"$f":"+轉帳過程檔!G499","v":0},{"$f":"+轉帳過程檔!B499","v":0}]
[{"$f":"+轉帳過程檔!A500","v":""},{"$f":"+轉帳過程檔!C500","v":0},{"$f":"+轉帳過程檔!G500","v":0},{"$f":"+轉帳過程檔!B500","v":0}]
[{"$f":"+轉帳過程檔!A501","v":""},{"$f":"+轉帳過程檔!C501","v":0},{"$f":"+轉帳過程檔!G501","v":0},{"$f":"+轉帳過程檔!B501","v":0}]
[{"$f":"+轉帳過程檔!A502","v":""},{"$f":"+轉帳過程檔!C502","v":0},{"$f":"+轉帳過程檔!G502","v":0},{"$f":"+轉帳過程檔!B502","v":0}]
[{"$f":"+轉帳過程檔!A503","v":""},{"$f":"+轉帳過程檔!C503","v":0},{"$f":"+轉帳過程檔!G503","v":0},{"$f":"+轉帳過程檔!B503","v":0}]
[{"$f":"+轉帳過程檔!A504","v":""},{"$f":"+轉帳過程檔!C504","v":0},{"$f":"+轉帳過程檔!G504","v":0},{"$f":"+轉帳過程檔!B504","v":0}]
[{"$f":"+轉帳過程檔!A505","v":""},{"$f":"+轉帳過程檔!C505","v":0},{"$f":"+轉帳過程檔!G505","v":0},{"$f":"+轉帳過程檔!B505","v":0}]
[{"$f":"+轉帳過程檔!A506","v":""},{"$f":"+轉帳過程檔!C506","v":0},{"$f":"+轉帳過程檔!G506","v":0},{"$f":"+轉帳過程檔!B506","v":0}]
[{"$f":"+轉帳過程檔!A507","v":""},{"$f":"+轉帳過程檔!C507","v":0},{"$f":"+轉帳過程檔!G507","v":0},{"$f":"+轉帳過程檔!B507","v":0}]
[{"$f":"+轉帳過程檔!A508","v":""},{"$f":"+轉帳過程檔!C508","v":0},{"$f":"+轉帳過程檔!G508","v":0},{"$f":"+轉帳過程檔!B508","v":0}]
[{"$f":"+轉帳過程檔!A509","v":""},{"$f":"+轉帳過程檔!C509","v":0},{"$f":"+轉帳過程檔!G509","v":0},{"$f":"+轉帳過程檔!B509","v":0}]
[{"$f":"+轉帳過程檔!A510","v":""},{"$f":"+轉帳過程檔!C510","v":0},{"$f":"+轉帳過程檔!G510","v":0},{"$f":"+轉帳過程檔!B510","v":0}]
[{"$f":"+轉帳過程檔!A511","v":""},{"$f":"+轉帳過程檔!C511","v":0},{"$f":"+轉帳過程檔!G511","v":0},{"$f":"+轉帳過程檔!B511","v":0}]
[{"$f":"+轉帳過程檔!A512","v":""},{"$f":"+轉帳過程檔!C512","v":0},{"$f":"+轉帳過程檔!G512","v":0},{"$f":"+轉帳過程檔!B512","v":0}]
[{"$f":"+轉帳過程檔!A513","v":""},{"$f":"+轉帳過程檔!C513","v":0},{"$f":"+轉帳過程檔!G513","v":0},{"$f":"+轉帳過程檔!B513","v":0}]
[{"$f":"+轉帳過程檔!A514","v":""},{"$f":"+轉帳過程檔!C514","v":0},{"$f":"+轉帳過程檔!G514","v":0},{"$f":"+轉帳過程檔!B514","v":0}]
[{"$f":"+轉帳過程檔!A515","v":""},{"$f":"+轉帳過程檔!C515","v":0},{"$f":"+轉帳過程檔!G515","v":0},{"$f":"+轉帳過程檔!B515","v":0}]
[{"$f":"+轉帳過程檔!A516","v":""},{"$f":"+轉帳過程檔!C516","v":0},{"$f":"+轉帳過程檔!G516","v":0},{"$f":"+轉帳過程檔!B516","v":0}]
[{"$f":"+轉帳過程檔!A517","v":""},{"$f":"+轉帳過程檔!C517","v":0},{"$f":"+轉帳過程檔!G517","v":0},{"$f":"+轉帳過程檔!B517","v":0}]
[{"$f":"+轉帳過程檔!A518","v":""},{"$f":"+轉帳過程檔!C518","v":0},{"$f":"+轉帳過程檔!G518","v":0},{"$f":"+轉帳過程檔!B518","v":0}]
[{"$f":"+轉帳過程檔!A519","v":""},{"$f":"+轉帳過程檔!C519","v":0},{"$f":"+轉帳過程檔!G519","v":0},{"$f":"+轉帳過程檔!B519","v":0}]
[{"$f":"+轉帳過程檔!A520","v":""},{"$f":"+轉帳過程檔!C520","v":0},{"$f":"+轉帳過程檔!G520","v":0},{"$f":"+轉帳過程檔!B520","v":0}]
[{"$f":"+轉帳過程檔!A521","v":""},{"$f":"+轉帳過程檔!C521","v":0},{"$f":"+轉帳過程檔!G521","v":0},{"$f":"+轉帳過程檔!B521","v":0}]
[{"$f":"+轉帳過程檔!A522","v":""},{"$f":"+轉帳過程檔!C522","v":0},{"$f":"+轉帳過程檔!G522","v":0},{"$f":"+轉帳過程檔!B522","v":0}]
[{"$f":"+轉帳過程檔!A523","v":""},{"$f":"+轉帳過程檔!C523","v":0},{"$f":"+轉帳過程檔!G523","v":0},{"$f":"+轉帳過程檔!B523","v":0}]
[{"$f":"+轉帳過程檔!A524","v":""},{"$f":"+轉帳過程檔!C524","v":0},{"$f":"+轉帳過程檔!G524","v":0},{"$f":"+轉帳過程檔!B524","v":0}]
[{"$f":"+轉帳過程檔!A525","v":""},{"$f":"+轉帳過程檔!C525","v":0},{"$f":"+轉帳過程檔!G525","v":0},{"$f":"+轉帳過程檔!B525","v":0}]
[{"$f":"+轉帳過程檔!A526","v":""},{"$f":"+轉帳過程檔!C526","v":0},{"$f":"+轉帳過程檔!G526","v":0},{"$f":"+轉帳過程檔!B526","v":0}]
[{"$f":"+轉帳過程檔!A527","v":""},{"$f":"+轉帳過程檔!C527","v":0},{"$f":"+轉帳過程檔!G527","v":0},{"$f":"+轉帳過程檔!B527","v":0}]
[{"$f":"+轉帳過程檔!A528","v":""},{"$f":"+轉帳過程檔!C528","v":0},{"$f":"+轉帳過程檔!G528","v":0},{"$f":"+轉帳過程檔!B528","v":0}]
[{"$f":"+轉帳過程檔!A529","v":""},{"$f":"+轉帳過程檔!C529","v":0},{"$f":"+轉帳過程檔!G529","v":0},{"$f":"+轉帳過程檔!B529","v":0}]
[{"$f":"+轉帳過程檔!A530","v":""},{"$f":"+轉帳過程檔!C530","v":0},{"$f":"+轉帳過程檔!G530","v":0},{"$f":"+轉帳過程檔!B530","v":0}]
[{"$f":"+轉帳過程檔!A531","v":""},{"$f":"+轉帳過程檔!C531","v":0},{"$f":"+轉帳過程檔!G531","v":0},{"$f":"+轉帳過程檔!B531","v":0}]
[{"$f":"+轉帳過程檔!A532","v":""},{"$f":"+轉帳過程檔!C532","v":0},{"$f":"+轉帳過程檔!G532","v":0},{"$f":"+轉帳過程檔!B532","v":0}]
[{"$f":"+轉帳過程檔!A533","v":""},{"$f":"+轉帳過程檔!C533","v":0},{"$f":"+轉帳過程檔!G533","v":0},{"$f":"+轉帳過程檔!B533","v":0}]
[{"$f":"+轉帳過程檔!A534","v":""},{"$f":"+轉帳過程檔!C534","v":0},{"$f":"+轉帳過程檔!G534","v":0},{"$f":"+轉帳過程檔!B534","v":0}]
[{"$f":"+轉帳過程檔!A535","v":""},{"$f":"+轉帳過程檔!C535","v":0},{"$f":"+轉帳過程檔!G535","v":0},{"$f":"+轉帳過程檔!B535","v":0}]
[{"$f":"+轉帳過程檔!A536","v":""},{"$f":"+轉帳過程檔!C536","v":0},{"$f":"+轉帳過程檔!G536","v":0},{"$f":"+轉帳過程檔!B536","v":0}]
[{"$f":"+轉帳過程檔!A537","v":""},{"$f":"+轉帳過程檔!C537","v":0},{"$f":"+轉帳過程檔!G537","v":0},{"$f":"+轉帳過程檔!B537","v":0}]
[{"$f":"+轉帳過程檔!A538","v":""},{"$f":"+轉帳過程檔!C538","v":0},{"$f":"+轉帳過程檔!G538","v":0},{"$f":"+轉帳過程檔!B538","v":0}]
[{"$f":"+轉帳過程檔!A539","v":""},{"$f":"+轉帳過程檔!C539","v":0},{"$f":"+轉帳過程檔!G539","v":0},{"$f":"+轉帳過程檔!B539","v":0}]
[{"$f":"+轉帳過程檔!A540","v":""},{"$f":"+轉帳過程檔!C540","v":0},{"$f":"+轉帳過程檔!G540","v":0},{"$f":"+轉帳過程檔!B540","v":0}]
[{"$f":"+轉帳過程檔!A541","v":""},{"$f":"+轉帳過程檔!C541","v":0},{"$f":"+轉帳過程檔!G541","v":0},{"$f":"+轉帳過程檔!B541","v":0}]
[{"$f":"+轉帳過程檔!A542","v":""},{"$f":"+轉帳過程檔!C542","v":0},{"$f":"+轉帳過程檔!G542","v":0},{"$f":"+轉帳過程檔!B542","v":0}]
[{"$f":"+轉帳過程檔!A543","v":""},{"$f":"+轉帳過程檔!C543","v":0},{"$f":"+轉帳過程檔!G543","v":0},{"$f":"+轉帳過程檔!B543","v":0}]
[{"$f":"+轉帳過程檔!A544","v":""},{"$f":"+轉帳過程檔!C544","v":0},{"$f":"+轉帳過程檔!G544","v":0},{"$f":"+轉帳過程檔!B544","v":0}]
[{"$f":"+轉帳過程檔!A545","v":""},{"$f":"+轉帳過程檔!C545","v":0},{"$f":"+轉帳過程檔!G545","v":0},{"$f":"+轉帳過程檔!B545","v":0}]
[{"$f":"+轉帳過程檔!A546","v":""},{"$f":"+轉帳過程檔!C546","v":0},{"$f":"+轉帳過程檔!G546","v":0},{"$f":"+轉帳過程檔!B546","v":0}]
[{"$f":"+轉帳過程檔!A547","v":""},{"$f":"+轉帳過程檔!C547","v":0},{"$f":"+轉帳過程檔!G547","v":0},{"$f":"+轉帳過程檔!B547","v":0}]
[{"$f":"+轉帳過程檔!A548","v":""},{"$f":"+轉帳過程檔!C548","v":0},{"$f":"+轉帳過程檔!G548","v":0},{"$f":"+轉帳過程檔!B548","v":0}]
[{"$f":"+轉帳過程檔!A549","v":""},{"$f":"+轉帳過程檔!C549","v":0},{"$f":"+轉帳過程檔!G549","v":0},{"$f":"+轉帳過程檔!B549","v":0}]
[{"$f":"+轉帳過程檔!A550","v":""},{"$f":"+轉帳過程檔!C550","v":0},{"$f":"+轉帳過程檔!G550","v":0},{"$f":"+轉帳過程檔!B550","v":0}]
[{"$f":"+轉帳過程檔!A551","v":""},{"$f":"+轉帳過程檔!C551","v":0},{"$f":"+轉帳過程檔!G551","v":0},{"$f":"+轉帳過程檔!B551","v":0}]
[{"$f":"+轉帳過程檔!A552","v":""},{"$f":"+轉帳過程檔!C552","v":0},{"$f":"+轉帳過程檔!G552","v":0},{"$f":"+轉帳過程檔!B552","v":0}]
[{"$f":"+轉帳過程檔!A553","v":""},{"$f":"+轉帳過程檔!C553","v":0},{"$f":"+轉帳過程檔!G553","v":0},{"$f":"+轉帳過程檔!B553","v":0}]
[{"$f":"+轉帳過程檔!A554","v":""},{"$f":"+轉帳過程檔!C554","v":0},{"$f":"+轉帳過程檔!G554","v":0},{"$f":"+轉帳過程檔!B554","v":0}]
[{"$f":"+轉帳過程檔!A555","v":""},{"$f":"+轉帳過程檔!C555","v":0},{"$f":"+轉帳過程檔!G555","v":0},{"$f":"+轉帳過程檔!B555","v":0}]
[{"$f":"+轉帳過程檔!A556","v":""},{"$f":"+轉帳過程檔!C556","v":0},{"$f":"+轉帳過程檔!G556","v":0},{"$f":"+轉帳過程檔!B556","v":0}]
[{"$f":"+轉帳過程檔!A557","v":""},{"$f":"+轉帳過程檔!C557","v":0},{"$f":"+轉帳過程檔!G557","v":0},{"$f":"+轉帳過程檔!B557","v":0}]
[{"$f":"+轉帳過程檔!A558","v":""},{"$f":"+轉帳過程檔!C558","v":0},{"$f":"+轉帳過程檔!G558","v":0},{"$f":"+轉帳過程檔!B558","v":0}]
[{"$f":"+轉帳過程檔!A559","v":""},{"$f":"+轉帳過程檔!C559","v":0},{"$f":"+轉帳過程檔!G559","v":0},{"$f":"+轉帳過程檔!B559","v":0}]
[{"$f":"+轉帳過程檔!A560","v":""},{"$f":"+轉帳過程檔!C560","v":0},{"$f":"+轉帳過程檔!G560","v":0},{"$f":"+轉帳過程檔!B560","v":0}]
[{"$f":"+轉帳過程檔!A561","v":""},{"$f":"+轉帳過程檔!C561","v":0},{"$f":"+轉帳過程檔!G561","v":0},{"$f":"+轉帳過程檔!B561","v":0}]
[{"$f":"+轉帳過程檔!A562","v":""},{"$f":"+轉帳過程檔!C562","v":0},{"$f":"+轉帳過程檔!G562","v":0},{"$f":"+轉帳過程檔!B562","v":0}]
[{"$f":"+轉帳過程檔!A563","v":""},{"$f":"+轉帳過程檔!C563","v":0},{"$f":"+轉帳過程檔!G563","v":0},{"$f":"+轉帳過程檔!B563","v":0}]
[{"$f":"+轉帳過程檔!A564","v":""},{"$f":"+轉帳過程檔!C564","v":0},{"$f":"+轉帳過程檔!G564","v":0},{"$f":"+轉帳過程檔!B564","v":0}]
[{"$f":"+轉帳過程檔!A565","v":""},{"$f":"+轉帳過程檔!C565","v":0},{"$f":"+轉帳過程檔!G565","v":0},{"$f":"+轉帳過程檔!B565","v":0}]
[{"$f":"+轉帳過程檔!A566","v":""},{"$f":"+轉帳過程檔!C566","v":0},{"$f":"+轉帳過程檔!G566","v":0},{"$f":"+轉帳過程檔!B566","v":0}]
[{"$f":"+轉帳過程檔!A567","v":""},{"$f":"+轉帳過程檔!C567","v":0},{"$f":"+轉帳過程檔!G567","v":0},{"$f":"+轉帳過程檔!B567","v":0}]
[{"$f":"+轉帳過程檔!A568","v":""},{"$f":"+轉帳過程檔!C568","v":0},{"$f":"+轉帳過程檔!G568","v":0},{"$f":"+轉帳過程檔!B568","v":0}]
[{"$f":"+轉帳過程檔!A569","v":""},{"$f":"+轉帳過程檔!C569","v":0},{"$f":"+轉帳過程檔!G569","v":0},{"$f":"+轉帳過程檔!B569","v":0}]
[{"$f":"+轉帳過程檔!A570","v":""},{"$f":"+轉帳過程檔!C570","v":0},{"$f":"+轉帳過程檔!G570","v":0},{"$f":"+轉帳過程檔!B570","v":0}]
[{"$f":"+轉帳過程檔!A571","v":""},{"$f":"+轉帳過程檔!C571","v":0},{"$f":"+轉帳過程檔!G571","v":0},{"$f":"+轉帳過程檔!B571","v":0}]
[{"$f":"+轉帳過程檔!A572","v":""},{"$f":"+轉帳過程檔!C572","v":0},{"$f":"+轉帳過程檔!G572","v":0},{"$f":"+轉帳過程檔!B572","v":0}]
[{"$f":"+轉帳過程檔!A573","v":""},{"$f":"+轉帳過程檔!C573","v":0},{"$f":"+轉帳過程檔!G573","v":0},{"$f":"+轉帳過程檔!B573","v":0}]
[{"$f":"+轉帳過程檔!A574","v":""},{"$f":"+轉帳過程檔!C574","v":0},{"$f":"+轉帳過程檔!G574","v":0},{"$f":"+轉帳過程檔!B574","v":0}]
[{"$f":"+轉帳過程檔!A575","v":""},{"$f":"+轉帳過程檔!C575","v":0},{"$f":"+轉帳過程檔!G575","v":0},{"$f":"+轉帳過程檔!B575","v":0}]
[{"$f":"+轉帳過程檔!A576","v":""},{"$f":"+轉帳過程檔!C576","v":0},{"$f":"+轉帳過程檔!G576","v":0},{"$f":"+轉帳過程檔!B576","v":0}]
[{"$f":"+轉帳過程檔!A577","v":""},{"$f":"+轉帳過程檔!C577","v":0},{"$f":"+轉帳過程檔!G577","v":0},{"$f":"+轉帳過程檔!B577","v":0}]
[{"$f":"+轉帳過程檔!A578","v":""},{"$f":"+轉帳過程檔!C578","v":0},{"$f":"+轉帳過程檔!G578","v":0},{"$f":"+轉帳過程檔!B578","v":0}]
[{"$f":"+轉帳過程檔!A579","v":""},{"$f":"+轉帳過程檔!C579","v":0},{"$f":"+轉帳過程檔!G579","v":0},{"$f":"+轉帳過程檔!B579","v":0}]
[{"$f":"+轉帳過程檔!A580","v":""},{"$f":"+轉帳過程檔!C580","v":0},{"$f":"+轉帳過程檔!G580","v":0},{"$f":"+轉帳過程檔!B580","v":0}]
[{"$f":"+轉帳過程檔!A581","v":""},{"$f":"+轉帳過程檔!C581","v":0},{"$f":"+轉帳過程檔!G581","v":0},{"$f":"+轉帳過程檔!B581","v":0}]
[{"$f":"+轉帳過程檔!A582","v":""},{"$f":"+轉帳過程檔!C582","v":0},{"$f":"+轉帳過程檔!G582","v":0},{"$f":"+轉帳過程檔!B582","v":0}]
[{"$f":"+轉帳過程檔!A583","v":""},{"$f":"+轉帳過程檔!C583","v":0},{"$f":"+轉帳過程檔!G583","v":0},{"$f":"+轉帳過程檔!B583","v":0}]
[{"$f":"+轉帳過程檔!A584","v":""},{"$f":"+轉帳過程檔!C584","v":0},{"$f":"+轉帳過程檔!G584","v":0},{"$f":"+轉帳過程檔!B584","v":0}]
[{"$f":"+轉帳過程檔!A585","v":""},{"$f":"+轉帳過程檔!C585","v":0},{"$f":"+轉帳過程檔!G585","v":0},{"$f":"+轉帳過程檔!B585","v":0}]
[{"$f":"+轉帳過程檔!A586","v":""},{"$f":"+轉帳過程檔!C586","v":0},{"$f":"+轉帳過程檔!G586","v":0},{"$f":"+轉帳過程檔!B586","v":0}]
[{"$f":"+轉帳過程檔!A587","v":""},{"$f":"+轉帳過程檔!C587","v":0},{"$f":"+轉帳過程檔!G587","v":0},{"$f":"+轉帳過程檔!B587","v":0}]
[{"$f":"+轉帳過程檔!A588","v":""},{"$f":"+轉帳過程檔!C588","v":0},{"$f":"+轉帳過程檔!G588","v":0},{"$f":"+轉帳過程檔!B588","v":0}]
[{"$f":"+轉帳過程檔!A589","v":""},{"$f":"+轉帳過程檔!C589","v":0},{"$f":"+轉帳過程檔!G589","v":0},{"$f":"+轉帳過程檔!B589","v":0}]
[{"$f":"+轉帳過程檔!A590","v":""},{"$f":"+轉帳過程檔!C590","v":0},{"$f":"+轉帳過程檔!G590","v":0},{"$f":"+轉帳過程檔!B590","v":0}]
[{"$f":"+轉帳過程檔!A591","v":""},{"$f":"+轉帳過程檔!C591","v":0},{"$f":"+轉帳過程檔!G591","v":0},{"$f":"+轉帳過程檔!B591","v":0}]
[{"$f":"+轉帳過程檔!A592","v":""},{"$f":"+轉帳過程檔!C592","v":0},{"$f":"+轉帳過程檔!G592","v":0},{"$f":"+轉帳過程檔!B592","v":0}]
[{"$f":"+轉帳過程檔!A593","v":""},{"$f":"+轉帳過程檔!C593","v":0},{"$f":"+轉帳過程檔!G593","v":0},{"$f":"+轉帳過程檔!B593","v":0}]
[{"$f":"+轉帳過程檔!A594","v":""},{"$f":"+轉帳過程檔!C594","v":0},{"$f":"+轉帳過程檔!G594","v":0},{"$f":"+轉帳過程檔!B594","v":0}]
[{"$f":"+轉帳過程檔!A595","v":""},{"$f":"+轉帳過程檔!C595","v":0},{"$f":"+轉帳過程檔!G595","v":0},{"$f":"+轉帳過程檔!B595","v":0}]
[{"$f":"+轉帳過程檔!A596","v":""},{"$f":"+轉帳過程檔!C596","v":0},{"$f":"+轉帳過程檔!G596","v":0},{"$f":"+轉帳過程檔!B596","v":0}]
[{"$f":"+轉帳過程檔!A597","v":""},{"$f":"+轉帳過程檔!C597","v":0},{"$f":"+轉帳過程檔!G597","v":0},{"$f":"+轉帳過程檔!B597","v":0}]
[{"$f":"+轉帳過程檔!A598","v":""},{"$f":"+轉帳過程檔!C598","v":0},{"$f":"+轉帳過程檔!G598","v":0},{"$f":"+轉帳過程檔!B598","v":0}]
[{"$f":"+轉帳過程檔!A599","v":""},{"$f":"+轉帳過程檔!C599","v":0},{"$f":"+轉帳過程檔!G599","v":0},{"$f":"+轉帳過程檔!B599","v":0}]
[{"$f":"+轉帳過程檔!A600","v":""},{"$f":"+轉帳過程檔!C600","v":0},{"$f":"+轉帳過程檔!G600","v":0},{"$f":"+轉帳過程檔!B600","v":0}]
[{"$f":"+轉帳過程檔!A601","v":""},{"$f":"+轉帳過程檔!C601","v":0},{"$f":"+轉帳過程檔!G601","v":0},{"$f":"+轉帳過程檔!B601","v":0}]
[{"$f":"+轉帳過程檔!A602","v":""},{"$f":"+轉帳過程檔!C602","v":0},{"$f":"+轉帳過程檔!G602","v":0},{"$f":"+轉帳過程檔!B602","v":0}]
[{"$f":"+轉帳過程檔!A603","v":""},{"$f":"+轉帳過程檔!C603","v":0},{"$f":"+轉帳過程檔!G603","v":0},{"$f":"+轉帳過程檔!B603","v":0}]
[{"$f":"+轉帳過程檔!A604","v":""},{"$f":"+轉帳過程檔!C604","v":0},{"$f":"+轉帳過程檔!G604","v":0},{"$f":"+轉帳過程檔!B604","v":0}]
[{"$f":"+轉帳過程檔!A605","v":""},{"$f":"+轉帳過程檔!C605","v":0},{"$f":"+轉帳過程檔!G605","v":0},{"$f":"+轉帳過程檔!B605","v":0}]
[{"$f":"+轉帳過程檔!A606","v":""},{"$f":"+轉帳過程檔!C606","v":0},{"$f":"+轉帳過程檔!G606","v":0},{"$f":"+轉帳過程檔!B606","v":0}]
[{"$f":"+轉帳過程檔!A607","v":""},{"$f":"+轉帳過程檔!C607","v":0},{"$f":"+轉帳過程檔!G607","v":0},{"$f":"+轉帳過程檔!B607","v":0}]
[{"$f":"+轉帳過程檔!A608","v":""},{"$f":"+轉帳過程檔!C608","v":0},{"$f":"+轉帳過程檔!G608","v":0},{"$f":"+轉帳過程檔!B608","v":0}]
[{"$f":"+轉帳過程檔!A609","v":""},{"$f":"+轉帳過程檔!C609","v":0},{"$f":"+轉帳過程檔!G609","v":0},{"$f":"+轉帳過程檔!B609","v":0}]
[{"$f":"+轉帳過程檔!A610","v":""},{"$f":"+轉帳過程檔!C610","v":0},{"$f":"+轉帳過程檔!G610","v":0},{"$f":"+轉帳過程檔!B610","v":0}]
[{"$f":"+轉帳過程檔!A611","v":""},{"$f":"+轉帳過程檔!C611","v":0},{"$f":"+轉帳過程檔!G611","v":0},{"$f":"+轉帳過程檔!B611","v":0}]
[{"$f":"+轉帳過程檔!A612","v":""},{"$f":"+轉帳過程檔!C612","v":0},{"$f":"+轉帳過程檔!G612","v":0},{"$f":"+轉帳過程檔!B612","v":0}]
[{"$f":"+轉帳過程檔!A613","v":""},{"$f":"+轉帳過程檔!C613","v":0},{"$f":"+轉帳過程檔!G613","v":0},{"$f":"+轉帳過程檔!B613","v":0}]
[{"$f":"+轉帳過程檔!A614","v":""},{"$f":"+轉帳過程檔!C614","v":0},{"$f":"+轉帳過程檔!G614","v":0},{"$f":"+轉帳過程檔!B614","v":0}]
[{"$f":"+轉帳過程檔!A615","v":""},{"$f":"+轉帳過程檔!C615","v":0},{"$f":"+轉帳過程檔!G615","v":0},{"$f":"+轉帳過程檔!B615","v":0}]
[{"$f":"+轉帳過程檔!A616","v":""},{"$f":"+轉帳過程檔!C616","v":0},{"$f":"+轉帳過程檔!G616","v":0},{"$f":"+轉帳過程檔!B616","v":0}]
[{"$f":"+轉帳過程檔!A617","v":""},{"$f":"+轉帳過程檔!C617","v":0},{"$f":"+轉帳過程檔!G617","v":0},{"$f":"+轉帳過程檔!B617","v":0}]
[{"$f":"+轉帳過程檔!A618","v":""},{"$f":"+轉帳過程檔!C618","v":0},{"$f":"+轉帳過程檔!G618","v":0},{"$f":"+轉帳過程檔!B618","v":0}]
[{"$f":"+轉帳過程檔!A619","v":""},{"$f":"+轉帳過程檔!C619","v":0},{"$f":"+轉帳過程檔!G619","v":0},{"$f":"+轉帳過程檔!B619","v":0}]
[{"$f":"+轉帳過程檔!A620","v":""},{"$f":"+轉帳過程檔!C620","v":0},{"$f":"+轉帳過程檔!G620","v":0},{"$f":"+轉帳過程檔!B620","v":0}]
[{"$f":"+轉帳過程檔!A621","v":""},{"$f":"+轉帳過程檔!C621","v":0},{"$f":"+轉帳過程檔!G621","v":0},{"$f":"+轉帳過程檔!B621","v":0}]
[{"$f":"+轉帳過程檔!A622","v":""},{"$f":"+轉帳過程檔!C622","v":0},{"$f":"+轉帳過程檔!G622","v":0},{"$f":"+轉帳過程檔!B622","v":0}]
[{"$f":"+轉帳過程檔!A623","v":""},{"$f":"+轉帳過程檔!C623","v":0},{"$f":"+轉帳過程檔!G623","v":0},{"$f":"+轉帳過程檔!B623","v":0}]
[{"$f":"+轉帳過程檔!A624","v":""},{"$f":"+轉帳過程檔!C624","v":0},{"$f":"+轉帳過程檔!G624","v":0},{"$f":"+轉帳過程檔!B624","v":0}]
[{"$f":"+轉帳過程檔!A625","v":""},{"$f":"+轉帳過程檔!C625","v":0},{"$f":"+轉帳過程檔!G625","v":0},{"$f":"+轉帳過程檔!B625","v":0}]
[{"$f":"+轉帳過程檔!A626","v":""},{"$f":"+轉帳過程檔!C626","v":0},{"$f":"+轉帳過程檔!G626","v":0},{"$f":"+轉帳過程檔!B626","v":0}]
[{"$f":"+轉帳過程檔!A627","v":""},{"$f":"+轉帳過程檔!C627","v":0},{"$f":"+轉帳過程檔!G627","v":0},{"$f":"+轉帳過程檔!B627","v":0}]
[{"$f":"+轉帳過程檔!A628","v":""},{"$f":"+轉帳過程檔!C628","v":0},{"$f":"+轉帳過程檔!G628","v":0},{"$f":"+轉帳過程檔!B628","v":0}]
[{"$f":"+轉帳過程檔!A629","v":""},{"$f":"+轉帳過程檔!C629","v":0},{"$f":"+轉帳過程檔!G629","v":0},{"$f":"+轉帳過程檔!B629","v":0}]
[{"$f":"+轉帳過程檔!A630","v":""},{"$f":"+轉帳過程檔!C630","v":0},{"$f":"+轉帳過程檔!G630","v":0},{"$f":"+轉帳過程檔!B630","v":0}]
[{"$f":"+轉帳過程檔!A631","v":""},{"$f":"+轉帳過程檔!C631","v":0},{"$f":"+轉帳過程檔!G631","v":0},{"$f":"+轉帳過程檔!B631","v":0}]
[{"$f":"+轉帳過程檔!A632","v":""},{"$f":"+轉帳過程檔!C632","v":0},{"$f":"+轉帳過程檔!G632","v":0},{"$f":"+轉帳過程檔!B632","v":0}]
[{"$f":"+轉帳過程檔!A633","v":""},{"$f":"+轉帳過程檔!C633","v":0},{"$f":"+轉帳過程檔!G633","v":0},{"$f":"+轉帳過程檔!B633","v":0}]
[{"$f":"+轉帳過程檔!A634","v":""},{"$f":"+轉帳過程檔!C634","v":0},{"$f":"+轉帳過程檔!G634","v":0},{"$f":"+轉帳過程檔!B634","v":0}]
[{"$f":"+轉帳過程檔!A635","v":""},{"$f":"+轉帳過程檔!C635","v":0},{"$f":"+轉帳過程檔!G635","v":0},{"$f":"+轉帳過程檔!B635","v":0}]
[{"$f":"+轉帳過程檔!A636","v":""},{"$f":"+轉帳過程檔!C636","v":0},{"$f":"+轉帳過程檔!G636","v":0},{"$f":"+轉帳過程檔!B636","v":0}]
[{"$f":"+轉帳過程檔!A637","v":""},{"$f":"+轉帳過程檔!C637","v":0},{"$f":"+轉帳過程檔!G637","v":0},{"$f":"+轉帳過程檔!B637","v":0}]
[{"$f":"+轉帳過程檔!A638","v":""},{"$f":"+轉帳過程檔!C638","v":0},{"$f":"+轉帳過程檔!G638","v":0},{"$f":"+轉帳過程檔!B638","v":0}]
[{"$f":"+轉帳過程檔!A639","v":""},{"$f":"+轉帳過程檔!C639","v":0},{"$f":"+轉帳過程檔!G639","v":0},{"$f":"+轉帳過程檔!B639","v":0}]
[{"$f":"+轉帳過程檔!A640","v":""},{"$f":"+轉帳過程檔!C640","v":0},{"$f":"+轉帳過程檔!G640","v":0},{"$f":"+轉帳過程檔!B640","v":0}]
[{"$f":"+轉帳過程檔!A641","v":""},{"$f":"+轉帳過程檔!C641","v":0},{"$f":"+轉帳過程檔!G641","v":0},{"$f":"+轉帳過程檔!B641","v":0}]
[{"$f":"+轉帳過程檔!A642","v":""},{"$f":"+轉帳過程檔!C642","v":0},{"$f":"+轉帳過程檔!G642","v":0},{"$f":"+轉帳過程檔!B642","v":0}]
[{"$f":"+轉帳過程檔!A643","v":""},{"$f":"+轉帳過程檔!C643","v":0},{"$f":"+轉帳過程檔!G643","v":0},{"$f":"+轉帳過程檔!B643","v":0}]
[{"$f":"+轉帳過程檔!A644","v":""},{"$f":"+轉帳過程檔!C644","v":0},{"$f":"+轉帳過程檔!G644","v":0},{"$f":"+轉帳過程檔!B644","v":0}]
[{"$f":"+轉帳過程檔!A645","v":""},{"$f":"+轉帳過程檔!C645","v":0},{"$f":"+轉帳過程檔!G645","v":0},{"$f":"+轉帳過程檔!B645","v":0}]
[{"$f":"+轉帳過程檔!A646","v":""},{"$f":"+轉帳過程檔!C646","v":0},{"$f":"+轉帳過程檔!G646","v":0},{"$f":"+轉帳過程檔!B646","v":0}]
[{"$f":"+轉帳過程檔!A647","v":""},{"$f":"+轉帳過程檔!C647","v":0},{"$f":"+轉帳過程檔!G647","v":0},{"$f":"+轉帳過程檔!B647","v":0}]
[{"$f":"+轉帳過程檔!A648","v":""},{"$f":"+轉帳過程檔!C648","v":0},{"$f":"+轉帳過程檔!G648","v":0},{"$f":"+轉帳過程檔!B648","v":0}]
[{"$f":"+轉帳過程檔!A649","v":""},{"$f":"+轉帳過程檔!C649","v":0},{"$f":"+轉帳過程檔!G649","v":0},{"$f":"+轉帳過程檔!B649","v":0}]
[{"$f":"+轉帳過程檔!A650","v":""},{"$f":"+轉帳過程檔!C650","v":0},{"$f":"+轉帳過程檔!G650","v":0},{"$f":"+轉帳過程檔!B650","v":0}]
[{"$f":"+轉帳過程檔!A651","v":""},{"$f":"+轉帳過程檔!C651","v":0},{"$f":"+轉帳過程檔!G651","v":0},{"$f":"+轉帳過程檔!B651","v":0}]
[{"$f":"+轉帳過程檔!A652","v":""},{"$f":"+轉帳過程檔!C652","v":0},{"$f":"+轉帳過程檔!G652","v":0},{"$f":"+轉帳過程檔!B652","v":0}]
[{"$f":"+轉帳過程檔!A653","v":""},{"$f":"+轉帳過程檔!C653","v":0},{"$f":"+轉帳過程檔!G653","v":0},{"$f":"+轉帳過程檔!B653","v":0}]
[{"$f":"+轉帳過程檔!A654","v":""},{"$f":"+轉帳過程檔!C654","v":0},{"$f":"+轉帳過程檔!G654","v":0},{"$f":"+轉帳過程檔!B654","v":0}]
[{"$f":"+轉帳過程檔!A655","v":""},{"$f":"+轉帳過程檔!C655","v":0},{"$f":"+轉帳過程檔!G655","v":0},{"$f":"+轉帳過程檔!B655","v":0}]
[{"$f":"+轉帳過程檔!A656","v":""},{"$f":"+轉帳過程檔!C656","v":0},{"$f":"+轉帳過程檔!G656","v":0},{"$f":"+轉帳過程檔!B656","v":0}]
[{"$f":"+轉帳過程檔!A657","v":""},{"$f":"+轉帳過程檔!C657","v":0},{"$f":"+轉帳過程檔!G657","v":0},{"$f":"+轉帳過程檔!B657","v":0}]
[{"$f":"+轉帳過程檔!A658","v":""},{"$f":"+轉帳過程檔!C658","v":0},{"$f":"+轉帳過程檔!G658","v":0},{"$f":"+轉帳過程檔!B658","v":0}]
[{"$f":"+轉帳過程檔!A659","v":""},{"$f":"+轉帳過程檔!C659","v":0},{"$f":"+轉帳過程檔!G659","v":0},{"$f":"+轉帳過程檔!B659","v":0}]
[{"$f":"+轉帳過程檔!A660","v":""},{"$f":"+轉帳過程檔!C660","v":0},{"$f":"+轉帳過程檔!G660","v":0},{"$f":"+轉帳過程檔!B660","v":0}]
[{"$f":"+轉帳過程檔!A661","v":""},{"$f":"+轉帳過程檔!C661","v":0},{"$f":"+轉帳過程檔!G661","v":0},{"$f":"+轉帳過程檔!B661","v":0}]
[{"$f":"+轉帳過程檔!A662","v":""},{"$f":"+轉帳過程檔!C662","v":0},{"$f":"+轉帳過程檔!G662","v":0},{"$f":"+轉帳過程檔!B662","v":0}]
[{"$f":"+轉帳過程檔!A663","v":""},{"$f":"+轉帳過程檔!C663","v":0},{"$f":"+轉帳過程檔!G663","v":0},{"$f":"+轉帳過程檔!B663","v":0}]
[{"$f":"+轉帳過程檔!A664","v":""},{"$f":"+轉帳過程檔!C664","v":0},{"$f":"+轉帳過程檔!G664","v":0},{"$f":"+轉帳過程檔!B664","v":0}]
[{"$f":"+轉帳過程檔!A665","v":""},{"$f":"+轉帳過程檔!C665","v":0},{"$f":"+轉帳過程檔!G665","v":0},{"$f":"+轉帳過程檔!B665","v":0}]
[{"$f":"+轉帳過程檔!A666","v":""},{"$f":"+轉帳過程檔!C666","v":0},{"$f":"+轉帳過程檔!G666","v":0},{"$f":"+轉帳過程檔!B666","v":0}]
[{"$f":"+轉帳過程檔!A667","v":""},{"$f":"+轉帳過程檔!C667","v":0},{"$f":"+轉帳過程檔!G667","v":0},{"$f":"+轉帳過程檔!B667","v":0}]
[{"$f":"+轉帳過程檔!A668","v":""},{"$f":"+轉帳過程檔!C668","v":0},{"$f":"+轉帳過程檔!G668","v":0},{"$f":"+轉帳過程檔!B668","v":0}]
[{"$f":"+轉帳過程檔!A669","v":""},{"$f":"+轉帳過程檔!C669","v":0},{"$f":"+轉帳過程檔!G669","v":0},{"$f":"+轉帳過程檔!B669","v":0}]
[{"$f":"+轉帳過程檔!A670","v":""},{"$f":"+轉帳過程檔!C670","v":0},{"$f":"+轉帳過程檔!G670","v":0},{"$f":"+轉帳過程檔!B670","v":0}]
[{"$f":"+轉帳過程檔!A671","v":""},{"$f":"+轉帳過程檔!C671","v":0},{"$f":"+轉帳過程檔!G671","v":0},{"$f":"+轉帳過程檔!B671","v":0}]
[{"$f":"+轉帳過程檔!A672","v":""},{"$f":"+轉帳過程檔!C672","v":0},{"$f":"+轉帳過程檔!G672","v":0},{"$f":"+轉帳過程檔!B672","v":0}]
[{"$f":"+轉帳過程檔!A673","v":""},{"$f":"+轉帳過程檔!C673","v":0},{"$f":"+轉帳過程檔!G673","v":0},{"$f":"+轉帳過程檔!B673","v":0}]
[{"$f":"+轉帳過程檔!A674","v":""},{"$f":"+轉帳過程檔!C674","v":0},{"$f":"+轉帳過程檔!G674","v":0},{"$f":"+轉帳過程檔!B674","v":0}]
[{"$f":"+轉帳過程檔!A675","v":""},{"$f":"+轉帳過程檔!C675","v":0},{"$f":"+轉帳過程檔!G675","v":0},{"$f":"+轉帳過程檔!B675","v":0}]
[{"$f":"+轉帳過程檔!A676","v":""},{"$f":"+轉帳過程檔!C676","v":0},{"$f":"+轉帳過程檔!G676","v":0},{"$f":"+轉帳過程檔!B676","v":0}]
[{"$f":"+轉帳過程檔!A677","v":""},{"$f":"+轉帳過程檔!C677","v":0},{"$f":"+轉帳過程檔!G677","v":0},{"$f":"+轉帳過程檔!B677","v":0}]
[{"$f":"+轉帳過程檔!A678","v":""},{"$f":"+轉帳過程檔!C678","v":0},{"$f":"+轉帳過程檔!G678","v":0},{"$f":"+轉帳過程檔!B678","v":0}]
[{"$f":"+轉帳過程檔!A679","v":""},{"$f":"+轉帳過程檔!C679","v":0},{"$f":"+轉帳過程檔!G679","v":0},{"$f":"+轉帳過程檔!B679","v":0}]
[{"$f":"+轉帳過程檔!A680","v":""},{"$f":"+轉帳過程檔!C680","v":0},{"$f":"+轉帳過程檔!G680","v":0},{"$f":"+轉帳過程檔!B680","v":0}]
[{"$f":"+轉帳過程檔!A681","v":""},{"$f":"+轉帳過程檔!C681","v":0},{"$f":"+轉帳過程檔!G681","v":0},{"$f":"+轉帳過程檔!B681","v":0}]
[{"$f":"+轉帳過程檔!A682","v":""},{"$f":"+轉帳過程檔!C682","v":0},{"$f":"+轉帳過程檔!G682","v":0},{"$f":"+轉帳過程檔!B682","v":0}]
[{"$f":"+轉帳過程檔!A683","v":""},{"$f":"+轉帳過程檔!C683","v":0},{"$f":"+轉帳過程檔!G683","v":0},{"$f":"+轉帳過程檔!B683","v":0}]
[{"$f":"+轉帳過程檔!A684","v":""},{"$f":"+轉帳過程檔!C684","v":0},{"$f":"+轉帳過程檔!G684","v":0},{"$f":"+轉帳過程檔!B684","v":0}]
[{"$f":"+轉帳過程檔!A685","v":""},{"$f":"+轉帳過程檔!C685","v":0},{"$f":"+轉帳過程檔!G685","v":0},{"$f":"+轉帳過程檔!B685","v":0}]
[{"$f":"+轉帳過程檔!A686","v":""},{"$f":"+轉帳過程檔!C686","v":0},{"$f":"+轉帳過程檔!G686","v":0},{"$f":"+轉帳過程檔!B686","v":0}]
[{"$f":"+轉帳過程檔!A687","v":""},{"$f":"+轉帳過程檔!C687","v":0},{"$f":"+轉帳過程檔!G687","v":0},{"$f":"+轉帳過程檔!B687","v":0}]
[{"$f":"+轉帳過程檔!A688","v":""},{"$f":"+轉帳過程檔!C688","v":0},{"$f":"+轉帳過程檔!G688","v":0},{"$f":"+轉帳過程檔!B688","v":0}]
[{"$f":"+轉帳過程檔!A689","v":""},{"$f":"+轉帳過程檔!C689","v":0},{"$f":"+轉帳過程檔!G689","v":0},{"$f":"+轉帳過程檔!B689","v":0}]
[{"$f":"+轉帳過程檔!A690","v":""},{"$f":"+轉帳過程檔!C690","v":0},{"$f":"+轉帳過程檔!G690","v":0},{"$f":"+轉帳過程檔!B690","v":0}]
[{"$f":"+轉帳過程檔!A691","v":""},{"$f":"+轉帳過程檔!C691","v":0},{"$f":"+轉帳過程檔!G691","v":0},{"$f":"+轉帳過程檔!B691","v":0}]
[{"$f":"+轉帳過程檔!A692","v":""},{"$f":"+轉帳過程檔!C692","v":0},{"$f":"+轉帳過程檔!G692","v":0},{"$f":"+轉帳過程檔!B692","v":0}]
[{"$f":"+轉帳過程檔!A693","v":""},{"$f":"+轉帳過程檔!C693","v":0},{"$f":"+轉帳過程檔!G693","v":0},{"$f":"+轉帳過程檔!B693","v":0}]
[{"$f":"+轉帳過程檔!A694","v":""},{"$f":"+轉帳過程檔!C694","v":0},{"$f":"+轉帳過程檔!G694","v":0},{"$f":"+轉帳過程檔!B694","v":0}]
[{"$f":"+轉帳過程檔!A695","v":""},{"$f":"+轉帳過程檔!C695","v":0},{"$f":"+轉帳過程檔!G695","v":0},{"$f":"+轉帳過程檔!B695","v":0}]
[{"$f":"+轉帳過程檔!A696","v":""},{"$f":"+轉帳過程檔!C696","v":0},{"$f":"+轉帳過程檔!G696","v":0},{"$f":"+轉帳過程檔!B696","v":0}]
[{"$f":"+轉帳過程檔!A697","v":""},{"$f":"+轉帳過程檔!C697","v":0},{"$f":"+轉帳過程檔!G697","v":0},{"$f":"+轉帳過程檔!B697","v":0}]
[{"$f":"+轉帳過程檔!A698","v":""},{"$f":"+轉帳過程檔!C698","v":0},{"$f":"+轉帳過程檔!G698","v":0},{"$f":"+轉帳過程檔!B698","v":0}]
[{"$f":"+轉帳過程檔!A699","v":""},{"$f":"+轉帳過程檔!C699","v":0},{"$f":"+轉帳過程檔!G699","v":0},{"$f":"+轉帳過程檔!B699","v":0}]
[{"$f":"+轉帳過程檔!A700","v":""},{"$f":"+轉帳過程檔!C700","v":0},{"$f":"+轉帳過程檔!G700","v":0},{"$f":"+轉帳過程檔!B700","v":0}]
[{"$f":"+轉帳過程檔!A701","v":""},{"$f":"+轉帳過程檔!C701","v":0},{"$f":"+轉帳過程檔!G701","v":0},{"$f":"+轉帳過程檔!B701","v":0}]
[{"$f":"+轉帳過程檔!A702","v":""},{"$f":"+轉帳過程檔!C702","v":0},{"$f":"+轉帳過程檔!G702","v":0},{"$f":"+轉帳過程檔!B702","v":0}]
[{"$f":"+轉帳過程檔!A703","v":""},{"$f":"+轉帳過程檔!C703","v":0},{"$f":"+轉帳過程檔!G703","v":0},{"$f":"+轉帳過程檔!B703","v":0}]
[{"$f":"+轉帳過程檔!A704","v":""},{"$f":"+轉帳過程檔!C704","v":0},{"$f":"+轉帳過程檔!G704","v":0},{"$f":"+轉帳過程檔!B704","v":0}]
[{"$f":"+轉帳過程檔!A705","v":""},{"$f":"+轉帳過程檔!C705","v":0},{"$f":"+轉帳過程檔!G705","v":0},{"$f":"+轉帳過程檔!B705","v":0}]
[{"$f":"+轉帳過程檔!A706","v":""},{"$f":"+轉帳過程檔!C706","v":0},{"$f":"+轉帳過程檔!G706","v":0},{"$f":"+轉帳過程檔!B706","v":0}]
[{"$f":"+轉帳過程檔!A707","v":""},{"$f":"+轉帳過程檔!C707","v":0},{"$f":"+轉帳過程檔!G707","v":0},{"$f":"+轉帳過程檔!B707","v":0}]
[{"$f":"+轉帳過程檔!A708","v":""},{"$f":"+轉帳過程檔!C708","v":0},{"$f":"+轉帳過程檔!G708","v":0},{"$f":"+轉帳過程檔!B708","v":0}]
[{"$f":"+轉帳過程檔!A709","v":""},{"$f":"+轉帳過程檔!C709","v":0},{"$f":"+轉帳過程檔!G709","v":0},{"$f":"+轉帳過程檔!B709","v":0}]
[{"$f":"+轉帳過程檔!A710","v":""},{"$f":"+轉帳過程檔!C710","v":0},{"$f":"+轉帳過程檔!G710","v":0},{"$f":"+轉帳過程檔!B710","v":0}]
[{"$f":"+轉帳過程檔!A711","v":""},{"$f":"+轉帳過程檔!C711","v":0},{"$f":"+轉帳過程檔!G711","v":0},{"$f":"+轉帳過程檔!B711","v":0}]
[{"$f":"+轉帳過程檔!A712","v":""},{"$f":"+轉帳過程檔!C712","v":0},{"$f":"+轉帳過程檔!G712","v":0},{"$f":"+轉帳過程檔!B712","v":0}]
[{"$f":"+轉帳過程檔!A713","v":""},{"$f":"+轉帳過程檔!C713","v":0},{"$f":"+轉帳過程檔!G713","v":0},{"$f":"+轉帳過程檔!B713","v":0}]
[{"$f":"+轉帳過程檔!A714","v":""},{"$f":"+轉帳過程檔!C714","v":0},{"$f":"+轉帳過程檔!G714","v":0},{"$f":"+轉帳過程檔!B714","v":0}]
[{"$f":"+轉帳過程檔!A715","v":""},{"$f":"+轉帳過程檔!C715","v":0},{"$f":"+轉帳過程檔!G715","v":0},{"$f":"+轉帳過程檔!B715","v":0}]
[{"$f":"+轉帳過程檔!A716","v":""},{"$f":"+轉帳過程檔!C716","v":0},{"$f":"+轉帳過程檔!G716","v":0},{"$f":"+轉帳過程檔!B716","v":0}]
[{"$f":"+轉帳過程檔!A717","v":""},{"$f":"+轉帳過程檔!C717","v":0},{"$f":"+轉帳過程檔!G717","v":0},{"$f":"+轉帳過程檔!B717","v":0}]
[{"$f":"+轉帳過程檔!A718","v":""},{"$f":"+轉帳過程檔!C718","v":0},{"$f":"+轉帳過程檔!G718","v":0},{"$f":"+轉帳過程檔!B718","v":0}]
[{"$f":"+轉帳過程檔!A719","v":""},{"$f":"+轉帳過程檔!C719","v":0},{"$f":"+轉帳過程檔!G719","v":0},{"$f":"+轉帳過程檔!B719","v":0}]
[{"$f":"+轉帳過程檔!A720","v":""},{"$f":"+轉帳過程檔!C720","v":0},{"$f":"+轉帳過程檔!G720","v":0},{"$f":"+轉帳過程檔!B720","v":0}]
[{"$f":"+轉帳過程檔!A721","v":""},{"$f":"+轉帳過程檔!C721","v":0},{"$f":"+轉帳過程檔!G721","v":0},{"$f":"+轉帳過程檔!B721","v":0}]
[{"$f":"+轉帳過程檔!A722","v":""},{"$f":"+轉帳過程檔!C722","v":0},{"$f":"+轉帳過程檔!G722","v":0},{"$f":"+轉帳過程檔!B722","v":0}]
[{"$f":"+轉帳過程檔!A723","v":""},{"$f":"+轉帳過程檔!C723","v":0},{"$f":"+轉帳過程檔!G723","v":0},{"$f":"+轉帳過程檔!B723","v":0}]
[{"$f":"+轉帳過程檔!A724","v":""},{"$f":"+轉帳過程檔!C724","v":0},{"$f":"+轉帳過程檔!G724","v":0},{"$f":"+轉帳過程檔!B724","v":0}]
[{"$f":"+轉帳過程檔!A725","v":""},{"$f":"+轉帳過程檔!C725","v":0},{"$f":"+轉帳過程檔!G725","v":0},{"$f":"+轉帳過程檔!B725","v":0}]
[{"$f":"+轉帳過程檔!A726","v":""},{"$f":"+轉帳過程檔!C726","v":0},{"$f":"+轉帳過程檔!G726","v":0},{"$f":"+轉帳過程檔!B726","v":0}]
[{"$f":"+轉帳過程檔!A727","v":""},{"$f":"+轉帳過程檔!C727","v":0},{"$f":"+轉帳過程檔!G727","v":0},{"$f":"+轉帳過程檔!B727","v":0}]
[{"$f":"+轉帳過程檔!A728","v":""},{"$f":"+轉帳過程檔!C728","v":0},{"$f":"+轉帳過程檔!G728","v":0},{"$f":"+轉帳過程檔!B728","v":0}]
[{"$f":"+轉帳過程檔!A729","v":""},{"$f":"+轉帳過程檔!C729","v":0},{"$f":"+轉帳過程檔!G729","v":0},{"$f":"+轉帳過程檔!B729","v":0}]
[{"$f":"+轉帳過程檔!A730","v":""},{"$f":"+轉帳過程檔!C730","v":0},{"$f":"+轉帳過程檔!G730","v":0},{"$f":"+轉帳過程檔!B730","v":0}]
[{"$f":"+轉帳過程檔!A731","v":""},{"$f":"+轉帳過程檔!C731","v":0},{"$f":"+轉帳過程檔!G731","v":0},{"$f":"+轉帳過程檔!B731","v":0}]
[{"$f":"+轉帳過程檔!A732","v":""},{"$f":"+轉帳過程檔!C732","v":0},{"$f":"+轉帳過程檔!G732","v":0},{"$f":"+轉帳過程檔!B732","v":0}]
[{"$f":"+轉帳過程檔!A733","v":""},{"$f":"+轉帳過程檔!C733","v":0},{"$f":"+轉帳過程檔!G733","v":0},{"$f":"+轉帳過程檔!B733","v":0}]
[{"$f":"+轉帳過程檔!A734","v":""},{"$f":"+轉帳過程檔!C734","v":0},{"$f":"+轉帳過程檔!G734","v":0},{"$f":"+轉帳過程檔!B734","v":0}]
[{"$f":"+轉帳過程檔!A735","v":""},{"$f":"+轉帳過程檔!C735","v":0},{"$f":"+轉帳過程檔!G735","v":0},{"$f":"+轉帳過程檔!B735","v":0}]
[{"$f":"+轉帳過程檔!A736","v":""},{"$f":"+轉帳過程檔!C736","v":0},{"$f":"+轉帳過程檔!G736","v":0},{"$f":"+轉帳過程檔!B736","v":0}]
[{"$f":"+轉帳過程檔!A737","v":""},{"$f":"+轉帳過程檔!C737","v":0},{"$f":"+轉帳過程檔!G737","v":0},{"$f":"+轉帳過程檔!B737","v":0}]
[{"$f":"+轉帳過程檔!A738","v":""},{"$f":"+轉帳過程檔!C738","v":0},{"$f":"+轉帳過程檔!G738","v":0},{"$f":"+轉帳過程檔!B738","v":0}]
[{"$f":"+轉帳過程檔!A739","v":""},{"$f":"+轉帳過程檔!C739","v":0},{"$f":"+轉帳過程檔!G739","v":0},{"$f":"+轉帳過程檔!B739","v":0}]
[{"$f":"+轉帳過程檔!A740","v":""},{"$f":"+轉帳過程檔!C740","v":0},{"$f":"+轉帳過程檔!G740","v":0},{"$f":"+轉帳過程檔!B740","v":0}]
[{"$f":"+轉帳過程檔!A741","v":""},{"$f":"+轉帳過程檔!C741","v":0},{"$f":"+轉帳過程檔!G741","v":0},{"$f":"+轉帳過程檔!B741","v":0}]
[{"$f":"+轉帳過程檔!A742","v":""},{"$f":"+轉帳過程檔!C742","v":0},{"$f":"+轉帳過程檔!G742","v":0},{"$f":"+轉帳過程檔!B742","v":0}]
[{"$f":"+轉帳過程檔!A743","v":""},{"$f":"+轉帳過程檔!C743","v":0},{"$f":"+轉帳過程檔!G743","v":0},{"$f":"+轉帳過程檔!B743","v":0}]
[{"$f":"+轉帳過程檔!A744","v":""},{"$f":"+轉帳過程檔!C744","v":0},{"$f":"+轉帳過程檔!G744","v":0},{"$f":"+轉帳過程檔!B744","v":0}]
[{"$f":"+轉帳過程檔!A745","v":""},{"$f":"+轉帳過程檔!C745","v":0},{"$f":"+轉帳過程檔!G745","v":0},{"$f":"+轉帳過程檔!B745","v":0}]
[{"$f":"+轉帳過程檔!A746","v":""},{"$f":"+轉帳過程檔!C746","v":0},{"$f":"+轉帳過程檔!G746","v":0},{"$f":"+轉帳過程檔!B746","v":0}]
[{"$f":"+轉帳過程檔!A747","v":""},{"$f":"+轉帳過程檔!C747","v":0},{"$f":"+轉帳過程檔!G747","v":0},{"$f":"+轉帳過程檔!B747","v":0}]
[{"$f":"+轉帳過程檔!A748","v":""},{"$f":"+轉帳過程檔!C748","v":0},{"$f":"+轉帳過程檔!G748","v":0},{"$f":"+轉帳過程檔!B748","v":0}]
[{"$f":"+轉帳過程檔!A749","v":""},{"$f":"+轉帳過程檔!C749","v":0},{"$f":"+轉帳過程檔!G749","v":0},{"$f":"+轉帳過程檔!B749","v":0}]
[{"$f":"+轉帳過程檔!A750","v":""},{"$f":"+轉帳過程檔!C750","v":0},{"$f":"+轉帳過程檔!G750","v":0},{"$f":"+轉帳過程檔!B750","v":0}]
[{"$f":"+轉帳過程檔!A751","v":""},{"$f":"+轉帳過程檔!C751","v":0},{"$f":"+轉帳過程檔!G751","v":0},{"$f":"+轉帳過程檔!B751","v":0}]
[{"$f":"+轉帳過程檔!A752","v":""},{"$f":"+轉帳過程檔!C752","v":0},{"$f":"+轉帳過程檔!G752","v":0},{"$f":"+轉帳過程檔!B752","v":0}]
[{"$f":"+轉帳過程檔!A753","v":""},{"$f":"+轉帳過程檔!C753","v":0},{"$f":"+轉帳過程檔!G753","v":0},{"$f":"+轉帳過程檔!B753","v":0}]
[{"$f":"+轉帳過程檔!A754","v":""},{"$f":"+轉帳過程檔!C754","v":0},{"$f":"+轉帳過程檔!G754","v":0},{"$f":"+轉帳過程檔!B754","v":0}]
[{"$f":"+轉帳過程檔!A755","v":""},{"$f":"+轉帳過程檔!C755","v":0},{"$f":"+轉帳過程檔!G755","v":0},{"$f":"+轉帳過程檔!B755","v":0}]
[{"$f":"+轉帳過程檔!A756","v":""},{"$f":"+轉帳過程檔!C756","v":0},{"$f":"+轉帳過程檔!G756","v":0},{"$f":"+轉帳過程檔!B756","v":0}]
[{"$f":"+轉帳過程檔!A757","v":""},{"$f":"+轉帳過程檔!C757","v":0},{"$f":"+轉帳過程檔!G757","v":0},{"$f":"+轉帳過程檔!B757","v":0}]
[{"$f":"+轉帳過程檔!A758","v":""},{"$f":"+轉帳過程檔!C758","v":0},{"$f":"+轉帳過程檔!G758","v":0},{"$f":"+轉帳過程檔!B758","v":0}]
[{"$f":"+轉帳過程檔!A759","v":""},{"$f":"+轉帳過程檔!C759","v":0},{"$f":"+轉帳過程檔!G759","v":0},{"$f":"+轉帳過程檔!B759","v":0}]
[{"$f":"+轉帳過程檔!A760","v":""},{"$f":"+轉帳過程檔!C760","v":0},{"$f":"+轉帳過程檔!G760","v":0},{"$f":"+轉帳過程檔!B760","v":0}]
[{"$f":"+轉帳過程檔!A761","v":""},{"$f":"+轉帳過程檔!C761","v":0},{"$f":"+轉帳過程檔!G761","v":0},{"$f":"+轉帳過程檔!B761","v":0}]
[{"$f":"+轉帳過程檔!A762","v":""},{"$f":"+轉帳過程檔!C762","v":0},{"$f":"+轉帳過程檔!G762","v":0},{"$f":"+轉帳過程檔!B762","v":0}]
[{"$f":"+轉帳過程檔!A763","v":""},{"$f":"+轉帳過程檔!C763","v":0},{"$f":"+轉帳過程檔!G763","v":0},{"$f":"+轉帳過程檔!B763","v":0}]
[{"$f":"+轉帳過程檔!A764","v":""},{"$f":"+轉帳過程檔!C764","v":0},{"$f":"+轉帳過程檔!G764","v":0},{"$f":"+轉帳過程檔!B764","v":0}]
[{"$f":"+轉帳過程檔!A765","v":""},{"$f":"+轉帳過程檔!C765","v":0},{"$f":"+轉帳過程檔!G765","v":0},{"$f":"+轉帳過程檔!B765","v":0}]
[{"$f":"+轉帳過程檔!A766","v":""},{"$f":"+轉帳過程檔!C766","v":0},{"$f":"+轉帳過程檔!G766","v":0},{"$f":"+轉帳過程檔!B766","v":0}]
[{"$f":"+轉帳過程檔!A767","v":""},{"$f":"+轉帳過程檔!C767","v":0},{"$f":"+轉帳過程檔!G767","v":0},{"$f":"+轉帳過程檔!B767","v":0}]
[{"$f":"+轉帳過程檔!A768","v":""},{"$f":"+轉帳過程檔!C768","v":0},{"$f":"+轉帳過程檔!G768","v":0},{"$f":"+轉帳過程檔!B768","v":0}]
[{"$f":"+轉帳過程檔!A769","v":""},{"$f":"+轉帳過程檔!C769","v":0},{"$f":"+轉帳過程檔!G769","v":0},{"$f":"+轉帳過程檔!B769","v":0}]
[{"$f":"+轉帳過程檔!A770","v":""},{"$f":"+轉帳過程檔!C770","v":0},{"$f":"+轉帳過程檔!G770","v":0},{"$f":"+轉帳過程檔!B770","v":0}]
[{"$f":"+轉帳過程檔!A771","v":""},{"$f":"+轉帳過程檔!C771","v":0},{"$f":"+轉帳過程檔!G771","v":0},{"$f":"+轉帳過程檔!B771","v":0}]
[{"$f":"+轉帳過程檔!A772","v":""},{"$f":"+轉帳過程檔!C772","v":0},{"$f":"+轉帳過程檔!G772","v":0},{"$f":"+轉帳過程檔!B772","v":0}]
[{"$f":"+轉帳過程檔!A773","v":""},{"$f":"+轉帳過程檔!C773","v":0},{"$f":"+轉帳過程檔!G773","v":0},{"$f":"+轉帳過程檔!B773","v":0}]
[{"$f":"+轉帳過程檔!A774","v":""},{"$f":"+轉帳過程檔!C774","v":0},{"$f":"+轉帳過程檔!G774","v":0},{"$f":"+轉帳過程檔!B774","v":0}]
[{"$f":"+轉帳過程檔!A775","v":""},{"$f":"+轉帳過程檔!C775","v":0},{"$f":"+轉帳過程檔!G775","v":0},{"$f":"+轉帳過程檔!B775","v":0}]
[{"$f":"+轉帳過程檔!A776","v":""},{"$f":"+轉帳過程檔!C776","v":0},{"$f":"+轉帳過程檔!G776","v":0},{"$f":"+轉帳過程檔!B776","v":0}]
[{"$f":"+轉帳過程檔!A777","v":""},{"$f":"+轉帳過程檔!C777","v":0},{"$f":"+轉帳過程檔!G777","v":0},{"$f":"+轉帳過程檔!B777","v":0}]
[{"$f":"+轉帳過程檔!A778","v":""},{"$f":"+轉帳過程檔!C778","v":0},{"$f":"+轉帳過程檔!G778","v":0},{"$f":"+轉帳過程檔!B778","v":0}]
[{"$f":"+轉帳過程檔!A779","v":""},{"$f":"+轉帳過程檔!C779","v":0},{"$f":"+轉帳過程檔!G779","v":0},{"$f":"+轉帳過程檔!B779","v":0}]
[{"$f":"+轉帳過程檔!A780","v":""},{"$f":"+轉帳過程檔!C780","v":0},{"$f":"+轉帳過程檔!G780","v":0},{"$f":"+轉帳過程檔!B780","v":0}]
[{"$f":"+轉帳過程檔!A781","v":""},{"$f":"+轉帳過程檔!C781","v":0},{"$f":"+轉帳過程檔!G781","v":0},{"$f":"+轉帳過程檔!B781","v":0}]
[{"$f":"+轉帳過程檔!A782","v":""},{"$f":"+轉帳過程檔!C782","v":0},{"$f":"+轉帳過程檔!G782","v":0},{"$f":"+轉帳過程檔!B782","v":0}]
[{"$f":"+轉帳過程檔!A783","v":""},{"$f":"+轉帳過程檔!C783","v":0},{"$f":"+轉帳過程檔!G783","v":0},{"$f":"+轉帳過程檔!B783","v":0}]
[{"$f":"+轉帳過程檔!A784","v":""},{"$f":"+轉帳過程檔!C784","v":0},{"$f":"+轉帳過程檔!G784","v":0},{"$f":"+轉帳過程檔!B784","v":0}]
[{"$f":"+轉帳過程檔!A785","v":""},{"$f":"+轉帳過程檔!C785","v":0},{"$f":"+轉帳過程檔!G785","v":0},{"$f":"+轉帳過程檔!B785","v":0}]
[{"$f":"+轉帳過程檔!A786","v":""},{"$f":"+轉帳過程檔!C786","v":0},{"$f":"+轉帳過程檔!G786","v":0},{"$f":"+轉帳過程檔!B786","v":0}]
[{"$f":"+轉帳過程檔!A787","v":""},{"$f":"+轉帳過程檔!C787","v":0},{"$f":"+轉帳過程檔!G787","v":0},{"$f":"+轉帳過程檔!B787","v":0}]
[{"$f":"+轉帳過程檔!A788","v":""},{"$f":"+轉帳過程檔!C788","v":0},{"$f":"+轉帳過程檔!G788","v":0},{"$f":"+轉帳過程檔!B788","v":0}]
[{"$f":"+轉帳過程檔!A789","v":""},{"$f":"+轉帳過程檔!C789","v":0},{"$f":"+轉帳過程檔!G789","v":0},{"$f":"+轉帳過程檔!B789","v":0}]
[{"$f":"+轉帳過程檔!A790","v":""},{"$f":"+轉帳過程檔!C790","v":0},{"$f":"+轉帳過程檔!G790","v":0},{"$f":"+轉帳過程檔!B790","v":0}]
[{"$f":"+轉帳過程檔!A791","v":""},{"$f":"+轉帳過程檔!C791","v":0},{"$f":"+轉帳過程檔!G791","v":0},{"$f":"+轉帳過程檔!B791","v":0}]
[{"$f":"+轉帳過程檔!A792","v":""},{"$f":"+轉帳過程檔!C792","v":0},{"$f":"+轉帳過程檔!G792","v":0},{"$f":"+轉帳過程檔!B792","v":0}]
[{"$f":"+轉帳過程檔!A793","v":""},{"$f":"+轉帳過程檔!C793","v":0},{"$f":"+轉帳過程檔!G793","v":0},{"$f":"+轉帳過程檔!B793","v":0}]
[{"$f":"+轉帳過程檔!A794","v":""},{"$f":"+轉帳過程檔!C794","v":0},{"$f":"+轉帳過程檔!G794","v":0},{"$f":"+轉帳過程檔!B794","v":0}]
[{"$f":"+轉帳過程檔!A795","v":""},{"$f":"+轉帳過程檔!C795","v":0},{"$f":"+轉帳過程檔!G795","v":0},{"$f":"+轉帳過程檔!B795","v":0}]
[{"$f":"+轉帳過程檔!A796","v":""},{"$f":"+轉帳過程檔!C796","v":0},{"$f":"+轉帳過程檔!G796","v":0},{"$f":"+轉帳過程檔!B796","v":0}]
[{"$f":"+轉帳過程檔!A797","v":""},{"$f":"+轉帳過程檔!C797","v":0},{"$f":"+轉帳過程檔!G797","v":0},{"$f":"+轉帳過程檔!B797","v":0}]
[{"$f":"+轉帳過程檔!A798","v":""},{"$f":"+轉帳過程檔!C798","v":0},{"$f":"+轉帳過程檔!G798","v":0},{"$f":"+轉帳過程檔!B798","v":0}]
[{"$f":"+轉帳過程檔!A799","v":""},{"$f":"+轉帳過程檔!C799","v":0},{"$f":"+轉帳過程檔!G799","v":0},{"$f":"+轉帳過程檔!B799","v":0}]
[{"$f":"+轉帳過程檔!A800","v":""},{"$f":"+轉帳過程檔!C800","v":0},{"$f":"+轉帳過程檔!G800","v":0},{"$f":"+轉帳過程檔!B800","v":0}]
[{"$f":"+轉帳過程檔!A801","v":""},{"$f":"+轉帳過程檔!C801","v":0},{"$f":"+轉帳過程檔!G801","v":0},{"$f":"+轉帳過程檔!B801","v":0}]
[{"$f":"+轉帳過程檔!A802","v":""},{"$f":"+轉帳過程檔!C802","v":0},{"$f":"+轉帳過程檔!G802","v":0},{"$f":"+轉帳過程檔!B802","v":0}]
[{"$f":"+轉帳過程檔!A803","v":""},{"$f":"+轉帳過程檔!C803","v":0},{"$f":"+轉帳過程檔!G803","v":0},{"$f":"+轉帳過程檔!B803","v":0}]
[{"$f":"+轉帳過程檔!A804","v":""},{"$f":"+轉帳過程檔!C804","v":0},{"$f":"+轉帳過程檔!G804","v":0},{"$f":"+轉帳過程檔!B804","v":0}]
[{"$f":"+轉帳過程檔!A805","v":""},{"$f":"+轉帳過程檔!C805","v":0},{"$f":"+轉帳過程檔!G805","v":0},{"$f":"+轉帳過程檔!B805","v":0}]
[{"$f":"+轉帳過程檔!A806","v":""},{"$f":"+轉帳過程檔!C806","v":0},{"$f":"+轉帳過程檔!G806","v":0},{"$f":"+轉帳過程檔!B806","v":0}]
[{"$f":"+轉帳過程檔!A807","v":""},{"$f":"+轉帳過程檔!C807","v":0},{"$f":"+轉帳過程檔!G807","v":0},{"$f":"+轉帳過程檔!B807","v":0}]
[{"$f":"+轉帳過程檔!A808","v":""},{"$f":"+轉帳過程檔!C808","v":0},{"$f":"+轉帳過程檔!G808","v":0},{"$f":"+轉帳過程檔!B808","v":0}]
[{"$f":"+轉帳過程檔!A809","v":""},{"$f":"+轉帳過程檔!C809","v":0},{"$f":"+轉帳過程檔!G809","v":0},{"$f":"+轉帳過程檔!B809","v":0}]
[{"$f":"+轉帳過程檔!A810","v":""},{"$f":"+轉帳過程檔!C810","v":0},{"$f":"+轉帳過程檔!G810","v":0},{"$f":"+轉帳過程檔!B810","v":0}]
[{"$f":"+轉帳過程檔!A811","v":""},{"$f":"+轉帳過程檔!C811","v":0},{"$f":"+轉帳過程檔!G811","v":0},{"$f":"+轉帳過程檔!B811","v":0}]
[{"$f":"+轉帳過程檔!A812","v":""},{"$f":"+轉帳過程檔!C812","v":0},{"$f":"+轉帳過程檔!G812","v":0},{"$f":"+轉帳過程檔!B812","v":0}]
[{"$f":"+轉帳過程檔!A813","v":""},{"$f":"+轉帳過程檔!C813","v":0},{"$f":"+轉帳過程檔!G813","v":0},{"$f":"+轉帳過程檔!B813","v":0}]
[{"$f":"+轉帳過程檔!A814","v":""},{"$f":"+轉帳過程檔!C814","v":0},{"$f":"+轉帳過程檔!G814","v":0},{"$f":"+轉帳過程檔!B814","v":0}]
[{"$f":"+轉帳過程檔!A815","v":""},{"$f":"+轉帳過程檔!C815","v":0},{"$f":"+轉帳過程檔!G815","v":0},{"$f":"+轉帳過程檔!B815","v":0}]
[{"$f":"+轉帳過程檔!A816","v":""},{"$f":"+轉帳過程檔!C816","v":0},{"$f":"+轉帳過程檔!G816","v":0},{"$f":"+轉帳過程檔!B816","v":0}]
[{"$f":"+轉帳過程檔!A817","v":""},{"$f":"+轉帳過程檔!C817","v":0},{"$f":"+轉帳過程檔!G817","v":0},{"$f":"+轉帳過程檔!B817","v":0}]
[{"$f":"+轉帳過程檔!A818","v":""},{"$f":"+轉帳過程檔!C818","v":0},{"$f":"+轉帳過程檔!G818","v":0},{"$f":"+轉帳過程檔!B818","v":0}]
[{"$f":"+轉帳過程檔!A819","v":""},{"$f":"+轉帳過程檔!C819","v":0},{"$f":"+轉帳過程檔!G819","v":0},{"$f":"+轉帳過程檔!B819","v":0}]
[{"$f":"+轉帳過程檔!A820","v":""},{"$f":"+轉帳過程檔!C820","v":0},{"$f":"+轉帳過程檔!G820","v":0},{"$f":"+轉帳過程檔!B820","v":0}]
[{"$f":"+轉帳過程檔!A821","v":""},{"$f":"+轉帳過程檔!C821","v":0},{"$f":"+轉帳過程檔!G821","v":0},{"$f":"+轉帳過程檔!B821","v":0}]
[{"$f":"+轉帳過程檔!A822","v":""},{"$f":"+轉帳過程檔!C822","v":0},{"$f":"+轉帳過程檔!G822","v":0},{"$f":"+轉帳過程檔!B822","v":0}]
[{"$f":"+轉帳過程檔!A823","v":""},{"$f":"+轉帳過程檔!C823","v":0},{"$f":"+轉帳過程檔!G823","v":0},{"$f":"+轉帳過程檔!B823","v":0}]
[{"$f":"+轉帳過程檔!A824","v":""},{"$f":"+轉帳過程檔!C824","v":0},{"$f":"+轉帳過程檔!G824","v":0},{"$f":"+轉帳過程檔!B824","v":0}]
[{"$f":"+轉帳過程檔!A825","v":""},{"$f":"+轉帳過程檔!C825","v":0},{"$f":"+轉帳過程檔!G825","v":0},{"$f":"+轉帳過程檔!B825","v":0}]
[{"$f":"+轉帳過程檔!A826","v":""},{"$f":"+轉帳過程檔!C826","v":0},{"$f":"+轉帳過程檔!G826","v":0},{"$f":"+轉帳過程檔!B826","v":0}]
[{"$f":"+轉帳過程檔!A827","v":""},{"$f":"+轉帳過程檔!C827","v":0},{"$f":"+轉帳過程檔!G827","v":0},{"$f":"+轉帳過程檔!B827","v":0}]
[{"$f":"+轉帳過程檔!A828","v":""},{"$f":"+轉帳過程檔!C828","v":0},{"$f":"+轉帳過程檔!G828","v":0},{"$f":"+轉帳過程檔!B828","v":0}]
[{"$f":"+轉帳過程檔!A829","v":""},{"$f":"+轉帳過程檔!C829","v":0},{"$f":"+轉帳過程檔!G829","v":0},{"$f":"+轉帳過程檔!B829","v":0}]
[{"$f":"+轉帳過程檔!A830","v":""},{"$f":"+轉帳過程檔!C830","v":0},{"$f":"+轉帳過程檔!G830","v":0},{"$f":"+轉帳過程檔!B830","v":0}]
[{"$f":"+轉帳過程檔!A831","v":""},{"$f":"+轉帳過程檔!C831","v":0},{"$f":"+轉帳過程檔!G831","v":0},{"$f":"+轉帳過程檔!B831","v":0}]
[{"$f":"+轉帳過程檔!A832","v":""},{"$f":"+轉帳過程檔!C832","v":0},{"$f":"+轉帳過程檔!G832","v":0},{"$f":"+轉帳過程檔!B832","v":0}]
[{"$f":"+轉帳過程檔!A833","v":""},{"$f":"+轉帳過程檔!C833","v":0},{"$f":"+轉帳過程檔!G833","v":0},{"$f":"+轉帳過程檔!B833","v":0}]
[{"$f":"+轉帳過程檔!A834","v":""},{"$f":"+轉帳過程檔!C834","v":0},{"$f":"+轉帳過程檔!G834","v":0},{"$f":"+轉帳過程檔!B834","v":0}]
[{"$f":"+轉帳過程檔!A835","v":""},{"$f":"+轉帳過程檔!C835","v":0},{"$f":"+轉帳過程檔!G835","v":0},{"$f":"+轉帳過程檔!B835","v":0}]
[{"$f":"+轉帳過程檔!A836","v":""},{"$f":"+轉帳過程檔!C836","v":0},{"$f":"+轉帳過程檔!G836","v":0},{"$f":"+轉帳過程檔!B836","v":0}]
[{"$f":"+轉帳過程檔!A837","v":""},{"$f":"+轉帳過程檔!C837","v":0},{"$f":"+轉帳過程檔!G837","v":0},{"$f":"+轉帳過程檔!B837","v":0}]
[{"$f":"+轉帳過程檔!A838","v":""},{"$f":"+轉帳過程檔!C838","v":0},{"$f":"+轉帳過程檔!G838","v":0},{"$f":"+轉帳過程檔!B838","v":0}]
[{"$f":"+轉帳過程檔!A839","v":""},{"$f":"+轉帳過程檔!C839","v":0},{"$f":"+轉帳過程檔!G839","v":0},{"$f":"+轉帳過程檔!B839","v":0}]
[{"$f":"+轉帳過程檔!A840","v":""},{"$f":"+轉帳過程檔!C840","v":0},{"$f":"+轉帳過程檔!G840","v":0},{"$f":"+轉帳過程檔!B840","v":0}]
[{"$f":"+轉帳過程檔!A841","v":""},{"$f":"+轉帳過程檔!C841","v":0},{"$f":"+轉帳過程檔!G841","v":0},{"$f":"+轉帳過程檔!B841","v":0}]
[{"$f":"+轉帳過程檔!A842","v":""},{"$f":"+轉帳過程檔!C842","v":0},{"$f":"+轉帳過程檔!G842","v":0},{"$f":"+轉帳過程檔!B842","v":0}]
[{"$f":"+轉帳過程檔!A843","v":""},{"$f":"+轉帳過程檔!C843","v":0},{"$f":"+轉帳過程檔!G843","v":0},{"$f":"+轉帳過程檔!B843","v":0}]
[{"$f":"+轉帳過程檔!A844","v":""},{"$f":"+轉帳過程檔!C844","v":0},{"$f":"+轉帳過程檔!G844","v":0},{"$f":"+轉帳過程檔!B844","v":0}]
[{"$f":"+轉帳過程檔!A845","v":""},{"$f":"+轉帳過程檔!C845","v":0},{"$f":"+轉帳過程檔!G845","v":0},{"$f":"+轉帳過程檔!B845","v":0}]
[{"$f":"+轉帳過程檔!A846","v":""},{"$f":"+轉帳過程檔!C846","v":0},{"$f":"+轉帳過程檔!G846","v":0},{"$f":"+轉帳過程檔!B846","v":0}]
[{"$f":"+轉帳過程檔!A847","v":""},{"$f":"+轉帳過程檔!C847","v":0},{"$f":"+轉帳過程檔!G847","v":0},{"$f":"+轉帳過程檔!B847","v":0}]
[{"$f":"+轉帳過程檔!A848","v":""},{"$f":"+轉帳過程檔!C848","v":0},{"$f":"+轉帳過程檔!G848","v":0},{"$f":"+轉帳過程檔!B848","v":0}]
[{"$f":"+轉帳過程檔!A849","v":""},{"$f":"+轉帳過程檔!C849","v":0},{"$f":"+轉帳過程檔!G849","v":0},{"$f":"+轉帳過程檔!B849","v":0}]
[{"$f":"+轉帳過程檔!A850","v":""},{"$f":"+轉帳過程檔!C850","v":0},{"$f":"+轉帳過程檔!G850","v":0},{"$f":"+轉帳過程檔!B850","v":0}]
[{"$f":"+轉帳過程檔!A851","v":""},{"$f":"+轉帳過程檔!C851","v":0},{"$f":"+轉帳過程檔!G851","v":0},{"$f":"+轉帳過程檔!B851","v":0}]
[{"$f":"+轉帳過程檔!A852","v":""},{"$f":"+轉帳過程檔!C852","v":0},{"$f":"+轉帳過程檔!G852","v":0},{"$f":"+轉帳過程檔!B852","v":0}]
[{"$f":"+轉帳過程檔!A853","v":""},{"$f":"+轉帳過程檔!C853","v":0},{"$f":"+轉帳過程檔!G853","v":0},{"$f":"+轉帳過程檔!B853","v":0}]
[{"$f":"+轉帳過程檔!A854","v":""},{"$f":"+轉帳過程檔!C854","v":0},{"$f":"+轉帳過程檔!G854","v":0},{"$f":"+轉帳過程檔!B854","v":0}]
[{"$f":"+轉帳過程檔!A855","v":""},{"$f":"+轉帳過程檔!C855","v":0},{"$f":"+轉帳過程檔!G855","v":0},{"$f":"+轉帳過程檔!B855","v":0}]
[{"$f":"+轉帳過程檔!A856","v":""},{"$f":"+轉帳過程檔!C856","v":0},{"$f":"+轉帳過程檔!G856","v":0},{"$f":"+轉帳過程檔!B856","v":0}]
[{"$f":"+轉帳過程檔!A857","v":""},{"$f":"+轉帳過程檔!C857","v":0},{"$f":"+轉帳過程檔!G857","v":0},{"$f":"+轉帳過程檔!B857","v":0}]
[{"$f":"+轉帳過程檔!A858","v":""},{"$f":"+轉帳過程檔!C858","v":0},{"$f":"+轉帳過程檔!G858","v":0},{"$f":"+轉帳過程檔!B858","v":0}]
[{"$f":"+轉帳過程檔!A859","v":""},{"$f":"+轉帳過程檔!C859","v":0},{"$f":"+轉帳過程檔!G859","v":0},{"$f":"+轉帳過程檔!B859","v":0}]
[{"$f":"+轉帳過程檔!A860","v":""},{"$f":"+轉帳過程檔!C860","v":0},{"$f":"+轉帳過程檔!G860","v":0},{"$f":"+轉帳過程檔!B860","v":0}]
[{"$f":"+轉帳過程檔!A861","v":""},{"$f":"+轉帳過程檔!C861","v":0},{"$f":"+轉帳過程檔!G861","v":0},{"$f":"+轉帳過程檔!B861","v":0}]
[{"$f":"+轉帳過程檔!A862","v":""},{"$f":"+轉帳過程檔!C862","v":0},{"$f":"+轉帳過程檔!G862","v":0},{"$f":"+轉帳過程檔!B862","v":0}]
[{"$f":"+轉帳過程檔!A863","v":""},{"$f":"+轉帳過程檔!C863","v":0},{"$f":"+轉帳過程檔!G863","v":0},{"$f":"+轉帳過程檔!B863","v":0}]
[{"$f":"+轉帳過程檔!A864","v":""},{"$f":"+轉帳過程檔!C864","v":0},{"$f":"+轉帳過程檔!G864","v":0},{"$f":"+轉帳過程檔!B864","v":0}]
[{"$f":"+轉帳過程檔!A865","v":""},{"$f":"+轉帳過程檔!C865","v":0},{"$f":"+轉帳過程檔!G865","v":0},{"$f":"+轉帳過程檔!B865","v":0}]
[{"$f":"+轉帳過程檔!A866","v":""},{"$f":"+轉帳過程檔!C866","v":0},{"$f":"+轉帳過程檔!G866","v":0},{"$f":"+轉帳過程檔!B866","v":0}]
[{"$f":"+轉帳過程檔!A867","v":""},{"$f":"+轉帳過程檔!C867","v":0},{"$f":"+轉帳過程檔!G867","v":0},{"$f":"+轉帳過程檔!B867","v":0}]
[{"$f":"+轉帳過程檔!A868","v":""},{"$f":"+轉帳過程檔!C868","v":0},{"$f":"+轉帳過程檔!G868","v":0},{"$f":"+轉帳過程檔!B868","v":0}]
[{"$f":"+轉帳過程檔!A869","v":""},{"$f":"+轉帳過程檔!C869","v":0},{"$f":"+轉帳過程檔!G869","v":0},{"$f":"+轉帳過程檔!B869","v":0}]
[{"$f":"+轉帳過程檔!A870","v":""},{"$f":"+轉帳過程檔!C870","v":0},{"$f":"+轉帳過程檔!G870","v":0},{"$f":"+轉帳過程檔!B870","v":0}]
[{"$f":"+轉帳過程檔!A871","v":""},{"$f":"+轉帳過程檔!C871","v":0},{"$f":"+轉帳過程檔!G871","v":0},{"$f":"+轉帳過程檔!B871","v":0}]
[{"$f":"+轉帳過程檔!A872","v":""},{"$f":"+轉帳過程檔!C872","v":0},{"$f":"+轉帳過程檔!G872","v":0},{"$f":"+轉帳過程檔!B872","v":0}]
[{"$f":"+轉帳過程檔!A873","v":""},{"$f":"+轉帳過程檔!C873","v":0},{"$f":"+轉帳過程檔!G873","v":0},{"$f":"+轉帳過程檔!B873","v":0}]
[{"$f":"+轉帳過程檔!A874","v":""},{"$f":"+轉帳過程檔!C874","v":0},{"$f":"+轉帳過程檔!G874","v":0},{"$f":"+轉帳過程檔!B874","v":0}]
[{"$f":"+轉帳過程檔!A875","v":""},{"$f":"+轉帳過程檔!C875","v":0},{"$f":"+轉帳過程檔!G875","v":0},{"$f":"+轉帳過程檔!B875","v":0}]
[{"$f":"+轉帳過程檔!A876","v":""},{"$f":"+轉帳過程檔!C876","v":0},{"$f":"+轉帳過程檔!G876","v":0},{"$f":"+轉帳過程檔!B876","v":0}]
[{"$f":"+轉帳過程檔!A877","v":""},{"$f":"+轉帳過程檔!C877","v":0},{"$f":"+轉帳過程檔!G877","v":0},{"$f":"+轉帳過程檔!B877","v":0}]
[{"$f":"+轉帳過程檔!A878","v":""},{"$f":"+轉帳過程檔!C878","v":0},{"$f":"+轉帳過程檔!G878","v":0},{"$f":"+轉帳過程檔!B878","v":0}]
[{"$f":"+轉帳過程檔!A879","v":""},{"$f":"+轉帳過程檔!C879","v":0},{"$f":"+轉帳過程檔!G879","v":0},{"$f":"+轉帳過程檔!B879","v":0}]
[{"$f":"+轉帳過程檔!A880","v":""},{"$f":"+轉帳過程檔!C880","v":0},{"$f":"+轉帳過程檔!G880","v":0},{"$f":"+轉帳過程檔!B880","v":0}]
[{"$f":"+轉帳過程檔!A881","v":""},{"$f":"+轉帳過程檔!C881","v":0},{"$f":"+轉帳過程檔!G881","v":0},{"$f":"+轉帳過程檔!B881","v":0}]
[{"$f":"+轉帳過程檔!A882","v":""},{"$f":"+轉帳過程檔!C882","v":0},{"$f":"+轉帳過程檔!G882","v":0},{"$f":"+轉帳過程檔!B882","v":0}]
[{"$f":"+轉帳過程檔!A883","v":""},{"$f":"+轉帳過程檔!C883","v":0},{"$f":"+轉帳過程檔!G883","v":0},{"$f":"+轉帳過程檔!B883","v":0}]
[{"$f":"+轉帳過程檔!A884","v":""},{"$f":"+轉帳過程檔!C884","v":0},{"$f":"+轉帳過程檔!G884","v":0},{"$f":"+轉帳過程檔!B884","v":0}]
[{"$f":"+轉帳過程檔!A885","v":""},{"$f":"+轉帳過程檔!C885","v":0},{"$f":"+轉帳過程檔!G885","v":0},{"$f":"+轉帳過程檔!B885","v":0}]
[{"$f":"+轉帳過程檔!A886","v":""},{"$f":"+轉帳過程檔!C886","v":0},{"$f":"+轉帳過程檔!G886","v":0},{"$f":"+轉帳過程檔!B886","v":0}]
[{"$f":"+轉帳過程檔!A887","v":""},{"$f":"+轉帳過程檔!C887","v":0},{"$f":"+轉帳過程檔!G887","v":0},{"$f":"+轉帳過程檔!B887","v":0}]
[{"$f":"+轉帳過程檔!A888","v":""},{"$f":"+轉帳過程檔!C888","v":0},{"$f":"+轉帳過程檔!G888","v":0},{"$f":"+轉帳過程檔!B888","v":0}]
[{"$f":"+轉帳過程檔!A889","v":""},{"$f":"+轉帳過程檔!C889","v":0},{"$f":"+轉帳過程檔!G889","v":0},{"$f":"+轉帳過程檔!B889","v":0}]
[{"$f":"+轉帳過程檔!A890","v":""},{"$f":"+轉帳過程檔!C890","v":0},{"$f":"+轉帳過程檔!G890","v":0},{"$f":"+轉帳過程檔!B890","v":0}]
[{"$f":"+轉帳過程檔!A891","v":""},{"$f":"+轉帳過程檔!C891","v":0},{"$f":"+轉帳過程檔!G891","v":0},{"$f":"+轉帳過程檔!B891","v":0}]
[{"$f":"+轉帳過程檔!A892","v":""},{"$f":"+轉帳過程檔!C892","v":0},{"$f":"+轉帳過程檔!G892","v":0},{"$f":"+轉帳過程檔!B892","v":0}]
[{"$f":"+轉帳過程檔!A893","v":""},{"$f":"+轉帳過程檔!C893","v":0},{"$f":"+轉帳過程檔!G893","v":0},{"$f":"+轉帳過程檔!B893","v":0}]
[{"$f":"+轉帳過程檔!A894","v":""},{"$f":"+轉帳過程檔!C894","v":0},{"$f":"+轉帳過程檔!G894","v":0},{"$f":"+轉帳過程檔!B894","v":0}]
[{"$f":"+轉帳過程檔!A895","v":""},{"$f":"+轉帳過程檔!C895","v":0},{"$f":"+轉帳過程檔!G895","v":0},{"$f":"+轉帳過程檔!B895","v":0}]
[{"$f":"+轉帳過程檔!A896","v":""},{"$f":"+轉帳過程檔!C896","v":0},{"$f":"+轉帳過程檔!G896","v":0},{"$f":"+轉帳過程檔!B896","v":0}]
[{"$f":"+轉帳過程檔!A897","v":""},{"$f":"+轉帳過程檔!C897","v":0},{"$f":"+轉帳過程檔!G897","v":0},{"$f":"+轉帳過程檔!B897","v":0}]
[{"$f":"+轉帳過程檔!A898","v":""},{"$f":"+轉帳過程檔!C898","v":0},{"$f":"+轉帳過程檔!G898","v":0},{"$f":"+轉帳過程檔!B898","v":0}]
[{"$f":"+轉帳過程檔!A899","v":""},{"$f":"+轉帳過程檔!C899","v":0},{"$f":"+轉帳過程檔!G899","v":0},{"$f":"+轉帳過程檔!B899","v":0}]
[{"$f":"+轉帳過程檔!A900","v":""},{"$f":"+轉帳過程檔!C900","v":0},{"$f":"+轉帳過程檔!G900","v":0},{"$f":"+轉帳過程檔!B900","v":0}]
[{"$f":"+轉帳過程檔!A901","v":""},{"$f":"+轉帳過程檔!C901","v":0},{"$f":"+轉帳過程檔!G901","v":0},{"$f":"+轉帳過程檔!B901","v":0}]
[{"$f":"+轉帳過程檔!A902","v":""},{"$f":"+轉帳過程檔!C902","v":0},{"$f":"+轉帳過程檔!G902","v":0},{"$f":"+轉帳過程檔!B902","v":0}]
[{"$f":"+轉帳過程檔!A903","v":""},{"$f":"+轉帳過程檔!C903","v":0},{"$f":"+轉帳過程檔!G903","v":0},{"$f":"+轉帳過程檔!B903","v":0}]
[{"$f":"+轉帳過程檔!A904","v":""},{"$f":"+轉帳過程檔!C904","v":0},{"$f":"+轉帳過程檔!G904","v":0},{"$f":"+轉帳過程檔!B904","v":0}]
[{"$f":"+轉帳過程檔!A905","v":""},{"$f":"+轉帳過程檔!C905","v":0},{"$f":"+轉帳過程檔!G905","v":0},{"$f":"+轉帳過程檔!B905","v":0}]
[{"$f":"+轉帳過程檔!A906","v":""},{"$f":"+轉帳過程檔!C906","v":0},{"$f":"+轉帳過程檔!G906","v":0},{"$f":"+轉帳過程檔!B906","v":0}]
[{"$f":"+轉帳過程檔!A907","v":""},{"$f":"+轉帳過程檔!C907","v":0},{"$f":"+轉帳過程檔!G907","v":0},{"$f":"+轉帳過程檔!B907","v":0}]
[{"$f":"+轉帳過程檔!A908","v":""},{"$f":"+轉帳過程檔!C908","v":0},{"$f":"+轉帳過程檔!G908","v":0},{"$f":"+轉帳過程檔!B908","v":0}]
[{"$f":"+轉帳過程檔!A909","v":""},{"$f":"+轉帳過程檔!C909","v":0},{"$f":"+轉帳過程檔!G909","v":0},{"$f":"+轉帳過程檔!B909","v":0}]
[{"$f":"+轉帳過程檔!A910","v":""},{"$f":"+轉帳過程檔!C910","v":0},{"$f":"+轉帳過程檔!G910","v":0},{"$f":"+轉帳過程檔!B910","v":0}]
[{"$f":"+轉帳過程檔!A911","v":""},{"$f":"+轉帳過程檔!C911","v":0},{"$f":"+轉帳過程檔!G911","v":0},{"$f":"+轉帳過程檔!B911","v":0}]
[{"$f":"+轉帳過程檔!A912","v":""},{"$f":"+轉帳過程檔!C912","v":0},{"$f":"+轉帳過程檔!G912","v":0},{"$f":"+轉帳過程檔!B912","v":0}]
[{"$f":"+轉帳過程檔!A913","v":""},{"$f":"+轉帳過程檔!C913","v":0},{"$f":"+轉帳過程檔!G913","v":0},{"$f":"+轉帳過程檔!B913","v":0}]
[{"$f":"+轉帳過程檔!A914","v":""},{"$f":"+轉帳過程檔!C914","v":0},{"$f":"+轉帳過程檔!G914","v":0},{"$f":"+轉帳過程檔!B914","v":0}]
[{"$f":"+轉帳過程檔!A915","v":""},{"$f":"+轉帳過程檔!C915","v":0},{"$f":"+轉帳過程檔!G915","v":0},{"$f":"+轉帳過程檔!B915","v":0}]
[{"$f":"+轉帳過程檔!A916","v":""},{"$f":"+轉帳過程檔!C916","v":0},{"$f":"+轉帳過程檔!G916","v":0},{"$f":"+轉帳過程檔!B916","v":0}]
[{"$f":"+轉帳過程檔!A917","v":""},{"$f":"+轉帳過程檔!C917","v":0},{"$f":"+轉帳過程檔!G917","v":0},{"$f":"+轉帳過程檔!B917","v":0}]
[{"$f":"+轉帳過程檔!A918","v":""},{"$f":"+轉帳過程檔!C918","v":0},{"$f":"+轉帳過程檔!G918","v":0},{"$f":"+轉帳過程檔!B918","v":0}]
[{"$f":"+轉帳過程檔!A919","v":""},{"$f":"+轉帳過程檔!C919","v":0},{"$f":"+轉帳過程檔!G919","v":0},{"$f":"+轉帳過程檔!B919","v":0}]
[{"$f":"+轉帳過程檔!A920","v":""},{"$f":"+轉帳過程檔!C920","v":0},{"$f":"+轉帳過程檔!G920","v":0},{"$f":"+轉帳過程檔!B920","v":0}]
[{"$f":"+轉帳過程檔!A921","v":""},{"$f":"+轉帳過程檔!C921","v":0},{"$f":"+轉帳過程檔!G921","v":0},{"$f":"+轉帳過程檔!B921","v":0}]
[{"$f":"+轉帳過程檔!A922","v":""},{"$f":"+轉帳過程檔!C922","v":0},{"$f":"+轉帳過程檔!G922","v":0},{"$f":"+轉帳過程檔!B922","v":0}]
[{"$f":"+轉帳過程檔!A923","v":""},{"$f":"+轉帳過程檔!C923","v":0},{"$f":"+轉帳過程檔!G923","v":0},{"$f":"+轉帳過程檔!B923","v":0}]
[{"$f":"+轉帳過程檔!A924","v":""},{"$f":"+轉帳過程檔!C924","v":0},{"$f":"+轉帳過程檔!G924","v":0},{"$f":"+轉帳過程檔!B924","v":0}]
[{"$f":"+轉帳過程檔!A925","v":""},{"$f":"+轉帳過程檔!C925","v":0},{"$f":"+轉帳過程檔!G925","v":0},{"$f":"+轉帳過程檔!B925","v":0}]
[{"$f":"+轉帳過程檔!A926","v":""},{"$f":"+轉帳過程檔!C926","v":0},{"$f":"+轉帳過程檔!G926","v":0},{"$f":"+轉帳過程檔!B926","v":0}]
[{"$f":"+轉帳過程檔!A927","v":""},{"$f":"+轉帳過程檔!C927","v":0},{"$f":"+轉帳過程檔!G927","v":0},{"$f":"+轉帳過程檔!B927","v":0}]
[{"$f":"+轉帳過程檔!A928","v":""},{"$f":"+轉帳過程檔!C928","v":0},{"$f":"+轉帳過程檔!G928","v":0},{"$f":"+轉帳過程檔!B928","v":0}]
[{"$f":"+轉帳過程檔!A929","v":""},{"$f":"+轉帳過程檔!C929","v":0},{"$f":"+轉帳過程檔!G929","v":0},{"$f":"+轉帳過程檔!B929","v":0}]
[{"$f":"+轉帳過程檔!A930","v":""},{"$f":"+轉帳過程檔!C930","v":0},{"$f":"+轉帳過程檔!G930","v":0},{"$f":"+轉帳過程檔!B930","v":0}]
[{"$f":"+轉帳過程檔!A931","v":""},{"$f":"+轉帳過程檔!C931","v":0},{"$f":"+轉帳過程檔!G931","v":0},{"$f":"+轉帳過程檔!B931","v":0}]
[{"$f":"+轉帳過程檔!A932","v":""},{"$f":"+轉帳過程檔!C932","v":0},{"$f":"+轉帳過程檔!G932","v":0},{"$f":"+轉帳過程檔!B932","v":0}]
[{"$f":"+轉帳過程檔!A933","v":""},{"$f":"+轉帳過程檔!C933","v":0},{"$f":"+轉帳過程檔!G933","v":0},{"$f":"+轉帳過程檔!B933","v":0}]
[{"$f":"+轉帳過程檔!A934","v":""},{"$f":"+轉帳過程檔!C934","v":0},{"$f":"+轉帳過程檔!G934","v":0},{"$f":"+轉帳過程檔!B934","v":0}]
[{"$f":"+轉帳過程檔!A935","v":""},{"$f":"+轉帳過程檔!C935","v":0},{"$f":"+轉帳過程檔!G935","v":0},{"$f":"+轉帳過程檔!B935","v":0}]
[{"$f":"+轉帳過程檔!A936","v":""},{"$f":"+轉帳過程檔!C936","v":0},{"$f":"+轉帳過程檔!G936","v":0},{"$f":"+轉帳過程檔!B936","v":0}]
[{"$f":"+轉帳過程檔!A937","v":""},{"$f":"+轉帳過程檔!C937","v":0},{"$f":"+轉帳過程檔!G937","v":0},{"$f":"+轉帳過程檔!B937","v":0}]
[{"$f":"+轉帳過程檔!A938","v":""},{"$f":"+轉帳過程檔!C938","v":0},{"$f":"+轉帳過程檔!G938","v":0},{"$f":"+轉帳過程檔!B938","v":0}]
[{"$f":"+轉帳過程檔!A939","v":""},{"$f":"+轉帳過程檔!C939","v":0},{"$f":"+轉帳過程檔!G939","v":0},{"$f":"+轉帳過程檔!B939","v":0}]
[{"$f":"+轉帳過程檔!A940","v":""},{"$f":"+轉帳過程檔!C940","v":0},{"$f":"+轉帳過程檔!G940","v":0},{"$f":"+轉帳過程檔!B940","v":0}]
[{"$f":"+轉帳過程檔!A941","v":""},{"$f":"+轉帳過程檔!C941","v":0},{"$f":"+轉帳過程檔!G941","v":0},{"$f":"+轉帳過程檔!B941","v":0}]
[{"$f":"+轉帳過程檔!A942","v":""},{"$f":"+轉帳過程檔!C942","v":0},{"$f":"+轉帳過程檔!G942","v":0},{"$f":"+轉帳過程檔!B942","v":0}]
[{"$f":"+轉帳過程檔!A943","v":""},{"$f":"+轉帳過程檔!C943","v":0},{"$f":"+轉帳過程檔!G943","v":0},{"$f":"+轉帳過程檔!B943","v":0}]
[{"$f":"+轉帳過程檔!A944","v":""},{"$f":"+轉帳過程檔!C944","v":0},{"$f":"+轉帳過程檔!G944","v":0},{"$f":"+轉帳過程檔!B944","v":0}]
[{"$f":"+轉帳過程檔!A945","v":""},{"$f":"+轉帳過程檔!C945","v":0},{"$f":"+轉帳過程檔!G945","v":0},{"$f":"+轉帳過程檔!B945","v":0}]
[{"$f":"+轉帳過程檔!A946","v":""},{"$f":"+轉帳過程檔!C946","v":0},{"$f":"+轉帳過程檔!G946","v":0},{"$f":"+轉帳過程檔!B946","v":0}]
[{"$f":"+轉帳過程檔!A947","v":""},{"$f":"+轉帳過程檔!C947","v":0},{"$f":"+轉帳過程檔!G947","v":0},{"$f":"+轉帳過程檔!B947","v":0}]
[{"$f":"+轉帳過程檔!A948","v":""},{"$f":"+轉帳過程檔!C948","v":0},{"$f":"+轉帳過程檔!G948","v":0},{"$f":"+轉帳過程檔!B948","v":0}]
[{"$f":"+轉帳過程檔!A949","v":""},{"$f":"+轉帳過程檔!C949","v":0},{"$f":"+轉帳過程檔!G949","v":0},{"$f":"+轉帳過程檔!B949","v":0}]
[{"$f":"+轉帳過程檔!A950","v":""},{"$f":"+轉帳過程檔!C950","v":0},{"$f":"+轉帳過程檔!G950","v":0},{"$f":"+轉帳過程檔!B950","v":0}]
[{"$f":"+轉帳過程檔!A951","v":""},{"$f":"+轉帳過程檔!C951","v":0},{"$f":"+轉帳過程檔!G951","v":0},{"$f":"+轉帳過程檔!B951","v":0}]
[{"$f":"+轉帳過程檔!A952","v":""},{"$f":"+轉帳過程檔!C952","v":0},{"$f":"+轉帳過程檔!G952","v":0},{"$f":"+轉帳過程檔!B952","v":0}]
[{"$f":"+轉帳過程檔!A953","v":""},{"$f":"+轉帳過程檔!C953","v":0},{"$f":"+轉帳過程檔!G953","v":0},{"$f":"+轉帳過程檔!B953","v":0}]
[{"$f":"+轉帳過程檔!A954","v":""},{"$f":"+轉帳過程檔!C954","v":0},{"$f":"+轉帳過程檔!G954","v":0},{"$f":"+轉帳過程檔!B954","v":0}]
[{"$f":"+轉帳過程檔!A955","v":""},{"$f":"+轉帳過程檔!C955","v":0},{"$f":"+轉帳過程檔!G955","v":0},{"$f":"+轉帳過程檔!B955","v":0}]
[{"$f":"+轉帳過程檔!A956","v":""},{"$f":"+轉帳過程檔!C956","v":0},{"$f":"+轉帳過程檔!G956","v":0},{"$f":"+轉帳過程檔!B956","v":0}]
[{"$f":"+轉帳過程檔!A957","v":""},{"$f":"+轉帳過程檔!C957","v":0},{"$f":"+轉帳過程檔!G957","v":0},{"$f":"+轉帳過程檔!B957","v":0}]
[{"$f":"+轉帳過程檔!A958","v":""},{"$f":"+轉帳過程檔!C958","v":0},{"$f":"+轉帳過程檔!G958","v":0},{"$f":"+轉帳過程檔!B958","v":0}]
[{"$f":"+轉帳過程檔!A959","v":""},{"$f":"+轉帳過程檔!C959","v":0},{"$f":"+轉帳過程檔!G959","v":0},{"$f":"+轉帳過程檔!B959","v":0}]
[{"$f":"+轉帳過程檔!A960","v":""},{"$f":"+轉帳過程檔!C960","v":0},{"$f":"+轉帳過程檔!G960","v":0},{"$f":"+轉帳過程檔!B960","v":0}]
[{"$f":"+轉帳過程檔!A961","v":""},{"$f":"+轉帳過程檔!C961","v":0},{"$f":"+轉帳過程檔!G961","v":0},{"$f":"+轉帳過程檔!B961","v":0}]
[{"$f":"+轉帳過程檔!A962","v":""},{"$f":"+轉帳過程檔!C962","v":0},{"$f":"+轉帳過程檔!G962","v":0},{"$f":"+轉帳過程檔!B962","v":0}]
[{"$f":"+轉帳過程檔!A963","v":""},{"$f":"+轉帳過程檔!C963","v":0},{"$f":"+轉帳過程檔!G963","v":0},{"$f":"+轉帳過程檔!B963","v":0}]
[{"$f":"+轉帳過程檔!A964","v":""},{"$f":"+轉帳過程檔!C964","v":0},{"$f":"+轉帳過程檔!G964","v":0},{"$f":"+轉帳過程檔!B964","v":0}]
[{"$f":"+轉帳過程檔!A965","v":""},{"$f":"+轉帳過程檔!C965","v":0},{"$f":"+轉帳過程檔!G965","v":0},{"$f":"+轉帳過程檔!B965","v":0}]
[{"$f":"+轉帳過程檔!A966","v":""},{"$f":"+轉帳過程檔!C966","v":0},{"$f":"+轉帳過程檔!G966","v":0},{"$f":"+轉帳過程檔!B966","v":0}]
[{"$f":"+轉帳過程檔!A967","v":""},{"$f":"+轉帳過程檔!C967","v":0},{"$f":"+轉帳過程檔!G967","v":0},{"$f":"+轉帳過程檔!B967","v":0}]
[{"$f":"+轉帳過程檔!A968","v":""},{"$f":"+轉帳過程檔!C968","v":0},{"$f":"+轉帳過程檔!G968","v":0},{"$f":"+轉帳過程檔!B968","v":0}]
[{"$f":"+轉帳過程檔!A969","v":""},{"$f":"+轉帳過程檔!C969","v":0},{"$f":"+轉帳過程檔!G969","v":0},{"$f":"+轉帳過程檔!B969","v":0}]
[{"$f":"+轉帳過程檔!A970","v":""},{"$f":"+轉帳過程檔!C970","v":0},{"$f":"+轉帳過程檔!G970","v":0},{"$f":"+轉帳過程檔!B970","v":0}]
[{"$f":"+轉帳過程檔!A971","v":""},{"$f":"+轉帳過程檔!C971","v":0},{"$f":"+轉帳過程檔!G971","v":0},{"$f":"+轉帳過程檔!B971","v":0}]
[{"$f":"+轉帳過程檔!A972","v":""},{"$f":"+轉帳過程檔!C972","v":0},{"$f":"+轉帳過程檔!G972","v":0},{"$f":"+轉帳過程檔!B972","v":0}]
[{"$f":"+轉帳過程檔!A973","v":""},{"$f":"+轉帳過程檔!C973","v":0},{"$f":"+轉帳過程檔!G973","v":0},{"$f":"+轉帳過程檔!B973","v":0}]
[{"$f":"+轉帳過程檔!A974","v":""},{"$f":"+轉帳過程檔!C974","v":0},{"$f":"+轉帳過程檔!G974","v":0},{"$f":"+轉帳過程檔!B974","v":0}]
[{"$f":"+轉帳過程檔!A975","v":""},{"$f":"+轉帳過程檔!C975","v":0},{"$f":"+轉帳過程檔!G975","v":0},{"$f":"+轉帳過程檔!B975","v":0}]
[{"$f":"+轉帳過程檔!A976","v":""},{"$f":"+轉帳過程檔!C976","v":0},{"$f":"+轉帳過程檔!G976","v":0},{"$f":"+轉帳過程檔!B976","v":0}]
[{"$f":"+轉帳過程檔!A977","v":""},{"$f":"+轉帳過程檔!C977","v":0},{"$f":"+轉帳過程檔!G977","v":0},{"$f":"+轉帳過程檔!B977","v":0}]
[{"$f":"+轉帳過程檔!A978","v":""},{"$f":"+轉帳過程檔!C978","v":0},{"$f":"+轉帳過程檔!G978","v":0},{"$f":"+轉帳過程檔!B978","v":0}]
[{"$f":"+轉帳過程檔!A979","v":""},{"$f":"+轉帳過程檔!C979","v":0},{"$f":"+轉帳過程檔!G979","v":0},{"$f":"+轉帳過程檔!B979","v":0}]
[{"$f":"+轉帳過程檔!A980","v":""},{"$f":"+轉帳過程檔!C980","v":0},{"$f":"+轉帳過程檔!G980","v":0},{"$f":"+轉帳過程檔!B980","v":0}]
[{"$f":"+轉帳過程檔!A981","v":""},{"$f":"+轉帳過程檔!C981","v":0},{"$f":"+轉帳過程檔!G981","v":0},{"$f":"+轉帳過程檔!B981","v":0}]
[{"$f":"+轉帳過程檔!A982","v":""},{"$f":"+轉帳過程檔!C982","v":0},{"$f":"+轉帳過程檔!G982","v":0},{"$f":"+轉帳過程檔!B982","v":0}]
[{"$f":"+轉帳過程檔!A983","v":""},{"$f":"+轉帳過程檔!C983","v":0},{"$f":"+轉帳過程檔!G983","v":0},{"$f":"+轉帳過程檔!B983","v":0}]
[{"$f":"+轉帳過程檔!A984","v":""},{"$f":"+轉帳過程檔!C984","v":0},{"$f":"+轉帳過程檔!G984","v":0},{"$f":"+轉帳過程檔!B984","v":0}]
[{"$f":"+轉帳過程檔!A985","v":""},{"$f":"+轉帳過程檔!C985","v":0},{"$f":"+轉帳過程檔!G985","v":0},{"$f":"+轉帳過程檔!B985","v":0}]
[{"$f":"+轉帳過程檔!A986","v":""},{"$f":"+轉帳過程檔!C986","v":0},{"$f":"+轉帳過程檔!G986","v":0},{"$f":"+轉帳過程檔!B986","v":0}]
[{"$f":"+轉帳過程檔!A987","v":""},{"$f":"+轉帳過程檔!C987","v":0},{"$f":"+轉帳過程檔!G987","v":0},{"$f":"+轉帳過程檔!B987","v":0}]
[{"$f":"+轉帳過程檔!A988","v":""},{"$f":"+轉帳過程檔!C988","v":0},{"$f":"+轉帳過程檔!G988","v":0},{"$f":"+轉帳過程檔!B988","v":0}]
[{"$f":"+轉帳過程檔!A989","v":""},{"$f":"+轉帳過程檔!C989","v":0},{"$f":"+轉帳過程檔!G989","v":0},{"$f":"+轉帳過程檔!B989","v":0}]
[{"$f":"+轉帳過程檔!A990","v":""},{"$f":"+轉帳過程檔!C990","v":0},{"$f":"+轉帳過程檔!G990","v":0},{"$f":"+轉帳過程檔!B990","v":0}]
[{"$f":"+轉帳過程檔!A991","v":""},{"$f":"+轉帳過程檔!C991","v":0},{"$f":"+轉帳過程檔!G991","v":0},{"$f":"+轉帳過程檔!B991","v":0}]
[{"$f":"+轉帳過程檔!A992","v":""},{"$f":"+轉帳過程檔!C992","v":0},{"$f":"+轉帳過程檔!G992","v":0},{"$f":"+轉帳過程檔!B992","v":0}]
[{"$f":"+轉帳過程檔!A993","v":""},{"$f":"+轉帳過程檔!C993","v":0},{"$f":"+轉帳過程檔!G993","v":0},{"$f":"+轉帳過程檔!B993","v":0}]
[{"$f":"+轉帳過程檔!A994","v":""},{"$f":"+轉帳過程檔!C994","v":0},{"$f":"+轉帳過程檔!G994","v":0},{"$f":"+轉帳過程檔!B994","v":0}]
[{"$f":"+轉帳過程檔!A995","v":""},{"$f":"+轉帳過程檔!C995","v":0},{"$f":"+轉帳過程檔!G995","v":0},{"$f":"+轉帳過程檔!B995","v":0}]
[{"$f":"+轉帳過程檔!A996","v":""},{"$f":"+轉帳過程檔!C996","v":0},{"$f":"+轉帳過程檔!G996","v":0},{"$f":"+轉帳過程檔!B996","v":0}]
[{"$f":"+轉帳過程檔!A997","v":""},{"$f":"+轉帳過程檔!C997","v":0},{"$f":"+轉帳過程檔!G997","v":0},{"$f":"+轉帳過程檔!B997","v":0}]
[{"$f":"+轉帳過程檔!A998","v":""},{"$f":"+轉帳過程檔!C998","v":0},{"$f":"+轉帳過程檔!G998","v":0},{"$f":"+轉帳過程檔!B998","v":0}]
[{"$f":"+轉帳過程檔!A999","v":""},{"$f":"+轉帳過程檔!C999","v":0},{"$f":"+轉帳過程檔!G999","v":0},{"$f":"+轉帳過程檔!B999","v":0}]
[{"$f":"+轉帳過程檔!A1000","v":""},{"$f":"+轉帳過程檔!C1000","v":0},{"$f":"+轉帳過程檔!G1000","v":0},{"$f":"+轉帳過程檔!B1000","v":0}]
[{"$f":"+轉帳過程檔!A1001","v":""},{"$f":"+轉帳過程檔!C1001","v":0},{"$f":"+轉帳過程檔!G1001","v":0},{"$f":"+轉帳過程檔!B1001","v":0}]
[{"$f":"+轉帳過程檔!A1002","v":""},{"$f":"+轉帳過程檔!C1002","v":0},{"$f":"+轉帳過程檔!G1002","v":0},{"$f":"+轉帳過程檔!B1002","v":0}]
[{"$f":"+轉帳過程檔!A1003","v":""},{"$f":"+轉帳過程檔!C1003","v":0},{"$f":"+轉帳過程檔!G1003","v":0},{"$f":"+轉帳過程檔!B1003","v":0}]
[{"$f":"+轉帳過程檔!A1004","v":""},{"$f":"+轉帳過程檔!C1004","v":0},{"$f":"+轉帳過程檔!G1004","v":0},{"$f":"+轉帳過程檔!B1004","v":0}]
[{"$f":"+轉帳過程檔!A1005","v":""},{"$f":"+轉帳過程檔!C1005","v":0},{"$f":"+轉帳過程檔!G1005","v":0},{"$f":"+轉帳過程檔!B1005","v":0}]
[{"$f":"+轉帳過程檔!A1006","v":""},{"$f":"+轉帳過程檔!C1006","v":0},{"$f":"+轉帳過程檔!G1006","v":0},{"$f":"+轉帳過程檔!B1006","v":0}]
[{"$f":"+轉帳過程檔!A1007","v":""},{"$f":"+轉帳過程檔!C1007","v":0},{"$f":"+轉帳過程檔!G1007","v":0},{"$f":"+轉帳過程檔!B1007","v":0}]
[{"$f":"+轉帳過程檔!A1008","v":""},{"$f":"+轉帳過程檔!C1008","v":0},{"$f":"+轉帳過程檔!G1008","v":0},{"$f":"+轉帳過程檔!B1008","v":0}]
[{"$f":"+轉帳過程檔!A1009","v":""},{"$f":"+轉帳過程檔!C1009","v":0},{"$f":"+轉帳過程檔!G1009","v":0},{"$f":"+轉帳過程檔!B1009","v":0}]
[{"$f":"+轉帳過程檔!A1010","v":""},{"$f":"+轉帳過程檔!C1010","v":0},{"$f":"+轉帳過程檔!G1010","v":0},{"$f":"+轉帳過程檔!B1010","v":0}]
[{"$f":"+轉帳過程檔!A1011","v":""},{"$f":"+轉帳過程檔!C1011","v":0},{"$f":"+轉帳過程檔!G1011","v":0},{"$f":"+轉帳過程檔!B1011","v":0}]
[{"$f":"+轉帳過程檔!A1012","v":""},{"$f":"+轉帳過程檔!C1012","v":0},{"$f":"+轉帳過程檔!G1012","v":0},{"$f":"+轉帳過程檔!B1012","v":0}]
[{"$f":"+轉帳過程檔!A1013","v":""},{"$f":"+轉帳過程檔!C1013","v":0},{"$f":"+轉帳過程檔!G1013","v":0},{"$f":"+轉帳過程檔!B1013","v":0}]
[{"$f":"+轉帳過程檔!A1014","v":""},{"$f":"+轉帳過程檔!C1014","v":0},{"$f":"+轉帳過程檔!G1014","v":0},{"$f":"+轉帳過程檔!B1014","v":0}]
[{"$f":"+轉帳過程檔!A1015","v":""},{"$f":"+轉帳過程檔!C1015","v":0},{"$f":"+轉帳過程檔!G1015","v":0},{"$f":"+轉帳過程檔!B1015","v":0}]
[{"$f":"+轉帳過程檔!A1016","v":""},{"$f":"+轉帳過程檔!C1016","v":0},{"$f":"+轉帳過程檔!G1016","v":0},{"$f":"+轉帳過程檔!B1016","v":0}]
[{"$f":"+轉帳過程檔!A1017","v":""},{"$f":"+轉帳過程檔!C1017","v":0},{"$f":"+轉帳過程檔!G1017","v":0},{"$f":"+轉帳過程檔!B1017","v":0}]
[{"$f":"+轉帳過程檔!A1018","v":""},{"$f":"+轉帳過程檔!C1018","v":0},{"$f":"+轉帳過程檔!G1018","v":0},{"$f":"+轉帳過程檔!B1018","v":0}]
[{"$f":"+轉帳過程檔!A1019","v":""},{"$f":"+轉帳過程檔!C1019","v":0},{"$f":"+轉帳過程檔!G1019","v":0},{"$f":"+轉帳過程檔!B1019","v":0}]
[{"$f":"+轉帳過程檔!A1020","v":""},{"$f":"+轉帳過程檔!C1020","v":0},{"$f":"+轉帳過程檔!G1020","v":0},{"$f":"+轉帳過程檔!B1020","v":0}]
[{"$f":"+轉帳過程檔!A1021","v":""},{"$f":"+轉帳過程檔!C1021","v":0},{"$f":"+轉帳過程檔!G1021","v":0},{"$f":"+轉帳過程檔!B1021","v":0}]
[{"$f":"+轉帳過程檔!A1022","v":""},{"$f":"+轉帳過程檔!C1022","v":0},{"$f":"+轉帳過程檔!G1022","v":0},{"$f":"+轉帳過程檔!B1022","v":0}]
[{"$f":"+轉帳過程檔!A1023","v":""},{"$f":"+轉帳過程檔!C1023","v":0},{"$f":"+轉帳過程檔!G1023","v":0},{"$f":"+轉帳過程檔!B1023","v":0}]
[{"$f":"+轉帳過程檔!A1024","v":""},{"$f":"+轉帳過程檔!C1024","v":0},{"$f":"+轉帳過程檔!G1024","v":0},{"$f":"+轉帳過程檔!B1024","v":0}]
[{"$f":"+轉帳過程檔!A1025","v":""},{"$f":"+轉帳過程檔!C1025","v":0},{"$f":"+轉帳過程檔!G1025","v":0},{"$f":"+轉帳過程檔!B1025","v":0}]
[{"$f":"+轉帳過程檔!A1026","v":""},{"$f":"+轉帳過程檔!C1026","v":0},{"$f":"+轉帳過程檔!G1026","v":0},{"$f":"+轉帳過程檔!B1026","v":0}]
[{"$f":"+轉帳過程檔!A1027","v":""},{"$f":"+轉帳過程檔!C1027","v":0},{"$f":"+轉帳過程檔!G1027","v":0},{"$f":"+轉帳過程檔!B1027","v":0}]
[{"$f":"+轉帳過程檔!A1028","v":""},{"$f":"+轉帳過程檔!C1028","v":0},{"$f":"+轉帳過程檔!G1028","v":0},{"$f":"+轉帳過程檔!B1028","v":0}]
[{"$f":"+轉帳過程檔!A1029","v":""},{"$f":"+轉帳過程檔!C1029","v":0},{"$f":"+轉帳過程檔!G1029","v":0},{"$f":"+轉帳過程檔!B1029","v":0}]
[{"$f":"+轉帳過程檔!A1030","v":""},{"$f":"+轉帳過程檔!C1030","v":0},{"$f":"+轉帳過程檔!G1030","v":0},{"$f":"+轉帳過程檔!B1030","v":0}]
[{"$f":"+轉帳過程檔!A1031","v":""},{"$f":"+轉帳過程檔!C1031","v":0},{"$f":"+轉帳過程檔!G1031","v":0},{"$f":"+轉帳過程檔!B1031","v":0}]
[{"$f":"+轉帳過程檔!A1032","v":""},{"$f":"+轉帳過程檔!C1032","v":0},{"$f":"+轉帳過程檔!G1032","v":0},{"$f":"+轉帳過程檔!B1032","v":0}]
[{"$f":"+轉帳過程檔!A1033","v":""},{"$f":"+轉帳過程檔!C1033","v":0},{"$f":"+轉帳過程檔!G1033","v":0},{"$f":"+轉帳過程檔!B1033","v":0}]
[{"$f":"+轉帳過程檔!A1034","v":""},{"$f":"+轉帳過程檔!C1034","v":0},{"$f":"+轉帳過程檔!G1034","v":0},{"$f":"+轉帳過程檔!B1034","v":0}]
[{"$f":"+轉帳過程檔!A1035","v":""},{"$f":"+轉帳過程檔!C1035","v":0},{"$f":"+轉帳過程檔!G1035","v":0},{"$f":"+轉帳過程檔!B1035","v":0}]
[{"$f":"+轉帳過程檔!A1036","v":""},{"$f":"+轉帳過程檔!C1036","v":0},{"$f":"+轉帳過程檔!G1036","v":0},{"$f":"+轉帳過程檔!B1036","v":0}]
[{"$f":"+轉帳過程檔!A1037","v":""},{"$f":"+轉帳過程檔!C1037","v":0},{"$f":"+轉帳過程檔!G1037","v":0},{"$f":"+轉帳過程檔!B1037","v":0}]
[{"$f":"+轉帳過程檔!A1038","v":""},{"$f":"+轉帳過程檔!C1038","v":0},{"$f":"+轉帳過程檔!G1038","v":0},{"$f":"+轉帳過程檔!B1038","v":0}]
[{"$f":"+轉帳過程檔!A1039","v":""},{"$f":"+轉帳過程檔!C1039","v":0},{"$f":"+轉帳過程檔!G1039","v":0},{"$f":"+轉帳過程檔!B1039","v":0}]
[{"$f":"+轉帳過程檔!A1040","v":""},{"$f":"+轉帳過程檔!C1040","v":0},{"$f":"+轉帳過程檔!G1040","v":0},{"$f":"+轉帳過程檔!B1040","v":0}]
[{"$f":"+轉帳過程檔!A1041","v":""},{"$f":"+轉帳過程檔!C1041","v":0},{"$f":"+轉帳過程檔!G1041","v":0},{"$f":"+轉帳過程檔!B1041","v":0}]
[{"$f":"+轉帳過程檔!A1042","v":""},{"$f":"+轉帳過程檔!C1042","v":0},{"$f":"+轉帳過程檔!G1042","v":0},{"$f":"+轉帳過程檔!B1042","v":0}]
[{"$f":"+轉帳過程檔!A1043","v":""},{"$f":"+轉帳過程檔!C1043","v":0},{"$f":"+轉帳過程檔!G1043","v":0},{"$f":"+轉帳過程檔!B1043","v":0}]
[{"$f":"+轉帳過程檔!A1044","v":""},{"$f":"+轉帳過程檔!C1044","v":0},{"$f":"+轉帳過程檔!G1044","v":0},{"$f":"+轉帳過程檔!B1044","v":0}]
[{"$f":"+轉帳過程檔!A1045","v":""},{"$f":"+轉帳過程檔!C1045","v":0},{"$f":"+轉帳過程檔!G1045","v":0},{"$f":"+轉帳過程檔!B1045","v":0}]
[{"$f":"+轉帳過程檔!A1046","v":""},{"$f":"+轉帳過程檔!C1046","v":0},{"$f":"+轉帳過程檔!G1046","v":0},{"$f":"+轉帳過程檔!B1046","v":0}]
[{"$f":"+轉帳過程檔!A1047","v":""},{"$f":"+轉帳過程檔!C1047","v":0},{"$f":"+轉帳過程檔!G1047","v":0},{"$f":"+轉帳過程檔!B1047","v":0}]
[{"$f":"+轉帳過程檔!A1048","v":""},{"$f":"+轉帳過程檔!C1048","v":0},{"$f":"+轉帳過程檔!G1048","v":0},{"$f":"+轉帳過程檔!B1048","v":0}]
[{"$f":"+轉帳過程檔!A1049","v":""},{"$f":"+轉帳過程檔!C1049","v":0},{"$f":"+轉帳過程檔!G1049","v":0},{"$f":"+轉帳過程檔!B1049","v":0}]
[{"$f":"+轉帳過程檔!A1050","v":""},{"$f":"+轉帳過程檔!C1050","v":0},{"$f":"+轉帳過程檔!G1050","v":0},{"$f":"+轉帳過程檔!B1050","v":0}]
[{"$f":"+轉帳過程檔!A1051","v":""},{"$f":"+轉帳過程檔!C1051","v":0},{"$f":"+轉帳過程檔!G1051","v":0},{"$f":"+轉帳過程檔!B1051","v":0}]
[{"$f":"+轉帳過程檔!A1052","v":""},{"$f":"+轉帳過程檔!C1052","v":0},{"$f":"+轉帳過程檔!G1052","v":0},{"$f":"+轉帳過程檔!B1052","v":0}]
[{"$f":"+轉帳過程檔!A1053","v":""},{"$f":"+轉帳過程檔!C1053","v":0},{"$f":"+轉帳過程檔!G1053","v":0},{"$f":"+轉帳過程檔!B1053","v":0}]
[{"$f":"+轉帳過程檔!A1054","v":""},{"$f":"+轉帳過程檔!C1054","v":0},{"$f":"+轉帳過程檔!G1054","v":0},{"$f":"+轉帳過程檔!B1054","v":0}]
[{"$f":"+轉帳過程檔!A1055","v":""},{"$f":"+轉帳過程檔!C1055","v":0},{"$f":"+轉帳過程檔!G1055","v":0},{"$f":"+轉帳過程檔!B1055","v":0}]
[{"$f":"+轉帳過程檔!A1056","v":""},{"$f":"+轉帳過程檔!C1056","v":0},{"$f":"+轉帳過程檔!G1056","v":0},{"$f":"+轉帳過程檔!B1056","v":0}]
[{"$f":"+轉帳過程檔!A1057","v":""},{"$f":"+轉帳過程檔!C1057","v":0},{"$f":"+轉帳過程檔!G1057","v":0},{"$f":"+轉帳過程檔!B1057","v":0}]
[{"$f":"+轉帳過程檔!A1058","v":""},{"$f":"+轉帳過程檔!C1058","v":0},{"$f":"+轉帳過程檔!G1058","v":0},{"$f":"+轉帳過程檔!B1058","v":0}]
[{"$f":"+轉帳過程檔!A1059","v":""},{"$f":"+轉帳過程檔!C1059","v":0},{"$f":"+轉帳過程檔!G1059","v":0},{"$f":"+轉帳過程檔!B1059","v":0}]
[{"$f":"+轉帳過程檔!A1060","v":""},{"$f":"+轉帳過程檔!C1060","v":0},{"$f":"+轉帳過程檔!G1060","v":0},{"$f":"+轉帳過程檔!B1060","v":0}]
[{"$f":"+轉帳過程檔!A1061","v":""},{"$f":"+轉帳過程檔!C1061","v":0},{"$f":"+轉帳過程檔!G1061","v":0},{"$f":"+轉帳過程檔!B1061","v":0}]
[{"$f":"+轉帳過程檔!A1062","v":""},{"$f":"+轉帳過程檔!C1062","v":0},{"$f":"+轉帳過程檔!G1062","v":0},{"$f":"+轉帳過程檔!B1062","v":0}]
[{"$f":"+轉帳過程檔!A1063","v":""},{"$f":"+轉帳過程檔!C1063","v":0},{"$f":"+轉帳過程檔!G1063","v":0},{"$f":"+轉帳過程檔!B1063","v":0}]
[{"$f":"+轉帳過程檔!A1064","v":""},{"$f":"+轉帳過程檔!C1064","v":0},{"$f":"+轉帳過程檔!G1064","v":0},{"$f":"+轉帳過程檔!B1064","v":0}]
[{"$f":"+轉帳過程檔!A1065","v":""},{"$f":"+轉帳過程檔!C1065","v":0},{"$f":"+轉帳過程檔!G1065","v":0},{"$f":"+轉帳過程檔!B1065","v":0}]
[{"$f":"+轉帳過程檔!A1066","v":""},{"$f":"+轉帳過程檔!C1066","v":0},{"$f":"+轉帳過程檔!G1066","v":0},{"$f":"+轉帳過程檔!B1066","v":0}]
[{"$f":"+轉帳過程檔!A1067","v":""},{"$f":"+轉帳過程檔!C1067","v":0},{"$f":"+轉帳過程檔!G1067","v":0},{"$f":"+轉帳過程檔!B1067","v":0}]
[{"$f":"+轉帳過程檔!A1068","v":""},{"$f":"+轉帳過程檔!C1068","v":0},{"$f":"+轉帳過程檔!G1068","v":0},{"$f":"+轉帳過程檔!B1068","v":0}]
[{"$f":"+轉帳過程檔!A1069","v":""},{"$f":"+轉帳過程檔!C1069","v":0},{"$f":"+轉帳過程檔!G1069","v":0},{"$f":"+轉帳過程檔!B1069","v":0}]
[{"$f":"+轉帳過程檔!A1070","v":""},{"$f":"+轉帳過程檔!C1070","v":0},{"$f":"+轉帳過程檔!G1070","v":0},{"$f":"+轉帳過程檔!B1070","v":0}]
[{"$f":"+轉帳過程檔!A1071","v":""},{"$f":"+轉帳過程檔!C1071","v":0},{"$f":"+轉帳過程檔!G1071","v":0},{"$f":"+轉帳過程檔!B1071","v":0}]
[{"$f":"+轉帳過程檔!A1072","v":""},{"$f":"+轉帳過程檔!C1072","v":0},{"$f":"+轉帳過程檔!G1072","v":0},{"$f":"+轉帳過程檔!B1072","v":0}]
[{"$f":"+轉帳過程檔!A1073","v":""},{"$f":"+轉帳過程檔!C1073","v":0},{"$f":"+轉帳過程檔!G1073","v":0},{"$f":"+轉帳過程檔!B1073","v":0}]
[{"$f":"+轉帳過程檔!A1074","v":""},{"$f":"+轉帳過程檔!C1074","v":0},{"$f":"+轉帳過程檔!G1074","v":0},{"$f":"+轉帳過程檔!B1074","v":0}]
[{"$f":"+轉帳過程檔!A1075","v":""},{"$f":"+轉帳過程檔!C1075","v":0},{"$f":"+轉帳過程檔!G1075","v":0},{"$f":"+轉帳過程檔!B1075","v":0}]
[{"$f":"+轉帳過程檔!A1076","v":""},{"$f":"+轉帳過程檔!C1076","v":0},{"$f":"+轉帳過程檔!G1076","v":0},{"$f":"+轉帳過程檔!B1076","v":0}]
[{"$f":"+轉帳過程檔!A1077","v":""},{"$f":"+轉帳過程檔!C1077","v":0},{"$f":"+轉帳過程檔!G1077","v":0},{"$f":"+轉帳過程檔!B1077","v":0}]
[{"$f":"+轉帳過程檔!A1078","v":""},{"$f":"+轉帳過程檔!C1078","v":0},{"$f":"+轉帳過程檔!G1078","v":0},{"$f":"+轉帳過程檔!B1078","v":0}]
[{"$f":"+轉帳過程檔!A1079","v":""},{"$f":"+轉帳過程檔!C1079","v":0},{"$f":"+轉帳過程檔!G1079","v":0},{"$f":"+轉帳過程檔!B1079","v":0}]
[{"$f":"+轉帳過程檔!A1080","v":""},{"$f":"+轉帳過程檔!C1080","v":0},{"$f":"+轉帳過程檔!G1080","v":0},{"$f":"+轉帳過程檔!B1080","v":0}]
[{"$f":"+轉帳過程檔!A1081","v":""},{"$f":"+轉帳過程檔!C1081","v":0},{"$f":"+轉帳過程檔!G1081","v":0},{"$f":"+轉帳過程檔!B1081","v":0}]
[{"$f":"+轉帳過程檔!A1082","v":""},{"$f":"+轉帳過程檔!C1082","v":0},{"$f":"+轉帳過程檔!G1082","v":0},{"$f":"+轉帳過程檔!B1082","v":0}]
[{"$f":"+轉帳過程檔!A1083","v":""},{"$f":"+轉帳過程檔!C1083","v":0},{"$f":"+轉帳過程檔!G1083","v":0},{"$f":"+轉帳過程檔!B1083","v":0}]
[{"$f":"+轉帳過程檔!A1084","v":""},{"$f":"+轉帳過程檔!C1084","v":0},{"$f":"+轉帳過程檔!G1084","v":0},{"$f":"+轉帳過程檔!B1084","v":0}]
[{"$f":"+轉帳過程檔!A1085","v":""},{"$f":"+轉帳過程檔!C1085","v":0},{"$f":"+轉帳過程檔!G1085","v":0},{"$f":"+轉帳過程檔!B1085","v":0}]
[{"$f":"+轉帳過程檔!A1086","v":""},{"$f":"+轉帳過程檔!C1086","v":0},{"$f":"+轉帳過程檔!G1086","v":0},{"$f":"+轉帳過程檔!B1086","v":0}]
[{"$f":"+轉帳過程檔!A1087","v":""},{"$f":"+轉帳過程檔!C1087","v":0},{"$f":"+轉帳過程檔!G1087","v":0},{"$f":"+轉帳過程檔!B1087","v":0}]
[{"$f":"+轉帳過程檔!A1088","v":""},{"$f":"+轉帳過程檔!C1088","v":0},{"$f":"+轉帳過程檔!G1088","v":0},{"$f":"+轉帳過程檔!B1088","v":0}]
[{"$f":"+轉帳過程檔!A1089","v":""},{"$f":"+轉帳過程檔!C1089","v":0},{"$f":"+轉帳過程檔!G1089","v":0},{"$f":"+轉帳過程檔!B1089","v":0}]
[{"$f":"+轉帳過程檔!A1090","v":""},{"$f":"+轉帳過程檔!C1090","v":0},{"$f":"+轉帳過程檔!G1090","v":0},{"$f":"+轉帳過程檔!B1090","v":0}]
[{"$f":"+轉帳過程檔!A1091","v":""},{"$f":"+轉帳過程檔!C1091","v":0},{"$f":"+轉帳過程檔!G1091","v":0},{"$f":"+轉帳過程檔!B1091","v":0}]
[{"$f":"+轉帳過程檔!A1092","v":""},{"$f":"+轉帳過程檔!C1092","v":0},{"$f":"+轉帳過程檔!G1092","v":0},{"$f":"+轉帳過程檔!B1092","v":0}]
[{"$f":"+轉帳過程檔!A1093","v":""},{"$f":"+轉帳過程檔!C1093","v":0},{"$f":"+轉帳過程檔!G1093","v":0},{"$f":"+轉帳過程檔!B1093","v":0}]
[{"$f":"+轉帳過程檔!A1094","v":""},{"$f":"+轉帳過程檔!C1094","v":0},{"$f":"+轉帳過程檔!G1094","v":0},{"$f":"+轉帳過程檔!B1094","v":0}]
[{"$f":"+轉帳過程檔!A1095","v":""},{"$f":"+轉帳過程檔!C1095","v":0},{"$f":"+轉帳過程檔!G1095","v":0},{"$f":"+轉帳過程檔!B1095","v":0}]
[{"$f":"+轉帳過程檔!A1096","v":""},{"$f":"+轉帳過程檔!C1096","v":0},{"$f":"+轉帳過程檔!G1096","v":0},{"$f":"+轉帳過程檔!B1096","v":0}]
[{"$f":"+轉帳過程檔!A1097","v":""},{"$f":"+轉帳過程檔!C1097","v":0},{"$f":"+轉帳過程檔!G1097","v":0},{"$f":"+轉帳過程檔!B1097","v":0}]
[{"$f":"+轉帳過程檔!A1098","v":""},{"$f":"+轉帳過程檔!C1098","v":0},{"$f":"+轉帳過程檔!G1098","v":0},{"$f":"+轉帳過程檔!B1098","v":0}]
[{"$f":"+轉帳過程檔!A1099","v":""},{"$f":"+轉帳過程檔!C1099","v":0},{"$f":"+轉帳過程檔!G1099","v":0},{"$f":"+轉帳過程檔!B1099","v":0}]
[{"$f":"+轉帳過程檔!A1100","v":""},{"$f":"+轉帳過程檔!C1100","v":0},{"$f":"+轉帳過程檔!G1100","v":0},{"$f":"+轉帳過程檔!B1100","v":0}]
[{"$f":"+轉帳過程檔!A1101","v":""},{"$f":"+轉帳過程檔!C1101","v":0},{"$f":"+轉帳過程檔!G1101","v":0},{"$f":"+轉帳過程檔!B1101","v":0}]
[{"$f":"+轉帳過程檔!A1102","v":""},{"$f":"+轉帳過程檔!C1102","v":0},{"$f":"+轉帳過程檔!G1102","v":0},{"$f":"+轉帳過程檔!B1102","v":0}]
[{"$f":"+轉帳過程檔!A1103","v":""},{"$f":"+轉帳過程檔!C1103","v":0},{"$f":"+轉帳過程檔!G1103","v":0},{"$f":"+轉帳過程檔!B1103","v":0}]
[{"$f":"+轉帳過程檔!A1104","v":""},{"$f":"+轉帳過程檔!C1104","v":0},{"$f":"+轉帳過程檔!G1104","v":0},{"$f":"+轉帳過程檔!B1104","v":0}]
[{"$f":"+轉帳過程檔!A1105","v":""},{"$f":"+轉帳過程檔!C1105","v":0},{"$f":"+轉帳過程檔!G1105","v":0},{"$f":"+轉帳過程檔!B1105","v":0}]
[{"$f":"+轉帳過程檔!A1106","v":""},{"$f":"+轉帳過程檔!C1106","v":0},{"$f":"+轉帳過程檔!G1106","v":0},{"$f":"+轉帳過程檔!B1106","v":0}]
[{"$f":"+轉帳過程檔!A1107","v":""},{"$f":"+轉帳過程檔!C1107","v":0},{"$f":"+轉帳過程檔!G1107","v":0},{"$f":"+轉帳過程檔!B1107","v":0}]
[{"$f":"+轉帳過程檔!A1108","v":""},{"$f":"+轉帳過程檔!C1108","v":0},{"$f":"+轉帳過程檔!G1108","v":0},{"$f":"+轉帳過程檔!B1108","v":0}]
[{"$f":"+轉帳過程檔!A1109","v":""},{"$f":"+轉帳過程檔!C1109","v":0},{"$f":"+轉帳過程檔!G1109","v":0},{"$f":"+轉帳過程檔!B1109","v":0}]
[{"$f":"+轉帳過程檔!A1110","v":""},{"$f":"+轉帳過程檔!C1110","v":0},{"$f":"+轉帳過程檔!G1110","v":0},{"$f":"+轉帳過程檔!B1110","v":0}]
[{"$f":"+轉帳過程檔!A1111","v":""},{"$f":"+轉帳過程檔!C1111","v":0},{"$f":"+轉帳過程檔!G1111","v":0},{"$f":"+轉帳過程檔!B1111","v":0}]
[{"$f":"+轉帳過程檔!A1112","v":""},{"$f":"+轉帳過程檔!C1112","v":0},{"$f":"+轉帳過程檔!G1112","v":0},{"$f":"+轉帳過程檔!B1112","v":0}]
[{"$f":"+轉帳過程檔!A1113","v":""},{"$f":"+轉帳過程檔!C1113","v":0},{"$f":"+轉帳過程檔!G1113","v":0},{"$f":"+轉帳過程檔!B1113","v":0}]
[{"$f":"+轉帳過程檔!A1114","v":""},{"$f":"+轉帳過程檔!C1114","v":0},{"$f":"+轉帳過程檔!G1114","v":0},{"$f":"+轉帳過程檔!B1114","v":0}]
[{"$f":"+轉帳過程檔!A1115","v":""},{"$f":"+轉帳過程檔!C1115","v":0},{"$f":"+轉帳過程檔!G1115","v":0},{"$f":"+轉帳過程檔!B1115","v":0}]
[{"$f":"+轉帳過程檔!A1116","v":""},{"$f":"+轉帳過程檔!C1116","v":0},{"$f":"+轉帳過程檔!G1116","v":0},{"$f":"+轉帳過程檔!B1116","v":0}]
[{"$f":"+轉帳過程檔!A1117","v":""},{"$f":"+轉帳過程檔!C1117","v":0},{"$f":"+轉帳過程檔!G1117","v":0},{"$f":"+轉帳過程檔!B1117","v":0}]
[{"$f":"+轉帳過程檔!A1118","v":""},{"$f":"+轉帳過程檔!C1118","v":0},{"$f":"+轉帳過程檔!G1118","v":0},{"$f":"+轉帳過程檔!B1118","v":0}]
[{"$f":"+轉帳過程檔!A1119","v":""},{"$f":"+轉帳過程檔!C1119","v":0},{"$f":"+轉帳過程檔!G1119","v":0},{"$f":"+轉帳過程檔!B1119","v":0}]
[{"$f":"+轉帳過程檔!A1120","v":""},{"$f":"+轉帳過程檔!C1120","v":0},{"$f":"+轉帳過程檔!G1120","v":0},{"$f":"+轉帳過程檔!B1120","v":0}]
[{"$f":"+轉帳過程檔!A1121","v":""},{"$f":"+轉帳過程檔!C1121","v":0},{"$f":"+轉帳過程檔!G1121","v":0},{"$f":"+轉帳過程檔!B1121","v":0}]
[{"$f":"+轉帳過程檔!A1122","v":""},{"$f":"+轉帳過程檔!C1122","v":0},{"$f":"+轉帳過程檔!G1122","v":0},{"$f":"+轉帳過程檔!B1122","v":0}]
[{"$f":"+轉帳過程檔!A1123","v":""},{"$f":"+轉帳過程檔!C1123","v":0},{"$f":"+轉帳過程檔!G1123","v":0},{"$f":"+轉帳過程檔!B1123","v":0}]
[{"$f":"+轉帳過程檔!A1124","v":""},{"$f":"+轉帳過程檔!C1124","v":0},{"$f":"+轉帳過程檔!G1124","v":0},{"$f":"+轉帳過程檔!B1124","v":0}]
[{"$f":"+轉帳過程檔!A1125","v":""},{"$f":"+轉帳過程檔!C1125","v":0},{"$f":"+轉帳過程檔!G1125","v":0},{"$f":"+轉帳過程檔!B1125","v":0}]
[{"$f":"+轉帳過程檔!A1126","v":""},{"$f":"+轉帳過程檔!C1126","v":0},{"$f":"+轉帳過程檔!G1126","v":0},{"$f":"+轉帳過程檔!B1126","v":0}]
[{"$f":"+轉帳過程檔!A1127","v":""},{"$f":"+轉帳過程檔!C1127","v":0},{"$f":"+轉帳過程檔!G1127","v":0},{"$f":"+轉帳過程檔!B1127","v":0}]
[{"$f":"+轉帳過程檔!A1128","v":""},{"$f":"+轉帳過程檔!C1128","v":0},{"$f":"+轉帳過程檔!G1128","v":0},{"$f":"+轉帳過程檔!B1128","v":0}]
[{"$f":"+轉帳過程檔!A1129","v":""},{"$f":"+轉帳過程檔!C1129","v":0},{"$f":"+轉帳過程檔!G1129","v":0},{"$f":"+轉帳過程檔!B1129","v":0}]
[{"$f":"+轉帳過程檔!A1130","v":""},{"$f":"+轉帳過程檔!C1130","v":0},{"$f":"+轉帳過程檔!G1130","v":0},{"$f":"+轉帳過程檔!B1130","v":0}]
[{"$f":"+轉帳過程檔!A1131","v":""},{"$f":"+轉帳過程檔!C1131","v":0},{"$f":"+轉帳過程檔!G1131","v":0},{"$f":"+轉帳過程檔!B1131","v":0}]
[{"$f":"+轉帳過程檔!A1132","v":""},{"$f":"+轉帳過程檔!C1132","v":0},{"$f":"+轉帳過程檔!G1132","v":0},{"$f":"+轉帳過程檔!B1132","v":0}]
[{"$f":"+轉帳過程檔!A1133","v":""},{"$f":"+轉帳過程檔!C1133","v":0},{"$f":"+轉帳過程檔!G1133","v":0},{"$f":"+轉帳過程檔!B1133","v":0}]
[{"$f":"+轉帳過程檔!A1134","v":""},{"$f":"+轉帳過程檔!C1134","v":0},{"$f":"+轉帳過程檔!G1134","v":0},{"$f":"+轉帳過程檔!B1134","v":0}]
[{"$f":"+轉帳過程檔!A1135","v":""},{"$f":"+轉帳過程檔!C1135","v":0},{"$f":"+轉帳過程檔!G1135","v":0},{"$f":"+轉帳過程檔!B1135","v":0}]
[{"$f":"+轉帳過程檔!A1136","v":""},{"$f":"+轉帳過程檔!C1136","v":0},{"$f":"+轉帳過程檔!G1136","v":0},{"$f":"+轉帳過程檔!B1136","v":0}]
[{"$f":"+轉帳過程檔!A1137","v":""},{"$f":"+轉帳過程檔!C1137","v":0},{"$f":"+轉帳過程檔!G1137","v":0},{"$f":"+轉帳過程檔!B1137","v":0}]
[{"$f":"+轉帳過程檔!A1138","v":""},{"$f":"+轉帳過程檔!C1138","v":0},{"$f":"+轉帳過程檔!G1138","v":0},{"$f":"+轉帳過程檔!B1138","v":0}]
[{"$f":"+轉帳過程檔!A1139","v":""},{"$f":"+轉帳過程檔!C1139","v":0},{"$f":"+轉帳過程檔!G1139","v":0},{"$f":"+轉帳過程檔!B1139","v":0}]
[{"$f":"+轉帳過程檔!A1140","v":""},{"$f":"+轉帳過程檔!C1140","v":0},{"$f":"+轉帳過程檔!G1140","v":0},{"$f":"+轉帳過程檔!B1140","v":0}]
[{"$f":"+轉帳過程檔!A1141","v":""},{"$f":"+轉帳過程檔!C1141","v":0},{"$f":"+轉帳過程檔!G1141","v":0},{"$f":"+轉帳過程檔!B1141","v":0}]
[{"$f":"+轉帳過程檔!A1142","v":""},{"$f":"+轉帳過程檔!C1142","v":0},{"$f":"+轉帳過程檔!G1142","v":0},{"$f":"+轉帳過程檔!B1142","v":0}]
[{"$f":"+轉帳過程檔!A1143","v":""},{"$f":"+轉帳過程檔!C1143","v":0},{"$f":"+轉帳過程檔!G1143","v":0},{"$f":"+轉帳過程檔!B1143","v":0}]
[{"$f":"+轉帳過程檔!A1144","v":""},{"$f":"+轉帳過程檔!C1144","v":0},{"$f":"+轉帳過程檔!G1144","v":0},{"$f":"+轉帳過程檔!B1144","v":0}]
[{"$f":"+轉帳過程檔!A1145","v":""},{"$f":"+轉帳過程檔!C1145","v":0},{"$f":"+轉帳過程檔!G1145","v":0},{"$f":"+轉帳過程檔!B1145","v":0}]
[{"$f":"+轉帳過程檔!A1146","v":""},{"$f":"+轉帳過程檔!C1146","v":0},{"$f":"+轉帳過程檔!G1146","v":0},{"$f":"+轉帳過程檔!B1146","v":0}]
[{"$f":"+轉帳過程檔!A1147","v":""},{"$f":"+轉帳過程檔!C1147","v":0},{"$f":"+轉帳過程檔!G1147","v":0},{"$f":"+轉帳過程檔!B1147","v":0}]
[{"$f":"+轉帳過程檔!A1148","v":""},{"$f":"+轉帳過程檔!C1148","v":0},{"$f":"+轉帳過程檔!G1148","v":0},{"$f":"+轉帳過程檔!B1148","v":0}]
[{"$f":"+轉帳過程檔!A1149","v":""},{"$f":"+轉帳過程檔!C1149","v":0},{"$f":"+轉帳過程檔!G1149","v":0},{"$f":"+轉帳過程檔!B1149","v":0}]
[{"$f":"+轉帳過程檔!A1150","v":""},{"$f":"+轉帳過程檔!C1150","v":0},{"$f":"+轉帳過程檔!G1150","v":0},{"$f":"+轉帳過程檔!B1150","v":0}]
[{"$f":"+轉帳過程檔!A1151","v":""},{"$f":"+轉帳過程檔!C1151","v":0},{"$f":"+轉帳過程檔!G1151","v":0},{"$f":"+轉帳過程檔!B1151","v":0}]
[{"$f":"+轉帳過程檔!A1152","v":""},{"$f":"+轉帳過程檔!C1152","v":0},{"$f":"+轉帳過程檔!G1152","v":0},{"$f":"+轉帳過程檔!B1152","v":0}]
[{"$f":"+轉帳過程檔!A1153","v":""},{"$f":"+轉帳過程檔!C1153","v":0},{"$f":"+轉帳過程檔!G1153","v":0},{"$f":"+轉帳過程檔!B1153","v":0}]
[{"$f":"+轉帳過程檔!A1154","v":""},{"$f":"+轉帳過程檔!C1154","v":0},{"$f":"+轉帳過程檔!G1154","v":0},{"$f":"+轉帳過程檔!B1154","v":0}]
[{"$f":"+轉帳過程檔!A1155","v":""},{"$f":"+轉帳過程檔!C1155","v":0},{"$f":"+轉帳過程檔!G1155","v":0},{"$f":"+轉帳過程檔!B1155","v":0}]
[{"$f":"+轉帳過程檔!A1156","v":""},{"$f":"+轉帳過程檔!C1156","v":0},{"$f":"+轉帳過程檔!G1156","v":0},{"$f":"+轉帳過程檔!B1156","v":0}]
[{"$f":"+轉帳過程檔!A1157","v":""},{"$f":"+轉帳過程檔!C1157","v":0},{"$f":"+轉帳過程檔!G1157","v":0},{"$f":"+轉帳過程檔!B1157","v":0}]
[{"$f":"+轉帳過程檔!A1158","v":""},{"$f":"+轉帳過程檔!C1158","v":0},{"$f":"+轉帳過程檔!G1158","v":0},{"$f":"+轉帳過程檔!B1158","v":0}]
[{"$f":"+轉帳過程檔!A1159","v":""},{"$f":"+轉帳過程檔!C1159","v":0},{"$f":"+轉帳過程檔!G1159","v":0},{"$f":"+轉帳過程檔!B1159","v":0}]
[{"$f":"+轉帳過程檔!A1160","v":""},{"$f":"+轉帳過程檔!C1160","v":0},{"$f":"+轉帳過程檔!G1160","v":0},{"$f":"+轉帳過程檔!B1160","v":0}]
[{"$f":"+轉帳過程檔!A1161","v":""},{"$f":"+轉帳過程檔!C1161","v":0},{"$f":"+轉帳過程檔!G1161","v":0},{"$f":"+轉帳過程檔!B1161","v":0}]
[{"$f":"+轉帳過程檔!A1162","v":""},{"$f":"+轉帳過程檔!C1162","v":0},{"$f":"+轉帳過程檔!G1162","v":0},{"$f":"+轉帳過程檔!B1162","v":0}]
[{"$f":"+轉帳過程檔!A1163","v":""},{"$f":"+轉帳過程檔!C1163","v":0},{"$f":"+轉帳過程檔!G1163","v":0},{"$f":"+轉帳過程檔!B1163","v":0}]
[{"$f":"+轉帳過程檔!A1164","v":""},{"$f":"+轉帳過程檔!C1164","v":0},{"$f":"+轉帳過程檔!G1164","v":0},{"$f":"+轉帳過程檔!B1164","v":0}]
[{"$f":"+轉帳過程檔!A1165","v":""},{"$f":"+轉帳過程檔!C1165","v":0},{"$f":"+轉帳過程檔!G1165","v":0},{"$f":"+轉帳過程檔!B1165","v":0}]
[{"$f":"+轉帳過程檔!A1166","v":""},{"$f":"+轉帳過程檔!C1166","v":0},{"$f":"+轉帳過程檔!G1166","v":0},{"$f":"+轉帳過程檔!B1166","v":0}]
[{"$f":"+轉帳過程檔!A1167","v":""},{"$f":"+轉帳過程檔!C1167","v":0},{"$f":"+轉帳過程檔!G1167","v":0},{"$f":"+轉帳過程檔!B1167","v":0}]
[{"$f":"+轉帳過程檔!A1168","v":""},{"$f":"+轉帳過程檔!C1168","v":0},{"$f":"+轉帳過程檔!G1168","v":0},{"$f":"+轉帳過程檔!B1168","v":0}]
[{"$f":"+轉帳過程檔!A1169","v":""},{"$f":"+轉帳過程檔!C1169","v":0},{"$f":"+轉帳過程檔!G1169","v":0},{"$f":"+轉帳過程檔!B1169","v":0}]
[{"$f":"+轉帳過程檔!A1170","v":""},{"$f":"+轉帳過程檔!C1170","v":0},{"$f":"+轉帳過程檔!G1170","v":0},{"$f":"+轉帳過程檔!B1170","v":0}]
[{"$f":"+轉帳過程檔!A1171","v":""},{"$f":"+轉帳過程檔!C1171","v":0},{"$f":"+轉帳過程檔!G1171","v":0},{"$f":"+轉帳過程檔!B1171","v":0}]
[{"$f":"+轉帳過程檔!A1172","v":""},{"$f":"+轉帳過程檔!C1172","v":0},{"$f":"+轉帳過程檔!G1172","v":0},{"$f":"+轉帳過程檔!B1172","v":0}]
[{"$f":"+轉帳過程檔!A1173","v":""},{"$f":"+轉帳過程檔!C1173","v":0},{"$f":"+轉帳過程檔!G1173","v":0},{"$f":"+轉帳過程檔!B1173","v":0}]
[{"$f":"+轉帳過程檔!A1174","v":""},{"$f":"+轉帳過程檔!C1174","v":0},{"$f":"+轉帳過程檔!G1174","v":0},{"$f":"+轉帳過程檔!B1174","v":0}]
[{"$f":"+轉帳過程檔!A1175","v":""},{"$f":"+轉帳過程檔!C1175","v":0},{"$f":"+轉帳過程檔!G1175","v":0},{"$f":"+轉帳過程檔!B1175","v":0}]
[{"$f":"+轉帳過程檔!A1176","v":""},{"$f":"+轉帳過程檔!C1176","v":0},{"$f":"+轉帳過程檔!G1176","v":0},{"$f":"+轉帳過程檔!B1176","v":0}]
[{"$f":"+轉帳過程檔!A1177","v":""},{"$f":"+轉帳過程檔!C1177","v":0},{"$f":"+轉帳過程檔!G1177","v":0},{"$f":"+轉帳過程檔!B1177","v":0}]
[{"$f":"+轉帳過程檔!A1178","v":""},{"$f":"+轉帳過程檔!C1178","v":0},{"$f":"+轉帳過程檔!G1178","v":0},{"$f":"+轉帳過程檔!B1178","v":0}]
[{"$f":"+轉帳過程檔!A1179","v":""},{"$f":"+轉帳過程檔!C1179","v":0},{"$f":"+轉帳過程檔!G1179","v":0},{"$f":"+轉帳過程檔!B1179","v":0}]
[{"$f":"+轉帳過程檔!A1180","v":""},{"$f":"+轉帳過程檔!C1180","v":0},{"$f":"+轉帳過程檔!G1180","v":0},{"$f":"+轉帳過程檔!B1180","v":0}]
[{"$f":"+轉帳過程檔!A1181","v":""},{"$f":"+轉帳過程檔!C1181","v":0},{"$f":"+轉帳過程檔!G1181","v":0},{"$f":"+轉帳過程檔!B1181","v":0}]
[{"$f":"+轉帳過程檔!A1182","v":""},{"$f":"+轉帳過程檔!C1182","v":0},{"$f":"+轉帳過程檔!G1182","v":0},{"$f":"+轉帳過程檔!B1182","v":0}]
[{"$f":"+轉帳過程檔!A1183","v":""},{"$f":"+轉帳過程檔!C1183","v":0},{"$f":"+轉帳過程檔!G1183","v":0},{"$f":"+轉帳過程檔!B1183","v":0}]
[{"$f":"+轉帳過程檔!A1184","v":""},{"$f":"+轉帳過程檔!C1184","v":0},{"$f":"+轉帳過程檔!G1184","v":0},{"$f":"+轉帳過程檔!B1184","v":0}]
[{"$f":"+轉帳過程檔!A1185","v":""},{"$f":"+轉帳過程檔!C1185","v":0},{"$f":"+轉帳過程檔!G1185","v":0},{"$f":"+轉帳過程檔!B1185","v":0}]
[{"$f":"+轉帳過程檔!A1186","v":""},{"$f":"+轉帳過程檔!C1186","v":0},{"$f":"+轉帳過程檔!G1186","v":0},{"$f":"+轉帳過程檔!B1186","v":0}]
[{"$f":"+轉帳過程檔!A1187","v":""},{"$f":"+轉帳過程檔!C1187","v":0},{"$f":"+轉帳過程檔!G1187","v":0},{"$f":"+轉帳過程檔!B1187","v":0}]
[{"$f":"+轉帳過程檔!A1188","v":""},{"$f":"+轉帳過程檔!C1188","v":0},{"$f":"+轉帳過程檔!G1188","v":0},{"$f":"+轉帳過程檔!B1188","v":0}]
[{"$f":"+轉帳過程檔!A1189","v":""},{"$f":"+轉帳過程檔!C1189","v":0},{"$f":"+轉帳過程檔!G1189","v":0},{"$f":"+轉帳過程檔!B1189","v":0}]
[{"$f":"+轉帳過程檔!A1190","v":""},{"$f":"+轉帳過程檔!C1190","v":0},{"$f":"+轉帳過程檔!G1190","v":0},{"$f":"+轉帳過程檔!B1190","v":0}]
[{"$f":"+轉帳過程檔!A1191","v":""},{"$f":"+轉帳過程檔!C1191","v":0},{"$f":"+轉帳過程檔!G1191","v":0},{"$f":"+轉帳過程檔!B1191","v":0}]
[{"$f":"+轉帳過程檔!A1192","v":""},{"$f":"+轉帳過程檔!C1192","v":0},{"$f":"+轉帳過程檔!G1192","v":0},{"$f":"+轉帳過程檔!B1192","v":0}]
[{"$f":"+轉帳過程檔!A1193","v":""},{"$f":"+轉帳過程檔!C1193","v":0},{"$f":"+轉帳過程檔!G1193","v":0},{"$f":"+轉帳過程檔!B1193","v":0}]
[{"$f":"+轉帳過程檔!A1194","v":""},{"$f":"+轉帳過程檔!C1194","v":0},{"$f":"+轉帳過程檔!G1194","v":0},{"$f":"+轉帳過程檔!B1194","v":0}]
[{"$f":"+轉帳過程檔!A1195","v":""},{"$f":"+轉帳過程檔!C1195","v":0},{"$f":"+轉帳過程檔!G1195","v":0},{"$f":"+轉帳過程檔!B1195","v":0}]
[{"$f":"+轉帳過程檔!A1196","v":""},{"$f":"+轉帳過程檔!C1196","v":0},{"$f":"+轉帳過程檔!G1196","v":0},{"$f":"+轉帳過程檔!B1196","v":0}]
[{"$f":"+轉帳過程檔!A1197","v":""},{"$f":"+轉帳過程檔!C1197","v":0},{"$f":"+轉帳過程檔!G1197","v":0},{"$f":"+轉帳過程檔!B1197","v":0}]
[{"$f":"+轉帳過程檔!A1198","v":""},{"$f":"+轉帳過程檔!C1198","v":0},{"$f":"+轉帳過程檔!G1198","v":0},{"$f":"+轉帳過程檔!B1198","v":0}]
[{"$f":"+轉帳過程檔!A1199","v":""},{"$f":"+轉帳過程檔!C1199","v":0},{"$f":"+轉帳過程檔!G1199","v":0},{"$f":"+轉帳過程檔!B1199","v":0}]
[{"$f":"+轉帳過程檔!A1200","v":""},{"$f":"+轉帳過程檔!C1200","v":0},{"$f":"+轉帳過程檔!G1200","v":0},{"$f":"+轉帳過程檔!B1200","v":0}]
[{"$f":"+轉帳過程檔!A1201","v":""},{"$f":"+轉帳過程檔!C1201","v":0},{"$f":"+轉帳過程檔!G1201","v":0},{"$f":"+轉帳過程檔!B1201","v":0}]
[{"$f":"+轉帳過程檔!A1202","v":""},{"$f":"+轉帳過程檔!C1202","v":0},{"$f":"+轉帳過程檔!G1202","v":0},{"$f":"+轉帳過程檔!B1202","v":0}]
[{"$f":"+轉帳過程檔!A1203","v":""},{"$f":"+轉帳過程檔!C1203","v":0},{"$f":"+轉帳過程檔!G1203","v":0},{"$f":"+轉帳過程檔!B1203","v":0}]
[{"$f":"+轉帳過程檔!A1204","v":""},{"$f":"+轉帳過程檔!C1204","v":0},{"$f":"+轉帳過程檔!G1204","v":0},{"$f":"+轉帳過程檔!B1204","v":0}]
[{"$f":"+轉帳過程檔!A1205","v":""},{"$f":"+轉帳過程檔!C1205","v":0},{"$f":"+轉帳過程檔!G1205","v":0},{"$f":"+轉帳過程檔!B1205","v":0}]
[{"$f":"+轉帳過程檔!A1206","v":""},{"$f":"+轉帳過程檔!C1206","v":0},{"$f":"+轉帳過程檔!G1206","v":0},{"$f":"+轉帳過程檔!B1206","v":0}]
[{"$f":"+轉帳過程檔!A1207","v":""},{"$f":"+轉帳過程檔!C1207","v":0},{"$f":"+轉帳過程檔!G1207","v":0},{"$f":"+轉帳過程檔!B1207","v":0}]
[{"$f":"+轉帳過程檔!A1208","v":""},{"$f":"+轉帳過程檔!C1208","v":0},{"$f":"+轉帳過程檔!G1208","v":0},{"$f":"+轉帳過程檔!B1208","v":0}]
[{"$f":"+轉帳過程檔!A1209","v":""},{"$f":"+轉帳過程檔!C1209","v":0},{"$f":"+轉帳過程檔!G1209","v":0},{"$f":"+轉帳過程檔!B1209","v":0}]
[{"$f":"+轉帳過程檔!A1210","v":""},{"$f":"+轉帳過程檔!C1210","v":0},{"$f":"+轉帳過程檔!G1210","v":0},{"$f":"+轉帳過程檔!B1210","v":0}]
[{"$f":"+轉帳過程檔!A1211","v":""},{"$f":"+轉帳過程檔!C1211","v":0},{"$f":"+轉帳過程檔!G1211","v":0},{"$f":"+轉帳過程檔!B1211","v":0}]
[{"$f":"+轉帳過程檔!A1212","v":""},{"$f":"+轉帳過程檔!C1212","v":0},{"$f":"+轉帳過程檔!G1212","v":0},{"$f":"+轉帳過程檔!B1212","v":0}]
[{"$f":"+轉帳過程檔!A1213","v":""},{"$f":"+轉帳過程檔!C1213","v":0},{"$f":"+轉帳過程檔!G1213","v":0},{"$f":"+轉帳過程檔!B1213","v":0}]
[{"$f":"+轉帳過程檔!A1214","v":""},{"$f":"+轉帳過程檔!C1214","v":0},{"$f":"+轉帳過程檔!G1214","v":0},{"$f":"+轉帳過程檔!B1214","v":0}]
[{"$f":"+轉帳過程檔!A1215","v":""},{"$f":"+轉帳過程檔!C1215","v":0},{"$f":"+轉帳過程檔!G1215","v":0},{"$f":"+轉帳過程檔!B1215","v":0}]
[{"$f":"+轉帳過程檔!A1216","v":""},{"$f":"+轉帳過程檔!C1216","v":0},{"$f":"+轉帳過程檔!G1216","v":0},{"$f":"+轉帳過程檔!B1216","v":0}]
[{"$f":"+轉帳過程檔!A1217","v":""},{"$f":"+轉帳過程檔!C1217","v":0},{"$f":"+轉帳過程檔!G1217","v":0},{"$f":"+轉帳過程檔!B1217","v":0}]
[{"$f":"+轉帳過程檔!A1218","v":""},{"$f":"+轉帳過程檔!C1218","v":0},{"$f":"+轉帳過程檔!G1218","v":0},{"$f":"+轉帳過程檔!B1218","v":0}]
[{"$f":"+轉帳過程檔!A1219","v":""},{"$f":"+轉帳過程檔!C1219","v":0},{"$f":"+轉帳過程檔!G1219","v":0},{"$f":"+轉帳過程檔!B1219","v":0}]
[{"$f":"+轉帳過程檔!A1220","v":""},{"$f":"+轉帳過程檔!C1220","v":0},{"$f":"+轉帳過程檔!G1220","v":0},{"$f":"+轉帳過程檔!B1220","v":0}]
[{"$f":"+轉帳過程檔!A1221","v":""},{"$f":"+轉帳過程檔!C1221","v":0},{"$f":"+轉帳過程檔!G1221","v":0},{"$f":"+轉帳過程檔!B1221","v":0}]
[{"$f":"+轉帳過程檔!A1222","v":""},{"$f":"+轉帳過程檔!C1222","v":0},{"$f":"+轉帳過程檔!G1222","v":0},{"$f":"+轉帳過程檔!B1222","v":0}]
[{"$f":"+轉帳過程檔!A1223","v":""},{"$f":"+轉帳過程檔!C1223","v":0},{"$f":"+轉帳過程檔!G1223","v":0},{"$f":"+轉帳過程檔!B1223","v":0}]
[{"$f":"+轉帳過程檔!A1224","v":""},{"$f":"+轉帳過程檔!C1224","v":0},{"$f":"+轉帳過程檔!G1224","v":0},{"$f":"+轉帳過程檔!B1224","v":0}]
[{"$f":"+轉帳過程檔!A1225","v":""},{"$f":"+轉帳過程檔!C1225","v":0},{"$f":"+轉帳過程檔!G1225","v":0},{"$f":"+轉帳過程檔!B1225","v":0}]
[{"$f":"+轉帳過程檔!A1226","v":""},{"$f":"+轉帳過程檔!C1226","v":0},{"$f":"+轉帳過程檔!G1226","v":0},{"$f":"+轉帳過程檔!B1226","v":0}]
[{"$f":"+轉帳過程檔!A1227","v":""},{"$f":"+轉帳過程檔!C1227","v":0},{"$f":"+轉帳過程檔!G1227","v":0},{"$f":"+轉帳過程檔!B1227","v":0}]
[{"$f":"+轉帳過程檔!A1228","v":""},{"$f":"+轉帳過程檔!C1228","v":0},{"$f":"+轉帳過程檔!G1228","v":0},{"$f":"+轉帳過程檔!B1228","v":0}]
[{"$f":"+轉帳過程檔!A1229","v":""},{"$f":"+轉帳過程檔!C1229","v":0},{"$f":"+轉帳過程檔!G1229","v":0},{"$f":"+轉帳過程檔!B1229","v":0}]
[{"$f":"+轉帳過程檔!A1230","v":""},{"$f":"+轉帳過程檔!C1230","v":0},{"$f":"+轉帳過程檔!G1230","v":0},{"$f":"+轉帳過程檔!B1230","v":0}]
[{"$f":"+轉帳過程檔!A1231","v":""},{"$f":"+轉帳過程檔!C1231","v":0},{"$f":"+轉帳過程檔!G1231","v":0},{"$f":"+轉帳過程檔!B1231","v":0}]
[{"$f":"+轉帳過程檔!A1232","v":""},{"$f":"+轉帳過程檔!C1232","v":0},{"$f":"+轉帳過程檔!G1232","v":0},{"$f":"+轉帳過程檔!B1232","v":0}]
[{"$f":"+轉帳過程檔!A1233","v":""},{"$f":"+轉帳過程檔!C1233","v":0},{"$f":"+轉帳過程檔!G1233","v":0},{"$f":"+轉帳過程檔!B1233","v":0}]
[{"$f":"+轉帳過程檔!A1234","v":""},{"$f":"+轉帳過程檔!C1234","v":0},{"$f":"+轉帳過程檔!G1234","v":0},{"$f":"+轉帳過程檔!B1234","v":0}]
[{"$f":"+轉帳過程檔!A1235","v":""},{"$f":"+轉帳過程檔!C1235","v":0},{"$f":"+轉帳過程檔!G1235","v":0},{"$f":"+轉帳過程檔!B1235","v":0}]
[{"$f":"+轉帳過程檔!A1236","v":""},{"$f":"+轉帳過程檔!C1236","v":0},{"$f":"+轉帳過程檔!G1236","v":0},{"$f":"+轉帳過程檔!B1236","v":0}]
[{"$f":"+轉帳過程檔!A1237","v":""},{"$f":"+轉帳過程檔!C1237","v":0},{"$f":"+轉帳過程檔!G1237","v":0},{"$f":"+轉帳過程檔!B1237","v":0}]
[{"$f":"+轉帳過程檔!A1238","v":""},{"$f":"+轉帳過程檔!C1238","v":0},{"$f":"+轉帳過程檔!G1238","v":0},{"$f":"+轉帳過程檔!B1238","v":0}]
[{"$f":"+轉帳過程檔!A1239","v":""},{"$f":"+轉帳過程檔!C1239","v":0},{"$f":"+轉帳過程檔!G1239","v":0},{"$f":"+轉帳過程檔!B1239","v":0}]
[{"$f":"+轉帳過程檔!A1240","v":""},{"$f":"+轉帳過程檔!C1240","v":0},{"$f":"+轉帳過程檔!G1240","v":0},{"$f":"+轉帳過程檔!B1240","v":0}]
[{"$f":"+轉帳過程檔!A1241","v":""},{"$f":"+轉帳過程檔!C1241","v":0},{"$f":"+轉帳過程檔!G1241","v":0},{"$f":"+轉帳過程檔!B1241","v":0}]
[{"$f":"+轉帳過程檔!A1242","v":""},{"$f":"+轉帳過程檔!C1242","v":0},{"$f":"+轉帳過程檔!G1242","v":0},{"$f":"+轉帳過程檔!B1242","v":0}]
[{"$f":"+轉帳過程檔!A1243","v":""},{"$f":"+轉帳過程檔!C1243","v":0},{"$f":"+轉帳過程檔!G1243","v":0},{"$f":"+轉帳過程檔!B1243","v":0}]
[{"$f":"+轉帳過程檔!A1244","v":""},{"$f":"+轉帳過程檔!C1244","v":0},{"$f":"+轉帳過程檔!G1244","v":0},{"$f":"+轉帳過程檔!B1244","v":0}]
[{"$f":"+轉帳過程檔!A1245","v":""},{"$f":"+轉帳過程檔!C1245","v":0},{"$f":"+轉帳過程檔!G1245","v":0},{"$f":"+轉帳過程檔!B1245","v":0}]
[{"$f":"+轉帳過程檔!A1246","v":""},{"$f":"+轉帳過程檔!C1246","v":0},{"$f":"+轉帳過程檔!G1246","v":0},{"$f":"+轉帳過程檔!B1246","v":0}]
[{"$f":"+轉帳過程檔!A1247","v":""},{"$f":"+轉帳過程檔!C1247","v":0},{"$f":"+轉帳過程檔!G1247","v":0},{"$f":"+轉帳過程檔!B1247","v":0}]
[{"$f":"+轉帳過程檔!A1248","v":""},{"$f":"+轉帳過程檔!C1248","v":0},{"$f":"+轉帳過程檔!G1248","v":0},{"$f":"+轉帳過程檔!B1248","v":0}]
[{"$f":"+轉帳過程檔!A1249","v":""},{"$f":"+轉帳過程檔!C1249","v":0},{"$f":"+轉帳過程檔!G1249","v":0},{"$f":"+轉帳過程檔!B1249","v":0}]
[{"$f":"+轉帳過程檔!A1250","v":""},{"$f":"+轉帳過程檔!C1250","v":0},{"$f":"+轉帳過程檔!G1250","v":0},{"$f":"+轉帳過程檔!B1250","v":0}]
[{"$f":"+轉帳過程檔!A1251","v":""},{"$f":"+轉帳過程檔!C1251","v":0},{"$f":"+轉帳過程檔!G1251","v":0},{"$f":"+轉帳過程檔!B1251","v":0}]
[{"$f":"+轉帳過程檔!A1252","v":""},{"$f":"+轉帳過程檔!C1252","v":0},{"$f":"+轉帳過程檔!G1252","v":0},{"$f":"+轉帳過程檔!B1252","v":0}]
[{"$f":"+轉帳過程檔!A1253","v":""},{"$f":"+轉帳過程檔!C1253","v":0},{"$f":"+轉帳過程檔!G1253","v":0},{"$f":"+轉帳過程檔!B1253","v":0}]
[{"$f":"+轉帳過程檔!A1254","v":""},{"$f":"+轉帳過程檔!C1254","v":0},{"$f":"+轉帳過程檔!G1254","v":0},{"$f":"+轉帳過程檔!B1254","v":0}]
[{"$f":"+轉帳過程檔!A1255","v":""},{"$f":"+轉帳過程檔!C1255","v":0},{"$f":"+轉帳過程檔!G1255","v":0},{"$f":"+轉帳過程檔!B1255","v":0}]
[{"$f":"+轉帳過程檔!A1256","v":""},{"$f":"+轉帳過程檔!C1256","v":0},{"$f":"+轉帳過程檔!G1256","v":0},{"$f":"+轉帳過程檔!B1256","v":0}]
[{"$f":"+轉帳過程檔!A1257","v":""},{"$f":"+轉帳過程檔!C1257","v":0},{"$f":"+轉帳過程檔!G1257","v":0},{"$f":"+轉帳過程檔!B1257","v":0}]
[{"$f":"+轉帳過程檔!A1258","v":""},{"$f":"+轉帳過程檔!C1258","v":0},{"$f":"+轉帳過程檔!G1258","v":0},{"$f":"+轉帳過程檔!B1258","v":0}]
[{"$f":"+轉帳過程檔!A1259","v":""},{"$f":"+轉帳過程檔!C1259","v":0},{"$f":"+轉帳過程檔!G1259","v":0},{"$f":"+轉帳過程檔!B1259","v":0}]
[{"$f":"+轉帳過程檔!A1260","v":""},{"$f":"+轉帳過程檔!C1260","v":0},{"$f":"+轉帳過程檔!G1260","v":0},{"$f":"+轉帳過程檔!B1260","v":0}]
[{"$f":"+轉帳過程檔!A1261","v":""},{"$f":"+轉帳過程檔!C1261","v":0},{"$f":"+轉帳過程檔!G1261","v":0},{"$f":"+轉帳過程檔!B1261","v":0}]
[{"$f":"+轉帳過程檔!A1262","v":""},{"$f":"+轉帳過程檔!C1262","v":0},{"$f":"+轉帳過程檔!G1262","v":0},{"$f":"+轉帳過程檔!B1262","v":0}]
[{"$f":"+轉帳過程檔!A1263","v":""},{"$f":"+轉帳過程檔!C1263","v":0},{"$f":"+轉帳過程檔!G1263","v":0},{"$f":"+轉帳過程檔!B1263","v":0}]
[{"$f":"+轉帳過程檔!A1264","v":""},{"$f":"+轉帳過程檔!C1264","v":0},{"$f":"+轉帳過程檔!G1264","v":0},{"$f":"+轉帳過程檔!B1264","v":0}]
[{"$f":"+轉帳過程檔!A1265","v":""},{"$f":"+轉帳過程檔!C1265","v":0},{"$f":"+轉帳過程檔!G1265","v":0},{"$f":"+轉帳過程檔!B1265","v":0}]
[{"$f":"+轉帳過程檔!A1266","v":""},{"$f":"+轉帳過程檔!C1266","v":0},{"$f":"+轉帳過程檔!G1266","v":0},{"$f":"+轉帳過程檔!B1266","v":0}]
[{"$f":"+轉帳過程檔!A1267","v":""},{"$f":"+轉帳過程檔!C1267","v":0},{"$f":"+轉帳過程檔!G1267","v":0},{"$f":"+轉帳過程檔!B1267","v":0}]
[{"$f":"+轉帳過程檔!A1268","v":""},{"$f":"+轉帳過程檔!C1268","v":0},{"$f":"+轉帳過程檔!G1268","v":0},{"$f":"+轉帳過程檔!B1268","v":0}]
[{"$f":"+轉帳過程檔!A1269","v":""},{"$f":"+轉帳過程檔!C1269","v":0},{"$f":"+轉帳過程檔!G1269","v":0},{"$f":"+轉帳過程檔!B1269","v":0}]
[{"$f":"+轉帳過程檔!A1270","v":""},{"$f":"+轉帳過程檔!C1270","v":0},{"$f":"+轉帳過程檔!G1270","v":0},{"$f":"+轉帳過程檔!B1270","v":0}]
[{"$f":"+轉帳過程檔!A1271","v":""},{"$f":"+轉帳過程檔!C1271","v":0},{"$f":"+轉帳過程檔!G1271","v":0},{"$f":"+轉帳過程檔!B1271","v":0}]
[{"$f":"+轉帳過程檔!A1272","v":""},{"$f":"+轉帳過程檔!C1272","v":0},{"$f":"+轉帳過程檔!G1272","v":0},{"$f":"+轉帳過程檔!B1272","v":0}]
[{"$f":"+轉帳過程檔!A1273","v":""},{"$f":"+轉帳過程檔!C1273","v":0},{"$f":"+轉帳過程檔!G1273","v":0},{"$f":"+轉帳過程檔!B1273","v":0}]
[{"$f":"+轉帳過程檔!A1274","v":""},{"$f":"+轉帳過程檔!C1274","v":0},{"$f":"+轉帳過程檔!G1274","v":0},{"$f":"+轉帳過程檔!B1274","v":0}]
[{"$f":"+轉帳過程檔!A1275","v":""},{"$f":"+轉帳過程檔!C1275","v":0},{"$f":"+轉帳過程檔!G1275","v":0},{"$f":"+轉帳過程檔!B1275","v":0}]
[{"$f":"+轉帳過程檔!A1276","v":""},{"$f":"+轉帳過程檔!C1276","v":0},{"$f":"+轉帳過程檔!G1276","v":0},{"$f":"+轉帳過程檔!B1276","v":0}]
[{"$f":"+轉帳過程檔!A1277","v":""},{"$f":"+轉帳過程檔!C1277","v":0},{"$f":"+轉帳過程檔!G1277","v":0},{"$f":"+轉帳過程檔!B1277","v":0}]
[{"$f":"+轉帳過程檔!A1278","v":""},{"$f":"+轉帳過程檔!C1278","v":0},{"$f":"+轉帳過程檔!G1278","v":0},{"$f":"+轉帳過程檔!B1278","v":0}]
[{"$f":"+轉帳過程檔!A1279","v":""},{"$f":"+轉帳過程檔!C1279","v":0},{"$f":"+轉帳過程檔!G1279","v":0},{"$f":"+轉帳過程檔!B1279","v":0}]
[{"$f":"+轉帳過程檔!A1280","v":""},{"$f":"+轉帳過程檔!C1280","v":0},{"$f":"+轉帳過程檔!G1280","v":0},{"$f":"+轉帳過程檔!B1280","v":0}]
[{"$f":"+轉帳過程檔!A1281","v":""},{"$f":"+轉帳過程檔!C1281","v":0},{"$f":"+轉帳過程檔!G1281","v":0},{"$f":"+轉帳過程檔!B1281","v":0}]
[{"$f":"+轉帳過程檔!A1282","v":""},{"$f":"+轉帳過程檔!C1282","v":0},{"$f":"+轉帳過程檔!G1282","v":0},{"$f":"+轉帳過程檔!B1282","v":0}]
[{"$f":"+轉帳過程檔!A1283","v":""},{"$f":"+轉帳過程檔!C1283","v":0},{"$f":"+轉帳過程檔!G1283","v":0},{"$f":"+轉帳過程檔!B1283","v":0}]
[{"$f":"+轉帳過程檔!A1284","v":""},{"$f":"+轉帳過程檔!C1284","v":0},{"$f":"+轉帳過程檔!G1284","v":0},{"$f":"+轉帳過程檔!B1284","v":0}]
[{"$f":"+轉帳過程檔!A1285","v":""},{"$f":"+轉帳過程檔!C1285","v":0},{"$f":"+轉帳過程檔!G1285","v":0},{"$f":"+轉帳過程檔!B1285","v":0}]
[{"$f":"+轉帳過程檔!A1286","v":""},{"$f":"+轉帳過程檔!C1286","v":0},{"$f":"+轉帳過程檔!G1286","v":0},{"$f":"+轉帳過程檔!B1286","v":0}]
[{"$f":"+轉帳過程檔!A1287","v":""},{"$f":"+轉帳過程檔!C1287","v":0},{"$f":"+轉帳過程檔!G1287","v":0},{"$f":"+轉帳過程檔!B1287","v":0}]
[{"$f":"+轉帳過程檔!A1288","v":""},{"$f":"+轉帳過程檔!C1288","v":0},{"$f":"+轉帳過程檔!G1288","v":0},{"$f":"+轉帳過程檔!B1288","v":0}]
[{"$f":"+轉帳過程檔!A1289","v":""},{"$f":"+轉帳過程檔!C1289","v":0},{"$f":"+轉帳過程檔!G1289","v":0},{"$f":"+轉帳過程檔!B1289","v":0}]
[{"$f":"+轉帳過程檔!A1290","v":""},{"$f":"+轉帳過程檔!C1290","v":0},{"$f":"+轉帳過程檔!G1290","v":0},{"$f":"+轉帳過程檔!B1290","v":0}]
[{"$f":"+轉帳過程檔!A1291","v":""},{"$f":"+轉帳過程檔!C1291","v":0},{"$f":"+轉帳過程檔!G1291","v":0},{"$f":"+轉帳過程檔!B1291","v":0}]
[{"$f":"+轉帳過程檔!A1292","v":""},{"$f":"+轉帳過程檔!C1292","v":0},{"$f":"+轉帳過程檔!G1292","v":0},{"$f":"+轉帳過程檔!B1292","v":0}]
[{"$f":"+轉帳過程檔!A1293","v":""},{"$f":"+轉帳過程檔!C1293","v":0},{"$f":"+轉帳過程檔!G1293","v":0},{"$f":"+轉帳過程檔!B1293","v":0}]
[{"$f":"+轉帳過程檔!A1294","v":""},{"$f":"+轉帳過程檔!C1294","v":0},{"$f":"+轉帳過程檔!G1294","v":0},{"$f":"+轉帳過程檔!B1294","v":0}]
[{"$f":"+轉帳過程檔!A1295","v":""},{"$f":"+轉帳過程檔!C1295","v":0},{"$f":"+轉帳過程檔!G1295","v":0},{"$f":"+轉帳過程檔!B1295","v":0}]
[{"$f":"+轉帳過程檔!A1296","v":""},{"$f":"+轉帳過程檔!C1296","v":0},{"$f":"+轉帳過程檔!G1296","v":0},{"$f":"+轉帳過程檔!B1296","v":0}]
[{"$f":"+轉帳過程檔!A1297","v":""},{"$f":"+轉帳過程檔!C1297","v":0},{"$f":"+轉帳過程檔!G1297","v":0},{"$f":"+轉帳過程檔!B1297","v":0}]
[{"$f":"+轉帳過程檔!A1298","v":""},{"$f":"+轉帳過程檔!C1298","v":0},{"$f":"+轉帳過程檔!G1298","v":0},{"$f":"+轉帳過程檔!B1298","v":0}]
[{"$f":"+轉帳過程檔!A1299","v":""},{"$f":"+轉帳過程檔!C1299","v":0},{"$f":"+轉帳過程檔!G1299","v":0},{"$f":"+轉帳過程檔!B1299","v":0}]
[{"$f":"+轉帳過程檔!A1300","v":""},{"$f":"+轉帳過程檔!C1300","v":0},{"$f":"+轉帳過程檔!G1300","v":0},{"$f":"+轉帳過程檔!B1300","v":0}]
[{"$f":"+轉帳過程檔!A1301","v":""},{"$f":"+轉帳過程檔!C1301","v":0},{"$f":"+轉帳過程檔!G1301","v":0},{"$f":"+轉帳過程檔!B1301","v":0}]
[{"$f":"+轉帳過程檔!A1302","v":""},{"$f":"+轉帳過程檔!C1302","v":0},{"$f":"+轉帳過程檔!G1302","v":0},{"$f":"+轉帳過程檔!B1302","v":0}]
[{"$f":"+轉帳過程檔!A1303","v":""},{"$f":"+轉帳過程檔!C1303","v":0},{"$f":"+轉帳過程檔!G1303","v":0},{"$f":"+轉帳過程檔!B1303","v":0}]
[{"$f":"+轉帳過程檔!A1304","v":""},{"$f":"+轉帳過程檔!C1304","v":0},{"$f":"+轉帳過程檔!G1304","v":0},{"$f":"+轉帳過程檔!B1304","v":0}]
[{"$f":"+轉帳過程檔!A1305","v":""},{"$f":"+轉帳過程檔!C1305","v":0},{"$f":"+轉帳過程檔!G1305","v":0},{"$f":"+轉帳過程檔!B1305","v":0}]
[{"$f":"+轉帳過程檔!A1306","v":""},{"$f":"+轉帳過程檔!C1306","v":0},{"$f":"+轉帳過程檔!G1306","v":0},{"$f":"+轉帳過程檔!B1306","v":0}]
[{"$f":"+轉帳過程檔!A1307","v":""},{"$f":"+轉帳過程檔!C1307","v":0},{"$f":"+轉帳過程檔!G1307","v":0},{"$f":"+轉帳過程檔!B1307","v":0}]
[{"$f":"+轉帳過程檔!A1308","v":""},{"$f":"+轉帳過程檔!C1308","v":0},{"$f":"+轉帳過程檔!G1308","v":0},{"$f":"+轉帳過程檔!B1308","v":0}]
[{"$f":"+轉帳過程檔!A1309","v":""},{"$f":"+轉帳過程檔!C1309","v":0},{"$f":"+轉帳過程檔!G1309","v":0},{"$f":"+轉帳過程檔!B1309","v":0}]
[{"$f":"+轉帳過程檔!A1310","v":""},{"$f":"+轉帳過程檔!C1310","v":0},{"$f":"+轉帳過程檔!G1310","v":0},{"$f":"+轉帳過程檔!B1310","v":0}]
[{"$f":"+轉帳過程檔!A1311","v":""},{"$f":"+轉帳過程檔!C1311","v":0},{"$f":"+轉帳過程檔!G1311","v":0},{"$f":"+轉帳過程檔!B1311","v":0}]
[{"$f":"+轉帳過程檔!A1312","v":""},{"$f":"+轉帳過程檔!C1312","v":0},{"$f":"+轉帳過程檔!G1312","v":0},{"$f":"+轉帳過程檔!B1312","v":0}]
[{"$f":"+轉帳過程檔!A1313","v":""},{"$f":"+轉帳過程檔!C1313","v":0},{"$f":"+轉帳過程檔!G1313","v":0},{"$f":"+轉帳過程檔!B1313","v":0}]
[{"$f":"+轉帳過程檔!A1314","v":""},{"$f":"+轉帳過程檔!C1314","v":0},{"$f":"+轉帳過程檔!G1314","v":0},{"$f":"+轉帳過程檔!B1314","v":0}]
[{"$f":"+轉帳過程檔!A1315","v":""},{"$f":"+轉帳過程檔!C1315","v":0},{"$f":"+轉帳過程檔!G1315","v":0},{"$f":"+轉帳過程檔!B1315","v":0}]
[{"$f":"+轉帳過程檔!A1316","v":""},{"$f":"+轉帳過程檔!C1316","v":0},{"$f":"+轉帳過程檔!G1316","v":0},{"$f":"+轉帳過程檔!B1316","v":0}]
[{"$f":"+轉帳過程檔!A1317","v":""},{"$f":"+轉帳過程檔!C1317","v":0},{"$f":"+轉帳過程檔!G1317","v":0},{"$f":"+轉帳過程檔!B1317","v":0}]
[{"$f":"+轉帳過程檔!A1318","v":""},{"$f":"+轉帳過程檔!C1318","v":0},{"$f":"+轉帳過程檔!G1318","v":0},{"$f":"+轉帳過程檔!B1318","v":0}]
[{"$f":"+轉帳過程檔!A1319","v":""},{"$f":"+轉帳過程檔!C1319","v":0},{"$f":"+轉帳過程檔!G1319","v":0},{"$f":"+轉帳過程檔!B1319","v":0}]
[{"$f":"+轉帳過程檔!A1320","v":""},{"$f":"+轉帳過程檔!C1320","v":0},{"$f":"+轉帳過程檔!G1320","v":0},{"$f":"+轉帳過程檔!B1320","v":0}]
[{"$f":"+轉帳過程檔!A1321","v":""},{"$f":"+轉帳過程檔!C1321","v":0},{"$f":"+轉帳過程檔!G1321","v":0},{"$f":"+轉帳過程檔!B1321","v":0}]
[{"$f":"+轉帳過程檔!A1322","v":""},{"$f":"+轉帳過程檔!C1322","v":0},{"$f":"+轉帳過程檔!G1322","v":0},{"$f":"+轉帳過程檔!B1322","v":0}]
[{"$f":"+轉帳過程檔!A1323","v":""},{"$f":"+轉帳過程檔!C1323","v":0},{"$f":"+轉帳過程檔!G1323","v":0},{"$f":"+轉帳過程檔!B1323","v":0}]
[{"$f":"+轉帳過程檔!A1324","v":""},{"$f":"+轉帳過程檔!C1324","v":0},{"$f":"+轉帳過程檔!G1324","v":0},{"$f":"+轉帳過程檔!B1324","v":0}]
[{"$f":"+轉帳過程檔!A1325","v":""},{"$f":"+轉帳過程檔!C1325","v":0},{"$f":"+轉帳過程檔!G1325","v":0},{"$f":"+轉帳過程檔!B1325","v":0}]
[{"$f":"+轉帳過程檔!A1326","v":""},{"$f":"+轉帳過程檔!C1326","v":0},{"$f":"+轉帳過程檔!G1326","v":0},{"$f":"+轉帳過程檔!B1326","v":0}]
[{"$f":"+轉帳過程檔!A1327","v":""},{"$f":"+轉帳過程檔!C1327","v":0},{"$f":"+轉帳過程檔!G1327","v":0},{"$f":"+轉帳過程檔!B1327","v":0}]
[{"$f":"+轉帳過程檔!A1328","v":""},{"$f":"+轉帳過程檔!C1328","v":0},{"$f":"+轉帳過程檔!G1328","v":0},{"$f":"+轉帳過程檔!B1328","v":0}]
[{"$f":"+轉帳過程檔!A1329","v":""},{"$f":"+轉帳過程檔!C1329","v":0},{"$f":"+轉帳過程檔!G1329","v":0},{"$f":"+轉帳過程檔!B1329","v":0}]
[{"$f":"+轉帳過程檔!A1330","v":""},{"$f":"+轉帳過程檔!C1330","v":0},{"$f":"+轉帳過程檔!G1330","v":0},{"$f":"+轉帳過程檔!B1330","v":0}]
[{"$f":"+轉帳過程檔!A1331","v":""},{"$f":"+轉帳過程檔!C1331","v":0},{"$f":"+轉帳過程檔!G1331","v":0},{"$f":"+轉帳過程檔!B1331","v":0}]
[{"$f":"+轉帳過程檔!A1332","v":""},{"$f":"+轉帳過程檔!C1332","v":0},{"$f":"+轉帳過程檔!G1332","v":0},{"$f":"+轉帳過程檔!B1332","v":0}]
[{"$f":"+轉帳過程檔!A1333","v":""},{"$f":"+轉帳過程檔!C1333","v":0},{"$f":"+轉帳過程檔!G1333","v":0},{"$f":"+轉帳過程檔!B1333","v":0}]
[{"$f":"+轉帳過程檔!A1334","v":""},{"$f":"+轉帳過程檔!C1334","v":0},{"$f":"+轉帳過程檔!G1334","v":0},{"$f":"+轉帳過程檔!B1334","v":0}]
[{"$f":"+轉帳過程檔!A1335","v":""},{"$f":"+轉帳過程檔!C1335","v":0},{"$f":"+轉帳過程檔!G1335","v":0},{"$f":"+轉帳過程檔!B1335","v":0}]
[{"$f":"+轉帳過程檔!A1336","v":""},{"$f":"+轉帳過程檔!C1336","v":0},{"$f":"+轉帳過程檔!G1336","v":0},{"$f":"+轉帳過程檔!B1336","v":0}]
[{"$f":"+轉帳過程檔!A1337","v":""},{"$f":"+轉帳過程檔!C1337","v":0},{"$f":"+轉帳過程檔!G1337","v":0},{"$f":"+轉帳過程檔!B1337","v":0}]
[{"$f":"+轉帳過程檔!A1338","v":""},{"$f":"+轉帳過程檔!C1338","v":0},{"$f":"+轉帳過程檔!G1338","v":0},{"$f":"+轉帳過程檔!B1338","v":0}]
[{"$f":"+轉帳過程檔!A1339","v":""},{"$f":"+轉帳過程檔!C1339","v":0},{"$f":"+轉帳過程檔!G1339","v":0},{"$f":"+轉帳過程檔!B1339","v":0}]
[{"$f":"+轉帳過程檔!A1340","v":""},{"$f":"+轉帳過程檔!C1340","v":0},{"$f":"+轉帳過程檔!G1340","v":0},{"$f":"+轉帳過程檔!B1340","v":0}]
[{"$f":"+轉帳過程檔!A1341","v":""},{"$f":"+轉帳過程檔!C1341","v":0},{"$f":"+轉帳過程檔!G1341","v":0},{"$f":"+轉帳過程檔!B1341","v":0}]
[{"$f":"+轉帳過程檔!A1342","v":""},{"$f":"+轉帳過程檔!C1342","v":0},{"$f":"+轉帳過程檔!G1342","v":0},{"$f":"+轉帳過程檔!B1342","v":0}]
[{"$f":"+轉帳過程檔!A1343","v":""},{"$f":"+轉帳過程檔!C1343","v":0},{"$f":"+轉帳過程檔!G1343","v":0},{"$f":"+轉帳過程檔!B1343","v":0}]
[{"$f":"+轉帳過程檔!A1344","v":""},{"$f":"+轉帳過程檔!C1344","v":0},{"$f":"+轉帳過程檔!G1344","v":0},{"$f":"+轉帳過程檔!B1344","v":0}]
[{"$f":"+轉帳過程檔!A1345","v":""},{"$f":"+轉帳過程檔!C1345","v":0},{"$f":"+轉帳過程檔!G1345","v":0},{"$f":"+轉帳過程檔!B1345","v":0}]
[{"$f":"+轉帳過程檔!A1346","v":""},{"$f":"+轉帳過程檔!C1346","v":0},{"$f":"+轉帳過程檔!G1346","v":0},{"$f":"+轉帳過程檔!B1346","v":0}]
[{"$f":"+轉帳過程檔!A1347","v":""},{"$f":"+轉帳過程檔!C1347","v":0},{"$f":"+轉帳過程檔!G1347","v":0},{"$f":"+轉帳過程檔!B1347","v":0}]
[{"$f":"+轉帳過程檔!A1348","v":""},{"$f":"+轉帳過程檔!C1348","v":0},{"$f":"+轉帳過程檔!G1348","v":0},{"$f":"+轉帳過程檔!B1348","v":0}]
[{"$f":"+轉帳過程檔!A1349","v":""},{"$f":"+轉帳過程檔!C1349","v":0},{"$f":"+轉帳過程檔!G1349","v":0},{"$f":"+轉帳過程檔!B1349","v":0}]
[{"$f":"+轉帳過程檔!A1350","v":""},{"$f":"+轉帳過程檔!C1350","v":0},{"$f":"+轉帳過程檔!G1350","v":0},{"$f":"+轉帳過程檔!B1350","v":0}]
[{"$f":"+轉帳過程檔!A1351","v":""},{"$f":"+轉帳過程檔!C1351","v":0},{"$f":"+轉帳過程檔!G1351","v":0},{"$f":"+轉帳過程檔!B1351","v":0}]
[{"$f":"+轉帳過程檔!A1352","v":""},{"$f":"+轉帳過程檔!C1352","v":0},{"$f":"+轉帳過程檔!G1352","v":0},{"$f":"+轉帳過程檔!B1352","v":0}]
[{"$f":"+轉帳過程檔!A1353","v":""},{"$f":"+轉帳過程檔!C1353","v":0},{"$f":"+轉帳過程檔!G1353","v":0},{"$f":"+轉帳過程檔!B1353","v":0}]
[{"$f":"+轉帳過程檔!A1354","v":""},{"$f":"+轉帳過程檔!C1354","v":0},{"$f":"+轉帳過程檔!G1354","v":0},{"$f":"+轉帳過程檔!B1354","v":0}]
[{"$f":"+轉帳過程檔!A1355","v":""},{"$f":"+轉帳過程檔!C1355","v":0},{"$f":"+轉帳過程檔!G1355","v":0},{"$f":"+轉帳過程檔!B1355","v":0}]
[{"$f":"+轉帳過程檔!A1356","v":""},{"$f":"+轉帳過程檔!C1356","v":0},{"$f":"+轉帳過程檔!G1356","v":0},{"$f":"+轉帳過程檔!B1356","v":0}]
[{"$f":"+轉帳過程檔!A1357","v":""},{"$f":"+轉帳過程檔!C1357","v":0},{"$f":"+轉帳過程檔!G1357","v":0},{"$f":"+轉帳過程檔!B1357","v":0}]
[{"$f":"+轉帳過程檔!A1358","v":""},{"$f":"+轉帳過程檔!C1358","v":0},{"$f":"+轉帳過程檔!G1358","v":0},{"$f":"+轉帳過程檔!B1358","v":0}]
[{"$f":"+轉帳過程檔!A1359","v":""},{"$f":"+轉帳過程檔!C1359","v":0},{"$f":"+轉帳過程檔!G1359","v":0},{"$f":"+轉帳過程檔!B1359","v":0}]
[{"$f":"+轉帳過程檔!A1360","v":""},{"$f":"+轉帳過程檔!C1360","v":0},{"$f":"+轉帳過程檔!G1360","v":0},{"$f":"+轉帳過程檔!B1360","v":0}]
[{"$f":"+轉帳過程檔!A1361","v":""},{"$f":"+轉帳過程檔!C1361","v":0},{"$f":"+轉帳過程檔!G1361","v":0},{"$f":"+轉帳過程檔!B1361","v":0}]
[{"$f":"+轉帳過程檔!A1362","v":""},{"$f":"+轉帳過程檔!C1362","v":0},{"$f":"+轉帳過程檔!G1362","v":0},{"$f":"+轉帳過程檔!B1362","v":0}]
[{"$f":"+轉帳過程檔!A1363","v":""},{"$f":"+轉帳過程檔!C1363","v":0},{"$f":"+轉帳過程檔!G1363","v":0},{"$f":"+轉帳過程檔!B1363","v":0}]
[{"$f":"+轉帳過程檔!A1364","v":""},{"$f":"+轉帳過程檔!C1364","v":0},{"$f":"+轉帳過程檔!G1364","v":0},{"$f":"+轉帳過程檔!B1364","v":0}]
[{"$f":"+轉帳過程檔!A1365","v":""},{"$f":"+轉帳過程檔!C1365","v":0},{"$f":"+轉帳過程檔!G1365","v":0},{"$f":"+轉帳過程檔!B1365","v":0}]
[{"$f":"+轉帳過程檔!A1366","v":""},{"$f":"+轉帳過程檔!C1366","v":0},{"$f":"+轉帳過程檔!G1366","v":0},{"$f":"+轉帳過程檔!B1366","v":0}]
[{"$f":"+轉帳過程檔!A1367","v":""},{"$f":"+轉帳過程檔!C1367","v":0},{"$f":"+轉帳過程檔!G1367","v":0},{"$f":"+轉帳過程檔!B1367","v":0}]
[{"$f":"+轉帳過程檔!A1368","v":""},{"$f":"+轉帳過程檔!C1368","v":0},{"$f":"+轉帳過程檔!G1368","v":0},{"$f":"+轉帳過程檔!B1368","v":0}]
[{"$f":"+轉帳過程檔!A1369","v":""},{"$f":"+轉帳過程檔!C1369","v":0},{"$f":"+轉帳過程檔!G1369","v":0},{"$f":"+轉帳過程檔!B1369","v":0}]
[{"$f":"+轉帳過程檔!A1370","v":""},{"$f":"+轉帳過程檔!C1370","v":0},{"$f":"+轉帳過程檔!G1370","v":0},{"$f":"+轉帳過程檔!B1370","v":0}]
[{"$f":"+轉帳過程檔!A1371","v":""},{"$f":"+轉帳過程檔!C1371","v":0},{"$f":"+轉帳過程檔!G1371","v":0},{"$f":"+轉帳過程檔!B1371","v":0}]
[{"$f":"+轉帳過程檔!A1372","v":""},{"$f":"+轉帳過程檔!C1372","v":0},{"$f":"+轉帳過程檔!G1372","v":0},{"$f":"+轉帳過程檔!B1372","v":0}]
[{"$f":"+轉帳過程檔!A1373","v":""},{"$f":"+轉帳過程檔!C1373","v":0},{"$f":"+轉帳過程檔!G1373","v":0},{"$f":"+轉帳過程檔!B1373","v":0}]
[{"$f":"+轉帳過程檔!A1374","v":""},{"$f":"+轉帳過程檔!C1374","v":0},{"$f":"+轉帳過程檔!G1374","v":0},{"$f":"+轉帳過程檔!B1374","v":0}]
[{"$f":"+轉帳過程檔!A1375","v":""},{"$f":"+轉帳過程檔!C1375","v":0},{"$f":"+轉帳過程檔!G1375","v":0},{"$f":"+轉帳過程檔!B1375","v":0}]
[{"$f":"+轉帳過程檔!A1376","v":""},{"$f":"+轉帳過程檔!C1376","v":0},{"$f":"+轉帳過程檔!G1376","v":0},{"$f":"+轉帳過程檔!B1376","v":0}]
[{"$f":"+轉帳過程檔!A1377","v":""},{"$f":"+轉帳過程檔!C1377","v":0},{"$f":"+轉帳過程檔!G1377","v":0},{"$f":"+轉帳過程檔!B1377","v":0}]
[{"$f":"+轉帳過程檔!A1378","v":""},{"$f":"+轉帳過程檔!C1378","v":0},{"$f":"+轉帳過程檔!G1378","v":0},{"$f":"+轉帳過程檔!B1378","v":0}]
[{"$f":"+轉帳過程檔!A1379","v":""},{"$f":"+轉帳過程檔!C1379","v":0},{"$f":"+轉帳過程檔!G1379","v":0},{"$f":"+轉帳過程檔!B1379","v":0}]
[{"$f":"+轉帳過程檔!A1380","v":""},{"$f":"+轉帳過程檔!C1380","v":0},{"$f":"+轉帳過程檔!G1380","v":0},{"$f":"+轉帳過程檔!B1380","v":0}]
[{"$f":"+轉帳過程檔!A1381","v":""},{"$f":"+轉帳過程檔!C1381","v":0},{"$f":"+轉帳過程檔!G1381","v":0},{"$f":"+轉帳過程檔!B1381","v":0}]
[{"$f":"+轉帳過程檔!A1382","v":""},{"$f":"+轉帳過程檔!C1382","v":0},{"$f":"+轉帳過程檔!G1382","v":0},{"$f":"+轉帳過程檔!B1382","v":0}]
[{"$f":"+轉帳過程檔!A1383","v":""},{"$f":"+轉帳過程檔!C1383","v":0},{"$f":"+轉帳過程檔!G1383","v":0},{"$f":"+轉帳過程檔!B1383","v":0}]
[{"$f":"+轉帳過程檔!A1384","v":""},{"$f":"+轉帳過程檔!C1384","v":0},{"$f":"+轉帳過程檔!G1384","v":0},{"$f":"+轉帳過程檔!B1384","v":0}]
[{"$f":"+轉帳過程檔!A1385","v":""},{"$f":"+轉帳過程檔!C1385","v":0},{"$f":"+轉帳過程檔!G1385","v":0},{"$f":"+轉帳過程檔!B1385","v":0}]
[{"$f":"+轉帳過程檔!A1386","v":""},{"$f":"+轉帳過程檔!C1386","v":0},{"$f":"+轉帳過程檔!G1386","v":0},{"$f":"+轉帳過程檔!B1386","v":0}]
[{"$f":"+轉帳過程檔!A1387","v":""},{"$f":"+轉帳過程檔!C1387","v":0},{"$f":"+轉帳過程檔!G1387","v":0},{"$f":"+轉帳過程檔!B1387","v":0}]
[{"$f":"+轉帳過程檔!A1388","v":""},{"$f":"+轉帳過程檔!C1388","v":0},{"$f":"+轉帳過程檔!G1388","v":0},{"$f":"+轉帳過程檔!B1388","v":0}]
[{"$f":"+轉帳過程檔!A1389","v":""},{"$f":"+轉帳過程檔!C1389","v":0},{"$f":"+轉帳過程檔!G1389","v":0},{"$f":"+轉帳過程檔!B1389","v":0}]
[{"$f":"+轉帳過程檔!A1390","v":""},{"$f":"+轉帳過程檔!C1390","v":0},{"$f":"+轉帳過程檔!G1390","v":0},{"$f":"+轉帳過程檔!B1390","v":0}]
[{"$f":"+轉帳過程檔!A1391","v":""},{"$f":"+轉帳過程檔!C1391","v":0},{"$f":"+轉帳過程檔!G1391","v":0},{"$f":"+轉帳過程檔!B1391","v":0}]
[{"$f":"+轉帳過程檔!A1392","v":""},{"$f":"+轉帳過程檔!C1392","v":0},{"$f":"+轉帳過程檔!G1392","v":0},{"$f":"+轉帳過程檔!B1392","v":0}]
[{"$f":"+轉帳過程檔!A1393","v":""},{"$f":"+轉帳過程檔!C1393","v":0},{"$f":"+轉帳過程檔!G1393","v":0},{"$f":"+轉帳過程檔!B1393","v":0}]
[{"$f":"+轉帳過程檔!A1394","v":""},{"$f":"+轉帳過程檔!C1394","v":0},{"$f":"+轉帳過程檔!G1394","v":0},{"$f":"+轉帳過程檔!B1394","v":0}]
[{"$f":"+轉帳過程檔!A1395","v":""},{"$f":"+轉帳過程檔!C1395","v":0},{"$f":"+轉帳過程檔!G1395","v":0},{"$f":"+轉帳過程檔!B1395","v":0}]
[{"$f":"+轉帳過程檔!A1396","v":""},{"$f":"+轉帳過程檔!C1396","v":0},{"$f":"+轉帳過程檔!G1396","v":0},{"$f":"+轉帳過程檔!B1396","v":0}]
[{"$f":"+轉帳過程檔!A1397","v":""},{"$f":"+轉帳過程檔!C1397","v":0},{"$f":"+轉帳過程檔!G1397","v":0},{"$f":"+轉帳過程檔!B1397","v":0}]
[{"$f":"+轉帳過程檔!A1398","v":""},{"$f":"+轉帳過程檔!C1398","v":0},{"$f":"+轉帳過程檔!G1398","v":0},{"$f":"+轉帳過程檔!B1398","v":0}]
[{"$f":"+轉帳過程檔!A1399","v":""},{"$f":"+轉帳過程檔!C1399","v":0},{"$f":"+轉帳過程檔!G1399","v":0},{"$f":"+轉帳過程檔!B1399","v":0}]
[{"$f":"+轉帳過程檔!A1400","v":""},{"$f":"+轉帳過程檔!C1400","v":0},{"$f":"+轉帳過程檔!G1400","v":0},{"$f":"+轉帳過程檔!B1400","v":0}]
[{"$f":"+轉帳過程檔!A1401","v":""},{"$f":"+轉帳過程檔!C1401","v":0},{"$f":"+轉帳過程檔!G1401","v":0},{"$f":"+轉帳過程檔!B1401","v":0}]
[{"$f":"+轉帳過程檔!A1402","v":""},{"$f":"+轉帳過程檔!C1402","v":0},{"$f":"+轉帳過程檔!G1402","v":0},{"$f":"+轉帳過程檔!B1402","v":0}]
[{"$f":"+轉帳過程檔!A1403","v":""},{"$f":"+轉帳過程檔!C1403","v":0},{"$f":"+轉帳過程檔!G1403","v":0},{"$f":"+轉帳過程檔!B1403","v":0}]
[{"$f":"+轉帳過程檔!A1404","v":""},{"$f":"+轉帳過程檔!C1404","v":0},{"$f":"+轉帳過程檔!G1404","v":0},{"$f":"+轉帳過程檔!B1404","v":0}]
[{"$f":"+轉帳過程檔!A1405","v":""},{"$f":"+轉帳過程檔!C1405","v":0},{"$f":"+轉帳過程檔!G1405","v":0},{"$f":"+轉帳過程檔!B1405","v":0}]
[{"$f":"+轉帳過程檔!A1406","v":""},{"$f":"+轉帳過程檔!C1406","v":0},{"$f":"+轉帳過程檔!G1406","v":0},{"$f":"+轉帳過程檔!B1406","v":0}]
[{"$f":"+轉帳過程檔!A1407","v":""},{"$f":"+轉帳過程檔!C1407","v":0},{"$f":"+轉帳過程檔!G1407","v":0},{"$f":"+轉帳過程檔!B1407","v":0}]
[{"$f":"+轉帳過程檔!A1408","v":""},{"$f":"+轉帳過程檔!C1408","v":0},{"$f":"+轉帳過程檔!G1408","v":0},{"$f":"+轉帳過程檔!B1408","v":0}]
[{"$f":"+轉帳過程檔!A1409","v":""},{"$f":"+轉帳過程檔!C1409","v":0},{"$f":"+轉帳過程檔!G1409","v":0},{"$f":"+轉帳過程檔!B1409","v":0}]
[{"$f":"+轉帳過程檔!A1410","v":""},{"$f":"+轉帳過程檔!C1410","v":0},{"$f":"+轉帳過程檔!G1410","v":0},{"$f":"+轉帳過程檔!B1410","v":0}]
[{"$f":"+轉帳過程檔!A1411","v":""},{"$f":"+轉帳過程檔!C1411","v":0},{"$f":"+轉帳過程檔!G1411","v":0},{"$f":"+轉帳過程檔!B1411","v":0}]
[{"$f":"+轉帳過程檔!A1412","v":""},{"$f":"+轉帳過程檔!C1412","v":0},{"$f":"+轉帳過程檔!G1412","v":0},{"$f":"+轉帳過程檔!B1412","v":0}]
[{"$f":"+轉帳過程檔!A1413","v":""},{"$f":"+轉帳過程檔!C1413","v":0},{"$f":"+轉帳過程檔!G1413","v":0},{"$f":"+轉帳過程檔!B1413","v":0}]
[{"$f":"+轉帳過程檔!A1414","v":""},{"$f":"+轉帳過程檔!C1414","v":0},{"$f":"+轉帳過程檔!G1414","v":0},{"$f":"+轉帳過程檔!B1414","v":0}]
[{"$f":"+轉帳過程檔!A1415","v":""},{"$f":"+轉帳過程檔!C1415","v":0},{"$f":"+轉帳過程檔!G1415","v":0},{"$f":"+轉帳過程檔!B1415","v":0}]
[{"$f":"+轉帳過程檔!A1416","v":""},{"$f":"+轉帳過程檔!C1416","v":0},{"$f":"+轉帳過程檔!G1416","v":0},{"$f":"+轉帳過程檔!B1416","v":0}]
[{"$f":"+轉帳過程檔!A1417","v":""},{"$f":"+轉帳過程檔!C1417","v":0},{"$f":"+轉帳過程檔!G1417","v":0},{"$f":"+轉帳過程檔!B1417","v":0}]
[{"$f":"+轉帳過程檔!A1418","v":""},{"$f":"+轉帳過程檔!C1418","v":0},{"$f":"+轉帳過程檔!G1418","v":0},{"$f":"+轉帳過程檔!B1418","v":0}]
[{"$f":"+轉帳過程檔!A1419","v":""},{"$f":"+轉帳過程檔!C1419","v":0},{"$f":"+轉帳過程檔!G1419","v":0},{"$f":"+轉帳過程檔!B1419","v":0}]
[{"$f":"+轉帳過程檔!A1420","v":""},{"$f":"+轉帳過程檔!C1420","v":0},{"$f":"+轉帳過程檔!G1420","v":0},{"$f":"+轉帳過程檔!B1420","v":0}]
[{"$f":"+轉帳過程檔!A1421","v":""},{"$f":"+轉帳過程檔!C1421","v":0},{"$f":"+轉帳過程檔!G1421","v":0},{"$f":"+轉帳過程檔!B1421","v":0}]
[{"$f":"+轉帳過程檔!A1422","v":""},{"$f":"+轉帳過程檔!C1422","v":0},{"$f":"+轉帳過程檔!G1422","v":0},{"$f":"+轉帳過程檔!B1422","v":0}]
[{"$f":"+轉帳過程檔!A1423","v":""},{"$f":"+轉帳過程檔!C1423","v":0},{"$f":"+轉帳過程檔!G1423","v":0},{"$f":"+轉帳過程檔!B1423","v":0}]
[{"$f":"+轉帳過程檔!A1424","v":""},{"$f":"+轉帳過程檔!C1424","v":0},{"$f":"+轉帳過程檔!G1424","v":0},{"$f":"+轉帳過程檔!B1424","v":0}]
[{"$f":"+轉帳過程檔!A1425","v":0},{"$f":"+轉帳過程檔!C1425","v":0},{"$f":"+轉帳過程檔!G1425","v":0},{"$f":"+轉帳過程檔!B1425","v":0}]
[{"$f":"+轉帳過程檔!A1426","v":0},{"$f":"+轉帳過程檔!C1426","v":0},{"$f":"+轉帳過程檔!G1426","v":0},{"$f":"+轉帳過程檔!B1426","v":0}]
[{"$f":"+轉帳過程檔!A1427","v":0},{"$f":"+轉帳過程檔!C1427","v":0},{"$f":"+轉帳過程檔!G1427","v":0},{"$f":"+轉帳過程檔!B1427","v":0}]
[{"$f":"+轉帳過程檔!A1428","v":0},{"$f":"+轉帳過程檔!C1428","v":0},{"$f":"+轉帳過程檔!G1428","v":0},{"$f":"+轉帳過程檔!B1428","v":0}]
[{"$f":"+轉帳過程檔!A1429","v":0},{"$f":"+轉帳過程檔!C1429","v":0},{"$f":"+轉帳過程檔!G1429","v":0},{"$f":"+轉帳過程檔!B1429","v":0}]
[{"$f":"+轉帳過程檔!A1430","v":0},{"$f":"+轉帳過程檔!C1430","v":0},{"$f":"+轉帳過程檔!G1430","v":0},{"$f":"+轉帳過程檔!B1430","v":0}]
[{"$f":"+轉帳過程檔!A1431","v":0},{"$f":"+轉帳過程檔!C1431","v":0},{"$f":"+轉帳過程檔!G1431","v":0},{"$f":"+轉帳過程檔!B1431","v":0}]
[{"$f":"+轉帳過程檔!A1432","v":0},{"$f":"+轉帳過程檔!C1432","v":0},{"$f":"+轉帳過程檔!G1432","v":0},{"$f":"+轉帳過程檔!B1432","v":0}]
[{"$f":"+轉帳過程檔!A1433","v":0},{"$f":"+轉帳過程檔!C1433","v":0},{"$f":"+轉帳過程檔!G1433","v":0},{"$f":"+轉帳過程檔!B1433","v":0}]
[{"$f":"+轉帳過程檔!A1434","v":0},{"$f":"+轉帳過程檔!C1434","v":0},{"$f":"+轉帳過程檔!G1434","v":0},{"$f":"+轉帳過程檔!B1434","v":0}]
[{"$f":"+轉帳過程檔!A1435","v":0},{"$f":"+轉帳過程檔!C1435","v":0},{"$f":"+轉帳過程檔!G1435","v":0},{"$f":"+轉帳過程檔!B1435","v":0}]
[{"$f":"+轉帳過程檔!A1436","v":0},{"$f":"+轉帳過程檔!C1436","v":0},{"$f":"+轉帳過程檔!G1436","v":0},{"$f":"+轉帳過程檔!B1436","v":0}]
[{"$f":"+轉帳過程檔!A1437","v":0},{"$f":"+轉帳過程檔!C1437","v":0},{"$f":"+轉帳過程檔!G1437","v":0},{"$f":"+轉帳過程檔!B1437","v":0}]
[{"$f":"+轉帳過程檔!A1438","v":0},{"$f":"+轉帳過程檔!C1438","v":0},{"$f":"+轉帳過程檔!G1438","v":0},{"$f":"+轉帳過程檔!B1438","v":0}]
[{"$f":"+轉帳過程檔!A1439","v":0},{"$f":"+轉帳過程檔!C1439","v":0},{"$f":"+轉帳過程檔!G1439","v":0},{"$f":"+轉帳過程檔!B1439","v":0}]
[{"$f":"+轉帳過程檔!A1440","v":0},{"$f":"+轉帳過程檔!C1440","v":0},{"$f":"+轉帳過程檔!G1440","v":0},{"$f":"+轉帳過程檔!B1440","v":0}]
[{"$f":"+轉帳過程檔!A1441","v":0},{"$f":"+轉帳過程檔!C1441","v":0},{"$f":"+轉帳過程檔!G1441","v":0},{"$f":"+轉帳過程檔!B1441","v":0}]
[{"$f":"+轉帳過程檔!A1442","v":0},{"$f":"+轉帳過程檔!C1442","v":0},{"$f":"+轉帳過程檔!G1442","v":0},{"$f":"+轉帳過程檔!B1442","v":0}]
[{"$f":"+轉帳過程檔!A1443","v":0},{"$f":"+轉帳過程檔!C1443","v":0},{"$f":"+轉帳過程檔!G1443","v":0},{"$f":"+轉帳過程檔!B1443","v":0}]
[{"$f":"+轉帳過程檔!A1444","v":0},{"$f":"+轉帳過程檔!C1444","v":0},{"$f":"+轉帳過程檔!G1444","v":0},{"$f":"+轉帳過程檔!B1444","v":0}]
[{"$f":"+轉帳過程檔!A1445","v":0},{"$f":"+轉帳過程檔!C1445","v":0},{"$f":"+轉帳過程檔!G1445","v":0},{"$f":"+轉帳過程檔!B1445","v":0}]
[{"$f":"+轉帳過程檔!A1446","v":0},{"$f":"+轉帳過程檔!C1446","v":0},{"$f":"+轉帳過程檔!G1446","v":0},{"$f":"+轉帳過程檔!B1446","v":0}]
[{"$f":"+轉帳過程檔!A1447","v":0},{"$f":"+轉帳過程檔!C1447","v":0},{"$f":"+轉帳過程檔!G1447","v":0},{"$f":"+轉帳過程檔!B1447","v":0}]
[{"$f":"+轉帳過程檔!A1448","v":0},{"$f":"+轉帳過程檔!C1448","v":0},{"$f":"+轉帳過程檔!G1448","v":0},{"$f":"+轉帳過程檔!B1448","v":0}]
[{"$f":"+轉帳過程檔!A1449","v":0},{"$f":"+轉帳過程檔!C1449","v":0},{"$f":"+轉帳過程檔!G1449","v":0},{"$f":"+轉帳過程檔!B1449","v":0}]
[{"$f":"+轉帳過程檔!A1450","v":0},{"$f":"+轉帳過程檔!C1450","v":0},{"$f":"+轉帳過程檔!G1450","v":0},{"$f":"+轉帳過程檔!B1450","v":0}]
[{"$f":"+轉帳過程檔!A1451","v":0},{"$f":"+轉帳過程檔!C1451","v":0},{"$f":"+轉帳過程檔!G1451","v":0},{"$f":"+轉帳過程檔!B1451","v":0}]
[{"$f":"+轉帳過程檔!A1452","v":0},{"$f":"+轉帳過程檔!C1452","v":0},{"$f":"+轉帳過程檔!G1452","v":0},{"$f":"+轉帳過程檔!B1452","v":0}]
[{"$f":"+轉帳過程檔!A1453","v":0},{"$f":"+轉帳過程檔!C1453","v":0},{"$f":"+轉帳過程檔!G1453","v":0},{"$f":"+轉帳過程檔!B1453","v":0}]
[{"$f":"+轉帳過程檔!A1454","v":0},{"$f":"+轉帳過程檔!C1454","v":0},{"$f":"+轉帳過程檔!G1454","v":0},{"$f":"+轉帳過程檔!B1454","v":0}]
[{"$f":"+轉帳過程檔!A1455","v":0},{"$f":"+轉帳過程檔!C1455","v":0},{"$f":"+轉帳過程檔!G1455","v":0},{"$f":"+轉帳過程檔!B1455","v":0}]
[{"$f":"+轉帳過程檔!A1456","v":0},{"$f":"+轉帳過程檔!C1456","v":0},{"$f":"+轉帳過程檔!G1456","v":0},{"$f":"+轉帳過程檔!B1456","v":0}]
[{"$f":"+轉帳過程檔!A1457","v":0},{"$f":"+轉帳過程檔!C1457","v":0},{"$f":"+轉帳過程檔!G1457","v":0},{"$f":"+轉帳過程檔!B1457","v":0}]
[{"$f":"+轉帳過程檔!A1458","v":0},{"$f":"+轉帳過程檔!C1458","v":0},{"$f":"+轉帳過程檔!G1458","v":0},{"$f":"+轉帳過程檔!B1458","v":0}]
[{"$f":"+轉帳過程檔!A1459","v":0},{"$f":"+轉帳過程檔!C1459","v":0},{"$f":"+轉帳過程檔!G1459","v":0},{"$f":"+轉帳過程檔!B1459","v":0}]
[{"$f":"+轉帳過程檔!A1460","v":0},{"$f":"+轉帳過程檔!C1460","v":0},{"$f":"+轉帳過程檔!G1460","v":0},{"$f":"+轉帳過程檔!B1460","v":0}]
[{"$f":"+轉帳過程檔!A1461","v":0},{"$f":"+轉帳過程檔!C1461","v":0},{"$f":"+轉帳過程檔!G1461","v":0},{"$f":"+轉帳過程檔!B1461","v":0}]
[{"$f":"+轉帳過程檔!A1462","v":0},{"$f":"+轉帳過程檔!C1462","v":0},{"$f":"+轉帳過程檔!G1462","v":0},{"$f":"+轉帳過程檔!B1462","v":0}]
[{"$f":"+轉帳過程檔!A1463","v":0},{"$f":"+轉帳過程檔!C1463","v":0},{"$f":"+轉帳過程檔!G1463","v":0},{"$f":"+轉帳過程檔!B1463","v":0}]
[{"$f":"+轉帳過程檔!A1464","v":0},{"$f":"+轉帳過程檔!C1464","v":0},{"$f":"+轉帳過程檔!G1464","v":0},{"$f":"+轉帳過程檔!B1464","v":0}]
[{"$f":"+轉帳過程檔!A1465","v":0},{"$f":"+轉帳過程檔!C1465","v":0},{"$f":"+轉帳過程檔!G1465","v":0},{"$f":"+轉帳過程檔!B1465","v":0}]
[{"$f":"+轉帳過程檔!A1466","v":0},{"$f":"+轉帳過程檔!C1466","v":0},{"$f":"+轉帳過程檔!G1466","v":0},{"$f":"+轉帳過程檔!B1466","v":0}]
[{"$f":"+轉帳過程檔!A1467","v":0},{"$f":"+轉帳過程檔!C1467","v":0},{"$f":"+轉帳過程檔!G1467","v":0},{"$f":"+轉帳過程檔!B1467","v":0}]
[{"$f":"+轉帳過程檔!A1468","v":0},{"$f":"+轉帳過程檔!C1468","v":0},{"$f":"+轉帳過程檔!G1468","v":0},{"$f":"+轉帳過程檔!B1468","v":0}]
[{"$f":"+轉帳過程檔!A1469","v":0},{"$f":"+轉帳過程檔!C1469","v":0},{"$f":"+轉帳過程檔!G1469","v":0},{"$f":"+轉帳過程檔!B1469","v":0}]
[{"$f":"+轉帳過程檔!A1470","v":0},{"$f":"+轉帳過程檔!C1470","v":0},{"$f":"+轉帳過程檔!G1470","v":0},{"$f":"+轉帳過程檔!B1470","v":0}]
[{"$f":"+轉帳過程檔!A1471","v":0},{"$f":"+轉帳過程檔!C1471","v":0},{"$f":"+轉帳過程檔!G1471","v":0},{"$f":"+轉帳過程檔!B1471","v":0}]
[{"$f":"+轉帳過程檔!A1472","v":0},{"$f":"+轉帳過程檔!C1472","v":0},{"$f":"+轉帳過程檔!G1472","v":0},{"$f":"+轉帳過程檔!B1472","v":0}]
[{"$f":"+轉帳過程檔!A1473","v":0},{"$f":"+轉帳過程檔!C1473","v":0},{"$f":"+轉帳過程檔!G1473","v":0},{"$f":"+轉帳過程檔!B1473","v":0}]
[{"$f":"+轉帳過程檔!A1474","v":0},{"$f":"+轉帳過程檔!C1474","v":0},{"$f":"+轉帳過程檔!G1474","v":0},{"$f":"+轉帳過程檔!B1474","v":0}]
[{"$f":"+轉帳過程檔!A1475","v":0},{"$f":"+轉帳過程檔!C1475","v":0},{"$f":"+轉帳過程檔!G1475","v":0},{"$f":"+轉帳過程檔!B1475","v":0}]
[{"$f":"+轉帳過程檔!A1476","v":0},{"$f":"+轉帳過程檔!C1476","v":0},{"$f":"+轉帳過程檔!G1476","v":0},{"$f":"+轉帳過程檔!B1476","v":0}]
[{"$f":"+轉帳過程檔!A1477","v":0},{"$f":"+轉帳過程檔!C1477","v":0},{"$f":"+轉帳過程檔!G1477","v":0},{"$f":"+轉帳過程檔!B1477","v":0}]
[{"$f":"+轉帳過程檔!A1478","v":0},{"$f":"+轉帳過程檔!C1478","v":0},{"$f":"+轉帳過程檔!G1478","v":0},{"$f":"+轉帳過程檔!B1478","v":0}]
[{"$f":"+轉帳過程檔!A1479","v":0},{"$f":"+轉帳過程檔!C1479","v":0},{"$f":"+轉帳過程檔!G1479","v":0},{"$f":"+轉帳過程檔!B1479","v":0}]
[{"$f":"+轉帳過程檔!A1480","v":0},{"$f":"+轉帳過程檔!C1480","v":0},{"$f":"+轉帳過程檔!G1480","v":0},{"$f":"+轉帳過程檔!B1480","v":0}]
[{"$f":"+轉帳過程檔!A1481","v":0},{"$f":"+轉帳過程檔!C1481","v":0},{"$f":"+轉帳過程檔!G1481","v":0},{"$f":"+轉帳過程檔!B1481","v":0}]
[{"$f":"+轉帳過程檔!A1482","v":0},{"$f":"+轉帳過程檔!C1482","v":0},{"$f":"+轉帳過程檔!G1482","v":0},{"$f":"+轉帳過程檔!B1482","v":0}]
[{"$f":"+轉帳過程檔!A1483","v":0},{"$f":"+轉帳過程檔!C1483","v":0},{"$f":"+轉帳過程檔!G1483","v":0},{"$f":"+轉帳過程檔!B1483","v":0}]
[{"$f":"+轉帳過程檔!A1484","v":0},{"$f":"+轉帳過程檔!C1484","v":0},{"$f":"+轉帳過程檔!G1484","v":0},{"$f":"+轉帳過程檔!B1484","v":0}]
[{"$f":"+轉帳過程檔!A1485","v":0},{"$f":"+轉帳過程檔!C1485","v":0},{"$f":"+轉帳過程檔!G1485","v":0},{"$f":"+轉帳過程檔!B1485","v":0}]
[{"$f":"+轉帳過程檔!A1486","v":0},{"$f":"+轉帳過程檔!C1486","v":0},{"$f":"+轉帳過程檔!G1486","v":0},{"$f":"+轉帳過程檔!B1486","v":0}]
[{"$f":"+轉帳過程檔!A1487","v":0},{"$f":"+轉帳過程檔!C1487","v":0},{"$f":"+轉帳過程檔!G1487","v":0},{"$f":"+轉帳過程檔!B1487","v":0}]
[{"$f":"+轉帳過程檔!A1488","v":0},{"$f":"+轉帳過程檔!C1488","v":0},{"$f":"+轉帳過程檔!G1488","v":0},{"$f":"+轉帳過程檔!B1488","v":0}]
[{"$f":"+轉帳過程檔!A1489","v":0},{"$f":"+轉帳過程檔!C1489","v":0},{"$f":"+轉帳過程檔!G1489","v":0},{"$f":"+轉帳過程檔!B1489","v":0}]
[{"$f":"+轉帳過程檔!A1490","v":0},{"$f":"+轉帳過程檔!C1490","v":0},{"$f":"+轉帳過程檔!G1490","v":0},{"$f":"+轉帳過程檔!B1490","v":0}]
[{"$f":"+轉帳過程檔!A1491","v":0},{"$f":"+轉帳過程檔!C1491","v":0},{"$f":"+轉帳過程檔!G1491","v":0},{"$f":"+轉帳過程檔!B1491","v":0}]
[{"$f":"+轉帳過程檔!A1492","v":0},{"$f":"+轉帳過程檔!C1492","v":0},{"$f":"+轉帳過程檔!G1492","v":0},{"$f":"+轉帳過程檔!B1492","v":0}]
[{"$f":"+轉帳過程檔!A1493","v":0},{"$f":"+轉帳過程檔!C1493","v":0},{"$f":"+轉帳過程檔!G1493","v":0},{"$f":"+轉帳過程檔!B1493","v":0}]
[{"$f":"+轉帳過程檔!A1494","v":0},{"$f":"+轉帳過程檔!C1494","v":0},{"$f":"+轉帳過程檔!G1494","v":0},{"$f":"+轉帳過程檔!B1494","v":0}]
[{"$f":"+轉帳過程檔!A1495","v":0},{"$f":"+轉帳過程檔!C1495","v":0},{"$f":"+轉帳過程檔!G1495","v":0},{"$f":"+轉帳過程檔!B1495","v":0}]
[{"$f":"+轉帳過程檔!A1496","v":0},{"$f":"+轉帳過程檔!C1496","v":0},{"$f":"+轉帳過程檔!G1496","v":0},{"$f":"+轉帳過程檔!B1496","v":0}]
[{"$f":"+轉帳過程檔!A1497","v":0},{"$f":"+轉帳過程檔!C1497","v":0},{"$f":"+轉帳過程檔!G1497","v":0},{"$f":"+轉帳過程檔!B1497","v":0}]
[{"$f":"+轉帳過程檔!A1498","v":0},{"$f":"+轉帳過程檔!C1498","v":0},{"$f":"+轉帳過程檔!G1498","v":0},{"$f":"+轉帳過程檔!B1498","v":0}]
[{"$f":"+轉帳過程檔!A1499","v":0},{"$f":"+轉帳過程檔!C1499","v":0},{"$f":"+轉帳過程檔!G1499","v":0},{"$f":"+轉帳過程檔!B1499","v":0}]
[{"$f":"+轉帳過程檔!A1500","v":0},{"$f":"+轉帳過程檔!C1500","v":0},{"$f":"+轉帳過程檔!G1500","v":0},{"$f":"+轉帳過程檔!B1500","v":0}]
[{"$f":"+轉帳過程檔!A1501","v":0},{"$f":"+轉帳過程檔!C1501","v":0},{"$f":"+轉帳過程檔!G1501","v":0},{"$f":"+轉帳過程檔!B1501","v":0}]
[{"$f":"+轉帳過程檔!A1502","v":0},{"$f":"+轉帳過程檔!C1502","v":0},{"$f":"+轉帳過程檔!G1502","v":0},{"$f":"+轉帳過程檔!B1502","v":0}]
[{"$f":"+轉帳過程檔!A1503","v":0},{"$f":"+轉帳過程檔!C1503","v":0},{"$f":"+轉帳過程檔!G1503","v":0},{"$f":"+轉帳過程檔!B1503","v":0}]
[{"$f":"+轉帳過程檔!A1504","v":0},{"$f":"+轉帳過程檔!C1504","v":0},{"$f":"+轉帳過程檔!G1504","v":0},{"$f":"+轉帳過程檔!B1504","v":0}]
[{"$f":"+轉帳過程檔!A1505","v":0},{"$f":"+轉帳過程檔!C1505","v":0},{"$f":"+轉帳過程檔!G1505","v":0},{"$f":"+轉帳過程檔!B1505","v":0}]
[{"$f":"+轉帳過程檔!A1506","v":0},{"$f":"+轉帳過程檔!C1506","v":0},{"$f":"+轉帳過程檔!G1506","v":0},{"$f":"+轉帳過程檔!B1506","v":0}]
[{"$f":"+轉帳過程檔!A1507","v":0},{"$f":"+轉帳過程檔!C1507","v":0},{"$f":"+轉帳過程檔!G1507","v":0},{"$f":"+轉帳過程檔!B1507","v":0}]
[{"$f":"+轉帳過程檔!A1508","v":0},{"$f":"+轉帳過程檔!C1508","v":0},{"$f":"+轉帳過程檔!G1508","v":0},{"$f":"+轉帳過程檔!B1508","v":0}]
[{"$f":"+轉帳過程檔!A1509","v":0},{"$f":"+轉帳過程檔!C1509","v":0},{"$f":"+轉帳過程檔!G1509","v":0},{"$f":"+轉帳過程檔!B1509","v":0}]
[{"$f":"+轉帳過程檔!A1510","v":0},{"$f":"+轉帳過程檔!C1510","v":0},{"$f":"+轉帳過程檔!G1510","v":0},{"$f":"+轉帳過程檔!B1510","v":0}]
[{"$f":"+轉帳過程檔!A1511","v":0},{"$f":"+轉帳過程檔!C1511","v":0},{"$f":"+轉帳過程檔!G1511","v":0},{"$f":"+轉帳過程檔!B1511","v":0}]
[{"$f":"+轉帳過程檔!A1512","v":0},{"$f":"+轉帳過程檔!C1512","v":0},{"$f":"+轉帳過程檔!G1512","v":0},{"$f":"+轉帳過程檔!B1512","v":0}]
[{"$f":"+轉帳過程檔!A1513","v":0},{"$f":"+轉帳過程檔!C1513","v":0},{"$f":"+轉帳過程檔!G1513","v":0},{"$f":"+轉帳過程檔!B1513","v":0}]
[{"$f":"+轉帳過程檔!A1514","v":0},{"$f":"+轉帳過程檔!C1514","v":0},{"$f":"+轉帳過程檔!G1514","v":0},{"$f":"+轉帳過程檔!B1514","v":0}]
[{"$f":"+轉帳過程檔!A1515","v":0},{"$f":"+轉帳過程檔!C1515","v":0},{"$f":"+轉帳過程檔!G1515","v":0},{"$f":"+轉帳過程檔!B1515","v":0}]
[{"$f":"+轉帳過程檔!A1516","v":0},{"$f":"+轉帳過程檔!C1516","v":0},{"$f":"+轉帳過程檔!G1516","v":0},{"$f":"+轉帳過程檔!B1516","v":0}]
[{"$f":"+轉帳過程檔!A1517","v":0},{"$f":"+轉帳過程檔!C1517","v":0},{"$f":"+轉帳過程檔!G1517","v":0},{"$f":"+轉帳過程檔!B1517","v":0}]
[{"$f":"+轉帳過程檔!A1518","v":0},{"$f":"+轉帳過程檔!C1518","v":0},{"$f":"+轉帳過程檔!G1518","v":0},{"$f":"+轉帳過程檔!B1518","v":0}]
[{"$f":"+轉帳過程檔!A1519","v":0},{"$f":"+轉帳過程檔!C1519","v":0},{"$f":"+轉帳過程檔!G1519","v":0},{"$f":"+轉帳過程檔!B1519","v":0}]
[{"$f":"+轉帳過程檔!A1520","v":0},{"$f":"+轉帳過程檔!C1520","v":0},{"$f":"+轉帳過程檔!G1520","v":0},{"$f":"+轉帳過程檔!B1520","v":0}]
[{"$f":"+轉帳過程檔!A1521","v":0},{"$f":"+轉帳過程檔!C1521","v":0},{"$f":"+轉帳過程檔!G1521","v":0},{"$f":"+轉帳過程檔!B1521","v":0}]
[{"$f":"+轉帳過程檔!A1522","v":0},{"$f":"+轉帳過程檔!C1522","v":0},{"$f":"+轉帳過程檔!G1522","v":0},{"$f":"+轉帳過程檔!B1522","v":0}]
[{"$f":"+轉帳過程檔!A1523","v":0},{"$f":"+轉帳過程檔!C1523","v":0},{"$f":"+轉帳過程檔!G1523","v":0},{"$f":"+轉帳過程檔!B1523","v":0}]
[{"$f":"+轉帳過程檔!A1524","v":0},{"$f":"+轉帳過程檔!C1524","v":0},{"$f":"+轉帳過程檔!G1524","v":0},{"$f":"+轉帳過程檔!B1524","v":0}]
[{"$f":"+轉帳過程檔!A1525","v":0},{"$f":"+轉帳過程檔!C1525","v":0},{"$f":"+轉帳過程檔!G1525","v":0},{"$f":"+轉帳過程檔!B1525","v":0}]
[{"$f":"+轉帳過程檔!A1526","v":0},{"$f":"+轉帳過程檔!C1526","v":0},{"$f":"+轉帳過程檔!G1526","v":0},{"$f":"+轉帳過程檔!B1526","v":0}]
[{"$f":"+轉帳過程檔!A1527","v":0},{"$f":"+轉帳過程檔!C1527","v":0},{"$f":"+轉帳過程檔!G1527","v":0},{"$f":"+轉帳過程檔!B1527","v":0}]
[{"$f":"+轉帳過程檔!A1528","v":0},{"$f":"+轉帳過程檔!C1528","v":0},{"$f":"+轉帳過程檔!G1528","v":0},{"$f":"+轉帳過程檔!B1528","v":0}]
[{"$f":"+轉帳過程檔!A1529","v":0},{"$f":"+轉帳過程檔!C1529","v":0},{"$f":"+轉帳過程檔!G1529","v":0},{"$f":"+轉帳過程檔!B1529","v":0}]
[{"$f":"+轉帳過程檔!A1530","v":0},{"$f":"+轉帳過程檔!C1530","v":0},{"$f":"+轉帳過程檔!G1530","v":0},{"$f":"+轉帳過程檔!B1530","v":0}]
[{"$f":"+轉帳過程檔!A1531","v":0},{"$f":"+轉帳過程檔!C1531","v":0},{"$f":"+轉帳過程檔!G1531","v":0},{"$f":"+轉帳過程檔!B1531","v":0}]
[{"$f":"+轉帳過程檔!A1532","v":0},{"$f":"+轉帳過程檔!C1532","v":0},{"$f":"+轉帳過程檔!G1532","v":0},{"$f":"+轉帳過程檔!B1532","v":0}]
[{"$f":"+轉帳過程檔!A1533","v":0},{"$f":"+轉帳過程檔!C1533","v":0},{"$f":"+轉帳過程檔!G1533","v":0},{"$f":"+轉帳過程檔!B1533","v":0}]
[{"$f":"+轉帳過程檔!A1534","v":0},{"$f":"+轉帳過程檔!C1534","v":0},{"$f":"+轉帳過程檔!G1534","v":0},{"$f":"+轉帳過程檔!B1534","v":0}]
[{"$f":"+轉帳過程檔!A1535","v":0},{"$f":"+轉帳過程檔!C1535","v":0},{"$f":"+轉帳過程檔!G1535","v":0},{"$f":"+轉帳過程檔!B1535","v":0}]
[{"$f":"+轉帳過程檔!A1536","v":0},{"$f":"+轉帳過程檔!C1536","v":0},{"$f":"+轉帳過程檔!G1536","v":0},{"$f":"+轉帳過程檔!B1536","v":0}]
[{"$f":"+轉帳過程檔!A1537","v":0},{"$f":"+轉帳過程檔!C1537","v":0},{"$f":"+轉帳過程檔!G1537","v":0},{"$f":"+轉帳過程檔!B1537","v":0}]
[{"$f":"+轉帳過程檔!A1538","v":0},{"$f":"+轉帳過程檔!C1538","v":0},{"$f":"+轉帳過程檔!G1538","v":0},{"$f":"+轉帳過程檔!B1538","v":0}]
[{"$f":"+轉帳過程檔!A1539","v":0},{"$f":"+轉帳過程檔!C1539","v":0},{"$f":"+轉帳過程檔!G1539","v":0},{"$f":"+轉帳過程檔!B1539","v":0}]
[{"$f":"+轉帳過程檔!A1540","v":0},{"$f":"+轉帳過程檔!C1540","v":0},{"$f":"+轉帳過程檔!G1540","v":0},{"$f":"+轉帳過程檔!B1540","v":0}]
[{"$f":"+轉帳過程檔!A1541","v":0},{"$f":"+轉帳過程檔!C1541","v":0},{"$f":"+轉帳過程檔!G1541","v":0},{"$f":"+轉帳過程檔!B1541","v":0}]
[{"$f":"+轉帳過程檔!A1542","v":0},{"$f":"+轉帳過程檔!C1542","v":0},{"$f":"+轉帳過程檔!G1542","v":0},{"$f":"+轉帳過程檔!B1542","v":0}]
[{"$f":"+轉帳過程檔!A1543","v":0},{"$f":"+轉帳過程檔!C1543","v":0},{"$f":"+轉帳過程檔!G1543","v":0},{"$f":"+轉帳過程檔!B1543","v":0}]
[{"$f":"+轉帳過程檔!A1544","v":0},{"$f":"+轉帳過程檔!C1544","v":0},{"$f":"+轉帳過程檔!G1544","v":0},{"$f":"+轉帳過程檔!B1544","v":0}]
[{"$f":"+轉帳過程檔!A1545","v":0},{"$f":"+轉帳過程檔!C1545","v":0},{"$f":"+轉帳過程檔!G1545","v":0},{"$f":"+轉帳過程檔!B1545","v":0}]
[{"$f":"+轉帳過程檔!A1546","v":0},{"$f":"+轉帳過程檔!C1546","v":0},{"$f":"+轉帳過程檔!G1546","v":0},{"$f":"+轉帳過程檔!B1546","v":0}]
[{"$f":"+轉帳過程檔!A1547","v":0},{"$f":"+轉帳過程檔!C1547","v":0},{"$f":"+轉帳過程檔!G1547","v":0},{"$f":"+轉帳過程檔!B1547","v":0}]
[{"$f":"+轉帳過程檔!A1548","v":0},{"$f":"+轉帳過程檔!C1548","v":0},{"$f":"+轉帳過程檔!G1548","v":0},{"$f":"+轉帳過程檔!B1548","v":0}]
[{"$f":"+轉帳過程檔!A1549","v":0},{"$f":"+轉帳過程檔!C1549","v":0},{"$f":"+轉帳過程檔!G1549","v":0},{"$f":"+轉帳過程檔!B1549","v":0}]
[{"$f":"+轉帳過程檔!A1550","v":0},{"$f":"+轉帳過程檔!C1550","v":0},{"$f":"+轉帳過程檔!G1550","v":0},{"$f":"+轉帳過程檔!B1550","v":0}]
[{"$f":"+轉帳過程檔!A1551","v":0},{"$f":"+轉帳過程檔!C1551","v":0},{"$f":"+轉帳過程檔!G1551","v":0},{"$f":"+轉帳過程檔!B1551","v":0}]
[{"$f":"+轉帳過程檔!A1552","v":0},{"$f":"+轉帳過程檔!C1552","v":0},{"$f":"+轉帳過程檔!G1552","v":0},{"$f":"+轉帳過程檔!B1552","v":0}]
[{"$f":"+轉帳過程檔!A1553","v":0},{"$f":"+轉帳過程檔!C1553","v":0},{"$f":"+轉帳過程檔!G1553","v":0},{"$f":"+轉帳過程檔!B1553","v":0}]
[{"$f":"+轉帳過程檔!A1554","v":0},{"$f":"+轉帳過程檔!C1554","v":0},{"$f":"+轉帳過程檔!G1554","v":0},{"$f":"+轉帳過程檔!B1554","v":0}]
[{"$f":"+轉帳過程檔!A1555","v":0},{"$f":"+轉帳過程檔!C1555","v":0},{"$f":"+轉帳過程檔!G1555","v":0},{"$f":"+轉帳過程檔!B1555","v":0}]
[{"$f":"+轉帳過程檔!A1556","v":0},{"$f":"+轉帳過程檔!C1556","v":0},{"$f":"+轉帳過程檔!G1556","v":0},{"$f":"+轉帳過程檔!B1556","v":0}]
[{"$f":"+轉帳過程檔!A1557","v":0},{"$f":"+轉帳過程檔!C1557","v":0},{"$f":"+轉帳過程檔!G1557","v":0},{"$f":"+轉帳過程檔!B1557","v":0}]
[{"$f":"+轉帳過程檔!A1558","v":0},{"$f":"+轉帳過程檔!C1558","v":0},{"$f":"+轉帳過程檔!G1558","v":0},{"$f":"+轉帳過程檔!B1558","v":0}]
[{"$f":"+轉帳過程檔!A1559","v":0},{"$f":"+轉帳過程檔!C1559","v":0},{"$f":"+轉帳過程檔!G1559","v":0},{"$f":"+轉帳過程檔!B1559","v":0}]
[{"$f":"+轉帳過程檔!A1560","v":0},{"$f":"+轉帳過程檔!C1560","v":0},{"$f":"+轉帳過程檔!G1560","v":0},{"$f":"+轉帳過程檔!B1560","v":0}]
[{"$f":"+轉帳過程檔!A1561","v":0},{"$f":"+轉帳過程檔!C1561","v":0},{"$f":"+轉帳過程檔!G1561","v":0},{"$f":"+轉帳過程檔!B1561","v":0}]
[{"$f":"+轉帳過程檔!A1562","v":0},{"$f":"+轉帳過程檔!C1562","v":0},{"$f":"+轉帳過程檔!G1562","v":0},{"$f":"+轉帳過程檔!B1562","v":0}]
[{"$f":"+轉帳過程檔!A1563","v":0},{"$f":"+轉帳過程檔!C1563","v":0},{"$f":"+轉帳過程檔!G1563","v":0},{"$f":"+轉帳過程檔!B1563","v":0}]
[{"$f":"+轉帳過程檔!A1564","v":0},{"$f":"+轉帳過程檔!C1564","v":0},{"$f":"+轉帳過程檔!G1564","v":0},{"$f":"+轉帳過程檔!B1564","v":0}]
[{"$f":"+轉帳過程檔!A1565","v":0},{"$f":"+轉帳過程檔!C1565","v":0},{"$f":"+轉帳過程檔!G1565","v":0},{"$f":"+轉帳過程檔!B1565","v":0}]
[{"$f":"+轉帳過程檔!A1566","v":0},{"$f":"+轉帳過程檔!C1566","v":0},{"$f":"+轉帳過程檔!G1566","v":0},{"$f":"+轉帳過程檔!B1566","v":0}]
[{"$f":"+轉帳過程檔!A1567","v":0},{"$f":"+轉帳過程檔!C1567","v":0},{"$f":"+轉帳過程檔!G1567","v":0},{"$f":"+轉帳過程檔!B1567","v":0}]
[{"$f":"+轉帳過程檔!A1568","v":0},{"$f":"+轉帳過程檔!C1568","v":0},{"$f":"+轉帳過程檔!G1568","v":0},{"$f":"+轉帳過程檔!B1568","v":0}]
[{"$f":"+轉帳過程檔!A1569","v":0},{"$f":"+轉帳過程檔!C1569","v":0},{"$f":"+轉帳過程檔!G1569","v":0},{"$f":"+轉帳過程檔!B1569","v":0}]
[{"$f":"+轉帳過程檔!A1570","v":0},{"$f":"+轉帳過程檔!C1570","v":0},{"$f":"+轉帳過程檔!G1570","v":0},{"$f":"+轉帳過程檔!B1570","v":0}]
[{"$f":"+轉帳過程檔!A1571","v":0},{"$f":"+轉帳過程檔!C1571","v":0},{"$f":"+轉帳過程檔!G1571","v":0},{"$f":"+轉帳過程檔!B1571","v":0}]
[{"$f":"+轉帳過程檔!A1572","v":0},{"$f":"+轉帳過程檔!C1572","v":0},{"$f":"+轉帳過程檔!G1572","v":0},{"$f":"+轉帳過程檔!B1572","v":0}]
[{"$f":"+轉帳過程檔!A1573","v":0},{"$f":"+轉帳過程檔!C1573","v":0},{"$f":"+轉帳過程檔!G1573","v":0},{"$f":"+轉帳過程檔!B1573","v":0}]
[{"$f":"+轉帳過程檔!A1574","v":0},{"$f":"+轉帳過程檔!C1574","v":0},{"$f":"+轉帳過程檔!G1574","v":0},{"$f":"+轉帳過程檔!B1574","v":0}]
[{"$f":"+轉帳過程檔!A1575","v":0},{"$f":"+轉帳過程檔!C1575","v":0},{"$f":"+轉帳過程檔!G1575","v":0},{"$f":"+轉帳過程檔!B1575","v":0}]
[{"$f":"+轉帳過程檔!A1576","v":0},{"$f":"+轉帳過程檔!C1576","v":0},{"$f":"+轉帳過程檔!G1576","v":0},{"$f":"+轉帳過程檔!B1576","v":0}]
[{"$f":"+轉帳過程檔!A1577","v":0},{"$f":"+轉帳過程檔!C1577","v":0},{"$f":"+轉帳過程檔!G1577","v":0},{"$f":"+轉帳過程檔!B1577","v":0}]
[{"$f":"+轉帳過程檔!A1578","v":0},{"$f":"+轉帳過程檔!C1578","v":0},{"$f":"+轉帳過程檔!G1578","v":0},{"$f":"+轉帳過程檔!B1578","v":0}]
[{"$f":"+轉帳過程檔!A1579","v":0},{"$f":"+轉帳過程檔!C1579","v":0},{"$f":"+轉帳過程檔!G1579","v":0},{"$f":"+轉帳過程檔!B1579","v":0}]
[{"$f":"+轉帳過程檔!A1580","v":0},{"$f":"+轉帳過程檔!C1580","v":0},{"$f":"+轉帳過程檔!G1580","v":0},{"$f":"+轉帳過程檔!B1580","v":0}]
[{"$f":"+轉帳過程檔!A1581","v":0},{"$f":"+轉帳過程檔!C1581","v":0},{"$f":"+轉帳過程檔!G1581","v":0},{"$f":"+轉帳過程檔!B1581","v":0}]
[{"$f":"+轉帳過程檔!A1582","v":0},{"$f":"+轉帳過程檔!C1582","v":0},{"$f":"+轉帳過程檔!G1582","v":0},{"$f":"+轉帳過程檔!B1582","v":0}]
[{"$f":"+轉帳過程檔!A1583","v":0},{"$f":"+轉帳過程檔!C1583","v":0},{"$f":"+轉帳過程檔!G1583","v":0},{"$f":"+轉帳過程檔!B1583","v":0}]
[{"$f":"+轉帳過程檔!A1584","v":0},{"$f":"+轉帳過程檔!C1584","v":0},{"$f":"+轉帳過程檔!G1584","v":0},{"$f":"+轉帳過程檔!B1584","v":0}]
[{"$f":"+轉帳過程檔!A1585","v":0},{"$f":"+轉帳過程檔!C1585","v":0},{"$f":"+轉帳過程檔!G1585","v":0},{"$f":"+轉帳過程檔!B1585","v":0}]
[{"$f":"+轉帳過程檔!A1586","v":0},{"$f":"+轉帳過程檔!C1586","v":0},{"$f":"+轉帳過程檔!G1586","v":0},{"$f":"+轉帳過程檔!B1586","v":0}]
[{"$f":"+轉帳過程檔!A1587","v":0},{"$f":"+轉帳過程檔!C1587","v":0},{"$f":"+轉帳過程檔!G1587","v":0},{"$f":"+轉帳過程檔!B1587","v":0}]
[{"$f":"+轉帳過程檔!A1588","v":0},{"$f":"+轉帳過程檔!C1588","v":0},{"$f":"+轉帳過程檔!G1588","v":0},{"$f":"+轉帳過程檔!B1588","v":0}]
[{"$f":"+轉帳過程檔!A1589","v":0},{"$f":"+轉帳過程檔!C1589","v":0},{"$f":"+轉帳過程檔!G1589","v":0},{"$f":"+轉帳過程檔!B1589","v":0}]
[{"$f":"+轉帳過程檔!A1590","v":0},{"$f":"+轉帳過程檔!C1590","v":0},{"$f":"+轉帳過程檔!G1590","v":0},{"$f":"+轉帳過程檔!B1590","v":0}]
[{"$f":"+轉帳過程檔!A1591","v":0},{"$f":"+轉帳過程檔!C1591","v":0},{"$f":"+轉帳過程檔!G1591","v":0},{"$f":"+轉帳過程檔!B1591","v":0}]
[{"$f":"+轉帳過程檔!A1592","v":0},{"$f":"+轉帳過程檔!C1592","v":0},{"$f":"+轉帳過程檔!G1592","v":0},{"$f":"+轉帳過程檔!B1592","v":0}]
[{"$f":"+轉帳過程檔!A1593","v":0},{"$f":"+轉帳過程檔!C1593","v":0},{"$f":"+轉帳過程檔!G1593","v":0},{"$f":"+轉帳過程檔!B1593","v":0}]
[{"$f":"+轉帳過程檔!A1594","v":0},{"$f":"+轉帳過程檔!C1594","v":0},{"$f":"+轉帳過程檔!G1594","v":0},{"$f":"+轉帳過程檔!B1594","v":0}]
[{"$f":"+轉帳過程檔!A1595","v":0},{"$f":"+轉帳過程檔!C1595","v":0},{"$f":"+轉帳過程檔!G1595","v":0},{"$f":"+轉帳過程檔!B1595","v":0}]
[{"$f":"+轉帳過程檔!A1596","v":0},{"$f":"+轉帳過程檔!C1596","v":0},{"$f":"+轉帳過程檔!G1596","v":0},{"$f":"+轉帳過程檔!B1596","v":0}]
[{"$f":"+轉帳過程檔!A1597","v":0},{"$f":"+轉帳過程檔!C1597","v":0},{"$f":"+轉帳過程檔!G1597","v":0},{"$f":"+轉帳過程檔!B1597","v":0}]
[{"$f":"+轉帳過程檔!A1598","v":0},{"$f":"+轉帳過程檔!C1598","v":0},{"$f":"+轉帳過程檔!G1598","v":0},{"$f":"+轉帳過程檔!B1598","v":0}]
[{"$f":"+轉帳過程檔!A1599","v":0},{"$f":"+轉帳過程檔!C1599","v":0},{"$f":"+轉帳過程檔!G1599","v":0},{"$f":"+轉帳過程檔!B1599","v":0}]
[{"$f":"+轉帳過程檔!A1600","v":0},{"$f":"+轉帳過程檔!C1600","v":0},{"$f":"+轉帳過程檔!G1600","v":0},{"$f":"+轉帳過程檔!B1600","v":0}]
[{"$f":"+轉帳過程檔!A1601","v":0},{"$f":"+轉帳過程檔!C1601","v":0},{"$f":"+轉帳過程檔!G1601","v":0},{"$f":"+轉帳過程檔!B1601","v":0}]
[{"$f":"+轉帳過程檔!A1602","v":0},{"$f":"+轉帳過程檔!C1602","v":0},{"$f":"+轉帳過程檔!G1602","v":0},{"$f":"+轉帳過程檔!B1602","v":0}]
[{"$f":"+轉帳過程檔!A1603","v":0},{"$f":"+轉帳過程檔!C1603","v":0},{"$f":"+轉帳過程檔!G1603","v":0},{"$f":"+轉帳過程檔!B1603","v":0}]
[{"$f":"+轉帳過程檔!A1604","v":0},{"$f":"+轉帳過程檔!C1604","v":0},{"$f":"+轉帳過程檔!G1604","v":0},{"$f":"+轉帳過程檔!B1604","v":0}]
[{"$f":"+轉帳過程檔!A1605","v":0},{"$f":"+轉帳過程檔!C1605","v":0},{"$f":"+轉帳過程檔!G1605","v":0},{"$f":"+轉帳過程檔!B1605","v":0}]
[{"$f":"+轉帳過程檔!A1606","v":0},{"$f":"+轉帳過程檔!C1606","v":0},{"$f":"+轉帳過程檔!G1606","v":0},{"$f":"+轉帳過程檔!B1606","v":0}]
[{"$f":"+轉帳過程檔!A1607","v":0},{"$f":"+轉帳過程檔!C1607","v":0},{"$f":"+轉帳過程檔!G1607","v":0},{"$f":"+轉帳過程檔!B1607","v":0}]
[{"$f":"+轉帳過程檔!A1608","v":0},{"$f":"+轉帳過程檔!C1608","v":0},{"$f":"+轉帳過程檔!G1608","v":0},{"$f":"+轉帳過程檔!B1608","v":0}]
[{"$f":"+轉帳過程檔!A1609","v":0},{"$f":"+轉帳過程檔!C1609","v":0},{"$f":"+轉帳過程檔!G1609","v":0},{"$f":"+轉帳過程檔!B1609","v":0}]
[{"$f":"+轉帳過程檔!A1610","v":0},{"$f":"+轉帳過程檔!C1610","v":0},{"$f":"+轉帳過程檔!G1610","v":0},{"$f":"+轉帳過程檔!B1610","v":0}]
[{"$f":"+轉帳過程檔!A1611","v":0},{"$f":"+轉帳過程檔!C1611","v":0},{"$f":"+轉帳過程檔!G1611","v":0},{"$f":"+轉帳過程檔!B1611","v":0}]
[{"$f":"+轉帳過程檔!A1612","v":0},{"$f":"+轉帳過程檔!C1612","v":0},{"$f":"+轉帳過程檔!G1612","v":0},{"$f":"+轉帳過程檔!B1612","v":0}]
[{"$f":"+轉帳過程檔!A1613","v":0},{"$f":"+轉帳過程檔!C1613","v":0},{"$f":"+轉帳過程檔!G1613","v":0},{"$f":"+轉帳過程檔!B1613","v":0}]
[{"$f":"+轉帳過程檔!A1614","v":0},{"$f":"+轉帳過程檔!C1614","v":0},{"$f":"+轉帳過程檔!G1614","v":0},{"$f":"+轉帳過程檔!B1614","v":0}]
[{"$f":"+轉帳過程檔!A1615","v":0},{"$f":"+轉帳過程檔!C1615","v":0},{"$f":"+轉帳過程檔!G1615","v":0},{"$f":"+轉帳過程檔!B1615","v":0}]
[{"$f":"+轉帳過程檔!A1616","v":0},{"$f":"+轉帳過程檔!C1616","v":0},{"$f":"+轉帳過程檔!G1616","v":0},{"$f":"+轉帳過程檔!B1616","v":0}]
[{"$f":"+轉帳過程檔!A1617","v":0},{"$f":"+轉帳過程檔!C1617","v":0},{"$f":"+轉帳過程檔!G1617","v":0},{"$f":"+轉帳過程檔!B1617","v":0}]
[{"$f":"+轉帳過程檔!A1618","v":0},{"$f":"+轉帳過程檔!C1618","v":0},{"$f":"+轉帳過程檔!G1618","v":0},{"$f":"+轉帳過程檔!B1618","v":0}]
[{"$f":"+轉帳過程檔!A1619","v":0},{"$f":"+轉帳過程檔!C1619","v":0},{"$f":"+轉帳過程檔!G1619","v":0},{"$f":"+轉帳過程檔!B1619","v":0}]
[{"$f":"+轉帳過程檔!A1620","v":0},{"$f":"+轉帳過程檔!C1620","v":0},{"$f":"+轉帳過程檔!G1620","v":0},{"$f":"+轉帳過程檔!B1620","v":0}]
[{"$f":"+轉帳過程檔!A1621","v":0},{"$f":"+轉帳過程檔!C1621","v":0},{"$f":"+轉帳過程檔!G1621","v":0},{"$f":"+轉帳過程檔!B1621","v":0}]
[{"$f":"+轉帳過程檔!A1622","v":0},{"$f":"+轉帳過程檔!C1622","v":0},{"$f":"+轉帳過程檔!G1622","v":0},{"$f":"+轉帳過程檔!B1622","v":0}]
[{"$f":"+轉帳過程檔!A1623","v":0},{"$f":"+轉帳過程檔!C1623","v":0},{"$f":"+轉帳過程檔!G1623","v":0},{"$f":"+轉帳過程檔!B1623","v":0}]
[{"$f":"+轉帳過程檔!A1624","v":0},{"$f":"+轉帳過程檔!C1624","v":0},{"$f":"+轉帳過程檔!G1624","v":0},{"$f":"+轉帳過程檔!B1624","v":0}]
[{"$f":"+轉帳過程檔!A1625","v":0},{"$f":"+轉帳過程檔!C1625","v":0},{"$f":"+轉帳過程檔!G1625","v":0},{"$f":"+轉帳過程檔!B1625","v":0}]
[{"$f":"+轉帳過程檔!A1626","v":0},{"$f":"+轉帳過程檔!C1626","v":0},{"$f":"+轉帳過程檔!G1626","v":0},{"$f":"+轉帳過程檔!B1626","v":0}]
[{"$f":"+轉帳過程檔!A1627","v":0},{"$f":"+轉帳過程檔!C1627","v":0},{"$f":"+轉帳過程檔!G1627","v":0},{"$f":"+轉帳過程檔!B1627","v":0}]
[{"$f":"+轉帳過程檔!A1628","v":0},{"$f":"+轉帳過程檔!C1628","v":0},{"$f":"+轉帳過程檔!G1628","v":0},{"$f":"+轉帳過程檔!B1628","v":0}]
[{"$f":"+轉帳過程檔!A1629","v":0},{"$f":"+轉帳過程檔!C1629","v":0},{"$f":"+轉帳過程檔!G1629","v":0},{"$f":"+轉帳過程檔!B1629","v":0}]
[{"$f":"+轉帳過程檔!A1630","v":0},{"$f":"+轉帳過程檔!C1630","v":0},{"$f":"+轉帳過程檔!G1630","v":0},{"$f":"+轉帳過程檔!B1630","v":0}]
[{"$f":"+轉帳過程檔!A1631","v":0},{"$f":"+轉帳過程檔!C1631","v":0},{"$f":"+轉帳過程檔!G1631","v":0},{"$f":"+轉帳過程檔!B1631","v":0}]
[{"$f":"+轉帳過程檔!A1632","v":0},{"$f":"+轉帳過程檔!C1632","v":0},{"$f":"+轉帳過程檔!G1632","v":0},{"$f":"+轉帳過程檔!B1632","v":0}]
[{"$f":"+轉帳過程檔!A1633","v":0},{"$f":"+轉帳過程檔!C1633","v":0},{"$f":"+轉帳過程檔!G1633","v":0},{"$f":"+轉帳過程檔!B1633","v":0}]
[{"$f":"+轉帳過程檔!A1634","v":0},{"$f":"+轉帳過程檔!C1634","v":0},{"$f":"+轉帳過程檔!G1634","v":0},{"$f":"+轉帳過程檔!B1634","v":0}]
[{"$f":"+轉帳過程檔!A1635","v":0},{"$f":"+轉帳過程檔!C1635","v":0},{"$f":"+轉帳過程檔!G1635","v":0},{"$f":"+轉帳過程檔!B1635","v":0}]
[{"$f":"+轉帳過程檔!A1636","v":0},{"$f":"+轉帳過程檔!C1636","v":0},{"$f":"+轉帳過程檔!G1636","v":0},{"$f":"+轉帳過程檔!B1636","v":0}]
[{"$f":"+轉帳過程檔!A1637","v":0},{"$f":"+轉帳過程檔!C1637","v":0},{"$f":"+轉帳過程檔!G1637","v":0},{"$f":"+轉帳過程檔!B1637","v":0}]
[{"$f":"+轉帳過程檔!A1638","v":0},{"$f":"+轉帳過程檔!C1638","v":0},{"$f":"+轉帳過程檔!G1638","v":0},{"$f":"+轉帳過程檔!B1638","v":0}]
[{"$f":"+轉帳過程檔!A1639","v":0},{"$f":"+轉帳過程檔!C1639","v":0},{"$f":"+轉帳過程檔!G1639","v":0},{"$f":"+轉帳過程檔!B1639","v":0}]
[{"$f":"+轉帳過程檔!A1640","v":0},{"$f":"+轉帳過程檔!C1640","v":0},{"$f":"+轉帳過程檔!G1640","v":0},{"$f":"+轉帳過程檔!B1640","v":0}]
[{"$f":"+轉帳過程檔!A1641","v":0},{"$f":"+轉帳過程檔!C1641","v":0},{"$f":"+轉帳過程檔!G1641","v":0},{"$f":"+轉帳過程檔!B1641","v":0}]
[{"$f":"+轉帳過程檔!A1642","v":0},{"$f":"+轉帳過程檔!C1642","v":0},{"$f":"+轉帳過程檔!G1642","v":0},{"$f":"+轉帳過程檔!B1642","v":0}]
[{"$f":"+轉帳過程檔!A1643","v":0},{"$f":"+轉帳過程檔!C1643","v":0},{"$f":"+轉帳過程檔!G1643","v":0},{"$f":"+轉帳過程檔!B1643","v":0}]
[{"$f":"+轉帳過程檔!A1644","v":0},{"$f":"+轉帳過程檔!C1644","v":0},{"$f":"+轉帳過程檔!G1644","v":0},{"$f":"+轉帳過程檔!B1644","v":0}]
[{"$f":"+轉帳過程檔!A1645","v":0},{"$f":"+轉帳過程檔!C1645","v":0},{"$f":"+轉帳過程檔!G1645","v":0},{"$f":"+轉帳過程檔!B1645","v":0}]
[{"$f":"+轉帳過程檔!A1646","v":0},{"$f":"+轉帳過程檔!C1646","v":0},{"$f":"+轉帳過程檔!G1646","v":0},{"$f":"+轉帳過程檔!B1646","v":0}]
[{"$f":"+轉帳過程檔!A1647","v":0},{"$f":"+轉帳過程檔!C1647","v":0},{"$f":"+轉帳過程檔!G1647","v":0},{"$f":"+轉帳過程檔!B1647","v":0}]
[{"$f":"+轉帳過程檔!A1648","v":0},{"$f":"+轉帳過程檔!C1648","v":0},{"$f":"+轉帳過程檔!G1648","v":0},{"$f":"+轉帳過程檔!B1648","v":0}]
[{"$f":"+轉帳過程檔!A1649","v":0},{"$f":"+轉帳過程檔!C1649","v":0},{"$f":"+轉帳過程檔!G1649","v":0},{"$f":"+轉帳過程檔!B1649","v":0}]
[{"$f":"+轉帳過程檔!A1650","v":0},{"$f":"+轉帳過程檔!C1650","v":0},{"$f":"+轉帳過程檔!G1650","v":0},{"$f":"+轉帳過程檔!B1650","v":0}]
[{"$f":"+轉帳過程檔!A1651","v":0},{"$f":"+轉帳過程檔!C1651","v":0},{"$f":"+轉帳過程檔!G1651","v":0},{"$f":"+轉帳過程檔!B1651","v":0}]
[{"$f":"+轉帳過程檔!A1652","v":0},{"$f":"+轉帳過程檔!C1652","v":0},{"$f":"+轉帳過程檔!G1652","v":0},{"$f":"+轉帳過程檔!B1652","v":0}]
[{"$f":"+轉帳過程檔!A1653","v":0},{"$f":"+轉帳過程檔!C1653","v":0},{"$f":"+轉帳過程檔!G1653","v":0},{"$f":"+轉帳過程檔!B1653","v":0}]
[{"$f":"+轉帳過程檔!A1654","v":0},{"$f":"+轉帳過程檔!C1654","v":0},{"$f":"+轉帳過程檔!G1654","v":0},{"$f":"+轉帳過程檔!B1654","v":0}]
[{"$f":"+轉帳過程檔!A1655","v":0},{"$f":"+轉帳過程檔!C1655","v":0},{"$f":"+轉帳過程檔!G1655","v":0},{"$f":"+轉帳過程檔!B1655","v":0}]
[{"$f":"+轉帳過程檔!A1656","v":0},{"$f":"+轉帳過程檔!C1656","v":0},{"$f":"+轉帳過程檔!G1656","v":0},{"$f":"+轉帳過程檔!B1656","v":0}]
[{"$f":"+轉帳過程檔!A1657","v":0},{"$f":"+轉帳過程檔!C1657","v":0},{"$f":"+轉帳過程檔!G1657","v":0},{"$f":"+轉帳過程檔!B1657","v":0}]
[{"$f":"+轉帳過程檔!A1658","v":0},{"$f":"+轉帳過程檔!C1658","v":0},{"$f":"+轉帳過程檔!G1658","v":0},{"$f":"+轉帳過程檔!B1658","v":0}]
[{"$f":"+轉帳過程檔!A1659","v":0},{"$f":"+轉帳過程檔!C1659","v":0},{"$f":"+轉帳過程檔!G1659","v":0},{"$f":"+轉帳過程檔!B1659","v":0}]
[{"$f":"+轉帳過程檔!A1660","v":0},{"$f":"+轉帳過程檔!C1660","v":0},{"$f":"+轉帳過程檔!G1660","v":0},{"$f":"+轉帳過程檔!B1660","v":0}]
[{"$f":"+轉帳過程檔!A1661","v":0},{"$f":"+轉帳過程檔!C1661","v":0},{"$f":"+轉帳過程檔!G1661","v":0},{"$f":"+轉帳過程檔!B1661","v":0}]
[{"$f":"+轉帳過程檔!A1662","v":0},{"$f":"+轉帳過程檔!C1662","v":0},{"$f":"+轉帳過程檔!G1662","v":0},{"$f":"+轉帳過程檔!B1662","v":0}]
[{"$f":"+轉帳過程檔!A1663","v":0},{"$f":"+轉帳過程檔!C1663","v":0},{"$f":"+轉帳過程檔!G1663","v":0},{"$f":"+轉帳過程檔!B1663","v":0}]
[{"$f":"+轉帳過程檔!A1664","v":0},{"$f":"+轉帳過程檔!C1664","v":0},{"$f":"+轉帳過程檔!G1664","v":0},{"$f":"+轉帳過程檔!B1664","v":0}]
[{"$f":"+轉帳過程檔!A1665","v":0},{"$f":"+轉帳過程檔!C1665","v":0},{"$f":"+轉帳過程檔!G1665","v":0},{"$f":"+轉帳過程檔!B1665","v":0}]
[{"$f":"+轉帳過程檔!A1666","v":0},{"$f":"+轉帳過程檔!C1666","v":0},{"$f":"+轉帳過程檔!G1666","v":0},{"$f":"+轉帳過程檔!B1666","v":0}]
[{"$f":"+轉帳過程檔!A1667","v":0},{"$f":"+轉帳過程檔!C1667","v":0},{"$f":"+轉帳過程檔!G1667","v":0},{"$f":"+轉帳過程檔!B1667","v":0}]
[{"$f":"+轉帳過程檔!A1668","v":0},{"$f":"+轉帳過程檔!C1668","v":0},{"$f":"+轉帳過程檔!G1668","v":0},{"$f":"+轉帳過程檔!B1668","v":0}]
[{"$f":"+轉帳過程檔!A1669","v":0},{"$f":"+轉帳過程檔!C1669","v":0},{"$f":"+轉帳過程檔!G1669","v":0},{"$f":"+轉帳過程檔!B1669","v":0}]
[{"$f":"+轉帳過程檔!A1670","v":0},{"$f":"+轉帳過程檔!C1670","v":0},{"$f":"+轉帳過程檔!G1670","v":0},{"$f":"+轉帳過程檔!B1670","v":0}]
[{"$f":"+轉帳過程檔!A1671","v":0},{"$f":"+轉帳過程檔!C1671","v":0},{"$f":"+轉帳過程檔!G1671","v":0},{"$f":"+轉帳過程檔!B1671","v":0}]
[{"$f":"+轉帳過程檔!A1672","v":0},{"$f":"+轉帳過程檔!C1672","v":0},{"$f":"+轉帳過程檔!G1672","v":0},{"$f":"+轉帳過程檔!B1672","v":0}]
[{"$f":"+轉帳過程檔!A1673","v":0},{"$f":"+轉帳過程檔!C1673","v":0},{"$f":"+轉帳過程檔!G1673","v":0},{"$f":"+轉帳過程檔!B1673","v":0}]
[{"$f":"+轉帳過程檔!A1674","v":0},{"$f":"+轉帳過程檔!C1674","v":0},{"$f":"+轉帳過程檔!G1674","v":0},{"$f":"+轉帳過程檔!B1674","v":0}]
[{"$f":"+轉帳過程檔!A1675","v":0},{"$f":"+轉帳過程檔!C1675","v":0},{"$f":"+轉帳過程檔!G1675","v":0},{"$f":"+轉帳過程檔!B1675","v":0}]
[{"$f":"+轉帳過程檔!A1676","v":0},{"$f":"+轉帳過程檔!C1676","v":0},{"$f":"+轉帳過程檔!G1676","v":0},{"$f":"+轉帳過程檔!B1676","v":0}]
[{"$f":"+轉帳過程檔!A1677","v":0},{"$f":"+轉帳過程檔!C1677","v":0},{"$f":"+轉帳過程檔!G1677","v":0},{"$f":"+轉帳過程檔!B1677","v":0}]
[{"$f":"+轉帳過程檔!A1678","v":0},{"$f":"+轉帳過程檔!C1678","v":0},{"$f":"+轉帳過程檔!G1678","v":0},{"$f":"+轉帳過程檔!B1678","v":0}]
[{"$f":"+轉帳過程檔!A1679","v":0},{"$f":"+轉帳過程檔!C1679","v":0},{"$f":"+轉帳過程檔!G1679","v":0},{"$f":"+轉帳過程檔!B1679","v":0}]
[{"$f":"+轉帳過程檔!A1680","v":0},{"$f":"+轉帳過程檔!C1680","v":0},{"$f":"+轉帳過程檔!G1680","v":0},{"$f":"+轉帳過程檔!B1680","v":0}]
[{"$f":"+轉帳過程檔!A1681","v":0},{"$f":"+轉帳過程檔!C1681","v":0},{"$f":"+轉帳過程檔!G1681","v":0},{"$f":"+轉帳過程檔!B1681","v":0}]
[{"$f":"+轉帳過程檔!A1682","v":0},{"$f":"+轉帳過程檔!C1682","v":0},{"$f":"+轉帳過程檔!G1682","v":0},{"$f":"+轉帳過程檔!B1682","v":0}]
[{"$f":"+轉帳過程檔!A1683","v":0},{"$f":"+轉帳過程檔!C1683","v":0},{"$f":"+轉帳過程檔!G1683","v":0},{"$f":"+轉帳過程檔!B1683","v":0}]
[{"$f":"+轉帳過程檔!A1684","v":0},{"$f":"+轉帳過程檔!C1684","v":0},{"$f":"+轉帳過程檔!G1684","v":0},{"$f":"+轉帳過程檔!B1684","v":0}]
[{"$f":"+轉帳過程檔!A1685","v":0},{"$f":"+轉帳過程檔!C1685","v":0},{"$f":"+轉帳過程檔!G1685","v":0},{"$f":"+轉帳過程檔!B1685","v":0}]
[{"$f":"+轉帳過程檔!A1686","v":0},{"$f":"+轉帳過程檔!C1686","v":0},{"$f":"+轉帳過程檔!G1686","v":0},{"$f":"+轉帳過程檔!B1686","v":0}]
[{"$f":"+轉帳過程檔!A1687","v":0},{"$f":"+轉帳過程檔!C1687","v":0},{"$f":"+轉帳過程檔!G1687","v":0},{"$f":"+轉帳過程檔!B1687","v":0}]
[{"$f":"+轉帳過程檔!A1688","v":0},{"$f":"+轉帳過程檔!C1688","v":0},{"$f":"+轉帳過程檔!G1688","v":0},{"$f":"+轉帳過程檔!B1688","v":0}]
[{"$f":"+轉帳過程檔!A1689","v":0},{"$f":"+轉帳過程檔!C1689","v":0},{"$f":"+轉帳過程檔!G1689","v":0},{"$f":"+轉帳過程檔!B1689","v":0}]
[{"$f":"+轉帳過程檔!A1690","v":0},{"$f":"+轉帳過程檔!C1690","v":0},{"$f":"+轉帳過程檔!G1690","v":0},{"$f":"+轉帳過程檔!B1690","v":0}]
[{"$f":"+轉帳過程檔!A1691","v":0},{"$f":"+轉帳過程檔!C1691","v":0},{"$f":"+轉帳過程檔!G1691","v":0},{"$f":"+轉帳過程檔!B1691","v":0}]
[{"$f":"+轉帳過程檔!A1692","v":0},{"$f":"+轉帳過程檔!C1692","v":0},{"$f":"+轉帳過程檔!G1692","v":0},{"$f":"+轉帳過程檔!B1692","v":0}]
[{"$f":"+轉帳過程檔!A1693","v":0},{"$f":"+轉帳過程檔!C1693","v":0},{"$f":"+轉帳過程檔!G1693","v":0},{"$f":"+轉帳過程檔!B1693","v":0}]
[{"$f":"+轉帳過程檔!A1694","v":0},{"$f":"+轉帳過程檔!C1694","v":0},{"$f":"+轉帳過程檔!G1694","v":0},{"$f":"+轉帳過程檔!B1694","v":0}]
[{"$f":"+轉帳過程檔!A1695","v":0},{"$f":"+轉帳過程檔!C1695","v":0},{"$f":"+轉帳過程檔!G1695","v":0},{"$f":"+轉帳過程檔!B1695","v":0}]
[{"$f":"+轉帳過程檔!A1696","v":0},{"$f":"+轉帳過程檔!C1696","v":0},{"$f":"+轉帳過程檔!G1696","v":0},{"$f":"+轉帳過程檔!B1696","v":0}]
[{"$f":"+轉帳過程檔!A1697","v":0},{"$f":"+轉帳過程檔!C1697","v":0},{"$f":"+轉帳過程檔!G1697","v":0},{"$f":"+轉帳過程檔!B1697","v":0}]
[{"$f":"+轉帳過程檔!A1698","v":0},{"$f":"+轉帳過程檔!C1698","v":0},{"$f":"+轉帳過程檔!G1698","v":0},{"$f":"+轉帳過程檔!B1698","v":0}]
[{"$f":"+轉帳過程檔!A1699","v":0},{"$f":"+轉帳過程檔!C1699","v":0},{"$f":"+轉帳過程檔!G1699","v":0},{"$f":"+轉帳過程檔!B1699","v":0}]
[{"$f":"+轉帳過程檔!A1700","v":0},{"$f":"+轉帳過程檔!C1700","v":0},{"$f":"+轉帳過程檔!G1700","v":0},{"$f":"+轉帳過程檔!B1700","v":0}]
[{"$f":"+轉帳過程檔!A1701","v":0},{"$f":"+轉帳過程檔!C1701","v":0},{"$f":"+轉帳過程檔!G1701","v":0},{"$f":"+轉帳過程檔!B1701","v":0}]
[{"$f":"+轉帳過程檔!A1702","v":0},{"$f":"+轉帳過程檔!C1702","v":0},{"$f":"+轉帳過程檔!G1702","v":0},{"$f":"+轉帳過程檔!B1702","v":0}]
[{"$f":"+轉帳過程檔!A1703","v":0},{"$f":"+轉帳過程檔!C1703","v":0},{"$f":"+轉帳過程檔!G1703","v":0},{"$f":"+轉帳過程檔!B1703","v":0}]
[{"$f":"+轉帳過程檔!A1704","v":0},{"$f":"+轉帳過程檔!C1704","v":0},{"$f":"+轉帳過程檔!G1704","v":0},{"$f":"+轉帳過程檔!B1704","v":0}]
[{"$f":"+轉帳過程檔!A1705","v":0},{"$f":"+轉帳過程檔!C1705","v":0},{"$f":"+轉帳過程檔!G1705","v":0},{"$f":"+轉帳過程檔!B1705","v":0}]
[{"$f":"+轉帳過程檔!A1706","v":0},{"$f":"+轉帳過程檔!C1706","v":0},{"$f":"+轉帳過程檔!G1706","v":0},{"$f":"+轉帳過程檔!B1706","v":0}]
[{"$f":"+轉帳過程檔!A1707","v":0},{"$f":"+轉帳過程檔!C1707","v":0},{"$f":"+轉帳過程檔!G1707","v":0},{"$f":"+轉帳過程檔!B1707","v":0}]
[{"$f":"+轉帳過程檔!A1708","v":0},{"$f":"+轉帳過程檔!C1708","v":0},{"$f":"+轉帳過程檔!G1708","v":0},{"$f":"+轉帳過程檔!B1708","v":0}]
[{"$f":"+轉帳過程檔!A1709","v":0},{"$f":"+轉帳過程檔!C1709","v":0},{"$f":"+轉帳過程檔!G1709","v":0},{"$f":"+轉帳過程檔!B1709","v":0}]
[{"$f":"+轉帳過程檔!A1710","v":0},{"$f":"+轉帳過程檔!C1710","v":0},{"$f":"+轉帳過程檔!G1710","v":0},{"$f":"+轉帳過程檔!B1710","v":0}]
[{"$f":"+轉帳過程檔!A1711","v":0},{"$f":"+轉帳過程檔!C1711","v":0},{"$f":"+轉帳過程檔!G1711","v":0},{"$f":"+轉帳過程檔!B1711","v":0}]
[{"$f":"+轉帳過程檔!A1712","v":0},{"$f":"+轉帳過程檔!C1712","v":0},{"$f":"+轉帳過程檔!G1712","v":0},{"$f":"+轉帳過程檔!B1712","v":0}]
[{"$f":"+轉帳過程檔!A1713","v":0},{"$f":"+轉帳過程檔!C1713","v":0},{"$f":"+轉帳過程檔!G1713","v":0},{"$f":"+轉帳過程檔!B1713","v":0}]
[{"$f":"+轉帳過程檔!A1714","v":0},{"$f":"+轉帳過程檔!C1714","v":0},{"$f":"+轉帳過程檔!G1714","v":0},{"$f":"+轉帳過程檔!B1714","v":0}]
[{"$f":"+轉帳過程檔!A1715","v":0},{"$f":"+轉帳過程檔!C1715","v":0},{"$f":"+轉帳過程檔!G1715","v":0},{"$f":"+轉帳過程檔!B1715","v":0}]
[{"$f":"+轉帳過程檔!A1716","v":0},{"$f":"+轉帳過程檔!C1716","v":0},{"$f":"+轉帳過程檔!G1716","v":0},{"$f":"+轉帳過程檔!B1716","v":0}]
[{"$f":"+轉帳過程檔!A1717","v":0},{"$f":"+轉帳過程檔!C1717","v":0},{"$f":"+轉帳過程檔!G1717","v":0},{"$f":"+轉帳過程檔!B1717","v":0}]
[{"$f":"+轉帳過程檔!A1718","v":0},{"$f":"+轉帳過程檔!C1718","v":0},{"$f":"+轉帳過程檔!G1718","v":0},{"$f":"+轉帳過程檔!B1718","v":0}]
[{"$f":"+轉帳過程檔!A1719","v":0},{"$f":"+轉帳過程檔!C1719","v":0},{"$f":"+轉帳過程檔!G1719","v":0},{"$f":"+轉帳過程檔!B1719","v":0}]
[{"$f":"+轉帳過程檔!A1720","v":0},{"$f":"+轉帳過程檔!C1720","v":0},{"$f":"+轉帳過程檔!G1720","v":0},{"$f":"+轉帳過程檔!B1720","v":0}]
[{"$f":"+轉帳過程檔!A1721","v":0},{"$f":"+轉帳過程檔!C1721","v":0},{"$f":"+轉帳過程檔!G1721","v":0},{"$f":"+轉帳過程檔!B1721","v":0}]
[{"$f":"+轉帳過程檔!A1722","v":0},{"$f":"+轉帳過程檔!C1722","v":0},{"$f":"+轉帳過程檔!G1722","v":0},{"$f":"+轉帳過程檔!B1722","v":0}]
[{"$f":"+轉帳過程檔!A1723","v":0},{"$f":"+轉帳過程檔!C1723","v":0},{"$f":"+轉帳過程檔!G1723","v":0},{"$f":"+轉帳過程檔!B1723","v":0}]
[{"$f":"+轉帳過程檔!A1724","v":0},{"$f":"+轉帳過程檔!C1724","v":0},{"$f":"+轉帳過程檔!G1724","v":0},{"$f":"+轉帳過程檔!B1724","v":0}]
[{"$f":"+轉帳過程檔!A1725","v":0},{"$f":"+轉帳過程檔!C1725","v":0},{"$f":"+轉帳過程檔!G1725","v":0},{"$f":"+轉帳過程檔!B1725","v":0}]
[{"$f":"+轉帳過程檔!A1726","v":0},{"$f":"+轉帳過程檔!C1726","v":0},{"$f":"+轉帳過程檔!G1726","v":0},{"$f":"+轉帳過程檔!B1726","v":0}]
[{"$f":"+轉帳過程檔!A1727","v":0},{"$f":"+轉帳過程檔!C1727","v":0},{"$f":"+轉帳過程檔!G1727","v":0},{"$f":"+轉帳過程檔!B1727","v":0}]
[{"$f":"+轉帳過程檔!A1728","v":0},{"$f":"+轉帳過程檔!C1728","v":0},{"$f":"+轉帳過程檔!G1728","v":0},{"$f":"+轉帳過程檔!B1728","v":0}]
[{"$f":"+轉帳過程檔!A1729","v":0},{"$f":"+轉帳過程檔!C1729","v":0},{"$f":"+轉帳過程檔!G1729","v":0},{"$f":"+轉帳過程檔!B1729","v":0}]
[{"$f":"+轉帳過程檔!A1730","v":0},{"$f":"+轉帳過程檔!C1730","v":0},{"$f":"+轉帳過程檔!G1730","v":0},{"$f":"+轉帳過程檔!B1730","v":0}]
[{"$f":"+轉帳過程檔!A1731","v":0},{"$f":"+轉帳過程檔!C1731","v":0},{"$f":"+轉帳過程檔!G1731","v":0},{"$f":"+轉帳過程檔!B1731","v":0}]
[{"$f":"+轉帳過程檔!A1732","v":0},{"$f":"+轉帳過程檔!C1732","v":0},{"$f":"+轉帳過程檔!G1732","v":0},{"$f":"+轉帳過程檔!B1732","v":0}]
[{"$f":"+轉帳過程檔!A1733","v":0},{"$f":"+轉帳過程檔!C1733","v":0},{"$f":"+轉帳過程檔!G1733","v":0},{"$f":"+轉帳過程檔!B1733","v":0}]
[{"$f":"+轉帳過程檔!A1734","v":0},{"$f":"+轉帳過程檔!C1734","v":0},{"$f":"+轉帳過程檔!G1734","v":0},{"$f":"+轉帳過程檔!B1734","v":0}]
[{"$f":"+轉帳過程檔!A1735","v":0},{"$f":"+轉帳過程檔!C1735","v":0},{"$f":"+轉帳過程檔!G1735","v":0},{"$f":"+轉帳過程檔!B1735","v":0}]
[{"$f":"+轉帳過程檔!A1736","v":0},{"$f":"+轉帳過程檔!C1736","v":0},{"$f":"+轉帳過程檔!G1736","v":0},{"$f":"+轉帳過程檔!B1736","v":0}]
[{"$f":"+轉帳過程檔!A1737","v":0},{"$f":"+轉帳過程檔!C1737","v":0},{"$f":"+轉帳過程檔!G1737","v":0},{"$f":"+轉帳過程檔!B1737","v":0}]
[{"$f":"+轉帳過程檔!A1738","v":0},{"$f":"+轉帳過程檔!C1738","v":0},{"$f":"+轉帳過程檔!G1738","v":0},{"$f":"+轉帳過程檔!B1738","v":0}]
[{"$f":"+轉帳過程檔!A1739","v":0},{"$f":"+轉帳過程檔!C1739","v":0},{"$f":"+轉帳過程檔!G1739","v":0},{"$f":"+轉帳過程檔!B1739","v":0}]
[{"$f":"+轉帳過程檔!A1740","v":0},{"$f":"+轉帳過程檔!C1740","v":0},{"$f":"+轉帳過程檔!G1740","v":0},{"$f":"+轉帳過程檔!B1740","v":0}]
[{"$f":"+轉帳過程檔!A1741","v":0},{"$f":"+轉帳過程檔!C1741","v":0},{"$f":"+轉帳過程檔!G1741","v":0},{"$f":"+轉帳過程檔!B1741","v":0}]
[{"$f":"+轉帳過程檔!A1742","v":0},{"$f":"+轉帳過程檔!C1742","v":0},{"$f":"+轉帳過程檔!G1742","v":0},{"$f":"+轉帳過程檔!B1742","v":0}]
[{"$f":"+轉帳過程檔!A1743","v":0},{"$f":"+轉帳過程檔!C1743","v":0},{"$f":"+轉帳過程檔!G1743","v":0},{"$f":"+轉帳過程檔!B1743","v":0}]
[{"$f":"+轉帳過程檔!A1744","v":0},{"$f":"+轉帳過程檔!C1744","v":0},{"$f":"+轉帳過程檔!G1744","v":0},{"$f":"+轉帳過程檔!B1744","v":0}]
[{"$f":"+轉帳過程檔!A1745","v":0},{"$f":"+轉帳過程檔!C1745","v":0},{"$f":"+轉帳過程檔!G1745","v":0},{"$f":"+轉帳過程檔!B1745","v":0}]
[{"$f":"+轉帳過程檔!A1746","v":0},{"$f":"+轉帳過程檔!C1746","v":0},{"$f":"+轉帳過程檔!G1746","v":0},{"$f":"+轉帳過程檔!B1746","v":0}]
[{"$f":"+轉帳過程檔!A1747","v":0},{"$f":"+轉帳過程檔!C1747","v":0},{"$f":"+轉帳過程檔!G1747","v":0},{"$f":"+轉帳過程檔!B1747","v":0}]
[{"$f":"+轉帳過程檔!A1748","v":0},{"$f":"+轉帳過程檔!C1748","v":0},{"$f":"+轉帳過程檔!G1748","v":0},{"$f":"+轉帳過程檔!B1748","v":0}]
[{"$f":"+轉帳過程檔!A1749","v":0},{"$f":"+轉帳過程檔!C1749","v":0},{"$f":"+轉帳過程檔!G1749","v":0},{"$f":"+轉帳過程檔!B1749","v":0}]
[{"$f":"+轉帳過程檔!A1750","v":0},{"$f":"+轉帳過程檔!C1750","v":0},{"$f":"+轉帳過程檔!G1750","v":0},{"$f":"+轉帳過程檔!B1750","v":0}]
[{"$f":"+轉帳過程檔!A1751","v":0},{"$f":"+轉帳過程檔!C1751","v":0},{"$f":"+轉帳過程檔!G1751","v":0},{"$f":"+轉帳過程檔!B1751","v":0}]
[{"$f":"+轉帳過程檔!A1752","v":0},{"$f":"+轉帳過程檔!C1752","v":0},{"$f":"+轉帳過程檔!G1752","v":0},{"$f":"+轉帳過程檔!B1752","v":0}]
[{"$f":"+轉帳過程檔!A1753","v":0},{"$f":"+轉帳過程檔!C1753","v":0},{"$f":"+轉帳過程檔!G1753","v":0},{"$f":"+轉帳過程檔!B1753","v":0}]
[{"$f":"+轉帳過程檔!A1754","v":0},{"$f":"+轉帳過程檔!C1754","v":0},{"$f":"+轉帳過程檔!G1754","v":0},{"$f":"+轉帳過程檔!B1754","v":0}]
[{"$f":"+轉帳過程檔!A1755","v":0},{"$f":"+轉帳過程檔!C1755","v":0},{"$f":"+轉帳過程檔!G1755","v":0},{"$f":"+轉帳過程檔!B1755","v":0}]
[{"$f":"+轉帳過程檔!A1756","v":0},{"$f":"+轉帳過程檔!C1756","v":0},{"$f":"+轉帳過程檔!G1756","v":0},{"$f":"+轉帳過程檔!B1756","v":0}]
[{"$f":"+轉帳過程檔!A1757","v":0},{"$f":"+轉帳過程檔!C1757","v":0},{"$f":"+轉帳過程檔!G1757","v":0},{"$f":"+轉帳過程檔!B1757","v":0}]
[{"$f":"+轉帳過程檔!A1758","v":0},{"$f":"+轉帳過程檔!C1758","v":0},{"$f":"+轉帳過程檔!G1758","v":0},{"$f":"+轉帳過程檔!B1758","v":0}]
[{"$f":"+轉帳過程檔!A1759","v":0},{"$f":"+轉帳過程檔!C1759","v":0},{"$f":"+轉帳過程檔!G1759","v":0},{"$f":"+轉帳過程檔!B1759","v":0}]
[{"$f":"+轉帳過程檔!A1760","v":0},{"$f":"+轉帳過程檔!C1760","v":0},{"$f":"+轉帳過程檔!G1760","v":0},{"$f":"+轉帳過程檔!B1760","v":0}]
[{"$f":"+轉帳過程檔!A1761","v":0},{"$f":"+轉帳過程檔!C1761","v":0},{"$f":"+轉帳過程檔!G1761","v":0},{"$f":"+轉帳過程檔!B1761","v":0}]
[{"$f":"+轉帳過程檔!A1762","v":0},{"$f":"+轉帳過程檔!C1762","v":0},{"$f":"+轉帳過程檔!G1762","v":0},{"$f":"+轉帳過程檔!B1762","v":0}]
[{"$f":"+轉帳過程檔!A1763","v":0},{"$f":"+轉帳過程檔!C1763","v":0},{"$f":"+轉帳過程檔!G1763","v":0},{"$f":"+轉帳過程檔!B1763","v":0}]
[{"$f":"+轉帳過程檔!A1764","v":0},{"$f":"+轉帳過程檔!C1764","v":0},{"$f":"+轉帳過程檔!G1764","v":0},{"$f":"+轉帳過程檔!B1764","v":0}]
[{"$f":"+轉帳過程檔!A1765","v":0},{"$f":"+轉帳過程檔!C1765","v":0},{"$f":"+轉帳過程檔!G1765","v":0},{"$f":"+轉帳過程檔!B1765","v":0}]
[{"$f":"+轉帳過程檔!A1766","v":0},{"$f":"+轉帳過程檔!C1766","v":0},{"$f":"+轉帳過程檔!G1766","v":0},{"$f":"+轉帳過程檔!B1766","v":0}]
[{"$f":"+轉帳過程檔!A1767","v":0},{"$f":"+轉帳過程檔!C1767","v":0},{"$f":"+轉帳過程檔!G1767","v":0},{"$f":"+轉帳過程檔!B1767","v":0}]
[{"$f":"+轉帳過程檔!A1768","v":0},{"$f":"+轉帳過程檔!C1768","v":0},{"$f":"+轉帳過程檔!G1768","v":0},{"$f":"+轉帳過程檔!B1768","v":0}]
[{"$f":"+轉帳過程檔!A1769","v":0},{"$f":"+轉帳過程檔!C1769","v":0},{"$f":"+轉帳過程檔!G1769","v":0},{"$f":"+轉帳過程檔!B1769","v":0}]

{"sheet":"印領清冊統計表","index":3,"n_rows":5,"n_cols":7,"rows_kept":5,"cut":false,"hidden":false,"merged":[]}
[null,null,null,null,null,{"$f":"COUNTIF(A:A,\">0\")","v":0}]
[{"$f":"+印領清冊輸入!A2","v":0}]
[null,null,null,null,null,"資料"]
["銀行分行碼(7碼)\n","戶名","帳號","身分證字號","免扣身分註記","加總 的補充保費","加總 的(扣除補充保費)"]
["總計"]

{"sheet":"轉帳過程檔","index":4,"n_rows":1424,"n_cols":7,"rows_kept":1424,"cut":false,"hidden":false,"merged":[]}
["戶名","身分證字號","銀行分行碼(7碼)\n","帳號","免扣身分註記","加總 的補充保費","加總 的(扣除補充保費)"]
[{"$f":"IF(印領清冊統計表!$A5=\"總計\",\"\",(IF(印領清冊統計表!A5=0,A1,印領清冊統計表!A5)))","v":""},{"$f":"+印領清冊統計表!B5","v":0},{"$f":"+印領清冊統計表!C5","v":0},{"$f":"+印領清冊統計表!D5","v":0},{"$f":"+印領清冊統計表!E5","v":0},{"$f":"+印領清冊統計表!F5","v":0},{"$f":"+印領清冊統計表!G5","v":0}]
[{"$f":"IF(印領清冊統計表!$A6=\"總計\",\"\",(IF(印領清冊統計表!A6=0,A2,印領清冊統計表!A6)))","v":""},{"$f":"+印領清冊統計表!B6","v":0},{"$f":"+印領清冊統計表!C6","v":0},{"$f":"+印領清冊統計表!D6","v":0},{"$f":"+印領清冊統計表!E6","v":0},{"$f":"+印領清冊統計表!F6","v":0},{"$f":"+印領清冊統計表!G6","v":0}]
[{"$f":"IF(印領清冊統計表!$A7=\"總計\",\"\",(IF(印領清冊統計表!A7=0,A3,印領清冊統計表!A7)))","v":""},{"$f":"+印領清冊統計表!B7","v":0},{"$f":"+印領清冊統計表!C7","v":0},{"$f":"+印領清冊統計表!D7","v":0},{"$f":"+印領清冊統計表!E7","v":0},{"$f":"+印領清冊統計表!F7","v":0},{"$f":"+印領清冊統計表!G7","v":0}]
[{"$f":"IF(印領清冊統計表!$A8=\"總計\",\"\",(IF(印領清冊統計表!A8=0,A4,印領清冊統計表!A8)))","v":""},{"$f":"+印領清冊統計表!B8","v":0},{"$f":"+印領清冊統計表!C8","v":0},{"$f":"+印領清冊統計表!D8","v":0},{"$f":"+印領清冊統計表!E8","v":0},{"$f":"+印領清冊統計表!F8","v":0},{"$f":"+印領清冊統計表!G8","v":0}]
[{"$f":"IF(印領清冊統計表!$A9=\"總計\",\"\",(IF(印領清冊統計表!A9=0,A5,印領清冊統計表!A9)))","v":""},{"$f":"+印領清冊統計表!B9","v":0},{"$f":"+印領清冊統計表!C9","v":0},{"$f":"+印領清冊統計表!D9","v":0},{"$f":"+印領清冊統計表!E9","v":0},{"$f":"+印領清冊統計表!F9","v":0},{"$f":"+印領清冊統計表!G9","v":0}]
[{"$f":"IF(印領清冊統計表!$A10=\"總計\",\"\",(IF(印領清冊統計表!A10=0,A6,印領清冊統計表!A10)))","v":""},{"$f":"+印領清冊統計表!B10","v":0},{"$f":"+印領清冊統計表!C10","v":0},{"$f":"+印領清冊統計表!D10","v":0},{"$f":"+印領清冊統計表!E10","v":0},{"$f":"+印領清冊統計表!F10","v":0},{"$f":"+印領清冊統計表!G10","v":0}]
[{"$f":"IF(印領清冊統計表!$A11=\"總計\",\"\",(IF(印領清冊統計表!A11=0,A7,印領清冊統計表!A11)))","v":""},{"$f":"+印領清冊統計表!B11","v":0},{"$f":"+印領清冊統計表!C11","v":0},{"$f":"+印領清冊統計表!D11","v":0},{"$f":"+印領清冊統計表!E11","v":0},{"$f":"+印領清冊統計表!F11","v":0},{"$f":"+印領清冊統計表!G11","v":0}]
[{"$f":"IF(印領清冊統計表!$A12=\"總計\",\"\",(IF(印領清冊統計表!A12=0,A8,印領清冊統計表!A12)))","v":""},{"$f":"+印領清冊統計表!B12","v":0},{"$f":"+印領清冊統計表!C12","v":0},{"$f":"+印領清冊統計表!D12","v":0},{"$f":"+印領清冊統計表!E12","v":0},{"$f":"+印領清冊統計表!F12","v":0},{"$f":"+印領清冊統計表!G12","v":0}]
[{"$f":"IF(印領清冊統計表!$A13=\"總計\",\"\",(IF(印領清冊統計表!A13=0,A9,印領清冊統計表!A13)))","v":""},{"$f":"+印領清冊統計表!B13","v":0},{"$f":"+印領清冊統計表!C13","v":0},{"$f":"+印領清冊統計表!D13","v":0},{"$f":"+印領清冊統計表!E13","v":0},{"$f":"+印領清冊統計表!F13","v":0},{"$f":"+印領清冊統計表!G13","v":0}]
[{"$f":"IF(印領清冊統計表!$A14=\"總計\",\"\",(IF(印領清冊統計表!A14=0,A10,印領清冊統計表!A14)))","v":""},{"$f":"+印領清冊統計表!B14","v":0},{"$f":"+印領清冊統計表!C14","v":0},{"$f":"+印領清冊統計表!D14","v":0},{"$f":"+印領清冊統計表!E14","v":0},{"$f":"+印領清冊統計表!F14","v":0},{"$f":"+印領清冊統計表!G14","v":0}]
[{"$f":"IF(印領清冊統計表!$A15=\"總計\",\"\",(IF(印領清冊統計表!A15=0,A11,印領清冊統計表!A15)))","v":""},{"$f":"+印領清冊統計表!B15","v":0},{"$f":"+印領清冊統計表!C15","v":0},{"$f":"+印領清冊統計表!D15","v":0},{"$f":"+印領清冊統計表!E15","v":0},{"$f":"+印領清冊統計表!F15","v":0},{"$f":"+印領清冊統計表!G15","v":0}]
[{"$f":"IF(印領清冊統計表!$A16=\"總計\",\"\",(IF(印領清冊統計表!A16=0,A12,印領清冊統計表!A16)))","v":""},{"$f":"+印領清冊統計表!B16","v":0},{"$f":"+印領清冊統計表!C16","v":0},{"$f":"+印領清冊統計表!D16","v":0},{"$f":"+印領清冊統計表!E16","v":0},{"$f":"+印領清冊統計表!F16","v":0},{"$f":"+印領清冊統計表!G16","v":0}]
[{"$f":"IF(印領清冊統計表!$A17=\"總計\",\"\",(IF(印領清冊統計表!A17=0,A13,印領清冊統計表!A17)))","v":""},{"$f":"+印領清冊統計表!B17","v":0},{"$f":"+印領清冊統計表!C17","v":0},{"$f":"+印領清冊統計表!D17","v":0},{"$f":"+印領清冊統計表!E17","v":0},{"$f":"+印領清冊統計表!F17","v":0},{"$f":"+印領清冊統計表!G17","v":0}]
[{"$f":"IF(印領清冊統計表!$A18=\"總計\",\"\",(IF(印領清冊統計表!A18=0,A14,印領清冊統計表!A18)))","v":""},{"$f":"+印領清冊統計表!B18","v":0},{"$f":"+印領清冊統計表!C18","v":0},{"$f":"+印領清冊統計表!D18","v":0},{"$f":"+印領清冊統計表!E18","v":0},{"$f":"+印領清冊統計表!F18","v":0},{"$f":"+印領清冊統計表!G18","v":0}]
[{"$f":"IF(印領清冊統計表!$A19=\"總計\",\"\",(IF(印領清冊統計表!A19=0,A15,印領清冊統計表!A19)))","v":""},{"$f":"+印領清冊統計表!B19","v":0},{"$f":"+印領清冊統計表!C19","v":0},{"$f":"+印領清冊統計表!D19","v":0},{"$f":"+印領清冊統計表!E19","v":0},{"$f":"+印領清冊統計表!F19","v":0},{"$f":"+印領清冊統計表!G19","v":0}]
[{"$f":"IF(印領清冊統計表!$A20=\"總計\",\"\",(IF(印領清冊統計表!A20=0,A16,印領清冊統計表!A20)))","v":""},{"$f":"+印領清冊統計表!B20","v":0},{"$f":"+印領清冊統計表!C20","v":0},{"$f":"+印領清冊統計表!D20","v":0},{"$f":"+印領清冊統計表!E20","v":0},{"$f":"+印領清冊統計表!F20","v":0},{"$f":"+印領清冊統計表!G20","v":0}]
[{"$f":"IF(印領清冊統計表!$A21=\"總計\",\"\",(IF(印領清冊統計表!A21=0,A17,印領清冊統計表!A21)))","v":""},{"$f":"+印領清冊統計表!B21","v":0},{"$f":"+印領清冊統計表!C21","v":0},{"$f":"+印領清冊統計表!D21","v":0},{"$f":"+印領清冊統計表!E21","v":0},{"$f":"+印領清冊統計表!F21","v":0},{"$f":"+印領清冊統計表!G21","v":0}]
[{"$f":"IF(印領清冊統計表!$A22=\"總計\",\"\",(IF(印領清冊統計表!A22=0,A18,印領清冊統計表!A22)))","v":""},{"$f":"+印領清冊統計表!B22","v":0},{"$f":"+印領清冊統計表!C22","v":0},{"$f":"+印領清冊統計表!D22","v":0},{"$f":"+印領清冊統計表!E22","v":0},{"$f":"+印領清冊統計表!F22","v":0},{"$f":"+印領清冊統計表!G22","v":0}]
[{"$f":"IF(印領清冊統計表!$A23=\"總計\",\"\",(IF(印領清冊統計表!A23=0,A19,印領清冊統計表!A23)))","v":""},{"$f":"+印領清冊統計表!B23","v":0},{"$f":"+印領清冊統計表!C23","v":0},{"$f":"+印領清冊統計表!D23","v":0},{"$f":"+印領清冊統計表!E23","v":0},{"$f":"+印領清冊統計表!F23","v":0},{"$f":"+印領清冊統計表!G23","v":0}]
[{"$f":"IF(印領清冊統計表!$A24=\"總計\",\"\",(IF(印領清冊統計表!A24=0,A20,印領清冊統計表!A24)))","v":""},{"$f":"+印領清冊統計表!B24","v":0},{"$f":"+印領清冊統計表!C24","v":0},{"$f":"+印領清冊統計表!D24","v":0},{"$f":"+印領清冊統計表!E24","v":0},{"$f":"+印領清冊統計表!F24","v":0},{"$f":"+印領清冊統計表!G24","v":0}]
[{"$f":"IF(印領清冊統計表!$A25=\"總計\",\"\",(IF(印領清冊統計表!A25=0,A21,印領清冊統計表!A25)))","v":""},{"$f":"+印領清冊統計表!B25","v":0},{"$f":"+印領清冊統計表!C25","v":0},{"$f":"+印領清冊統計表!D25","v":0},{"$f":"+印領清冊統計表!E25","v":0},{"$f":"+印領清冊統計表!F25","v":0},{"$f":"+印領清冊統計表!G25","v":0}]
[{"$f":"IF(印領清冊統計表!$A26=\"總計\",\"\",(IF(印領清冊統計表!A26=0,A22,印領清冊統計表!A26)))","v":""},{"$f":"+印領清冊統計表!B26","v":0},{"$f":"+印領清冊統計表!C26","v":0},{"$f":"+印領清冊統計表!D26","v":0},{"$f":"+印領清冊統計表!E26","v":0},{"$f":"+印領清冊統計表!F26","v":0},{"$f":"+印領清冊統計表!G26","v":0}]
[{"$f":"IF(印領清冊統計表!$A27=\"總計\",\"\",(IF(印領清冊統計表!A27=0,A23,印領清冊統計表!A27)))","v":""},{"$f":"+印領清冊統計表!B27","v":0},{"$f":"+印領清冊統計表!C27","v":0},{"$f":"+印領清冊統計表!D27","v":0},{"$f":"+印領清冊統計表!E27","v":0},{"$f":"+印領清冊統計表!F27","v":0},{"$f":"+印領清冊統計表!G27","v":0}]
[{"$f":"IF(印領清冊統計表!$A28=\"總計\",\"\",(IF(印領清冊統計表!A28=0,A24,印領清冊統計表!A28)))","v":""},{"$f":"+印領清冊統計表!B28","v":0},{"$f":"+印領清冊統計表!C28","v":0},{"$f":"+印領清冊統計表!D28","v":0},{"$f":"+印領清冊統計表!E28","v":0},{"$f":"+印領清冊統計表!F28","v":0},{"$f":"+印領清冊統計表!G28","v":0}]
[{"$f":"IF(印領清冊統計表!$A29=\"總計\",\"\",(IF(印領清冊統計表!A29=0,A25,印領清冊統計表!A29)))","v":""},{"$f":"+印領清冊統計表!B29","v":0},{"$f":"+印領清冊統計表!C29","v":0},{"$f":"+印領清冊統計表!D29","v":0},{"$f":"+印領清冊統計表!E29","v":0},{"$f":"+印領清冊統計表!F29","v":0},{"$f":"+印領清冊統計表!G29","v":0}]
[{"$f":"IF(印領清冊統計表!$A30=\"總計\",\"\",(IF(印領清冊統計表!A30=0,A26,印領清冊統計表!A30)))","v":""},{"$f":"+印領清冊統計表!B30","v":0},{"$f":"+印領清冊統計表!C30","v":0},{"$f":"+印領清冊統計表!D30","v":0},{"$f":"+印領清冊統計表!E30","v":0},{"$f":"+印領清冊統計表!F30","v":0},{"$f":"+印領清冊統計表!G30","v":0}]
[{"$f":"IF(印領清冊統計表!$A31=\"總計\",\"\",(IF(印領清冊統計表!A31=0,A27,印領清冊統計表!A31)))","v":""},{"$f":"+印領清冊統計表!B31","v":0},{"$f":"+印領清冊統計表!C31","v":0},{"$f":"+印領清冊統計表!D31","v":0},{"$f":"+印領清冊統計表!E31","v":0},{"$f":"+印領清冊統計表!F31","v":0},{"$f":"+印領清冊統計表!G31","v":0}]
[{"$f":"IF(印領清冊統計表!$A32=\"總計\",\"\",(IF(印領清冊統計表!A32=0,A28,印領清冊統計表!A32)))","v":""},{"$f":"+印領清冊統計表!B32","v":0},{"$f":"+印領清冊統計表!C32","v":0},{"$f":"+印領清冊統計表!D32","v":0},{"$f":"+印領清冊統計表!E32","v":0},{"$f":"+印領清冊統計表!F32","v":0},{"$f":"+印領清冊統計表!G32","v":0}]
[{"$f":"IF(印領清冊統計表!$A33=\"總計\",\"\",(IF(印領清冊統計表!A33=0,A29,印領清冊統計表!A33)))","v":""},{"$f":"+印領清冊統計表!B33","v":0},{"$f":"+印領清冊統計表!C33","v":0},{"$f":"+印領清冊統計表!D33","v":0},{"$f":"+印領清冊統計表!E33","v":0},{"$f":"+印領清冊統計表!F33","v":0},{"$f":"+印領清冊統計表!G33","v":0}]
[{"$f":"IF(印領清冊統計表!$A34=\"總計\",\"\",(IF(印領清冊統計表!A34=0,A30,印領清冊統計表!A34)))","v":""},{"$f":"+印領清冊統計表!B34","v":0},{"$f":"+印領清冊統計表!C34","v":0},{"$f":"+印領清冊統計表!D34","v":0},{"$f":"+印領清冊統計表!E34","v":0},{"$f":"+印領清冊統計表!F34","v":0},{"$f":"+印領清冊統計表!G34","v":0}]
[{"$f":"IF(印領清冊統計表!$A35=\"總計\",\"\",(IF(印領清冊統計表!A35=0,A31,印領清冊統計表!A35)))","v":""},{"$f":"+印領清冊統計表!B35","v":0},{"$f":"+印領清冊統計表!C35","v":0},{"$f":"+印領清冊統計表!D35","v":0},{"$f":"+印領清冊統計表!E35","v":0},{"$f":"+印領清冊統計表!F35","v":0},{"$f":"+印領清冊統計表!G35","v":0}]
[{"$f":"IF(印領清冊統計表!$A36=\"總計\",\"\",(IF(印領清冊統計表!A36=0,A32,印領清冊統計表!A36)))","v":""},{"$f":"+印領清冊統計表!B36","v":0},{"$f":"+印領清冊統計表!C36","v":0},{"$f":"+印領清冊統計表!D36","v":0},{"$f":"+印領清冊統計表!E36","v":0},{"$f":"+印領清冊統計表!F36","v":0},{"$f":"+印領清冊統計表!G36","v":0}]
[{"$f":"IF(印領清冊統計表!$A37=\"總計\",\"\",(IF(印領清冊統計表!A37=0,A33,印領清冊統計表!A37)))","v":""},{"$f":"+印領清冊統計表!B37","v":0},{"$f":"+印領清冊統計表!C37","v":0},{"$f":"+印領清冊統計表!D37","v":0},{"$f":"+印領清冊統計表!E37","v":0},{"$f":"+印領清冊統計表!F37","v":0},{"$f":"+印領清冊統計表!G37","v":0}]
[{"$f":"IF(印領清冊統計表!$A38=\"總計\",\"\",(IF(印領清冊統計表!A38=0,A34,印領清冊統計表!A38)))","v":""},{"$f":"+印領清冊統計表!B38","v":0},{"$f":"+印領清冊統計表!C38","v":0},{"$f":"+印領清冊統計表!D38","v":0},{"$f":"+印領清冊統計表!E38","v":0},{"$f":"+印領清冊統計表!F38","v":0},{"$f":"+印領清冊統計表!G38","v":0}]
[{"$f":"IF(印領清冊統計表!$A39=\"總計\",\"\",(IF(印領清冊統計表!A39=0,A35,印領清冊統計表!A39)))","v":""},{"$f":"+印領清冊統計表!B39","v":0},{"$f":"+印領清冊統計表!C39","v":0},{"$f":"+印領清冊統計表!D39","v":0},{"$f":"+印領清冊統計表!E39","v":0},{"$f":"+印領清冊統計表!F39","v":0},{"$f":"+印領清冊統計表!G39","v":0}]
[{"$f":"IF(印領清冊統計表!$A40=\"總計\",\"\",(IF(印領清冊統計表!A40=0,A36,印領清冊統計表!A40)))","v":""},{"$f":"+印領清冊統計表!B40","v":0},{"$f":"+印領清冊統計表!C40","v":0},{"$f":"+印領清冊統計表!D40","v":0},{"$f":"+印領清冊統計表!E40","v":0},{"$f":"+印領清冊統計表!F40","v":0},{"$f":"+印領清冊統計表!G40","v":0}]
[{"$f":"IF(印領清冊統計表!$A41=\"總計\",\"\",(IF(印領清冊統計表!A41=0,A37,印領清冊統計表!A41)))","v":""},{"$f":"+印領清冊統計表!B41","v":0},{"$f":"+印領清冊統計表!C41","v":0},{"$f":"+印領清冊統計表!D41","v":0},{"$f":"+印領清冊統計表!E41","v":0},{"$f":"+印領清冊統計表!F41","v":0},{"$f":"+印領清冊統計表!G41","v":0}]
[{"$f":"IF(印領清冊統計表!$A42=\"總計\",\"\",(IF(印領清冊統計表!A42=0,A38,印領清冊統計表!A42)))","v":""},{"$f":"+印領清冊統計表!B42","v":0},{"$f":"+印領清冊統計表!C42","v":0},{"$f":"+印領清冊統計表!D42","v":0},{"$f":"+印領清冊統計表!E42","v":0},{"$f":"+印領清冊統計表!F42","v":0},{"$f":"+印領清冊統計表!G42","v":0}]
[{"$f":"IF(印領清冊統計表!$A43=\"總計\",\"\",(IF(印領清冊統計表!A43=0,A39,印領清冊統計表!A43)))","v":""},{"$f":"+印領清冊統計表!B43","v":0},{"$f":"+印領清冊統計表!C43","v":0},{"$f":"+印領清冊統計表!D43","v":0},{"$f":"+印領清冊統計表!E43","v":0},{"$f":"+印領清冊統計表!F43","v":0},{"$f":"+印領清冊統計表!G43","v":0}]
[{"$f":"IF(印領清冊統計表!$A44=\"總計\",\"\",(IF(印領清冊統計表!A44=0,A40,印領清冊統計表!A44)))","v":""},{"$f":"+印領清冊統計表!B44","v":0},{"$f":"+印領清冊統計表!C44","v":0},{"$f":"+印領清冊統計表!D44","v":0},{"$f":"+印領清冊統計表!E44","v":0},{"$f":"+印領清冊統計表!F44","v":0},{"$f":"+印領清冊統計表!G44","v":0}]
[{"$f":"IF(印領清冊統計表!$A45=\"總計\",\"\",(IF(印領清冊統計表!A45=0,A41,印領清冊統計表!A45)))","v":""},{"$f":"+印領清冊統計表!B45","v":0},{"$f":"+印領清冊統計表!C45","v":0},{"$f":"+印領清冊統計表!D45","v":0},{"$f":"+印領清冊統計表!E45","v":0},{"$f":"+印領清冊統計表!F45","v":0},{"$f":"+印領清冊統計表!G45","v":0}]
[{"$f":"IF(印領清冊統計表!$A46=\"總計\",\"\",(IF(印領清冊統計表!A46=0,A42,印領清冊統計表!A46)))","v":""},{"$f":"+印領清冊統計表!B46","v":0},{"$f":"+印領清冊統計表!C46","v":0},{"$f":"+印領清冊統計表!D46","v":0},{"$f":"+印領清冊統計表!E46","v":0},{"$f":"+印領清冊統計表!F46","v":0},{"$f":"+印領清冊統計表!G46","v":0}]
[{"$f":"IF(印領清冊統計表!$A47=\"總計\",\"\",(IF(印領清冊統計表!A47=0,A43,印領清冊統計表!A47)))","v":""},{"$f":"+印領清冊統計表!B47","v":0},{"$f":"+印領清冊統計表!C47","v":0},{"$f":"+印領清冊統計表!D47","v":0},{"$f":"+印領清冊統計表!E47","v":0},{"$f":"+印領清冊統計表!F47","v":0},{"$f":"+印領清冊統計表!G47","v":0}]
[{"$f":"IF(印領清冊統計表!$A48=\"總計\",\"\",(IF(印領清冊統計表!A48=0,A44,印領清冊統計表!A48)))","v":""},{"$f":"+印領清冊統計表!B48","v":0},{"$f":"+印領清冊統計表!C48","v":0},{"$f":"+印領清冊統計表!D48","v":0},{"$f":"+印領清冊統計表!E48","v":0},{"$f":"+印領清冊統計表!F48","v":0},{"$f":"+印領清冊統計表!G48","v":0}]
[{"$f":"IF(印領清冊統計表!$A49=\"總計\",\"\",(IF(印領清冊統計表!A49=0,A45,印領清冊統計表!A49)))","v":""},{"$f":"+印領清冊統計表!B49","v":0},{"$f":"+印領清冊統計表!C49","v":0},{"$f":"+印領清冊統計表!D49","v":0},{"$f":"+印領清冊統計表!E49","v":0},{"$f":"+印領清冊統計表!F49","v":0},{"$f":"+印領清冊統計表!G49","v":0}]
[{"$f":"IF(印領清冊統計表!$A50=\"總計\",\"\",(IF(印領清冊統計表!A50=0,A46,印領清冊統計表!A50)))","v":""},{"$f":"+印領清冊統計表!B50","v":0},{"$f":"+印領清冊統計表!C50","v":0},{"$f":"+印領清冊統計表!D50","v":0},{"$f":"+印領清冊統計表!E50","v":0},{"$f":"+印領清冊統計表!F50","v":0},{"$f":"+印領清冊統計表!G50","v":0}]
[{"$f":"IF(印領清冊統計表!$A51=\"總計\",\"\",(IF(印領清冊統計表!A51=0,A47,印領清冊統計表!A51)))","v":""},{"$f":"+印領清冊統計表!B51","v":0},{"$f":"+印領清冊統計表!C51","v":0},{"$f":"+印領清冊統計表!D51","v":0},{"$f":"+印領清冊統計表!E51","v":0},{"$f":"+印領清冊統計表!F51","v":0},{"$f":"+印領清冊統計表!G51","v":0}]
[{"$f":"IF(印領清冊統計表!$A52=\"總計\",\"\",(IF(印領清冊統計表!A52=0,A48,印領清冊統計表!A52)))","v":""},{"$f":"+印領清冊統計表!B52","v":0},{"$f":"+印領清冊統計表!C52","v":0},{"$f":"+印領清冊統計表!D52","v":0},{"$f":"+印領清冊統計表!E52","v":0},{"$f":"+印領清冊統計表!F52","v":0},{"$f":"+印領清冊統計表!G52","v":0}]
[{"$f":"IF(印領清冊統計表!$A53=\"總計\",\"\",(IF(印領清冊統計表!A53=0,A49,印領清冊統計表!A53)))","v":""},{"$f":"+印領清冊統計表!B53","v":0},{"$f":"+印領清冊統計表!C53","v":0},{"$f":"+印領清冊統計表!D53","v":0},{"$f":"+印領清冊統計表!E53","v":0},{"$f":"+印領清冊統計表!F53","v":0},{"$f":"+印領清冊統計表!G53","v":0}]
[{"$f":"IF(印領清冊統計表!$A54=\"總計\",\"\",(IF(印領清冊統計表!A54=0,A50,印領清冊統計表!A54)))","v":""},{"$f":"+印領清冊統計表!B54","v":0},{"$f":"+印領清冊統計表!C54","v":0},{"$f":"+印領清冊統計表!D54","v":0},{"$f":"+印領清冊統計表!E54","v":0},{"$f":"+印領清冊統計表!F54","v":0},{"$f":"+印領清冊統計表!G54","v":0}]
[{"$f":"IF(印領清冊統計表!$A55=\"總計\",\"\",(IF(印領清冊統計表!A55=0,A51,印領清冊統計表!A55)))","v":""},{"$f":"+印領清冊統計表!B55","v":0},{"$f":"+印領清冊統計表!C55","v":0},{"$f":"+印領清冊統計表!D55","v":0},{"$f":"+印領清冊統計表!E55","v":0},{"$f":"+印領清冊統計表!F55","v":0},{"$f":"+印領清冊統計表!G55","v":0}]
[{"$f":"IF(印領清冊統計表!$A56=\"總計\",\"\",(IF(印領清冊統計表!A56=0,A52,印領清冊統計表!A56)))","v":""},{"$f":"+印領清冊統計表!B56","v":0},{"$f":"+印領清冊統計表!C56","v":0},{"$f":"+印領清冊統計表!D56","v":0},{"$f":"+印領清冊統計表!E56","v":0},{"$f":"+印領清冊統計表!F56","v":0},{"$f":"+印領清冊統計表!G56","v":0}]
[{"$f":"IF(印領清冊統計表!$A57=\"總計\",\"\",(IF(印領清冊統計表!A57=0,A53,印領清冊統計表!A57)))","v":""},{"$f":"+印領清冊統計表!B57","v":0},{"$f":"+印領清冊統計表!C57","v":0},{"$f":"+印領清冊統計表!D57","v":0},{"$f":"+印領清冊統計表!E57","v":0},{"$f":"+印領清冊統計表!F57","v":0},{"$f":"+印領清冊統計表!G57","v":0}]
[{"$f":"IF(印領清冊統計表!$A58=\"總計\",\"\",(IF(印領清冊統計表!A58=0,A54,印領清冊統計表!A58)))","v":""},{"$f":"+印領清冊統計表!B58","v":0},{"$f":"+印領清冊統計表!C58","v":0},{"$f":"+印領清冊統計表!D58","v":0},{"$f":"+印領清冊統計表!E58","v":0},{"$f":"+印領清冊統計表!F58","v":0},{"$f":"+印領清冊統計表!G58","v":0}]
[{"$f":"IF(印領清冊統計表!$A59=\"總計\",\"\",(IF(印領清冊統計表!A59=0,A55,印領清冊統計表!A59)))","v":""},{"$f":"+印領清冊統計表!B59","v":0},{"$f":"+印領清冊統計表!C59","v":0},{"$f":"+印領清冊統計表!D59","v":0},{"$f":"+印領清冊統計表!E59","v":0},{"$f":"+印領清冊統計表!F59","v":0},{"$f":"+印領清冊統計表!G59","v":0}]
[{"$f":"IF(印領清冊統計表!$A60=\"總計\",\"\",(IF(印領清冊統計表!A60=0,A56,印領清冊統計表!A60)))","v":""},{"$f":"+印領清冊統計表!B60","v":0},{"$f":"+印領清冊統計表!C60","v":0},{"$f":"+印領清冊統計表!D60","v":0},{"$f":"+印領清冊統計表!E60","v":0},{"$f":"+印領清冊統計表!F60","v":0},{"$f":"+印領清冊統計表!G60","v":0}]
[{"$f":"IF(印領清冊統計表!$A61=\"總計\",\"\",(IF(印領清冊統計表!A61=0,A57,印領清冊統計表!A61)))","v":""},{"$f":"+印領清冊統計表!B61","v":0},{"$f":"+印領清冊統計表!C61","v":0},{"$f":"+印領清冊統計表!D61","v":0},{"$f":"+印領清冊統計表!E61","v":0},{"$f":"+印領清冊統計表!F61","v":0},{"$f":"+印領清冊統計表!G61","v":0}]
[{"$f":"IF(印領清冊統計表!$A62=\"總計\",\"\",(IF(印領清冊統計表!A62=0,A58,印領清冊統計表!A62)))","v":""},{"$f":"+印領清冊統計表!B62","v":0},{"$f":"+印領清冊統計表!C62","v":0},{"$f":"+印領清冊統計表!D62","v":0},{"$f":"+印領清冊統計表!E62","v":0},{"$f":"+印領清冊統計表!F62","v":0},{"$f":"+印領清冊統計表!G62","v":0}]
[{"$f":"IF(印領清冊統計表!$A63=\"總計\",\"\",(IF(印領清冊統計表!A63=0,A59,印領清冊統計表!A63)))","v":""},{"$f":"+印領清冊統計表!B63","v":0},{"$f":"+印領清冊統計表!C63","v":0},{"$f":"+印領清冊統計表!D63","v":0},{"$f":"+印領清冊統計表!E63","v":0},{"$f":"+印領清冊統計表!F63","v":0},{"$f":"+印領清冊統計表!G63","v":0}]
[{"$f":"IF(印領清冊統計表!$A64=\"總計\",\"\",(IF(印領清冊統計表!A64=0,A60,印領清冊統計表!A64)))","v":""},{"$f":"+印領清冊統計表!B64","v":0},{"$f":"+印領清冊統計表!C64","v":0},{"$f":"+印領清冊統計表!D64","v":0},{"$f":"+印領清冊統計表!E64","v":0},{"$f":"+印領清冊統計表!F64","v":0},{"$f":"+印領清冊統計表!G64","v":0}]
[{"$f":"IF(印領清冊統計表!$A65=\"總計\",\"\",(IF(印領清冊統計表!A65=0,A61,印領清冊統計表!A65)))","v":""},{"$f":"+印領清冊統計表!B65","v":0},{"$f":"+印領清冊統計表!C65","v":0},{"$f":"+印領清冊統計表!D65","v":0},{"$f":"+印領清冊統計表!E65","v":0},{"$f":"+印領清冊統計表!F65","v":0},{"$f":"+印領清冊統計表!G65","v":0}]
[{"$f":"IF(印領清冊統計表!$A66=\"總計\",\"\",(IF(印領清冊統計表!A66=0,A62,印領清冊統計表!A66)))","v":""},{"$f":"+印領清冊統計表!B66","v":0},{"$f":"+印領清冊統計表!C66","v":0},{"$f":"+印領清冊統計表!D66","v":0},{"$f":"+印領清冊統計表!E66","v":0},{"$f":"+印領清冊統計表!F66","v":0},{"$f":"+印領清冊統計表!G66","v":0}]
[{"$f":"IF(印領清冊統計表!$A67=\"總計\",\"\",(IF(印領清冊統計表!A67=0,A63,印領清冊統計表!A67)))","v":""},{"$f":"+印領清冊統計表!B67","v":0},{"$f":"+印領清冊統計表!C67","v":0},{"$f":"+印領清冊統計表!D67","v":0},{"$f":"+印領清冊統計表!E67","v":0},{"$f":"+印領清冊統計表!F67","v":0},{"$f":"+印領清冊統計表!G67","v":0}]
[{"$f":"IF(印領清冊統計表!$A68=\"總計\",\"\",(IF(印領清冊統計表!A68=0,A64,印領清冊統計表!A68)))","v":""},{"$f":"+印領清冊統計表!B68","v":0},{"$f":"+印領清冊統計表!C68","v":0},{"$f":"+印領清冊統計表!D68","v":0},{"$f":"+印領清冊統計表!E68","v":0},{"$f":"+印領清冊統計表!F68","v":0},{"$f":"+印領清冊統計表!G68","v":0}]
[{"$f":"IF(印領清冊統計表!$A69=\"總計\",\"\",(IF(印領清冊統計表!A69=0,A65,印領清冊統計表!A69)))","v":""},{"$f":"+印領清冊統計表!B69","v":0},{"$f":"+印領清冊統計表!C69","v":0},{"$f":"+印領清冊統計表!D69","v":0},{"$f":"+印領清冊統計表!E69","v":0},{"$f":"+印領清冊統計表!F69","v":0},{"$f":"+印領清冊統計表!G69","v":0}]
[{"$f":"IF(印領清冊統計表!$A70=\"總計\",\"\",(IF(印領清冊統計表!A70=0,A66,印領清冊統計表!A70)))","v":""},{"$f":"+印領清冊統計表!B70","v":0},{"$f":"+印領清冊統計表!C70","v":0},{"$f":"+印領清冊統計表!D70","v":0},{"$f":"+印領清冊統計表!E70","v":0},{"$f":"+印領清冊統計表!F70","v":0},{"$f":"+印領清冊統計表!G70","v":0}]
[{"$f":"IF(印領清冊統計表!$A71=\"總計\",\"\",(IF(印領清冊統計表!A71=0,A67,印領清冊統計表!A71)))","v":""},{"$f":"+印領清冊統計表!B71","v":0},{"$f":"+印領清冊統計表!C71","v":0},{"$f":"+印領清冊統計表!D71","v":0},{"$f":"+印領清冊統計表!E71","v":0},{"$f":"+印領清冊統計表!F71","v":0},{"$f":"+印領清冊統計表!G71","v":0}]
[{"$f":"IF(印領清冊統計表!$A72=\"總計\",\"\",(IF(印領清冊統計表!A72=0,A68,印領清冊統計表!A72)))","v":""},{"$f":"+印領清冊統計表!B72","v":0},{"$f":"+印領清冊統計表!C72","v":0},{"$f":"+印領清冊統計表!D72","v":0},{"$f":"+印領清冊統計表!E72","v":0},{"$f":"+印領清冊統計表!F72","v":0},{"$f":"+印領清冊統計表!G72","v":0}]
[{"$f":"IF(印領清冊統計表!$A73=\"總計\",\"\",(IF(印領清冊統計表!A73=0,A69,印領清冊統計表!A73)))","v":""},{"$f":"+印領清冊統計表!B73","v":0},{"$f":"+印領清冊統計表!C73","v":0},{"$f":"+印領清冊統計表!D73","v":0},{"$f":"+印領清冊統計表!E73","v":0},{"$f":"+印領清冊統計表!F73","v":0},{"$f":"+印領清冊統計表!G73","v":0}]
[{"$f":"IF(印領清冊統計表!$A74=\"總計\",\"\",(IF(印領清冊統計表!A74=0,A70,印領清冊統計表!A74)))","v":""},{"$f":"+印領清冊統計表!B74","v":0},{"$f":"+印領清冊統計表!C74","v":0},{"$f":"+印領清冊統計表!D74","v":0},{"$f":"+印領清冊統計表!E74","v":0},{"$f":"+印領清冊統計表!F74","v":0},{"$f":"+印領清冊統計表!G74","v":0}]
[{"$f":"IF(印領清冊統計表!$A75=\"總計\",\"\",(IF(印領清冊統計表!A75=0,A71,印領清冊統計表!A75)))","v":""},{"$f":"+印領清冊統計表!B75","v":0},{"$f":"+印領清冊統計表!C75","v":0},{"$f":"+印領清冊統計表!D75","v":0},{"$f":"+印領清冊統計表!E75","v":0},{"$f":"+印領清冊統計表!F75","v":0},{"$f":"+印領清冊統計表!G75","v":0}]
[{"$f":"IF(印領清冊統計表!$A76=\"總計\",\"\",(IF(印領清冊統計表!A76=0,A72,印領清冊統計表!A76)))","v":""},{"$f":"+印領清冊統計表!B76","v":0},{"$f":"+印領清冊統計表!C76","v":0},{"$f":"+印領清冊統計表!D76","v":0},{"$f":"+印領清冊統計表!E76","v":0},{"$f":"+印領清冊統計表!F76","v":0},{"$f":"+印領清冊統計表!G76","v":0}]
[{"$f":"IF(印領清冊統計表!$A77=\"總計\",\"\",(IF(印領清冊統計表!A77=0,A73,印領清冊統計表!A77)))","v":""},{"$f":"+印領清冊統計表!B77","v":0},{"$f":"+印領清冊統計表!C77","v":0},{"$f":"+印領清冊統計表!D77","v":0},{"$f":"+印領清冊統計表!E77","v":0},{"$f":"+印領清冊統計表!F77","v":0},{"$f":"+印領清冊統計表!G77","v":0}]
[{"$f":"IF(印領清冊統計表!$A78=\"總計\",\"\",(IF(印領清冊統計表!A78=0,A74,印領清冊統計表!A78)))","v":""},{"$f":"+印領清冊統計表!B78","v":0},{"$f":"+印領清冊統計表!C78","v":0},{"$f":"+印領清冊統計表!D78","v":0},{"$f":"+印領清冊統計表!E78","v":0},{"$f":"+印領清冊統計表!F78","v":0},{"$f":"+印領清冊統計表!G78","v":0}]
[{"$f":"IF(印領清冊統計表!$A79=\"總計\",\"\",(IF(印領清冊統計表!A79=0,A75,印領清冊統計表!A79)))","v":""},{"$f":"+印領清冊統計表!B79","v":0},{"$f":"+印領清冊統計表!C79","v":0},{"$f":"+印領清冊統計表!D79","v":0},{"$f":"+印領清冊統計表!E79","v":0},{"$f":"+印領清冊統計表!F79","v":0},{"$f":"+印領清冊統計表!G79","v":0}]
[{"$f":"IF(印領清冊統計表!$A80=\"總計\",\"\",(IF(印領清冊統計表!A80=0,A76,印領清冊統計表!A80)))","v":""},{"$f":"+印領清冊統計表!B80","v":0},{"$f":"+印領清冊統計表!C80","v":0},{"$f":"+印領清冊統計表!D80","v":0},{"$f":"+印領清冊統計表!E80","v":0},{"$f":"+印領清冊統計表!F80","v":0},{"$f":"+印領清冊統計表!G80","v":0}]
[{"$f":"IF(印領清冊統計表!$A81=\"總計\",\"\",(IF(印領清冊統計表!A81=0,A77,印領清冊統計表!A81)))","v":""},{"$f":"+印領清冊統計表!B81","v":0},{"$f":"+印領清冊統計表!C81","v":0},{"$f":"+印領清冊統計表!D81","v":0},{"$f":"+印領清冊統計表!E81","v":0},{"$f":"+印領清冊統計表!F81","v":0},{"$f":"+印領清冊統計表!G81","v":0}]
[{"$f":"IF(印領清冊統計表!$A82=\"總計\",\"\",(IF(印領清冊統計表!A82=0,A78,印領清冊統計表!A82)))","v":""},{"$f":"+印領清冊統計表!B82","v":0},{"$f":"+印領清冊統計表!C82","v":0},{"$f":"+印領清冊統計表!D82","v":0},{"$f":"+印領清冊統計表!E82","v":0},{"$f":"+印領清冊統計表!F82","v":0},{"$f":"+印領清冊統計表!G82","v":0}]
[{"$f":"IF(印領清冊統計表!$A83=\"總計\",\"\",(IF(印領清冊統計表!A83=0,A79,印領清冊統計表!A83)))","v":""},{"$f":"+印領清冊統計表!B83","v":0},{"$f":"+印領清冊統計表!C83","v":0},{"$f":"+印領清冊統計表!D83","v":0},{"$f":"+印領清冊統計表!E83","v":0},{"$f":"+印領清冊統計表!F83","v":0},{"$f":"+印領清冊統計表!G83","v":0}]
[{"$f":"IF(印領清冊統計表!$A84=\"總計\",\"\",(IF(印領清冊統計表!A84=0,A80,印領清冊統計表!A84)))","v":""},{"$f":"+印領清冊統計表!B84","v":0},{"$f":"+印領清冊統計表!C84","v":0},{"$f":"+印領清冊統計表!D84","v":0},{"$f":"+印領清冊統計表!E84","v":0},{"$f":"+印領清冊統計表!F84","v":0},{"$f":"+印領清冊統計表!G84","v":0}]
[{"$f":"IF(印領清冊統計表!$A85=\"總計\",\"\",(IF(印領清冊統計表!A85=0,A81,印領清冊統計表!A85)))","v":""},{"$f":"+印領清冊統計表!B85","v":0},{"$f":"+印領清冊統計表!C85","v":0},{"$f":"+印領清冊統計表!D85","v":0},{"$f":"+印領清冊統計表!E85","v":0},{"$f":"+印領清冊統計表!F85","v":0},{"$f":"+印領清冊統計表!G85","v":0}]
[{"$f":"IF(印領清冊統計表!$A86=\"總計\",\"\",(IF(印領清冊統計表!A86=0,A82,印領清冊統計表!A86)))","v":""},{"$f":"+印領清冊統計表!B86","v":0},{"$f":"+印領清冊統計表!C86","v":0},{"$f":"+印領清冊統計表!D86","v":0},{"$f":"+印領清冊統計表!E86","v":0},{"$f":"+印領清冊統計表!F86","v":0},{"$f":"+印領清冊統計表!G86","v":0}]
[{"$f":"IF(印領清冊統計表!$A87=\"總計\",\"\",(IF(印領清冊統計表!A87=0,A83,印領清冊統計表!A87)))","v":""},{"$f":"+印領清冊統計表!B87","v":0},{"$f":"+印領清冊統計表!C87","v":0},{"$f":"+印領清冊統計表!D87","v":0},{"$f":"+印領清冊統計表!E87","v":0},{"$f":"+印領清冊統計表!F87","v":0},{"$f":"+印領清冊統計表!G87","v":0}]
[{"$f":"IF(印領清冊統計表!$A88=\"總計\",\"\",(IF(印領清冊統計表!A88=0,A84,印領清冊統計表!A88)))","v":""},{"$f":"+印領清冊統計表!B88","v":0},{"$f":"+印領清冊統計表!C88","v":0},{"$f":"+印領清冊統計表!D88","v":0},{"$f":"+印領清冊統計表!E88","v":0},{"$f":"+印領清冊統計表!F88","v":0},{"$f":"+印領清冊統計表!G88","v":0}]
[{"$f":"IF(印領清冊統計表!$A89=\"總計\",\"\",(IF(印領清冊統計表!A89=0,A85,印領清冊統計表!A89)))","v":""},{"$f":"+印領清冊統計表!B89","v":0},{"$f":"+印領清冊統計表!C89","v":0},{"$f":"+印領清冊統計表!D89","v":0},{"$f":"+印領清冊統計表!E89","v":0},{"$f":"+印領清冊統計表!F89","v":0},{"$f":"+印領清冊統計表!G89","v":0}]
[{"$f":"IF(印領清冊統計表!$A90=\"總計\",\"\",(IF(印領清冊統計表!A90=0,A86,印領清冊統計表!A90)))","v":""},{"$f":"+印領清冊統計表!B90","v":0},{"$f":"+印領清冊統計表!C90","v":0},{"$f":"+印領清冊統計表!D90","v":0},{"$f":"+印領清冊統計表!E90","v":0},{"$f":"+印領清冊統計表!F90","v":0},{"$f":"+印領清冊統計表!G90","v":0}]
[{"$f":"IF(印領清冊統計表!$A91=\"總計\",\"\",(IF(印領清冊統計表!A91=0,A87,印領清冊統計表!A91)))","v":""},{"$f":"+印領清冊統計表!B91","v":0},{"$f":"+印領清冊統計表!C91","v":0},{"$f":"+印領清冊統計表!D91","v":0},{"$f":"+印領清冊統計表!E91","v":0},{"$f":"+印領清冊統計表!F91","v":0},{"$f":"+印領清冊統計表!G91","v":0}]
[{"$f":"IF(印領清冊統計表!$A92=\"總計\",\"\",(IF(印領清冊統計表!A92=0,A88,印領清冊統計表!A92)))","v":""},{"$f":"+印領清冊統計表!B92","v":0},{"$f":"+印領清冊統計表!C92","v":0},{"$f":"+印領清冊統計表!D92","v":0},{"$f":"+印領清冊統計表!E92","v":0},{"$f":"+印領清冊統計表!F92","v":0},{"$f":"+印領清冊統計表!G92","v":0}]
[{"$f":"IF(印領清冊統計表!$A93=\"總計\",\"\",(IF(印領清冊統計表!A93=0,A89,印領清冊統計表!A93)))","v":""},{"$f":"+印領清冊統計表!B93","v":0},{"$f":"+印領清冊統計表!C93","v":0},{"$f":"+印領清冊統計表!D93","v":0},{"$f":"+印領清冊統計表!E93","v":0},{"$f":"+印領清冊統計表!F93","v":0},{"$f":"+印領清冊統計表!G93","v":0}]
[{"$f":"IF(印領清冊統計表!$A94=\"總計\",\"\",(IF(印領清冊統計表!A94=0,A90,印領清冊統計表!A94)))","v":""},{"$f":"+印領清冊統計表!B94","v":0},{"$f":"+印領清冊統計表!C94","v":0},{"$f":"+印領清冊統計表!D94","v":0},{"$f":"+印領清冊統計表!E94","v":0},{"$f":"+印領清冊統計表!F94","v":0},{"$f":"+印領清冊統計表!G94","v":0}]
[{"$f":"IF(印領清冊統計表!$A95=\"總計\",\"\",(IF(印領清冊統計表!A95=0,A91,印領清冊統計表!A95)))","v":""},{"$f":"+印領清冊統計表!B95","v":0},{"$f":"+印領清冊統計表!C95","v":0},{"$f":"+印領清冊統計表!D95","v":0},{"$f":"+印領清冊統計表!E95","v":0},{"$f":"+印領清冊統計表!F95","v":0},{"$f":"+印領清冊統計表!G95","v":0}]
[{"$f":"IF(印領清冊統計表!$A96=\"總計\",\"\",(IF(印領清冊統計表!A96=0,A92,印領清冊統計表!A96)))","v":""},{"$f":"+印領清冊統計表!B96","v":0},{"$f":"+印領清冊統計表!C96","v":0},{"$f":"+印領清冊統計表!D96","v":0},{"$f":"+印領清冊統計表!E96","v":0},{"$f":"+印領清冊統計表!F96","v":0},{"$f":"+印領清冊統計表!G96","v":0}]
[{"$f":"IF(印領清冊統計表!$A97=\"總計\",\"\",(IF(印領清冊統計表!A97=0,A93,印領清冊統計表!A97)))","v":""},{"$f":"+印領清冊統計表!B97","v":0},{"$f":"+印領清冊統計表!C97","v":0},{"$f":"+印領清冊統計表!D97","v":0},{"$f":"+印領清冊統計表!E97","v":0},{"$f":"+印領清冊統計表!F97","v":0},{"$f":"+印領清冊統計表!G97","v":0}]
[{"$f":"IF(印領清冊統計表!$A98=\"總計\",\"\",(IF(印領清冊統計表!A98=0,A94,印領清冊統計表!A98)))","v":""},{"$f":"+印領清冊統計表!B98","v":0},{"$f":"+印領清冊統計表!C98","v":0},{"$f":"+印領清冊統計表!D98","v":0},{"$f":"+印領清冊統計表!E98","v":0},{"$f":"+印領清冊統計表!F98","v":0},{"$f":"+印領清冊統計表!G98","v":0}]
[{"$f":"IF(印領清冊統計表!$A99=\"總計\",\"\",(IF(印領清冊統計表!A99=0,A95,印領清冊統計表!A99)))","v":""},{"$f":"+印領清冊統計表!B99","v":0},{"$f":"+印領清冊統計表!C99","v":0},{"$f":"+印領清冊統計表!D99","v":0},{"$f":"+印領清冊統計表!E99","v":0},{"$f":"+印領清冊統計表!F99","v":0},{"$f":"+印領清冊統計表!G99","v":0}]
[{"$f":"IF(印領清冊統計表!$A100=\"總計\",\"\",(IF(印領清冊統計表!A100=0,A96,印領清冊統計表!A100)))","v":""},{"$f":"+印領清冊統計表!B100","v":0},{"$f":"+印領清冊統計表!C100","v":0},{"$f":"+印領清冊統計表!D100","v":0},{"$f":"+印領清冊統計表!E100","v":0},{"$f":"+印領清冊統計表!F100","v":0},{"$f":"+印領清冊統計表!G100","v":0}]
[{"$f":"IF(印領清冊統計表!$A101=\"總計\",\"\",(IF(印領清冊統計表!A101=0,A97,印領清冊統計表!A101)))","v":""},{"$f":"+印領清冊統計表!B101","v":0},{"$f":"+印領清冊統計表!C101","v":0},{"$f":"+印領清冊統計表!D101","v":0},{"$f":"+印領清冊統計表!E101","v":0},{"$f":"+印領清冊統計表!F101","v":0},{"$f":"+印領清冊統計表!G101","v":0}]
[{"$f":"IF(印領清冊統計表!$A102=\"總計\",\"\",(IF(印領清冊統計表!A102=0,A98,印領清冊統計表!A102)))","v":""},{"$f":"+印領清冊統計表!B102","v":0},{"$f":"+印領清冊統計表!C102","v":0},{"$f":"+印領清冊統計表!D102","v":0},{"$f":"+印領清冊統計表!E102","v":0},{"$f":"+印領清冊統計表!F102","v":0},{"$f":"+印領清冊統計表!G102","v":0}]
[{"$f":"IF(印領清冊統計表!$A103=\"總計\",\"\",(IF(印領清冊統計表!A103=0,A99,印領清冊統計表!A103)))","v":""},{"$f":"+印領清冊統計表!B103","v":0},{"$f":"+印領清冊統計表!C103","v":0},{"$f":"+印領清冊統計表!D103","v":0},{"$f":"+印領清冊統計表!E103","v":0},{"$f":"+印領清冊統計表!F103","v":0},{"$f":"+印領清冊統計表!G103","v":0}]
[{"$f":"IF(印領清冊統計表!$A104=\"總計\",\"\",(IF(印領清冊統計表!A104=0,A100,印領清冊統計表!A104)))","v":""},{"$f":"+印領清冊統計表!B104","v":0},{"$f":"+印領清冊統計表!C104","v":0},{"$f":"+印領清冊統計表!D104","v":0},{"$f":"+印領清冊統計表!E104","v":0},{"$f":"+印領清冊統計表!F104","v":0},{"$f":"+印領清冊統計表!G104","v":0}]
[{"$f":"IF(印領清冊統計表!$A105=\"總計\",\"\",(IF(印領清冊統計表!A105=0,A101,印領清冊統計表!A105)))","v":""},{"$f":"+印領清冊統計表!B105","v":0},{"$f":"+印領清冊統計表!C105","v":0},{"$f":"+印領清冊統計表!D105","v":0},{"$f":"+印領清冊統計表!E105","v":0},{"$f":"+印領清冊統計表!F105","v":0},{"$f":"+印領清冊統計表!G105","v":0}]
[{"$f":"IF(印領清冊統計表!$A106=\"總計\",\"\",(IF(印領清冊統計表!A106=0,A102,印領清冊統計表!A106)))","v":""},{"$f":"+印領清冊統計表!B106","v":0},{"$f":"+印領清冊統計表!C106","v":0},{"$f":"+印領清冊統計表!D106","v":0},{"$f":"+印領清冊統計表!E106","v":0},{"$f":"+印領清冊統計表!F106","v":0},{"$f":"+印領清冊統計表!G106","v":0}]
[{"$f":"IF(印領清冊統計表!$A107=\"總計\",\"\",(IF(印領清冊統計表!A107=0,A103,印領清冊統計表!A107)))","v":""},{"$f":"+印領清冊統計表!B107","v":0},{"$f":"+印領清冊統計表!C107","v":0},{"$f":"+印領清冊統計表!D107","v":0},{"$f":"+印領清冊統計表!E107","v":0},{"$f":"+印領清冊統計表!F107","v":0},{"$f":"+印領清冊統計表!G107","v":0}]
[{"$f":"IF(印領清冊統計表!$A108=\"總計\",\"\",(IF(印領清冊統計表!A108=0,A104,印領清冊統計表!A108)))","v":""},{"$f":"+印領清冊統計表!B108","v":0},{"$f":"+印領清冊統計表!C108","v":0},{"$f":"+印領清冊統計表!D108","v":0},{"$f":"+印領清冊統計表!E108","v":0},{"$f":"+印領清冊統計表!F108","v":0},{"$f":"+印領清冊統計表!G108","v":0}]
[{"$f":"IF(印領清冊統計表!$A109=\"總計\",\"\",(IF(印領清冊統計表!A109=0,A105,印領清冊統計表!A109)))","v":""},{"$f":"+印領清冊統計表!B109","v":0},{"$f":"+印領清冊統計表!C109","v":0},{"$f":"+印領清冊統計表!D109","v":0},{"$f":"+印領清冊統計表!E109","v":0},{"$f":"+印領清冊統計表!F109","v":0},{"$f":"+印領清冊統計表!G109","v":0}]
[{"$f":"IF(印領清冊統計表!$A110=\"總計\",\"\",(IF(印領清冊統計表!A110=0,A106,印領清冊統計表!A110)))","v":""},{"$f":"+印領清冊統計表!B110","v":0},{"$f":"+印領清冊統計表!C110","v":0},{"$f":"+印領清冊統計表!D110","v":0},{"$f":"+印領清冊統計表!E110","v":0},{"$f":"+印領清冊統計表!F110","v":0},{"$f":"+印領清冊統計表!G110","v":0}]
[{"$f":"IF(印領清冊統計表!$A111=\"總計\",\"\",(IF(印領清冊統計表!A111=0,A107,印領清冊統計表!A111)))","v":""},{"$f":"+印領清冊統計表!B111","v":0},{"$f":"+印領清冊統計表!C111","v":0},{"$f":"+印領清冊統計表!D111","v":0},{"$f":"+印領清冊統計表!E111","v":0},{"$f":"+印領清冊統計表!F111","v":0},{"$f":"+印領清冊統計表!G111","v":0}]
[{"$f":"IF(印領清冊統計表!$A112=\"總計\",\"\",(IF(印領清冊統計表!A112=0,A108,印領清冊統計表!A112)))","v":""},{"$f":"+印領清冊統計表!B112","v":0},{"$f":"+印領清冊統計表!C112","v":0},{"$f":"+印領清冊統計表!D112","v":0},{"$f":"+印領清冊統計表!E112","v":0},{"$f":"+印領清冊統計表!F112","v":0},{"$f":"+印領清冊統計表!G112","v":0}]
[{"$f":"IF(印領清冊統計表!$A113=\"總計\",\"\",(IF(印領清冊統計表!A113=0,A109,印領清冊統計表!A113)))","v":""},{"$f":"+印領清冊統計表!B113","v":0},{"$f":"+印領清冊統計表!C113","v":0},{"$f":"+印領清冊統計表!D113","v":0},{"$f":"+印領清冊統計表!E113","v":0},{"$f":"+印領清冊統計表!F113","v":0},{"$f":"+印領清冊統計表!G113","v":0}]
[{"$f":"IF(印領清冊統計表!$A114=\"總計\",\"\",(IF(印領清冊統計表!A114=0,A110,印領清冊統計表!A114)))","v":""},{"$f":"+印領清冊統計表!B114","v":0},{"$f":"+印領清冊統計表!C114","v":0},{"$f":"+印領清冊統計表!D114","v":0},{"$f":"+印領清冊統計表!E114","v":0},{"$f":"+印領清冊統計表!F114","v":0},{"$f":"+印領清冊統計表!G114","v":0}]
[{"$f":"IF(印領清冊統計表!$A115=\"總計\",\"\",(IF(印領清冊統計表!A115=0,A111,印領清冊統計表!A115)))","v":""},{"$f":"+印領清冊統計表!B115","v":0},{"$f":"+印領清冊統計表!C115","v":0},{"$f":"+印領清冊統計表!D115","v":0},{"$f":"+印領清冊統計表!E115","v":0},{"$f":"+印領清冊統計表!F115","v":0},{"$f":"+印領清冊統計表!G115","v":0}]
[{"$f":"IF(印領清冊統計表!$A116=\"總計\",\"\",(IF(印領清冊統計表!A116=0,A112,印領清冊統計表!A116)))","v":""},{"$f":"+印領清冊統計表!B116","v":0},{"$f":"+印領清冊統計表!C116","v":0},{"$f":"+印領清冊統計表!D116","v":0},{"$f":"+印領清冊統計表!E116","v":0},{"$f":"+印領清冊統計表!F116","v":0},{"$f":"+印領清冊統計表!G116","v":0}]
[{"$f":"IF(印領清冊統計表!$A117=\"總計\",\"\",(IF(印領清冊統計表!A117=0,A113,印領清冊統計表!A117)))","v":""},{"$f":"+印領清冊統計表!B117","v":0},{"$f":"+印領清冊統計表!C117","v":0},{"$f":"+印領清冊統計表!D117","v":0},{"$f":"+印領清冊統計表!E117","v":0},{"$f":"+印領清冊統計表!F117","v":0},{"$f":"+印領清冊統計表!G117","v":0}]
[{"$f":"IF(印領清冊統計表!$A118=\"總計\",\"\",(IF(印領清冊統計表!A118=0,A114,印領清冊統計表!A118)))","v":""},{"$f":"+印領清冊統計表!B118","v":0},{"$f":"+印領清冊統計表!C118","v":0},{"$f":"+印領清冊統計表!D118","v":0},{"$f":"+印領清冊統計表!E118","v":0},{"$f":"+印領清冊統計表!F118","v":0},{"$f":"+印領清冊統計表!G118","v":0}]
[{"$f":"IF(印領清冊統計表!$A119=\"總計\",\"\",(IF(印領清冊統計表!A119=0,A115,印領清冊統計表!A119)))","v":""},{"$f":"+印領清冊統計表!B119","v":0},{"$f":"+印領清冊統計表!C119","v":0},{"$f":"+印領清冊統計表!D119","v":0},{"$f":"+印領清冊統計表!E119","v":0},{"$f":"+印領清冊統計表!F119","v":0},{"$f":"+印領清冊統計表!G119","v":0}]
[{"$f":"IF(印領清冊統計表!$A120=\"總計\",\"\",(IF(印領清冊統計表!A120=0,A116,印領清冊統計表!A120)))","v":""},{"$f":"+印領清冊統計表!B120","v":0},{"$f":"+印領清冊統計表!C120","v":0},{"$f":"+印領清冊統計表!D120","v":0},{"$f":"+印領清冊統計表!E120","v":0},{"$f":"+印領清冊統計表!F120","v":0},{"$f":"+印領清冊統計表!G120","v":0}]
[{"$f":"IF(印領清冊統計表!$A121=\"總計\",\"\",(IF(印領清冊統計表!A121=0,A117,印領清冊統計表!A121)))","v":""},{"$f":"+印領清冊統計表!B121","v":0},{"$f":"+印領清冊統計表!C121","v":0},{"$f":"+印領清冊統計表!D121","v":0},{"$f":"+印領清冊統計表!E121","v":0},{"$f":"+印領清冊統計表!F121","v":0},{"$f":"+印領清冊統計表!G121","v":0}]
[{"$f":"IF(印領清冊統計表!$A122=\"總計\",\"\",(IF(印領清冊統計表!A122=0,A118,印領清冊統計表!A122)))","v":""},{"$f":"+印領清冊統計表!B122","v":0},{"$f":"+印領清冊統計表!C122","v":0},{"$f":"+印領清冊統計表!D122","v":0},{"$f":"+印領清冊統計表!E122","v":0},{"$f":"+印領清冊統計表!F122","v":0},{"$f":"+印領清冊統計表!G122","v":0}]
[{"$f":"IF(印領清冊統計表!$A123=\"總計\",\"\",(IF(印領清冊統計表!A123=0,A119,印領清冊統計表!A123)))","v":""},{"$f":"+印領清冊統計表!B123","v":0},{"$f":"+印領清冊統計表!C123","v":0},{"$f":"+印領清冊統計表!D123","v":0},{"$f":"+印領清冊統計表!E123","v":0},{"$f":"+印領清冊統計表!F123","v":0},{"$f":"+印領清冊統計表!G123","v":0}]
[{"$f":"IF(印領清冊統計表!$A124=\"總計\",\"\",(IF(印領清冊統計表!A124=0,A120,印領清冊統計表!A124)))","v":""},{"$f":"+印領清冊統計表!B124","v":0},{"$f":"+印領清冊統計表!C124","v":0},{"$f":"+印領清冊統計表!D124","v":0},{"$f":"+印領清冊統計表!E124","v":0},{"$f":"+印領清冊統計表!F124","v":0},{"$f":"+印領清冊統計表!G124","v":0}]
[{"$f":"IF(印領清冊統計表!$A125=\"總計\",\"\",(IF(印領清冊統計表!A125=0,A121,印領清冊統計表!A125)))","v":""},{"$f":"+印領清冊統計表!B125","v":0},{"$f":"+印領清冊統計表!C125","v":0},{"$f":"+印領清冊統計表!D125","v":0},{"$f":"+印領清冊統計表!E125","v":0},{"$f":"+印領清冊統計表!F125","v":0},{"$f":"+印領清冊統計表!G125","v":0}]
[{"$f":"IF(印領清冊統計表!$A126=\"總計\",\"\",(IF(印領清冊統計表!A126=0,A122,印領清冊統計表!A126)))","v":""},{"$f":"+印領清冊統計表!B126","v":0},{"$f":"+印領清冊統計表!C126","v":0},{"$f":"+印領清冊統計表!D126","v":0},{"$f":"+印領清冊統計表!E126","v":0},{"$f":"+印領清冊統計表!F126","v":0},{"$f":"+印領清冊統計表!G126","v":0}]
[{"$f":"IF(印領清冊統計表!$A127=\"總計\",\"\",(IF(印領清冊統計表!A127=0,A123,印領清冊統計表!A127)))","v":""},{"$f":"+印領清冊統計表!B127","v":0},{"$f":"+印領清冊統計表!C127","v":0},{"$f":"+印領清冊統計表!D127","v":0},{"$f":"+印領清冊統計表!E127","v":0},{"$f":"+印領清冊統計表!F127","v":0},{"$f":"+印領清冊統計表!G127","v":0}]
[{"$f":"IF(印領清冊統計表!$A128=\"總計\",\"\",(IF(印領清冊統計表!A128=0,A124,印領清冊統計表!A128)))","v":""},{"$f":"+印領清冊統計表!B128","v":0},{"$f":"+印領清冊統計表!C128","v":0},{"$f":"+印領清冊統計表!D128","v":0},{"$f":"+印領清冊統計表!E128","v":0},{"$f":"+印領清冊統計表!F128","v":0},{"$f":"+印領清冊統計表!G128","v":0}]
[{"$f":"IF(印領清冊統計表!$A129=\"總計\",\"\",(IF(印領清冊統計表!A129=0,A125,印領清冊統計表!A129)))","v":""},{"$f":"+印領清冊統計表!B129","v":0},{"$f":"+印領清冊統計表!C129","v":0},{"$f":"+印領清冊統計表!D129","v":0},{"$f":"+印領清冊統計表!E129","v":0},{"$f":"+印領清冊統計表!F129","v":0},{"$f":"+印領清冊統計表!G129","v":0}]
[{"$f":"IF(印領清冊統計表!$A130=\"總計\",\"\",(IF(印領清冊統計表!A130=0,A126,印領清冊統計表!A130)))","v":""},{"$f":"+印領清冊統計表!B130","v":0},{"$f":"+印領清冊統計表!C130","v":0},{"$f":"+印領清冊統計表!D130","v":0},{"$f":"+印領清冊統計表!E130","v":0},{"$f":"+印領清冊統計表!F130","v":0},{"$f":"+印領清冊統計表!G130","v":0}]
[{"$f":"IF(印領清冊統計表!$A131=\"總計\",\"\",(IF(印領清冊統計表!A131=0,A127,印領清冊統計表!A131)))","v":""},{"$f":"+印領清冊統計表!B131","v":0},{"$f":"+印領清冊統計表!C131","v":0},{"$f":"+印領清冊統計表!D131","v":0},{"$f":"+印領清冊統計表!E131","v":0},{"$f":"+印領清冊統計表!F131","v":0},{"$f":"+印領清冊統計表!G131","v":0}]
[{"$f":"IF(印領清冊統計表!$A132=\"總計\",\"\",(IF(印領清冊統計表!A132=0,A128,印領清冊統計表!A132)))","v":""},{"$f":"+印領清冊統計表!B132","v":0},{"$f":"+印領清冊統計表!C132","v":0},{"$f":"+印領清冊統計表!D132","v":0},{"$f":"+印領清冊統計表!E132","v":0},{"$f":"+印領清冊統計表!F132","v":0},{"$f":"+印領清冊統計表!G132","v":0}]
[{"$f":"IF(印領清冊統計表!$A133=\"總計\",\"\",(IF(印領清冊統計表!A133=0,A129,印領清冊統計表!A133)))","v":""},{"$f":"+印領清冊統計表!B133","v":0},{"$f":"+印領清冊統計表!C133","v":0},{"$f":"+印領清冊統計表!D133","v":0},{"$f":"+印領清冊統計表!E133","v":0},{"$f":"+印領清冊統計表!F133","v":0},{"$f":"+印領清冊統計表!G133","v":0}]
[{"$f":"IF(印領清冊統計表!$A134=\"總計\",\"\",(IF(印領清冊統計表!A134=0,A130,印領清冊統計表!A134)))","v":""},{"$f":"+印領清冊統計表!B134","v":0},{"$f":"+印領清冊統計表!C134","v":0},{"$f":"+印領清冊統計表!D134","v":0},{"$f":"+印領清冊統計表!E134","v":0},{"$f":"+印領清冊統計表!F134","v":0},{"$f":"+印領清冊統計表!G134","v":0}]
[{"$f":"IF(印領清冊統計表!$A135=\"總計\",\"\",(IF(印領清冊統計表!A135=0,A131,印領清冊統計表!A135)))","v":""},{"$f":"+印領清冊統計表!B135","v":0},{"$f":"+印領清冊統計表!C135","v":0},{"$f":"+印領清冊統計表!D135","v":0},{"$f":"+印領清冊統計表!E135","v":0},{"$f":"+印領清冊統計表!F135","v":0},{"$f":"+印領清冊統計表!G135","v":0}]
[{"$f":"IF(印領清冊統計表!$A136=\"總計\",\"\",(IF(印領清冊統計表!A136=0,A132,印領清冊統計表!A136)))","v":""},{"$f":"+印領清冊統計表!B136","v":0},{"$f":"+印領清冊統計表!C136","v":0},{"$f":"+印領清冊統計表!D136","v":0},{"$f":"+印領清冊統計表!E136","v":0},{"$f":"+印領清冊統計表!F136","v":0},{"$f":"+印領清冊統計表!G136","v":0}]
[{"$f":"IF(印領清冊統計表!$A137=\"總計\",\"\",(IF(印領清冊統計表!A137=0,A133,印領清冊統計表!A137)))","v":""},{"$f":"+印領清冊統計表!B137","v":0},{"$f":"+印領清冊統計表!C137","v":0},{"$f":"+印領清冊統計表!D137","v":0},{"$f":"+印領清冊統計表!E137","v":0},{"$f":"+印領清冊統計表!F137","v":0},{"$f":"+印領清冊統計表!G137","v":0}]
[{"$f":"IF(印領清冊統計表!$A138=\"總計\",\"\",(IF(印領清冊統計表!A138=0,A134,印領清冊統計表!A138)))","v":""},{"$f":"+印領清冊統計表!B138","v":0},{"$f":"+印領清冊統計表!C138","v":0},{"$f":"+印領清冊統計表!D138","v":0},{"$f":"+印領清冊統計表!E138","v":0},{"$f":"+印領清冊統計表!F138","v":0},{"$f":"+印領清冊統計表!G138","v":0}]
[{"$f":"IF(印領清冊統計表!$A139=\"總計\",\"\",(IF(印領清冊統計表!A139=0,A135,印領清冊統計表!A139)))","v":""},{"$f":"+印領清冊統計表!B139","v":0},{"$f":"+印領清冊統計表!C139","v":0},{"$f":"+印領清冊統計表!D139","v":0},{"$f":"+印領清冊統計表!E139","v":0},{"$f":"+印領清冊統計表!F139","v":0},{"$f":"+印領清冊統計表!G139","v":0}]
[{"$f":"IF(印領清冊統計表!$A140=\"總計\",\"\",(IF(印領清冊統計表!A140=0,A136,印領清冊統計表!A140)))","v":""},{"$f":"+印領清冊統計表!B140","v":0},{"$f":"+印領清冊統計表!C140","v":0},{"$f":"+印領清冊統計表!D140","v":0},{"$f":"+印領清冊統計表!E140","v":0},{"$f":"+印領清冊統計表!F140","v":0},{"$f":"+印領清冊統計表!G140","v":0}]
[{"$f":"IF(印領清冊統計表!$A141=\"總計\",\"\",(IF(印領清冊統計表!A141=0,A137,印領清冊統計表!A141)))","v":""},{"$f":"+印領清冊統計表!B141","v":0},{"$f":"+印領清冊統計表!C141","v":0},{"$f":"+印領清冊統計表!D141","v":0},{"$f":"+印領清冊統計表!E141","v":0},{"$f":"+印領清冊統計表!F141","v":0},{"$f":"+印領清冊統計表!G141","v":0}]
[{"$f":"IF(印領清冊統計表!$A142=\"總計\",\"\",(IF(印領清冊統計表!A142=0,A138,印領清冊統計表!A142)))","v":""},{"$f":"+印領清冊統計表!B142","v":0},{"$f":"+印領清冊統計表!C142","v":0},{"$f":"+印領清冊統計表!D142","v":0},{"$f":"+印領清冊統計表!E142","v":0},{"$f":"+印領清冊統計表!F142","v":0},{"$f":"+印領清冊統計表!G142","v":0}]
[{"$f":"IF(印領清冊統計表!$A143=\"總計\",\"\",(IF(印領清冊統計表!A143=0,A139,印領清冊統計表!A143)))","v":""},{"$f":"+印領清冊統計表!B143","v":0},{"$f":"+印領清冊統計表!C143","v":0},{"$f":"+印領清冊統計表!D143","v":0},{"$f":"+印領清冊統計表!E143","v":0},{"$f":"+印領清冊統計表!F143","v":0},{"$f":"+印領清冊統計表!G143","v":0}]
[{"$f":"IF(印領清冊統計表!$A144=\"總計\",\"\",(IF(印領清冊統計表!A144=0,A140,印領清冊統計表!A144)))","v":""},{"$f":"+印領清冊統計表!B144","v":0},{"$f":"+印領清冊統計表!C144","v":0},{"$f":"+印領清冊統計表!D144","v":0},{"$f":"+印領清冊統計表!E144","v":0},{"$f":"+印領清冊統計表!F144","v":0},{"$f":"+印領清冊統計表!G144","v":0}]
[{"$f":"IF(印領清冊統計表!$A145=\"總計\",\"\",(IF(印領清冊統計表!A145=0,A141,印領清冊統計表!A145)))","v":""},{"$f":"+印領清冊統計表!B145","v":0},{"$f":"+印領清冊統計表!C145","v":0},{"$f":"+印領清冊統計表!D145","v":0},{"$f":"+印領清冊統計表!E145","v":0},{"$f":"+印領清冊統計表!F145","v":0},{"$f":"+印領清冊統計表!G145","v":0}]
[{"$f":"IF(印領清冊統計表!$A146=\"總計\",\"\",(IF(印領清冊統計表!A146=0,A142,印領清冊統計表!A146)))","v":""},{"$f":"+印領清冊統計表!B146","v":0},{"$f":"+印領清冊統計表!C146","v":0},{"$f":"+印領清冊統計表!D146","v":0},{"$f":"+印領清冊統計表!E146","v":0},{"$f":"+印領清冊統計表!F146","v":0},{"$f":"+印領清冊統計表!G146","v":0}]
[{"$f":"IF(印領清冊統計表!$A147=\"總計\",\"\",(IF(印領清冊統計表!A147=0,A143,印領清冊統計表!A147)))","v":""},{"$f":"+印領清冊統計表!B147","v":0},{"$f":"+印領清冊統計表!C147","v":0},{"$f":"+印領清冊統計表!D147","v":0},{"$f":"+印領清冊統計表!E147","v":0},{"$f":"+印領清冊統計表!F147","v":0},{"$f":"+印領清冊統計表!G147","v":0}]
[{"$f":"IF(印領清冊統計表!$A148=\"總計\",\"\",(IF(印領清冊統計表!A148=0,A144,印領清冊統計表!A148)))","v":""},{"$f":"+印領清冊統計表!B148","v":0},{"$f":"+印領清冊統計表!C148","v":0},{"$f":"+印領清冊統計表!D148","v":0},{"$f":"+印領清冊統計表!E148","v":0},{"$f":"+印領清冊統計表!F148","v":0},{"$f":"+印領清冊統計表!G148","v":0}]
[{"$f":"IF(印領清冊統計表!$A149=\"總計\",\"\",(IF(印領清冊統計表!A149=0,A145,印領清冊統計表!A149)))","v":""},{"$f":"+印領清冊統計表!B149","v":0},{"$f":"+印領清冊統計表!C149","v":0},{"$f":"+印領清冊統計表!D149","v":0},{"$f":"+印領清冊統計表!E149","v":0},{"$f":"+印領清冊統計表!F149","v":0},{"$f":"+印領清冊統計表!G149","v":0}]
[{"$f":"IF(印領清冊統計表!$A150=\"總計\",\"\",(IF(印領清冊統計表!A150=0,A146,印領清冊統計表!A150)))","v":""},{"$f":"+印領清冊統計表!B150","v":0},{"$f":"+印領清冊統計表!C150","v":0},{"$f":"+印領清冊統計表!D150","v":0},{"$f":"+印領清冊統計表!E150","v":0},{"$f":"+印領清冊統計表!F150","v":0},{"$f":"+印領清冊統計表!G150","v":0}]
[{"$f":"IF(印領清冊統計表!$A151=\"總計\",\"\",(IF(印領清冊統計表!A151=0,A147,印領清冊統計表!A151)))","v":""},{"$f":"+印領清冊統計表!B151","v":0},{"$f":"+印領清冊統計表!C151","v":0},{"$f":"+印領清冊統計表!D151","v":0},{"$f":"+印領清冊統計表!E151","v":0},{"$f":"+印領清冊統計表!F151","v":0},{"$f":"+印領清冊統計表!G151","v":0}]
[{"$f":"IF(印領清冊統計表!$A152=\"總計\",\"\",(IF(印領清冊統計表!A152=0,A148,印領清冊統計表!A152)))","v":""},{"$f":"+印領清冊統計表!B152","v":0},{"$f":"+印領清冊統計表!C152","v":0},{"$f":"+印領清冊統計表!D152","v":0},{"$f":"+印領清冊統計表!E152","v":0}]
[{"$f":"IF(印領清冊統計表!$A153=\"總計\",\"\",(IF(印領清冊統計表!A153=0,A149,印領清冊統計表!A153)))","v":""},{"$f":"+印領清冊統計表!B153","v":0},{"$f":"+印領清冊統計表!C153","v":0},{"$f":"+印領清冊統計表!D153","v":0},{"$f":"+印領清冊統計表!E153","v":0}]
[{"$f":"IF(印領清冊統計表!$A154=\"總計\",\"\",(IF(印領清冊統計表!A154=0,A150,印領清冊統計表!A154)))","v":""},{"$f":"+印領清冊統計表!B154","v":0},{"$f":"+印領清冊統計表!C154","v":0},{"$f":"+印領清冊統計表!D154","v":0},{"$f":"+印領清冊統計表!E154","v":0}]
[{"$f":"IF(印領清冊統計表!$A155=\"總計\",\"\",(IF(印領清冊統計表!A155=0,A151,印領清冊統計表!A155)))","v":""},{"$f":"+印領清冊統計表!B155","v":0},{"$f":"+印領清冊統計表!C155","v":0},{"$f":"+印領清冊統計表!D155","v":0},{"$f":"+印領清冊統計表!E155","v":0}]
[{"$f":"IF(印領清冊統計表!$A156=\"總計\",\"\",(IF(印領清冊統計表!A156=0,A152,印領清冊統計表!A156)))","v":""},{"$f":"+印領清冊統計表!B156","v":0},{"$f":"+印領清冊統計表!C156","v":0},{"$f":"+印領清冊統計表!D156","v":0},{"$f":"+印領清冊統計表!E156","v":0}]
[{"$f":"IF(印領清冊統計表!$A157=\"總計\",\"\",(IF(印領清冊統計表!A157=0,A153,印領清冊統計表!A157)))","v":""},{"$f":"+印領清冊統計表!B157","v":0},{"$f":"+印領清冊統計表!C157","v":0},{"$f":"+印領清冊統計表!D157","v":0},{"$f":"+印領清冊統計表!E157","v":0}]
[{"$f":"IF(印領清冊統計表!$A158=\"總計\",\"\",(IF(印領清冊統計表!A158=0,A154,印領清冊統計表!A158)))","v":""},{"$f":"+印領清冊統計表!B158","v":0},{"$f":"+印領清冊統計表!C158","v":0},{"$f":"+印領清冊統計表!D158","v":0},{"$f":"+印領清冊統計表!E158","v":0}]
[{"$f":"IF(印領清冊統計表!$A159=\"總計\",\"\",(IF(印領清冊統計表!A159=0,A155,印領清冊統計表!A159)))","v":""},{"$f":"+印領清冊統計表!B159","v":0},{"$f":"+印領清冊統計表!C159","v":0},{"$f":"+印領清冊統計表!D159","v":0},{"$f":"+印領清冊統計表!E159","v":0}]
[{"$f":"IF(印領清冊統計表!$A160=\"總計\",\"\",(IF(印領清冊統計表!A160=0,A156,印領清冊統計表!A160)))","v":""},{"$f":"+印領清冊統計表!B160","v":0},{"$f":"+印領清冊統計表!C160","v":0},{"$f":"+印領清冊統計表!D160","v":0},{"$f":"+印領清冊統計表!E160","v":0}]
[{"$f":"IF(印領清冊統計表!$A161=\"總計\",\"\",(IF(印領清冊統計表!A161=0,A157,印領清冊統計表!A161)))","v":""},{"$f":"+印領清冊統計表!B161","v":0},{"$f":"+印領清冊統計表!C161","v":0},{"$f":"+印領清冊統計表!D161","v":0},{"$f":"+印領清冊統計表!E161","v":0}]
[{"$f":"IF(印領清冊統計表!$A162=\"總計\",\"\",(IF(印領清冊統計表!A162=0,A158,印領清冊統計表!A162)))","v":""},{"$f":"+印領清冊統計表!B162","v":0},{"$f":"+印領清冊統計表!C162","v":0},{"$f":"+印領清冊統計表!D162","v":0},{"$f":"+印領清冊統計表!E162","v":0}]
[{"$f":"IF(印領清冊統計表!$A163=\"總計\",\"\",(IF(印領清冊統計表!A163=0,A159,印領清冊統計表!A163)))","v":""},{"$f":"+印領清冊統計表!B163","v":0},{"$f":"+印領清冊統計表!C163","v":0},{"$f":"+印領清冊統計表!D163","v":0},{"$f":"+印領清冊統計表!E163","v":0}]
[{"$f":"IF(印領清冊統計表!$A164=\"總計\",\"\",(IF(印領清冊統計表!A164=0,A160,印領清冊統計表!A164)))","v":""},{"$f":"+印領清冊統計表!B164","v":0},{"$f":"+印領清冊統計表!C164","v":0},{"$f":"+印領清冊統計表!D164","v":0},{"$f":"+印領清冊統計表!E164","v":0}]
[{"$f":"IF(印領清冊統計表!$A165=\"總計\",\"\",(IF(印領清冊統計表!A165=0,A161,印領清冊統計表!A165)))","v":""},{"$f":"+印領清冊統計表!B165","v":0},{"$f":"+印領清冊統計表!C165","v":0},{"$f":"+印領清冊統計表!D165","v":0},{"$f":"+印領清冊統計表!E165","v":0}]
[{"$f":"IF(印領清冊統計表!$A166=\"總計\",\"\",(IF(印領清冊統計表!A166=0,A162,印領清冊統計表!A166)))","v":""},{"$f":"+印領清冊統計表!B166","v":0},{"$f":"+印領清冊統計表!C166","v":0},{"$f":"+印領清冊統計表!D166","v":0},{"$f":"+印領清冊統計表!E166","v":0}]
[{"$f":"IF(印領清冊統計表!$A167=\"總計\",\"\",(IF(印領清冊統計表!A167=0,A163,印領清冊統計表!A167)))","v":""},{"$f":"+印領清冊統計表!B167","v":0},{"$f":"+印領清冊統計表!C167","v":0},{"$f":"+印領清冊統計表!D167","v":0},{"$f":"+印領清冊統計表!E167","v":0}]
[{"$f":"IF(印領清冊統計表!$A168=\"總計\",\"\",(IF(印領清冊統計表!A168=0,A164,印領清冊統計表!A168)))","v":""},{"$f":"+印領清冊統計表!B168","v":0},{"$f":"+印領清冊統計表!C168","v":0},{"$f":"+印領清冊統計表!D168","v":0},{"$f":"+印領清冊統計表!E168","v":0}]
[{"$f":"IF(印領清冊統計表!$A169=\"總計\",\"\",(IF(印領清冊統計表!A169=0,A165,印領清冊統計表!A169)))","v":""},{"$f":"+印領清冊統計表!B169","v":0},{"$f":"+印領清冊統計表!C169","v":0},{"$f":"+印領清冊統計表!D169","v":0},{"$f":"+印領清冊統計表!E169","v":0}]
[{"$f":"IF(印領清冊統計表!$A170=\"總計\",\"\",(IF(印領清冊統計表!A170=0,A166,印領清冊統計表!A170)))","v":""},{"$f":"+印領清冊統計表!B170","v":0},{"$f":"+印領清冊統計表!C170","v":0},{"$f":"+印領清冊統計表!D170","v":0},{"$f":"+印領清冊統計表!E170","v":0}]
[{"$f":"IF(印領清冊統計表!$A171=\"總計\",\"\",(IF(印領清冊統計表!A171=0,A167,印領清冊統計表!A171)))","v":""},{"$f":"+印領清冊統計表!B171","v":0},{"$f":"+印領清冊統計表!C171","v":0},{"$f":"+印領清冊統計表!D171","v":0},{"$f":"+印領清冊統計表!E171","v":0}]
[{"$f":"IF(印領清冊統計表!$A172=\"總計\",\"\",(IF(印領清冊統計表!A172=0,A168,印領清冊統計表!A172)))","v":""},{"$f":"+印領清冊統計表!B172","v":0},{"$f":"+印領清冊統計表!C172","v":0},{"$f":"+印領清冊統計表!D172","v":0},{"$f":"+印領清冊統計表!E172","v":0}]
[{"$f":"IF(印領清冊統計表!$A173=\"總計\",\"\",(IF(印領清冊統計表!A173=0,A169,印領清冊統計表!A173)))","v":""},{"$f":"+印領清冊統計表!B173","v":0},{"$f":"+印領清冊統計表!C173","v":0},{"$f":"+印領清冊統計表!D173","v":0},{"$f":"+印領清冊統計表!E173","v":0}]
[{"$f":"IF(印領清冊統計表!$A174=\"總計\",\"\",(IF(印領清冊統計表!A174=0,A170,印領清冊統計表!A174)))","v":""},{"$f":"+印領清冊統計表!B174","v":0},{"$f":"+印領清冊統計表!C174","v":0},{"$f":"+印領清冊統計表!D174","v":0},{"$f":"+印領清冊統計表!E174","v":0}]
[{"$f":"IF(印領清冊統計表!$A175=\"總計\",\"\",(IF(印領清冊統計表!A175=0,A171,印領清冊統計表!A175)))","v":""},{"$f":"+印領清冊統計表!B175","v":0},{"$f":"+印領清冊統計表!C175","v":0},{"$f":"+印領清冊統計表!D175","v":0},{"$f":"+印領清冊統計表!E175","v":0}]
[{"$f":"IF(印領清冊統計表!$A176=\"總計\",\"\",(IF(印領清冊統計表!A176=0,A172,印領清冊統計表!A176)))","v":""},{"$f":"+印領清冊統計表!B176","v":0},{"$f":"+印領清冊統計表!C176","v":0},{"$f":"+印領清冊統計表!D176","v":0},{"$f":"+印領清冊統計表!E176","v":0}]
[{"$f":"IF(印領清冊統計表!$A177=\"總計\",\"\",(IF(印領清冊統計表!A177=0,A173,印領清冊統計表!A177)))","v":""},{"$f":"+印領清冊統計表!B177","v":0},{"$f":"+印領清冊統計表!C177","v":0},{"$f":"+印領清冊統計表!D177","v":0},{"$f":"+印領清冊統計表!E177","v":0}]
[{"$f":"IF(印領清冊統計表!$A178=\"總計\",\"\",(IF(印領清冊統計表!A178=0,A174,印領清冊統計表!A178)))","v":""},{"$f":"+印領清冊統計表!B178","v":0},{"$f":"+印領清冊統計表!C178","v":0},{"$f":"+印領清冊統計表!D178","v":0},{"$f":"+印領清冊統計表!E178","v":0}]
[{"$f":"IF(印領清冊統計表!$A179=\"總計\",\"\",(IF(印領清冊統計表!A179=0,A175,印領清冊統計表!A179)))","v":""},{"$f":"+印領清冊統計表!B179","v":0},{"$f":"+印領清冊統計表!C179","v":0},{"$f":"+印領清冊統計表!D179","v":0},{"$f":"+印領清冊統計表!E179","v":0}]
[{"$f":"IF(印領清冊統計表!$A180=\"總計\",\"\",(IF(印領清冊統計表!A180=0,A176,印領清冊統計表!A180)))","v":""},{"$f":"+印領清冊統計表!B180","v":0},{"$f":"+印領清冊統計表!C180","v":0},{"$f":"+印領清冊統計表!D180","v":0},{"$f":"+印領清冊統計表!E180","v":0}]
[{"$f":"IF(印領清冊統計表!$A181=\"總計\",\"\",(IF(印領清冊統計表!A181=0,A177,印領清冊統計表!A181)))","v":""},{"$f":"+印領清冊統計表!B181","v":0},{"$f":"+印領清冊統計表!C181","v":0},{"$f":"+印領清冊統計表!D181","v":0},{"$f":"+印領清冊統計表!E181","v":0}]
[{"$f":"IF(印領清冊統計表!$A182=\"總計\",\"\",(IF(印領清冊統計表!A182=0,A178,印領清冊統計表!A182)))","v":""},{"$f":"+印領清冊統計表!B182","v":0},{"$f":"+印領清冊統計表!C182","v":0},{"$f":"+印領清冊統計表!D182","v":0},{"$f":"+印領清冊統計表!E182","v":0}]
[{"$f":"IF(印領清冊統計表!$A183=\"總計\",\"\",(IF(印領清冊統計表!A183=0,A179,印領清冊統計表!A183)))","v":""},{"$f":"+印領清冊統計表!B183","v":0},{"$f":"+印領清冊統計表!C183","v":0},{"$f":"+印領清冊統計表!D183","v":0},{"$f":"+印領清冊統計表!E183","v":0}]
[{"$f":"IF(印領清冊統計表!$A184=\"總計\",\"\",(IF(印領清冊統計表!A184=0,A180,印領清冊統計表!A184)))","v":""},{"$f":"+印領清冊統計表!B184","v":0},{"$f":"+印領清冊統計表!C184","v":0},{"$f":"+印領清冊統計表!D184","v":0},{"$f":"+印領清冊統計表!E184","v":0}]
[{"$f":"IF(印領清冊統計表!$A185=\"總計\",\"\",(IF(印領清冊統計表!A185=0,A181,印領清冊統計表!A185)))","v":""},{"$f":"+印領清冊統計表!B185","v":0},{"$f":"+印領清冊統計表!C185","v":0},{"$f":"+印領清冊統計表!D185","v":0},{"$f":"+印領清冊統計表!E185","v":0}]
[{"$f":"IF(印領清冊統計表!$A186=\"總計\",\"\",(IF(印領清冊統計表!A186=0,A182,印領清冊統計表!A186)))","v":""},{"$f":"+印領清冊統計表!B186","v":0},{"$f":"+印領清冊統計表!C186","v":0},{"$f":"+印領清冊統計表!D186","v":0},{"$f":"+印領清冊統計表!E186","v":0}]
[{"$f":"IF(印領清冊統計表!$A187=\"總計\",\"\",(IF(印領清冊統計表!A187=0,A183,印領清冊統計表!A187)))","v":""},{"$f":"+印領清冊統計表!B187","v":0},{"$f":"+印領清冊統計表!C187","v":0},{"$f":"+印領清冊統計表!D187","v":0},{"$f":"+印領清冊統計表!E187","v":0}]
[{"$f":"IF(印領清冊統計表!$A188=\"總計\",\"\",(IF(印領清冊統計表!A188=0,A184,印領清冊統計表!A188)))","v":""},{"$f":"+印領清冊統計表!B188","v":0},{"$f":"+印領清冊統計表!C188","v":0},{"$f":"+印領清冊統計表!D188","v":0},{"$f":"+印領清冊統計表!E188","v":0}]
[{"$f":"IF(印領清冊統計表!$A189=\"總計\",\"\",(IF(印領清冊統計表!A189=0,A185,印領清冊統計表!A189)))","v":""},{"$f":"+印領清冊統計表!B189","v":0},{"$f":"+印領清冊統計表!C189","v":0},{"$f":"+印領清冊統計表!D189","v":0},{"$f":"+印領清冊統計表!E189","v":0}]
[{"$f":"IF(印領清冊統計表!$A190=\"總計\",\"\",(IF(印領清冊統計表!A190=0,A186,印領清冊統計表!A190)))","v":""},{"$f":"+印領清冊統計表!B190","v":0},{"$f":"+印領清冊統計表!C190","v":0},{"$f":"+印領清冊統計表!D190","v":0},{"$f":"+印領清冊統計表!E190","v":0}]
[{"$f":"IF(印領清冊統計表!$A191=\"總計\",\"\",(IF(印領清冊統計表!A191=0,A187,印領清冊統計表!A191)))","v":""},{"$f":"+印領清冊統計表!B191","v":0},{"$f":"+印領清冊統計表!C191","v":0},{"$f":"+印領清冊統計表!D191","v":0},{"$f":"+印領清冊統計表!E191","v":0}]
[{"$f":"IF(印領清冊統計表!$A192=\"總計\",\"\",(IF(印領清冊統計表!A192=0,A188,印領清冊統計表!A192)))","v":""},{"$f":"+印領清冊統計表!B192","v":0},{"$f":"+印領清冊統計表!C192","v":0},{"$f":"+印領清冊統計表!D192","v":0},{"$f":"+印領清冊統計表!E192","v":0}]
[{"$f":"IF(印領清冊統計表!$A193=\"總計\",\"\",(IF(印領清冊統計表!A193=0,A189,印領清冊統計表!A193)))","v":""},{"$f":"+印領清冊統計表!B193","v":0},{"$f":"+印領清冊統計表!C193","v":0},{"$f":"+印領清冊統計表!D193","v":0},{"$f":"+印領清冊統計表!E193","v":0}]
[{"$f":"IF(印領清冊統計表!$A194=\"總計\",\"\",(IF(印領清冊統計表!A194=0,A190,印領清冊統計表!A194)))","v":""},{"$f":"+印領清冊統計表!B194","v":0},{"$f":"+印領清冊統計表!C194","v":0},{"$f":"+印領清冊統計表!D194","v":0},{"$f":"+印領清冊統計表!E194","v":0}]
[{"$f":"IF(印領清冊統計表!$A195=\"總計\",\"\",(IF(印領清冊統計表!A195=0,A191,印領清冊統計表!A195)))","v":""},{"$f":"+印領清冊統計表!B195","v":0},{"$f":"+印領清冊統計表!C195","v":0},{"$f":"+印領清冊統計表!D195","v":0},{"$f":"+印領清冊統計表!E195","v":0}]
[{"$f":"IF(印領清冊統計表!$A196=\"總計\",\"\",(IF(印領清冊統計表!A196=0,A192,印領清冊統計表!A196)))","v":""},{"$f":"+印領清冊統計表!B196","v":0},{"$f":"+印領清冊統計表!C196","v":0},{"$f":"+印領清冊統計表!D196","v":0},{"$f":"+印領清冊統計表!E196","v":0}]
[{"$f":"IF(印領清冊統計表!$A197=\"總計\",\"\",(IF(印領清冊統計表!A197=0,A193,印領清冊統計表!A197)))","v":""},{"$f":"+印領清冊統計表!B197","v":0},{"$f":"+印領清冊統計表!C197","v":0},{"$f":"+印領清冊統計表!D197","v":0},{"$f":"+印領清冊統計表!E197","v":0}]
[{"$f":"IF(印領清冊統計表!$A198=\"總計\",\"\",(IF(印領清冊統計表!A198=0,A194,印領清冊統計表!A198)))","v":""},{"$f":"+印領清冊統計表!B198","v":0},{"$f":"+印領清冊統計表!C198","v":0},{"$f":"+印領清冊統計表!D198","v":0},{"$f":"+印領清冊統計表!E198","v":0}]
[{"$f":"IF(印領清冊統計表!$A199=\"總計\",\"\",(IF(印領清冊統計表!A199=0,A195,印領清冊統計表!A199)))","v":""},{"$f":"+印領清冊統計表!B199","v":0},{"$f":"+印領清冊統計表!C199","v":0},{"$f":"+印領清冊統計表!D199","v":0},{"$f":"+印領清冊統計表!E199","v":0}]
[{"$f":"IF(印領清冊統計表!$A200=\"總計\",\"\",(IF(印領清冊統計表!A200=0,A196,印領清冊統計表!A200)))","v":""},{"$f":"+印領清冊統計表!B200","v":0},{"$f":"+印領清冊統計表!C200","v":0},{"$f":"+印領清冊統計表!D200","v":0},{"$f":"+印領清冊統計表!E200","v":0}]
[{"$f":"IF(印領清冊統計表!$A201=\"總計\",\"\",(IF(印領清冊統計表!A201=0,A197,印領清冊統計表!A201)))","v":""},{"$f":"+印領清冊統計表!B201","v":0},{"$f":"+印領清冊統計表!C201","v":0},{"$f":"+印領清冊統計表!D201","v":0},{"$f":"+印領清冊統計表!E201","v":0}]
[{"$f":"IF(印領清冊統計表!$A202=\"總計\",\"\",(IF(印領清冊統計表!A202=0,A198,印領清冊統計表!A202)))","v":""},{"$f":"+印領清冊統計表!B202","v":0},{"$f":"+印領清冊統計表!C202","v":0},{"$f":"+印領清冊統計表!D202","v":0},{"$f":"+印領清冊統計表!E202","v":0}]
[{"$f":"IF(印領清冊統計表!$A203=\"總計\",\"\",(IF(印領清冊統計表!A203=0,A199,印領清冊統計表!A203)))","v":""},{"$f":"+印領清冊統計表!B203","v":0},{"$f":"+印領清冊統計表!C203","v":0},{"$f":"+印領清冊統計表!D203","v":0},{"$f":"+印領清冊統計表!E203","v":0}]
[{"$f":"IF(印領清冊統計表!$A204=\"總計\",\"\",(IF(印領清冊統計表!A204=0,A200,印領清冊統計表!A204)))","v":""},{"$f":"+印領清冊統計表!B204","v":0},{"$f":"+印領清冊統計表!C204","v":0},{"$f":"+印領清冊統計表!D204","v":0},{"$f":"+印領清冊統計表!E204","v":0}]
[{"$f":"IF(印領清冊統計表!$A205=\"總計\",\"\",(IF(印領清冊統計表!A205=0,A201,印領清冊統計表!A205)))","v":""},{"$f":"+印領清冊統計表!B205","v":0},{"$f":"+印領清冊統計表!C205","v":0},{"$f":"+印領清冊統計表!D205","v":0},{"$f":"+印領清冊統計表!E205","v":0}]
[{"$f":"IF(印領清冊統計表!$A206=\"總計\",\"\",(IF(印領清冊統計表!A206=0,A202,印領清冊統計表!A206)))","v":""},{"$f":"+印領清冊統計表!B206","v":0},{"$f":"+印領清冊統計表!C206","v":0},{"$f":"+印領清冊統計表!D206","v":0},{"$f":"+印領清冊統計表!E206","v":0}]
[{"$f":"IF(印領清冊統計表!$A207=\"總計\",\"\",(IF(印領清冊統計表!A207=0,A203,印領清冊統計表!A207)))","v":""},{"$f":"+印領清冊統計表!B207","v":0},{"$f":"+印領清冊統計表!C207","v":0},{"$f":"+印領清冊統計表!D207","v":0},{"$f":"+印領清冊統計表!E207","v":0}]
[{"$f":"IF(印領清冊統計表!$A208=\"總計\",\"\",(IF(印領清冊統計表!A208=0,A204,印領清冊統計表!A208)))","v":""},{"$f":"+印領清冊統計表!B208","v":0},{"$f":"+印領清冊統計表!C208","v":0},{"$f":"+印領清冊統計表!D208","v":0},{"$f":"+印領清冊統計表!E208","v":0}]
[{"$f":"IF(印領清冊統計表!$A209=\"總計\",\"\",(IF(印領清冊統計表!A209=0,A205,印領清冊統計表!A209)))","v":""},{"$f":"+印領清冊統計表!B209","v":0},{"$f":"+印領清冊統計表!C209","v":0},{"$f":"+印領清冊統計表!D209","v":0},{"$f":"+印領清冊統計表!E209","v":0}]
[{"$f":"IF(印領清冊統計表!$A210=\"總計\",\"\",(IF(印領清冊統計表!A210=0,A206,印領清冊統計表!A210)))","v":""},{"$f":"+印領清冊統計表!B210","v":0},{"$f":"+印領清冊統計表!C210","v":0},{"$f":"+印領清冊統計表!D210","v":0},{"$f":"+印領清冊統計表!E210","v":0}]
[{"$f":"IF(印領清冊統計表!$A211=\"總計\",\"\",(IF(印領清冊統計表!A211=0,A207,印領清冊統計表!A211)))","v":""},{"$f":"+印領清冊統計表!B211","v":0},{"$f":"+印領清冊統計表!C211","v":0},{"$f":"+印領清冊統計表!D211","v":0},{"$f":"+印領清冊統計表!E211","v":0}]
[{"$f":"IF(印領清冊統計表!$A212=\"總計\",\"\",(IF(印領清冊統計表!A212=0,A208,印領清冊統計表!A212)))","v":""},{"$f":"+印領清冊統計表!B212","v":0},{"$f":"+印領清冊統計表!C212","v":0},{"$f":"+印領清冊統計表!D212","v":0},{"$f":"+印領清冊統計表!E212","v":0}]
[{"$f":"IF(印領清冊統計表!$A213=\"總計\",\"\",(IF(印領清冊統計表!A213=0,A209,印領清冊統計表!A213)))","v":""},{"$f":"+印領清冊統計表!B213","v":0},{"$f":"+印領清冊統計表!C213","v":0},{"$f":"+印領清冊統計表!D213","v":0},{"$f":"+印領清冊統計表!E213","v":0}]
[{"$f":"IF(印領清冊統計表!$A214=\"總計\",\"\",(IF(印領清冊統計表!A214=0,A210,印領清冊統計表!A214)))","v":""},{"$f":"+印領清冊統計表!B214","v":0},{"$f":"+印領清冊統計表!C214","v":0},{"$f":"+印領清冊統計表!D214","v":0},{"$f":"+印領清冊統計表!E214","v":0}]
[{"$f":"IF(印領清冊統計表!$A215=\"總計\",\"\",(IF(印領清冊統計表!A215=0,A211,印領清冊統計表!A215)))","v":""},{"$f":"+印領清冊統計表!B215","v":0},{"$f":"+印領清冊統計表!C215","v":0},{"$f":"+印領清冊統計表!D215","v":0},{"$f":"+印領清冊統計表!E215","v":0}]
[{"$f":"IF(印領清冊統計表!$A216=\"總計\",\"\",(IF(印領清冊統計表!A216=0,A212,印領清冊統計表!A216)))","v":""},{"$f":"+印領清冊統計表!B216","v":0},{"$f":"+印領清冊統計表!C216","v":0},{"$f":"+印領清冊統計表!D216","v":0},{"$f":"+印領清冊統計表!E216","v":0}]
[{"$f":"IF(印領清冊統計表!$A217=\"總計\",\"\",(IF(印領清冊統計表!A217=0,A213,印領清冊統計表!A217)))","v":""},{"$f":"+印領清冊統計表!B217","v":0},{"$f":"+印領清冊統計表!C217","v":0},{"$f":"+印領清冊統計表!D217","v":0},{"$f":"+印領清冊統計表!E217","v":0}]
[{"$f":"IF(印領清冊統計表!$A218=\"總計\",\"\",(IF(印領清冊統計表!A218=0,A214,印領清冊統計表!A218)))","v":""},{"$f":"+印領清冊統計表!B218","v":0},{"$f":"+印領清冊統計表!C218","v":0},{"$f":"+印領清冊統計表!D218","v":0},{"$f":"+印領清冊統計表!E218","v":0}]
[{"$f":"IF(印領清冊統計表!$A219=\"總計\",\"\",(IF(印領清冊統計表!A219=0,A215,印領清冊統計表!A219)))","v":""},{"$f":"+印領清冊統計表!B219","v":0},{"$f":"+印領清冊統計表!C219","v":0},{"$f":"+印領清冊統計表!D219","v":0},{"$f":"+印領清冊統計表!E219","v":0}]
[{"$f":"IF(印領清冊統計表!$A220=\"總計\",\"\",(IF(印領清冊統計表!A220=0,A216,印領清冊統計表!A220)))","v":""},{"$f":"+印領清冊統計表!B220","v":0},{"$f":"+印領清冊統計表!C220","v":0},{"$f":"+印領清冊統計表!D220","v":0},{"$f":"+印領清冊統計表!E220","v":0}]
[{"$f":"IF(印領清冊統計表!$A221=\"總計\",\"\",(IF(印領清冊統計表!A221=0,A217,印領清冊統計表!A221)))","v":""},{"$f":"+印領清冊統計表!B221","v":0},{"$f":"+印領清冊統計表!C221","v":0},{"$f":"+印領清冊統計表!D221","v":0},{"$f":"+印領清冊統計表!E221","v":0}]
[{"$f":"IF(印領清冊統計表!$A222=\"總計\",\"\",(IF(印領清冊統計表!A222=0,A218,印領清冊統計表!A222)))","v":""},{"$f":"+印領清冊統計表!B222","v":0},{"$f":"+印領清冊統計表!C222","v":0},{"$f":"+印領清冊統計表!D222","v":0},{"$f":"+印領清冊統計表!E222","v":0}]
[{"$f":"IF(印領清冊統計表!$A223=\"總計\",\"\",(IF(印領清冊統計表!A223=0,A219,印領清冊統計表!A223)))","v":""},{"$f":"+印領清冊統計表!B223","v":0},{"$f":"+印領清冊統計表!C223","v":0},{"$f":"+印領清冊統計表!D223","v":0},{"$f":"+印領清冊統計表!E223","v":0}]
[{"$f":"IF(印領清冊統計表!$A224=\"總計\",\"\",(IF(印領清冊統計表!A224=0,A220,印領清冊統計表!A224)))","v":""},{"$f":"+印領清冊統計表!B224","v":0},{"$f":"+印領清冊統計表!C224","v":0},{"$f":"+印領清冊統計表!D224","v":0},{"$f":"+印領清冊統計表!E224","v":0}]
[{"$f":"IF(印領清冊統計表!$A225=\"總計\",\"\",(IF(印領清冊統計表!A225=0,A221,印領清冊統計表!A225)))","v":""},{"$f":"+印領清冊統計表!B225","v":0},{"$f":"+印領清冊統計表!C225","v":0},{"$f":"+印領清冊統計表!D225","v":0},{"$f":"+印領清冊統計表!E225","v":0}]
[{"$f":"IF(印領清冊統計表!$A226=\"總計\",\"\",(IF(印領清冊統計表!A226=0,A222,印領清冊統計表!A226)))","v":""},{"$f":"+印領清冊統計表!B226","v":0},{"$f":"+印領清冊統計表!C226","v":0},{"$f":"+印領清冊統計表!D226","v":0},{"$f":"+印領清冊統計表!E226","v":0}]
[{"$f":"IF(印領清冊統計表!$A227=\"總計\",\"\",(IF(印領清冊統計表!A227=0,A223,印領清冊統計表!A227)))","v":""},{"$f":"+印領清冊統計表!B227","v":0},{"$f":"+印領清冊統計表!C227","v":0},{"$f":"+印領清冊統計表!D227","v":0},{"$f":"+印領清冊統計表!E227","v":0}]
[{"$f":"IF(印領清冊統計表!$A228=\"總計\",\"\",(IF(印領清冊統計表!A228=0,A224,印領清冊統計表!A228)))","v":""},{"$f":"+印領清冊統計表!B228","v":0},{"$f":"+印領清冊統計表!C228","v":0},{"$f":"+印領清冊統計表!D228","v":0},{"$f":"+印領清冊統計表!E228","v":0}]
[{"$f":"IF(印領清冊統計表!$A229=\"總計\",\"\",(IF(印領清冊統計表!A229=0,A225,印領清冊統計表!A229)))","v":""},{"$f":"+印領清冊統計表!B229","v":0},{"$f":"+印領清冊統計表!C229","v":0},{"$f":"+印領清冊統計表!D229","v":0},{"$f":"+印領清冊統計表!E229","v":0}]
[{"$f":"IF(印領清冊統計表!$A230=\"總計\",\"\",(IF(印領清冊統計表!A230=0,A226,印領清冊統計表!A230)))","v":""},{"$f":"+印領清冊統計表!B230","v":0},{"$f":"+印領清冊統計表!C230","v":0},{"$f":"+印領清冊統計表!D230","v":0},{"$f":"+印領清冊統計表!E230","v":0}]
[{"$f":"IF(印領清冊統計表!$A231=\"總計\",\"\",(IF(印領清冊統計表!A231=0,A227,印領清冊統計表!A231)))","v":""},{"$f":"+印領清冊統計表!B231","v":0},{"$f":"+印領清冊統計表!C231","v":0},{"$f":"+印領清冊統計表!D231","v":0},{"$f":"+印領清冊統計表!E231","v":0}]
[{"$f":"IF(印領清冊統計表!$A232=\"總計\",\"\",(IF(印領清冊統計表!A232=0,A228,印領清冊統計表!A232)))","v":""},{"$f":"+印領清冊統計表!B232","v":0},{"$f":"+印領清冊統計表!C232","v":0},{"$f":"+印領清冊統計表!D232","v":0},{"$f":"+印領清冊統計表!E232","v":0}]
[{"$f":"IF(印領清冊統計表!$A233=\"總計\",\"\",(IF(印領清冊統計表!A233=0,A229,印領清冊統計表!A233)))","v":""},{"$f":"+印領清冊統計表!B233","v":0},{"$f":"+印領清冊統計表!C233","v":0},{"$f":"+印領清冊統計表!D233","v":0},{"$f":"+印領清冊統計表!E233","v":0}]
[{"$f":"IF(印領清冊統計表!$A234=\"總計\",\"\",(IF(印領清冊統計表!A234=0,A230,印領清冊統計表!A234)))","v":""},{"$f":"+印領清冊統計表!B234","v":0},{"$f":"+印領清冊統計表!C234","v":0},{"$f":"+印領清冊統計表!D234","v":0},{"$f":"+印領清冊統計表!E234","v":0}]
[{"$f":"IF(印領清冊統計表!$A235=\"總計\",\"\",(IF(印領清冊統計表!A235=0,A231,印領清冊統計表!A235)))","v":""},{"$f":"+印領清冊統計表!B235","v":0},{"$f":"+印領清冊統計表!C235","v":0},{"$f":"+印領清冊統計表!D235","v":0},{"$f":"+印領清冊統計表!E235","v":0}]
[{"$f":"IF(印領清冊統計表!$A236=\"總計\",\"\",(IF(印領清冊統計表!A236=0,A232,印領清冊統計表!A236)))","v":""},{"$f":"+印領清冊統計表!B236","v":0},{"$f":"+印領清冊統計表!C236","v":0},{"$f":"+印領清冊統計表!D236","v":0},{"$f":"+印領清冊統計表!E236","v":0}]
[{"$f":"IF(印領清冊統計表!$A237=\"總計\",\"\",(IF(印領清冊統計表!A237=0,A233,印領清冊統計表!A237)))","v":""},{"$f":"+印領清冊統計表!B237","v":0},{"$f":"+印領清冊統計表!C237","v":0},{"$f":"+印領清冊統計表!D237","v":0},{"$f":"+印領清冊統計表!E237","v":0}]
[{"$f":"IF(印領清冊統計表!$A238=\"總計\",\"\",(IF(印領清冊統計表!A238=0,A234,印領清冊統計表!A238)))","v":""},{"$f":"+印領清冊統計表!B238","v":0},{"$f":"+印領清冊統計表!C238","v":0},{"$f":"+印領清冊統計表!D238","v":0},{"$f":"+印領清冊統計表!E238","v":0}]
[{"$f":"IF(印領清冊統計表!$A239=\"總計\",\"\",(IF(印領清冊統計表!A239=0,A235,印領清冊統計表!A239)))","v":""},{"$f":"+印領清冊統計表!B239","v":0},{"$f":"+印領清冊統計表!C239","v":0},{"$f":"+印領清冊統計表!D239","v":0},{"$f":"+印領清冊統計表!E239","v":0}]
[{"$f":"IF(印領清冊統計表!$A240=\"總計\",\"\",(IF(印領清冊統計表!A240=0,A236,印領清冊統計表!A240)))","v":""},{"$f":"+印領清冊統計表!B240","v":0},{"$f":"+印領清冊統計表!C240","v":0},{"$f":"+印領清冊統計表!D240","v":0},{"$f":"+印領清冊統計表!E240","v":0}]
[{"$f":"IF(印領清冊統計表!$A241=\"總計\",\"\",(IF(印領清冊統計表!A241=0,A237,印領清冊統計表!A241)))","v":""},{"$f":"+印領清冊統計表!B241","v":0},{"$f":"+印領清冊統計表!C241","v":0},{"$f":"+印領清冊統計表!D241","v":0},{"$f":"+印領清冊統計表!E241","v":0}]
[{"$f":"IF(印領清冊統計表!$A242=\"總計\",\"\",(IF(印領清冊統計表!A242=0,A238,印領清冊統計表!A242)))","v":""},{"$f":"+印領清冊統計表!B242","v":0},{"$f":"+印領清冊統計表!C242","v":0},{"$f":"+印領清冊統計表!D242","v":0},{"$f":"+印領清冊統計表!E242","v":0}]
[{"$f":"IF(印領清冊統計表!$A243=\"總計\",\"\",(IF(印領清冊統計表!A243=0,A239,印領清冊統計表!A243)))","v":""},{"$f":"+印領清冊統計表!B243","v":0},{"$f":"+印領清冊統計表!C243","v":0},{"$f":"+印領清冊統計表!D243","v":0},{"$f":"+印領清冊統計表!E243","v":0}]
[{"$f":"IF(印領清冊統計表!$A244=\"總計\",\"\",(IF(印領清冊統計表!A244=0,A240,印領清冊統計表!A244)))","v":""},{"$f":"+印領清冊統計表!B244","v":0},{"$f":"+印領清冊統計表!C244","v":0},{"$f":"+印領清冊統計表!D244","v":0},{"$f":"+印領清冊統計表!E244","v":0}]
[{"$f":"IF(印領清冊統計表!$A245=\"總計\",\"\",(IF(印領清冊統計表!A245=0,A241,印領清冊統計表!A245)))","v":""},{"$f":"+印領清冊統計表!B245","v":0},{"$f":"+印領清冊統計表!C245","v":0},{"$f":"+印領清冊統計表!D245","v":0},{"$f":"+印領清冊統計表!E245","v":0}]
[{"$f":"IF(印領清冊統計表!$A246=\"總計\",\"\",(IF(印領清冊統計表!A246=0,A242,印領清冊統計表!A246)))","v":""},{"$f":"+印領清冊統計表!B246","v":0},{"$f":"+印領清冊統計表!C246","v":0},{"$f":"+印領清冊統計表!D246","v":0},{"$f":"+印領清冊統計表!E246","v":0}]
[{"$f":"IF(印領清冊統計表!$A247=\"總計\",\"\",(IF(印領清冊統計表!A247=0,A243,印領清冊統計表!A247)))","v":""},{"$f":"+印領清冊統計表!B247","v":0},{"$f":"+印領清冊統計表!C247","v":0},{"$f":"+印領清冊統計表!D247","v":0},{"$f":"+印領清冊統計表!E247","v":0}]
[{"$f":"IF(印領清冊統計表!$A248=\"總計\",\"\",(IF(印領清冊統計表!A248=0,A244,印領清冊統計表!A248)))","v":""},{"$f":"+印領清冊統計表!B248","v":0},{"$f":"+印領清冊統計表!C248","v":0},{"$f":"+印領清冊統計表!D248","v":0},{"$f":"+印領清冊統計表!E248","v":0}]
[{"$f":"IF(印領清冊統計表!$A249=\"總計\",\"\",(IF(印領清冊統計表!A249=0,A245,印領清冊統計表!A249)))","v":""},{"$f":"+印領清冊統計表!B249","v":0},{"$f":"+印領清冊統計表!C249","v":0},{"$f":"+印領清冊統計表!D249","v":0},{"$f":"+印領清冊統計表!E249","v":0}]
[{"$f":"IF(印領清冊統計表!$A250=\"總計\",\"\",(IF(印領清冊統計表!A250=0,A246,印領清冊統計表!A250)))","v":""},{"$f":"+印領清冊統計表!B250","v":0},{"$f":"+印領清冊統計表!C250","v":0},{"$f":"+印領清冊統計表!D250","v":0},{"$f":"+印領清冊統計表!E250","v":0}]
[{"$f":"IF(印領清冊統計表!$A251=\"總計\",\"\",(IF(印領清冊統計表!A251=0,A247,印領清冊統計表!A251)))","v":""},{"$f":"+印領清冊統計表!B251","v":0},{"$f":"+印領清冊統計表!C251","v":0},{"$f":"+印領清冊統計表!D251","v":0},{"$f":"+印領清冊統計表!E251","v":0}]
[{"$f":"IF(印領清冊統計表!$A252=\"總計\",\"\",(IF(印領清冊統計表!A252=0,A248,印領清冊統計表!A252)))","v":""},{"$f":"+印領清冊統計表!B252","v":0},{"$f":"+印領清冊統計表!C252","v":0},{"$f":"+印領清冊統計表!D252","v":0},{"$f":"+印領清冊統計表!E252","v":0}]
[{"$f":"IF(印領清冊統計表!$A253=\"總計\",\"\",(IF(印領清冊統計表!A253=0,A249,印領清冊統計表!A253)))","v":""},{"$f":"+印領清冊統計表!B253","v":0},{"$f":"+印領清冊統計表!C253","v":0},{"$f":"+印領清冊統計表!D253","v":0},{"$f":"+印領清冊統計表!E253","v":0}]
[{"$f":"IF(印領清冊統計表!$A254=\"總計\",\"\",(IF(印領清冊統計表!A254=0,A250,印領清冊統計表!A254)))","v":""},{"$f":"+印領清冊統計表!B254","v":0},{"$f":"+印領清冊統計表!C254","v":0},{"$f":"+印領清冊統計表!D254","v":0},{"$f":"+印領清冊統計表!E254","v":0}]
[{"$f":"IF(印領清冊統計表!$A255=\"總計\",\"\",(IF(印領清冊統計表!A255=0,A251,印領清冊統計表!A255)))","v":""},{"$f":"+印領清冊統計表!B255","v":0},{"$f":"+印領清冊統計表!C255","v":0},{"$f":"+印領清冊統計表!D255","v":0},{"$f":"+印領清冊統計表!E255","v":0}]
[{"$f":"IF(印領清冊統計表!$A256=\"總計\",\"\",(IF(印領清冊統計表!A256=0,A252,印領清冊統計表!A256)))","v":""},{"$f":"+印領清冊統計表!B256","v":0},{"$f":"+印領清冊統計表!C256","v":0},{"$f":"+印領清冊統計表!D256","v":0},{"$f":"+印領清冊統計表!E256","v":0}]
[{"$f":"IF(印領清冊統計表!$A257=\"總計\",\"\",(IF(印領清冊統計表!A257=0,A253,印領清冊統計表!A257)))","v":""},{"$f":"+印領清冊統計表!B257","v":0},{"$f":"+印領清冊統計表!C257","v":0},{"$f":"+印領清冊統計表!D257","v":0},{"$f":"+印領清冊統計表!E257","v":0}]
[{"$f":"IF(印領清冊統計表!$A258=\"總計\",\"\",(IF(印領清冊統計表!A258=0,A254,印領清冊統計表!A258)))","v":""},{"$f":"+印領清冊統計表!B258","v":0},{"$f":"+印領清冊統計表!C258","v":0},{"$f":"+印領清冊統計表!D258","v":0},{"$f":"+印領清冊統計表!E258","v":0}]
[{"$f":"IF(印領清冊統計表!$A259=\"總計\",\"\",(IF(印領清冊統計表!A259=0,A255,印領清冊統計表!A259)))","v":""},{"$f":"+印領清冊統計表!B259","v":0},{"$f":"+印領清冊統計表!C259","v":0},{"$f":"+印領清冊統計表!D259","v":0},{"$f":"+印領清冊統計表!E259","v":0}]
[{"$f":"IF(印領清冊統計表!$A260=\"總計\",\"\",(IF(印領清冊統計表!A260=0,A256,印領清冊統計表!A260)))","v":""},{"$f":"+印領清冊統計表!B260","v":0},{"$f":"+印領清冊統計表!C260","v":0},{"$f":"+印領清冊統計表!D260","v":0},{"$f":"+印領清冊統計表!E260","v":0}]
[{"$f":"IF(印領清冊統計表!$A261=\"總計\",\"\",(IF(印領清冊統計表!A261=0,A257,印領清冊統計表!A261)))","v":""},{"$f":"+印領清冊統計表!B261","v":0},{"$f":"+印領清冊統計表!C261","v":0},{"$f":"+印領清冊統計表!D261","v":0},{"$f":"+印領清冊統計表!E261","v":0}]
[{"$f":"IF(印領清冊統計表!$A262=\"總計\",\"\",(IF(印領清冊統計表!A262=0,A258,印領清冊統計表!A262)))","v":""},{"$f":"+印領清冊統計表!B262","v":0},{"$f":"+印領清冊統計表!C262","v":0},{"$f":"+印領清冊統計表!D262","v":0},{"$f":"+印領清冊統計表!E262","v":0}]
[{"$f":"IF(印領清冊統計表!$A263=\"總計\",\"\",(IF(印領清冊統計表!A263=0,A259,印領清冊統計表!A263)))","v":""},{"$f":"+印領清冊統計表!B263","v":0},{"$f":"+印領清冊統計表!C263","v":0},{"$f":"+印領清冊統計表!D263","v":0},{"$f":"+印領清冊統計表!E263","v":0}]
[{"$f":"IF(印領清冊統計表!$A264=\"總計\",\"\",(IF(印領清冊統計表!A264=0,A260,印領清冊統計表!A264)))","v":""},{"$f":"+印領清冊統計表!B264","v":0},{"$f":"+印領清冊統計表!C264","v":0},{"$f":"+印領清冊統計表!D264","v":0},{"$f":"+印領清冊統計表!E264","v":0}]
[{"$f":"IF(印領清冊統計表!$A265=\"總計\",\"\",(IF(印領清冊統計表!A265=0,A261,印領清冊統計表!A265)))","v":""},{"$f":"+印領清冊統計表!B265","v":0},{"$f":"+印領清冊統計表!C265","v":0},{"$f":"+印領清冊統計表!D265","v":0},{"$f":"+印領清冊統計表!E265","v":0}]
[{"$f":"IF(印領清冊統計表!$A266=\"總計\",\"\",(IF(印領清冊統計表!A266=0,A262,印領清冊統計表!A266)))","v":""},{"$f":"+印領清冊統計表!B266","v":0},{"$f":"+印領清冊統計表!C266","v":0},{"$f":"+印領清冊統計表!D266","v":0},{"$f":"+印領清冊統計表!E266","v":0}]
[{"$f":"IF(印領清冊統計表!$A267=\"總計\",\"\",(IF(印領清冊統計表!A267=0,A263,印領清冊統計表!A267)))","v":""},{"$f":"+印領清冊統計表!B267","v":0},{"$f":"+印領清冊統計表!C267","v":0},{"$f":"+印領清冊統計表!D267","v":0},{"$f":"+印領清冊統計表!E267","v":0}]
[{"$f":"IF(印領清冊統計表!$A268=\"總計\",\"\",(IF(印領清冊統計表!A268=0,A264,印領清冊統計表!A268)))","v":""},{"$f":"+印領清冊統計表!B268","v":0},{"$f":"+印領清冊統計表!C268","v":0},{"$f":"+印領清冊統計表!D268","v":0},{"$f":"+印領清冊統計表!E268","v":0}]
[{"$f":"IF(印領清冊統計表!$A269=\"總計\",\"\",(IF(印領清冊統計表!A269=0,A265,印領清冊統計表!A269)))","v":""},{"$f":"+印領清冊統計表!B269","v":0},{"$f":"+印領清冊統計表!C269","v":0},{"$f":"+印領清冊統計表!D269","v":0},{"$f":"+印領清冊統計表!E269","v":0}]
[{"$f":"IF(印領清冊統計表!$A270=\"總計\",\"\",(IF(印領清冊統計表!A270=0,A266,印領清冊統計表!A270)))","v":""},{"$f":"+印領清冊統計表!B270","v":0},{"$f":"+印領清冊統計表!C270","v":0},{"$f":"+印領清冊統計表!D270","v":0},{"$f":"+印領清冊統計表!E270","v":0}]
[{"$f":"IF(印領清冊統計表!$A271=\"總計\",\"\",(IF(印領清冊統計表!A271=0,A267,印領清冊統計表!A271)))","v":""},{"$f":"+印領清冊統計表!B271","v":0},{"$f":"+印領清冊統計表!C271","v":0},{"$f":"+印領清冊統計表!D271","v":0},{"$f":"+印領清冊統計表!E271","v":0}]
[{"$f":"IF(印領清冊統計表!$A272=\"總計\",\"\",(IF(印領清冊統計表!A272=0,A268,印領清冊統計表!A272)))","v":""},{"$f":"+印領清冊統計表!B272","v":0},{"$f":"+印領清冊統計表!C272","v":0},{"$f":"+印領清冊統計表!D272","v":0},{"$f":"+印領清冊統計表!E272","v":0}]
[{"$f":"IF(印領清冊統計表!$A273=\"總計\",\"\",(IF(印領清冊統計表!A273=0,A269,印領清冊統計表!A273)))","v":""},{"$f":"+印領清冊統計表!B273","v":0},{"$f":"+印領清冊統計表!C273","v":0},{"$f":"+印領清冊統計表!D273","v":0},{"$f":"+印領清冊統計表!E273","v":0}]
[{"$f":"IF(印領清冊統計表!$A274=\"總計\",\"\",(IF(印領清冊統計表!A274=0,A270,印領清冊統計表!A274)))","v":""},{"$f":"+印領清冊統計表!B274","v":0},{"$f":"+印領清冊統計表!C274","v":0},{"$f":"+印領清冊統計表!D274","v":0},{"$f":"+印領清冊統計表!E274","v":0}]
[{"$f":"IF(印領清冊統計表!$A275=\"總計\",\"\",(IF(印領清冊統計表!A275=0,A271,印領清冊統計表!A275)))","v":""},{"$f":"+印領清冊統計表!B275","v":0},{"$f":"+印領清冊統計表!C275","v":0},{"$f":"+印領清冊統計表!D275","v":0},{"$f":"+印領清冊統計表!E275","v":0}]
[{"$f":"IF(印領清冊統計表!$A276=\"總計\",\"\",(IF(印領清冊統計表!A276=0,A272,印領清冊統計表!A276)))","v":""},{"$f":"+印領清冊統計表!B276","v":0},{"$f":"+印領清冊統計表!C276","v":0},{"$f":"+印領清冊統計表!D276","v":0},{"$f":"+印領清冊統計表!E276","v":0}]
[{"$f":"IF(印領清冊統計表!$A277=\"總計\",\"\",(IF(印領清冊統計表!A277=0,A273,印領清冊統計表!A277)))","v":""},{"$f":"+印領清冊統計表!B277","v":0},{"$f":"+印領清冊統計表!C277","v":0},{"$f":"+印領清冊統計表!D277","v":0},{"$f":"+印領清冊統計表!E277","v":0}]
[{"$f":"IF(印領清冊統計表!$A278=\"總計\",\"\",(IF(印領清冊統計表!A278=0,A274,印領清冊統計表!A278)))","v":""},{"$f":"+印領清冊統計表!B278","v":0},{"$f":"+印領清冊統計表!C278","v":0},{"$f":"+印領清冊統計表!D278","v":0},{"$f":"+印領清冊統計表!E278","v":0}]
[{"$f":"IF(印領清冊統計表!$A279=\"總計\",\"\",(IF(印領清冊統計表!A279=0,A275,印領清冊統計表!A279)))","v":""},{"$f":"+印領清冊統計表!B279","v":0},{"$f":"+印領清冊統計表!C279","v":0},{"$f":"+印領清冊統計表!D279","v":0},{"$f":"+印領清冊統計表!E279","v":0}]
[{"$f":"IF(印領清冊統計表!$A280=\"總計\",\"\",(IF(印領清冊統計表!A280=0,A276,印領清冊統計表!A280)))","v":""},{"$f":"+印領清冊統計表!B280","v":0},{"$f":"+印領清冊統計表!C280","v":0},{"$f":"+印領清冊統計表!D280","v":0},{"$f":"+印領清冊統計表!E280","v":0}]
[{"$f":"IF(印領清冊統計表!$A281=\"總計\",\"\",(IF(印領清冊統計表!A281=0,A277,印領清冊統計表!A281)))","v":""},{"$f":"+印領清冊統計表!B281","v":0},{"$f":"+印領清冊統計表!C281","v":0},{"$f":"+印領清冊統計表!D281","v":0},{"$f":"+印領清冊統計表!E281","v":0}]
[{"$f":"IF(印領清冊統計表!$A282=\"總計\",\"\",(IF(印領清冊統計表!A282=0,A278,印領清冊統計表!A282)))","v":""},{"$f":"+印領清冊統計表!B282","v":0},{"$f":"+印領清冊統計表!C282","v":0},{"$f":"+印領清冊統計表!D282","v":0},{"$f":"+印領清冊統計表!E282","v":0}]
[{"$f":"IF(印領清冊統計表!$A283=\"總計\",\"\",(IF(印領清冊統計表!A283=0,A279,印領清冊統計表!A283)))","v":""},{"$f":"+印領清冊統計表!B283","v":0},{"$f":"+印領清冊統計表!C283","v":0},{"$f":"+印領清冊統計表!D283","v":0},{"$f":"+印領清冊統計表!E283","v":0}]
[{"$f":"IF(印領清冊統計表!$A284=\"總計\",\"\",(IF(印領清冊統計表!A284=0,A280,印領清冊統計表!A284)))","v":""},{"$f":"+印領清冊統計表!B284","v":0},{"$f":"+印領清冊統計表!C284","v":0},{"$f":"+印領清冊統計表!D284","v":0},{"$f":"+印領清冊統計表!E284","v":0}]
[{"$f":"IF(印領清冊統計表!$A285=\"總計\",\"\",(IF(印領清冊統計表!A285=0,A281,印領清冊統計表!A285)))","v":""},{"$f":"+印領清冊統計表!B285","v":0},{"$f":"+印領清冊統計表!C285","v":0},{"$f":"+印領清冊統計表!D285","v":0},{"$f":"+印領清冊統計表!E285","v":0}]
[{"$f":"IF(印領清冊統計表!$A286=\"總計\",\"\",(IF(印領清冊統計表!A286=0,A282,印領清冊統計表!A286)))","v":""},{"$f":"+印領清冊統計表!B286","v":0},{"$f":"+印領清冊統計表!C286","v":0},{"$f":"+印領清冊統計表!D286","v":0},{"$f":"+印領清冊統計表!E286","v":0}]
[{"$f":"IF(印領清冊統計表!$A287=\"總計\",\"\",(IF(印領清冊統計表!A287=0,A283,印領清冊統計表!A287)))","v":""},{"$f":"+印領清冊統計表!B287","v":0},{"$f":"+印領清冊統計表!C287","v":0},{"$f":"+印領清冊統計表!D287","v":0},{"$f":"+印領清冊統計表!E287","v":0}]
[{"$f":"IF(印領清冊統計表!$A288=\"總計\",\"\",(IF(印領清冊統計表!A288=0,A284,印領清冊統計表!A288)))","v":""},{"$f":"+印領清冊統計表!B288","v":0},{"$f":"+印領清冊統計表!C288","v":0},{"$f":"+印領清冊統計表!D288","v":0},{"$f":"+印領清冊統計表!E288","v":0}]
[{"$f":"IF(印領清冊統計表!$A289=\"總計\",\"\",(IF(印領清冊統計表!A289=0,A285,印領清冊統計表!A289)))","v":""},{"$f":"+印領清冊統計表!B289","v":0},{"$f":"+印領清冊統計表!C289","v":0},{"$f":"+印領清冊統計表!D289","v":0},{"$f":"+印領清冊統計表!E289","v":0}]
[{"$f":"IF(印領清冊統計表!$A290=\"總計\",\"\",(IF(印領清冊統計表!A290=0,A286,印領清冊統計表!A290)))","v":""},{"$f":"+印領清冊統計表!B290","v":0},{"$f":"+印領清冊統計表!C290","v":0},{"$f":"+印領清冊統計表!D290","v":0},{"$f":"+印領清冊統計表!E290","v":0}]
[{"$f":"IF(印領清冊統計表!$A291=\"總計\",\"\",(IF(印領清冊統計表!A291=0,A287,印領清冊統計表!A291)))","v":""},{"$f":"+印領清冊統計表!B291","v":0},{"$f":"+印領清冊統計表!C291","v":0},{"$f":"+印領清冊統計表!D291","v":0},{"$f":"+印領清冊統計表!E291","v":0}]
[{"$f":"IF(印領清冊統計表!$A292=\"總計\",\"\",(IF(印領清冊統計表!A292=0,A288,印領清冊統計表!A292)))","v":""},{"$f":"+印領清冊統計表!B292","v":0},{"$f":"+印領清冊統計表!C292","v":0},{"$f":"+印領清冊統計表!D292","v":0},{"$f":"+印領清冊統計表!E292","v":0}]
[{"$f":"IF(印領清冊統計表!$A293=\"總計\",\"\",(IF(印領清冊統計表!A293=0,A289,印領清冊統計表!A293)))","v":""},{"$f":"+印領清冊統計表!B293","v":0},{"$f":"+印領清冊統計表!C293","v":0},{"$f":"+印領清冊統計表!D293","v":0},{"$f":"+印領清冊統計表!E293","v":0}]
[{"$f":"IF(印領清冊統計表!$A294=\"總計\",\"\",(IF(印領清冊統計表!A294=0,A290,印領清冊統計表!A294)))","v":""},{"$f":"+印領清冊統計表!B294","v":0},{"$f":"+印領清冊統計表!C294","v":0},{"$f":"+印領清冊統計表!D294","v":0},{"$f":"+印領清冊統計表!E294","v":0}]
[{"$f":"IF(印領清冊統計表!$A295=\"總計\",\"\",(IF(印領清冊統計表!A295=0,A291,印領清冊統計表!A295)))","v":""},{"$f":"+印領清冊統計表!B295","v":0},{"$f":"+印領清冊統計表!C295","v":0},{"$f":"+印領清冊統計表!D295","v":0},{"$f":"+印領清冊統計表!E295","v":0}]
[{"$f":"IF(印領清冊統計表!$A296=\"總計\",\"\",(IF(印領清冊統計表!A296=0,A292,印領清冊統計表!A296)))","v":""},{"$f":"+印領清冊統計表!B296","v":0},{"$f":"+印領清冊統計表!C296","v":0},{"$f":"+印領清冊統計表!D296","v":0},{"$f":"+印領清冊統計表!E296","v":0}]
[{"$f":"IF(印領清冊統計表!$A297=\"總計\",\"\",(IF(印領清冊統計表!A297=0,A293,印領清冊統計表!A297)))","v":""},{"$f":"+印領清冊統計表!B297","v":0},{"$f":"+印領清冊統計表!C297","v":0},{"$f":"+印領清冊統計表!D297","v":0},{"$f":"+印領清冊統計表!E297","v":0}]
[{"$f":"IF(印領清冊統計表!$A298=\"總計\",\"\",(IF(印領清冊統計表!A298=0,A294,印領清冊統計表!A298)))","v":""},{"$f":"+印領清冊統計表!B298","v":0},{"$f":"+印領清冊統計表!C298","v":0},{"$f":"+印領清冊統計表!D298","v":0},{"$f":"+印領清冊統計表!E298","v":0}]
[{"$f":"IF(印領清冊統計表!$A299=\"總計\",\"\",(IF(印領清冊統計表!A299=0,A295,印領清冊統計表!A299)))","v":""},{"$f":"+印領清冊統計表!B299","v":0},{"$f":"+印領清冊統計表!C299","v":0},{"$f":"+印領清冊統計表!D299","v":0},{"$f":"+印領清冊統計表!E299","v":0}]
[{"$f":"IF(印領清冊統計表!$A300=\"總計\",\"\",(IF(印領清冊統計表!A300=0,A296,印領清冊統計表!A300)))","v":""},{"$f":"+印領清冊統計表!B300","v":0},{"$f":"+印領清冊統計表!C300","v":0},{"$f":"+印領清冊統計表!D300","v":0},{"$f":"+印領清冊統計表!E300","v":0}]
[{"$f":"IF(印領清冊統計表!$A301=\"總計\",\"\",(IF(印領清冊統計表!A301=0,A297,印領清冊統計表!A301)))","v":""},{"$f":"+印領清冊統計表!B301","v":0},{"$f":"+印領清冊統計表!C301","v":0},{"$f":"+印領清冊統計表!D301","v":0},{"$f":"+印領清冊統計表!E301","v":0}]
[{"$f":"IF(印領清冊統計表!$A302=\"總計\",\"\",(IF(印領清冊統計表!A302=0,A298,印領清冊統計表!A302)))","v":""},{"$f":"+印領清冊統計表!B302","v":0},{"$f":"+印領清冊統計表!C302","v":0},{"$f":"+印領清冊統計表!D302","v":0},{"$f":"+印領清冊統計表!E302","v":0}]
[{"$f":"IF(印領清冊統計表!$A303=\"總計\",\"\",(IF(印領清冊統計表!A303=0,A299,印領清冊統計表!A303)))","v":""},{"$f":"+印領清冊統計表!B303","v":0},{"$f":"+印領清冊統計表!C303","v":0},{"$f":"+印領清冊統計表!D303","v":0},{"$f":"+印領清冊統計表!E303","v":0}]
[{"$f":"IF(印領清冊統計表!$A304=\"總計\",\"\",(IF(印領清冊統計表!A304=0,A300,印領清冊統計表!A304)))","v":""},{"$f":"+印領清冊統計表!B304","v":0},{"$f":"+印領清冊統計表!C304","v":0},{"$f":"+印領清冊統計表!D304","v":0},{"$f":"+印領清冊統計表!E304","v":0}]
[{"$f":"IF(印領清冊統計表!$A305=\"總計\",\"\",(IF(印領清冊統計表!A305=0,A301,印領清冊統計表!A305)))","v":""},{"$f":"+印領清冊統計表!B305","v":0},{"$f":"+印領清冊統計表!C305","v":0},{"$f":"+印領清冊統計表!D305","v":0},{"$f":"+印領清冊統計表!E305","v":0}]
[{"$f":"IF(印領清冊統計表!$A306=\"總計\",\"\",(IF(印領清冊統計表!A306=0,A302,印領清冊統計表!A306)))","v":""},{"$f":"+印領清冊統計表!B306","v":0},{"$f":"+印領清冊統計表!C306","v":0},{"$f":"+印領清冊統計表!D306","v":0},{"$f":"+印領清冊統計表!E306","v":0}]
[{"$f":"IF(印領清冊統計表!$A307=\"總計\",\"\",(IF(印領清冊統計表!A307=0,A303,印領清冊統計表!A307)))","v":""},{"$f":"+印領清冊統計表!B307","v":0},{"$f":"+印領清冊統計表!C307","v":0},{"$f":"+印領清冊統計表!D307","v":0},{"$f":"+印領清冊統計表!E307","v":0}]
[{"$f":"IF(印領清冊統計表!$A308=\"總計\",\"\",(IF(印領清冊統計表!A308=0,A304,印領清冊統計表!A308)))","v":""},{"$f":"+印領清冊統計表!B308","v":0},{"$f":"+印領清冊統計表!C308","v":0},{"$f":"+印領清冊統計表!D308","v":0},{"$f":"+印領清冊統計表!E308","v":0}]
[{"$f":"IF(印領清冊統計表!$A309=\"總計\",\"\",(IF(印領清冊統計表!A309=0,A305,印領清冊統計表!A309)))","v":""},{"$f":"+印領清冊統計表!B309","v":0},{"$f":"+印領清冊統計表!C309","v":0},{"$f":"+印領清冊統計表!D309","v":0},{"$f":"+印領清冊統計表!E309","v":0}]
[{"$f":"IF(印領清冊統計表!$A310=\"總計\",\"\",(IF(印領清冊統計表!A310=0,A306,印領清冊統計表!A310)))","v":""},{"$f":"+印領清冊統計表!B310","v":0},{"$f":"+印領清冊統計表!C310","v":0},{"$f":"+印領清冊統計表!D310","v":0},{"$f":"+印領清冊統計表!E310","v":0}]
[{"$f":"IF(印領清冊統計表!$A311=\"總計\",\"\",(IF(印領清冊統計表!A311=0,A307,印領清冊統計表!A311)))","v":""},{"$f":"+印領清冊統計表!B311","v":0},{"$f":"+印領清冊統計表!C311","v":0},{"$f":"+印領清冊統計表!D311","v":0},{"$f":"+印領清冊統計表!E311","v":0}]
[{"$f":"IF(印領清冊統計表!$A312=\"總計\",\"\",(IF(印領清冊統計表!A312=0,A308,印領清冊統計表!A312)))","v":""},{"$f":"+印領清冊統計表!B312","v":0},{"$f":"+印領清冊統計表!C312","v":0},{"$f":"+印領清冊統計表!D312","v":0},{"$f":"+印領清冊統計表!E312","v":0}]
[{"$f":"IF(印領清冊統計表!$A313=\"總計\",\"\",(IF(印領清冊統計表!A313=0,A309,印領清冊統計表!A313)))","v":""},{"$f":"+印領清冊統計表!B313","v":0},{"$f":"+印領清冊統計表!C313","v":0},{"$f":"+印領清冊統計表!D313","v":0},{"$f":"+印領清冊統計表!E313","v":0}]
[{"$f":"IF(印領清冊統計表!$A314=\"總計\",\"\",(IF(印領清冊統計表!A314=0,A310,印領清冊統計表!A314)))","v":""},{"$f":"+印領清冊統計表!B314","v":0},{"$f":"+印領清冊統計表!C314","v":0},{"$f":"+印領清冊統計表!D314","v":0},{"$f":"+印領清冊統計表!E314","v":0}]
[{"$f":"IF(印領清冊統計表!$A315=\"總計\",\"\",(IF(印領清冊統計表!A315=0,A311,印領清冊統計表!A315)))","v":""},{"$f":"+印領清冊統計表!B315","v":0},{"$f":"+印領清冊統計表!C315","v":0},{"$f":"+印領清冊統計表!D315","v":0},{"$f":"+印領清冊統計表!E315","v":0}]
[{"$f":"IF(印領清冊統計表!$A316=\"總計\",\"\",(IF(印領清冊統計表!A316=0,A312,印領清冊統計表!A316)))","v":""},{"$f":"+印領清冊統計表!B316","v":0},{"$f":"+印領清冊統計表!C316","v":0},{"$f":"+印領清冊統計表!D316","v":0},{"$f":"+印領清冊統計表!E316","v":0}]
[{"$f":"IF(印領清冊統計表!$A317=\"總計\",\"\",(IF(印領清冊統計表!A317=0,A313,印領清冊統計表!A317)))","v":""},{"$f":"+印領清冊統計表!B317","v":0},{"$f":"+印領清冊統計表!C317","v":0},{"$f":"+印領清冊統計表!D317","v":0},{"$f":"+印領清冊統計表!E317","v":0}]
[{"$f":"IF(印領清冊統計表!$A318=\"總計\",\"\",(IF(印領清冊統計表!A318=0,A314,印領清冊統計表!A318)))","v":""},{"$f":"+印領清冊統計表!B318","v":0},{"$f":"+印領清冊統計表!C318","v":0},{"$f":"+印領清冊統計表!D318","v":0},{"$f":"+印領清冊統計表!E318","v":0}]
[{"$f":"IF(印領清冊統計表!$A319=\"總計\",\"\",(IF(印領清冊統計表!A319=0,A315,印領清冊統計表!A319)))","v":""},{"$f":"+印領清冊統計表!B319","v":0},{"$f":"+印領清冊統計表!C319","v":0},{"$f":"+印領清冊統計表!D319","v":0},{"$f":"+印領清冊統計表!E319","v":0}]
[{"$f":"IF(印領清冊統計表!$A320=\"總計\",\"\",(IF(印領清冊統計表!A320=0,A316,印領清冊統計表!A320)))","v":""},{"$f":"+印領清冊統計表!B320","v":0},{"$f":"+印領清冊統計表!C320","v":0},{"$f":"+印領清冊統計表!D320","v":0},{"$f":"+印領清冊統計表!E320","v":0}]
[{"$f":"IF(印領清冊統計表!$A321=\"總計\",\"\",(IF(印領清冊統計表!A321=0,A317,印領清冊統計表!A321)))","v":""},{"$f":"+印領清冊統計表!B321","v":0},{"$f":"+印領清冊統計表!C321","v":0},{"$f":"+印領清冊統計表!D321","v":0},{"$f":"+印領清冊統計表!E321","v":0}]
[{"$f":"IF(印領清冊統計表!$A322=\"總計\",\"\",(IF(印領清冊統計表!A322=0,A318,印領清冊統計表!A322)))","v":""},{"$f":"+印領清冊統計表!B322","v":0},{"$f":"+印領清冊統計表!C322","v":0},{"$f":"+印領清冊統計表!D322","v":0},{"$f":"+印領清冊統計表!E322","v":0}]
[{"$f":"IF(印領清冊統計表!$A323=\"總計\",\"\",(IF(印領清冊統計表!A323=0,A319,印領清冊統計表!A323)))","v":""},{"$f":"+印領清冊統計表!B323","v":0},{"$f":"+印領清冊統計表!C323","v":0},{"$f":"+印領清冊統計表!D323","v":0},{"$f":"+印領清冊統計表!E323","v":0}]
[{"$f":"IF(印領清冊統計表!$A324=\"總計\",\"\",(IF(印領清冊統計表!A324=0,A320,印領清冊統計表!A324)))","v":""},{"$f":"+印領清冊統計表!B324","v":0},{"$f":"+印領清冊統計表!C324","v":0},{"$f":"+印領清冊統計表!D324","v":0},{"$f":"+印領清冊統計表!E324","v":0}]
[{"$f":"IF(印領清冊統計表!$A325=\"總計\",\"\",(IF(印領清冊統計表!A325=0,A321,印領清冊統計表!A325)))","v":""},{"$f":"+印領清冊統計表!B325","v":0},{"$f":"+印領清冊統計表!C325","v":0},{"$f":"+印領清冊統計表!D325","v":0},{"$f":"+印領清冊統計表!E325","v":0}]
[{"$f":"IF(印領清冊統計表!$A326=\"總計\",\"\",(IF(印領清冊統計表!A326=0,A322,印領清冊統計表!A326)))","v":""},{"$f":"+印領清冊統計表!B326","v":0},{"$f":"+印領清冊統計表!C326","v":0},{"$f":"+印領清冊統計表!D326","v":0},{"$f":"+印領清冊統計表!E326","v":0}]
[{"$f":"IF(印領清冊統計表!$A327=\"總計\",\"\",(IF(印領清冊統計表!A327=0,A323,印領清冊統計表!A327)))","v":""},{"$f":"+印領清冊統計表!B327","v":0},{"$f":"+印領清冊統計表!C327","v":0},{"$f":"+印領清冊統計表!D327","v":0},{"$f":"+印領清冊統計表!E327","v":0}]
[{"$f":"IF(印領清冊統計表!$A328=\"總計\",\"\",(IF(印領清冊統計表!A328=0,A324,印領清冊統計表!A328)))","v":""},{"$f":"+印領清冊統計表!B328","v":0},{"$f":"+印領清冊統計表!C328","v":0},{"$f":"+印領清冊統計表!D328","v":0},{"$f":"+印領清冊統計表!E328","v":0}]
[{"$f":"IF(印領清冊統計表!$A329=\"總計\",\"\",(IF(印領清冊統計表!A329=0,A325,印領清冊統計表!A329)))","v":""},{"$f":"+印領清冊統計表!B329","v":0},{"$f":"+印領清冊統計表!C329","v":0},{"$f":"+印領清冊統計表!D329","v":0},{"$f":"+印領清冊統計表!E329","v":0}]
[{"$f":"IF(印領清冊統計表!$A330=\"總計\",\"\",(IF(印領清冊統計表!A330=0,A326,印領清冊統計表!A330)))","v":""},{"$f":"+印領清冊統計表!B330","v":0},{"$f":"+印領清冊統計表!C330","v":0},{"$f":"+印領清冊統計表!D330","v":0},{"$f":"+印領清冊統計表!E330","v":0}]
[{"$f":"IF(印領清冊統計表!$A331=\"總計\",\"\",(IF(印領清冊統計表!A331=0,A327,印領清冊統計表!A331)))","v":""},{"$f":"+印領清冊統計表!B331","v":0},{"$f":"+印領清冊統計表!C331","v":0},{"$f":"+印領清冊統計表!D331","v":0},{"$f":"+印領清冊統計表!E331","v":0}]
[{"$f":"IF(印領清冊統計表!$A332=\"總計\",\"\",(IF(印領清冊統計表!A332=0,A328,印領清冊統計表!A332)))","v":""},{"$f":"+印領清冊統計表!B332","v":0},{"$f":"+印領清冊統計表!C332","v":0},{"$f":"+印領清冊統計表!D332","v":0},{"$f":"+印領清冊統計表!E332","v":0}]
[{"$f":"IF(印領清冊統計表!$A333=\"總計\",\"\",(IF(印領清冊統計表!A333=0,A329,印領清冊統計表!A333)))","v":""},{"$f":"+印領清冊統計表!B333","v":0},{"$f":"+印領清冊統計表!C333","v":0},{"$f":"+印領清冊統計表!D333","v":0},{"$f":"+印領清冊統計表!E333","v":0}]
[{"$f":"IF(印領清冊統計表!$A334=\"總計\",\"\",(IF(印領清冊統計表!A334=0,A330,印領清冊統計表!A334)))","v":""},{"$f":"+印領清冊統計表!B334","v":0},{"$f":"+印領清冊統計表!C334","v":0},{"$f":"+印領清冊統計表!D334","v":0},{"$f":"+印領清冊統計表!E334","v":0}]
[{"$f":"IF(印領清冊統計表!$A335=\"總計\",\"\",(IF(印領清冊統計表!A335=0,A331,印領清冊統計表!A335)))","v":""},{"$f":"+印領清冊統計表!B335","v":0},{"$f":"+印領清冊統計表!C335","v":0},{"$f":"+印領清冊統計表!D335","v":0},{"$f":"+印領清冊統計表!E335","v":0}]
[{"$f":"IF(印領清冊統計表!$A336=\"總計\",\"\",(IF(印領清冊統計表!A336=0,A332,印領清冊統計表!A336)))","v":""},{"$f":"+印領清冊統計表!B336","v":0},{"$f":"+印領清冊統計表!C336","v":0},{"$f":"+印領清冊統計表!D336","v":0},{"$f":"+印領清冊統計表!E336","v":0}]
[{"$f":"IF(印領清冊統計表!$A337=\"總計\",\"\",(IF(印領清冊統計表!A337=0,A333,印領清冊統計表!A337)))","v":""},{"$f":"+印領清冊統計表!B337","v":0},{"$f":"+印領清冊統計表!C337","v":0},{"$f":"+印領清冊統計表!D337","v":0},{"$f":"+印領清冊統計表!E337","v":0}]
[{"$f":"IF(印領清冊統計表!$A338=\"總計\",\"\",(IF(印領清冊統計表!A338=0,A334,印領清冊統計表!A338)))","v":""},{"$f":"+印領清冊統計表!B338","v":0},{"$f":"+印領清冊統計表!C338","v":0},{"$f":"+印領清冊統計表!D338","v":0},{"$f":"+印領清冊統計表!E338","v":0}]
[{"$f":"IF(印領清冊統計表!$A339=\"總計\",\"\",(IF(印領清冊統計表!A339=0,A335,印領清冊統計表!A339)))","v":""},{"$f":"+印領清冊統計表!B339","v":0},{"$f":"+印領清冊統計表!C339","v":0},{"$f":"+印領清冊統計表!D339","v":0},{"$f":"+印領清冊統計表!E339","v":0}]
[{"$f":"IF(印領清冊統計表!$A340=\"總計\",\"\",(IF(印領清冊統計表!A340=0,A336,印領清冊統計表!A340)))","v":""},{"$f":"+印領清冊統計表!B340","v":0},{"$f":"+印領清冊統計表!C340","v":0},{"$f":"+印領清冊統計表!D340","v":0},{"$f":"+印領清冊統計表!E340","v":0}]
[{"$f":"IF(印領清冊統計表!$A341=\"總計\",\"\",(IF(印領清冊統計表!A341=0,A337,印領清冊統計表!A341)))","v":""},{"$f":"+印領清冊統計表!B341","v":0},{"$f":"+印領清冊統計表!C341","v":0},{"$f":"+印領清冊統計表!D341","v":0},{"$f":"+印領清冊統計表!E341","v":0}]
[{"$f":"IF(印領清冊統計表!$A342=\"總計\",\"\",(IF(印領清冊統計表!A342=0,A338,印領清冊統計表!A342)))","v":""},{"$f":"+印領清冊統計表!B342","v":0},{"$f":"+印領清冊統計表!C342","v":0},{"$f":"+印領清冊統計表!D342","v":0},{"$f":"+印領清冊統計表!E342","v":0}]
[{"$f":"IF(印領清冊統計表!$A343=\"總計\",\"\",(IF(印領清冊統計表!A343=0,A339,印領清冊統計表!A343)))","v":""},{"$f":"+印領清冊統計表!B343","v":0},{"$f":"+印領清冊統計表!C343","v":0},{"$f":"+印領清冊統計表!D343","v":0},{"$f":"+印領清冊統計表!E343","v":0}]
[{"$f":"IF(印領清冊統計表!$A344=\"總計\",\"\",(IF(印領清冊統計表!A344=0,A340,印領清冊統計表!A344)))","v":""},{"$f":"+印領清冊統計表!B344","v":0},{"$f":"+印領清冊統計表!C344","v":0},{"$f":"+印領清冊統計表!D344","v":0},{"$f":"+印領清冊統計表!E344","v":0}]
[{"$f":"IF(印領清冊統計表!$A345=\"總計\",\"\",(IF(印領清冊統計表!A345=0,A341,印領清冊統計表!A345)))","v":""},{"$f":"+印領清冊統計表!B345","v":0},{"$f":"+印領清冊統計表!C345","v":0},{"$f":"+印領清冊統計表!D345","v":0},{"$f":"+印領清冊統計表!E345","v":0}]
[{"$f":"IF(印領清冊統計表!$A346=\"總計\",\"\",(IF(印領清冊統計表!A346=0,A342,印領清冊統計表!A346)))","v":""},{"$f":"+印領清冊統計表!B346","v":0},{"$f":"+印領清冊統計表!C346","v":0},{"$f":"+印領清冊統計表!D346","v":0},{"$f":"+印領清冊統計表!E346","v":0}]
[{"$f":"IF(印領清冊統計表!$A347=\"總計\",\"\",(IF(印領清冊統計表!A347=0,A343,印領清冊統計表!A347)))","v":""},{"$f":"+印領清冊統計表!B347","v":0},{"$f":"+印領清冊統計表!C347","v":0},{"$f":"+印領清冊統計表!D347","v":0},{"$f":"+印領清冊統計表!E347","v":0}]
[{"$f":"IF(印領清冊統計表!$A348=\"總計\",\"\",(IF(印領清冊統計表!A348=0,A344,印領清冊統計表!A348)))","v":""},{"$f":"+印領清冊統計表!B348","v":0},{"$f":"+印領清冊統計表!C348","v":0},{"$f":"+印領清冊統計表!D348","v":0},{"$f":"+印領清冊統計表!E348","v":0}]
[{"$f":"IF(印領清冊統計表!$A349=\"總計\",\"\",(IF(印領清冊統計表!A349=0,A345,印領清冊統計表!A349)))","v":""},{"$f":"+印領清冊統計表!B349","v":0},{"$f":"+印領清冊統計表!C349","v":0},{"$f":"+印領清冊統計表!D349","v":0},{"$f":"+印領清冊統計表!E349","v":0}]
[{"$f":"IF(印領清冊統計表!$A350=\"總計\",\"\",(IF(印領清冊統計表!A350=0,A346,印領清冊統計表!A350)))","v":""},{"$f":"+印領清冊統計表!B350","v":0},{"$f":"+印領清冊統計表!C350","v":0},{"$f":"+印領清冊統計表!D350","v":0},{"$f":"+印領清冊統計表!E350","v":0}]
[{"$f":"IF(印領清冊統計表!$A351=\"總計\",\"\",(IF(印領清冊統計表!A351=0,A347,印領清冊統計表!A351)))","v":""},{"$f":"+印領清冊統計表!B351","v":0},{"$f":"+印領清冊統計表!C351","v":0},{"$f":"+印領清冊統計表!D351","v":0},{"$f":"+印領清冊統計表!E351","v":0}]
[{"$f":"IF(印領清冊統計表!$A352=\"總計\",\"\",(IF(印領清冊統計表!A352=0,A348,印領清冊統計表!A352)))","v":""},{"$f":"+印領清冊統計表!B352","v":0},{"$f":"+印領清冊統計表!C352","v":0},{"$f":"+印領清冊統計表!D352","v":0},{"$f":"+印領清冊統計表!E352","v":0}]
[{"$f":"IF(印領清冊統計表!$A353=\"總計\",\"\",(IF(印領清冊統計表!A353=0,A349,印領清冊統計表!A353)))","v":""},{"$f":"+印領清冊統計表!B353","v":0},{"$f":"+印領清冊統計表!C353","v":0},{"$f":"+印領清冊統計表!D353","v":0},{"$f":"+印領清冊統計表!E353","v":0}]
[{"$f":"IF(印領清冊統計表!$A354=\"總計\",\"\",(IF(印領清冊統計表!A354=0,A350,印領清冊統計表!A354)))","v":""},{"$f":"+印領清冊統計表!B354","v":0},{"$f":"+印領清冊統計表!C354","v":0},{"$f":"+印領清冊統計表!D354","v":0},{"$f":"+印領清冊統計表!E354","v":0}]
[{"$f":"IF(印領清冊統計表!$A355=\"總計\",\"\",(IF(印領清冊統計表!A355=0,A351,印領清冊統計表!A355)))","v":""},{"$f":"+印領清冊統計表!B355","v":0},{"$f":"+印領清冊統計表!C355","v":0},{"$f":"+印領清冊統計表!D355","v":0},{"$f":"+印領清冊統計表!E355","v":0}]
[{"$f":"IF(印領清冊統計表!$A356=\"總計\",\"\",(IF(印領清冊統計表!A356=0,A352,印領清冊統計表!A356)))","v":""},{"$f":"+印領清冊統計表!B356","v":0},{"$f":"+印領清冊統計表!C356","v":0},{"$f":"+印領清冊統計表!D356","v":0},{"$f":"+印領清冊統計表!E356","v":0}]
[{"$f":"IF(印領清冊統計表!$A357=\"總計\",\"\",(IF(印領清冊統計表!A357=0,A353,印領清冊統計表!A357)))","v":""},{"$f":"+印領清冊統計表!B357","v":0},{"$f":"+印領清冊統計表!C357","v":0},{"$f":"+印領清冊統計表!D357","v":0},{"$f":"+印領清冊統計表!E357","v":0}]
[{"$f":"IF(印領清冊統計表!$A358=\"總計\",\"\",(IF(印領清冊統計表!A358=0,A354,印領清冊統計表!A358)))","v":""},{"$f":"+印領清冊統計表!B358","v":0},{"$f":"+印領清冊統計表!C358","v":0},{"$f":"+印領清冊統計表!D358","v":0},{"$f":"+印領清冊統計表!E358","v":0}]
[{"$f":"IF(印領清冊統計表!$A359=\"總計\",\"\",(IF(印領清冊統計表!A359=0,A355,印領清冊統計表!A359)))","v":""},{"$f":"+印領清冊統計表!B359","v":0},{"$f":"+印領清冊統計表!C359","v":0},{"$f":"+印領清冊統計表!D359","v":0},{"$f":"+印領清冊統計表!E359","v":0}]
[{"$f":"IF(印領清冊統計表!$A360=\"總計\",\"\",(IF(印領清冊統計表!A360=0,A356,印領清冊統計表!A360)))","v":""},{"$f":"+印領清冊統計表!B360","v":0},{"$f":"+印領清冊統計表!C360","v":0},{"$f":"+印領清冊統計表!D360","v":0},{"$f":"+印領清冊統計表!E360","v":0}]
[{"$f":"IF(印領清冊統計表!$A361=\"總計\",\"\",(IF(印領清冊統計表!A361=0,A357,印領清冊統計表!A361)))","v":""},{"$f":"+印領清冊統計表!B361","v":0},{"$f":"+印領清冊統計表!C361","v":0},{"$f":"+印領清冊統計表!D361","v":0},{"$f":"+印領清冊統計表!E361","v":0}]
[{"$f":"IF(印領清冊統計表!$A362=\"總計\",\"\",(IF(印領清冊統計表!A362=0,A358,印領清冊統計表!A362)))","v":""},{"$f":"+印領清冊統計表!B362","v":0},{"$f":"+印領清冊統計表!C362","v":0},{"$f":"+印領清冊統計表!D362","v":0},{"$f":"+印領清冊統計表!E362","v":0}]
[{"$f":"IF(印領清冊統計表!$A363=\"總計\",\"\",(IF(印領清冊統計表!A363=0,A359,印領清冊統計表!A363)))","v":""},{"$f":"+印領清冊統計表!B363","v":0},{"$f":"+印領清冊統計表!C363","v":0},{"$f":"+印領清冊統計表!D363","v":0},{"$f":"+印領清冊統計表!E363","v":0}]
[{"$f":"IF(印領清冊統計表!$A364=\"總計\",\"\",(IF(印領清冊統計表!A364=0,A360,印領清冊統計表!A364)))","v":""},{"$f":"+印領清冊統計表!B364","v":0},{"$f":"+印領清冊統計表!C364","v":0},{"$f":"+印領清冊統計表!D364","v":0},{"$f":"+印領清冊統計表!E364","v":0}]
[{"$f":"IF(印領清冊統計表!$A365=\"總計\",\"\",(IF(印領清冊統計表!A365=0,A361,印領清冊統計表!A365)))","v":""},{"$f":"+印領清冊統計表!B365","v":0},{"$f":"+印領清冊統計表!C365","v":0},{"$f":"+印領清冊統計表!D365","v":0},{"$f":"+印領清冊統計表!E365","v":0}]
[{"$f":"IF(印領清冊統計表!$A366=\"總計\",\"\",(IF(印領清冊統計表!A366=0,A362,印領清冊統計表!A366)))","v":""},{"$f":"+印領清冊統計表!B366","v":0},{"$f":"+印領清冊統計表!C366","v":0},{"$f":"+印領清冊統計表!D366","v":0},{"$f":"+印領清冊統計表!E366","v":0}]
[{"$f":"IF(印領清冊統計表!$A367=\"總計\",\"\",(IF(印領清冊統計表!A367=0,A363,印領清冊統計表!A367)))","v":""},{"$f":"+印領清冊統計表!B367","v":0},{"$f":"+印領清冊統計表!C367","v":0},{"$f":"+印領清冊統計表!D367","v":0},{"$f":"+印領清冊統計表!E367","v":0}]
[{"$f":"IF(印領清冊統計表!$A368=\"總計\",\"\",(IF(印領清冊統計表!A368=0,A364,印領清冊統計表!A368)))","v":""},{"$f":"+印領清冊統計表!B368","v":0},{"$f":"+印領清冊統計表!C368","v":0},{"$f":"+印領清冊統計表!D368","v":0},{"$f":"+印領清冊統計表!E368","v":0}]
[{"$f":"IF(印領清冊統計表!$A369=\"總計\",\"\",(IF(印領清冊統計表!A369=0,A365,印領清冊統計表!A369)))","v":""},{"$f":"+印領清冊統計表!B369","v":0},{"$f":"+印領清冊統計表!C369","v":0},{"$f":"+印領清冊統計表!D369","v":0},{"$f":"+印領清冊統計表!E369","v":0}]
[{"$f":"IF(印領清冊統計表!$A370=\"總計\",\"\",(IF(印領清冊統計表!A370=0,A366,印領清冊統計表!A370)))","v":""},{"$f":"+印領清冊統計表!B370","v":0},{"$f":"+印領清冊統計表!C370","v":0},{"$f":"+印領清冊統計表!D370","v":0},{"$f":"+印領清冊統計表!E370","v":0}]
[{"$f":"IF(印領清冊統計表!$A371=\"總計\",\"\",(IF(印領清冊統計表!A371=0,A367,印領清冊統計表!A371)))","v":""},{"$f":"+印領清冊統計表!B371","v":0},{"$f":"+印領清冊統計表!C371","v":0},{"$f":"+印領清冊統計表!D371","v":0},{"$f":"+印領清冊統計表!E371","v":0}]
[{"$f":"IF(印領清冊統計表!$A372=\"總計\",\"\",(IF(印領清冊統計表!A372=0,A368,印領清冊統計表!A372)))","v":""},{"$f":"+印領清冊統計表!B372","v":0},{"$f":"+印領清冊統計表!C372","v":0},{"$f":"+印領清冊統計表!D372","v":0},{"$f":"+印領清冊統計表!E372","v":0}]
[{"$f":"IF(印領清冊統計表!$A373=\"總計\",\"\",(IF(印領清冊統計表!A373=0,A369,印領清冊統計表!A373)))","v":""},{"$f":"+印領清冊統計表!B373","v":0},{"$f":"+印領清冊統計表!C373","v":0},{"$f":"+印領清冊統計表!D373","v":0},{"$f":"+印領清冊統計表!E373","v":0}]
[{"$f":"IF(印領清冊統計表!$A374=\"總計\",\"\",(IF(印領清冊統計表!A374=0,A370,印領清冊統計表!A374)))","v":""},{"$f":"+印領清冊統計表!B374","v":0},{"$f":"+印領清冊統計表!C374","v":0},{"$f":"+印領清冊統計表!D374","v":0},{"$f":"+印領清冊統計表!E374","v":0}]
[{"$f":"IF(印領清冊統計表!$A375=\"總計\",\"\",(IF(印領清冊統計表!A375=0,A371,印領清冊統計表!A375)))","v":""},{"$f":"+印領清冊統計表!B375","v":0},{"$f":"+印領清冊統計表!C375","v":0},{"$f":"+印領清冊統計表!D375","v":0},{"$f":"+印領清冊統計表!E375","v":0}]
[{"$f":"IF(印領清冊統計表!$A376=\"總計\",\"\",(IF(印領清冊統計表!A376=0,A372,印領清冊統計表!A376)))","v":""},{"$f":"+印領清冊統計表!B376","v":0},{"$f":"+印領清冊統計表!C376","v":0},{"$f":"+印領清冊統計表!D376","v":0},{"$f":"+印領清冊統計表!E376","v":0}]
[{"$f":"IF(印領清冊統計表!$A377=\"總計\",\"\",(IF(印領清冊統計表!A377=0,A373,印領清冊統計表!A377)))","v":""},{"$f":"+印領清冊統計表!B377","v":0},{"$f":"+印領清冊統計表!C377","v":0},{"$f":"+印領清冊統計表!D377","v":0},{"$f":"+印領清冊統計表!E377","v":0}]
[{"$f":"IF(印領清冊統計表!$A378=\"總計\",\"\",(IF(印領清冊統計表!A378=0,A374,印領清冊統計表!A378)))","v":""},{"$f":"+印領清冊統計表!B378","v":0},{"$f":"+印領清冊統計表!C378","v":0},{"$f":"+印領清冊統計表!D378","v":0},{"$f":"+印領清冊統計表!E378","v":0}]
[{"$f":"IF(印領清冊統計表!$A379=\"總計\",\"\",(IF(印領清冊統計表!A379=0,A375,印領清冊統計表!A379)))","v":""},{"$f":"+印領清冊統計表!B379","v":0},{"$f":"+印領清冊統計表!C379","v":0},{"$f":"+印領清冊統計表!D379","v":0},{"$f":"+印領清冊統計表!E379","v":0}]
[{"$f":"IF(印領清冊統計表!$A380=\"總計\",\"\",(IF(印領清冊統計表!A380=0,A376,印領清冊統計表!A380)))","v":""},{"$f":"+印領清冊統計表!B380","v":0},{"$f":"+印領清冊統計表!C380","v":0},{"$f":"+印領清冊統計表!D380","v":0},{"$f":"+印領清冊統計表!E380","v":0}]
[{"$f":"IF(印領清冊統計表!$A381=\"總計\",\"\",(IF(印領清冊統計表!A381=0,A377,印領清冊統計表!A381)))","v":""},{"$f":"+印領清冊統計表!B381","v":0},{"$f":"+印領清冊統計表!C381","v":0},{"$f":"+印領清冊統計表!D381","v":0},{"$f":"+印領清冊統計表!E381","v":0}]
[{"$f":"IF(印領清冊統計表!$A382=\"總計\",\"\",(IF(印領清冊統計表!A382=0,A378,印領清冊統計表!A382)))","v":""},{"$f":"+印領清冊統計表!B382","v":0},{"$f":"+印領清冊統計表!C382","v":0},{"$f":"+印領清冊統計表!D382","v":0},{"$f":"+印領清冊統計表!E382","v":0}]
[{"$f":"IF(印領清冊統計表!$A383=\"總計\",\"\",(IF(印領清冊統計表!A383=0,A379,印領清冊統計表!A383)))","v":""},{"$f":"+印領清冊統計表!B383","v":0},{"$f":"+印領清冊統計表!C383","v":0},{"$f":"+印領清冊統計表!D383","v":0},{"$f":"+印領清冊統計表!E383","v":0}]
[{"$f":"IF(印領清冊統計表!$A384=\"總計\",\"\",(IF(印領清冊統計表!A384=0,A380,印領清冊統計表!A384)))","v":""},{"$f":"+印領清冊統計表!B384","v":0},{"$f":"+印領清冊統計表!C384","v":0},{"$f":"+印領清冊統計表!D384","v":0},{"$f":"+印領清冊統計表!E384","v":0}]
[{"$f":"IF(印領清冊統計表!$A385=\"總計\",\"\",(IF(印領清冊統計表!A385=0,A381,印領清冊統計表!A385)))","v":""},{"$f":"+印領清冊統計表!B385","v":0},{"$f":"+印領清冊統計表!C385","v":0},{"$f":"+印領清冊統計表!D385","v":0},{"$f":"+印領清冊統計表!E385","v":0}]
[{"$f":"IF(印領清冊統計表!$A386=\"總計\",\"\",(IF(印領清冊統計表!A386=0,A382,印領清冊統計表!A386)))","v":""},{"$f":"+印領清冊統計表!B386","v":0},{"$f":"+印領清冊統計表!C386","v":0},{"$f":"+印領清冊統計表!D386","v":0},{"$f":"+印領清冊統計表!E386","v":0}]
[{"$f":"IF(印領清冊統計表!$A387=\"總計\",\"\",(IF(印領清冊統計表!A387=0,A383,印領清冊統計表!A387)))","v":""},{"$f":"+印領清冊統計表!B387","v":0},{"$f":"+印領清冊統計表!C387","v":0},{"$f":"+印領清冊統計表!D387","v":0},{"$f":"+印領清冊統計表!E387","v":0}]
[{"$f":"IF(印領清冊統計表!$A388=\"總計\",\"\",(IF(印領清冊統計表!A388=0,A384,印領清冊統計表!A388)))","v":""},{"$f":"+印領清冊統計表!B388","v":0},{"$f":"+印領清冊統計表!C388","v":0},{"$f":"+印領清冊統計表!D388","v":0},{"$f":"+印領清冊統計表!E388","v":0}]
[{"$f":"IF(印領清冊統計表!$A389=\"總計\",\"\",(IF(印領清冊統計表!A389=0,A385,印領清冊統計表!A389)))","v":""},{"$f":"+印領清冊統計表!B389","v":0},{"$f":"+印領清冊統計表!C389","v":0},{"$f":"+印領清冊統計表!D389","v":0},{"$f":"+印領清冊統計表!E389","v":0}]
[{"$f":"IF(印領清冊統計表!$A390=\"總計\",\"\",(IF(印領清冊統計表!A390=0,A386,印領清冊統計表!A390)))","v":""},{"$f":"+印領清冊統計表!B390","v":0},{"$f":"+印領清冊統計表!C390","v":0},{"$f":"+印領清冊統計表!D390","v":0},{"$f":"+印領清冊統計表!E390","v":0}]
[{"$f":"IF(印領清冊統計表!$A391=\"總計\",\"\",(IF(印領清冊統計表!A391=0,A387,印領清冊統計表!A391)))","v":""},{"$f":"+印領清冊統計表!B391","v":0},{"$f":"+印領清冊統計表!C391","v":0},{"$f":"+印領清冊統計表!D391","v":0},{"$f":"+印領清冊統計表!E391","v":0}]
[{"$f":"IF(印領清冊統計表!$A392=\"總計\",\"\",(IF(印領清冊統計表!A392=0,A388,印領清冊統計表!A392)))","v":""},{"$f":"+印領清冊統計表!B392","v":0},{"$f":"+印領清冊統計表!C392","v":0},{"$f":"+印領清冊統計表!D392","v":0},{"$f":"+印領清冊統計表!E392","v":0}]
[{"$f":"IF(印領清冊統計表!$A393=\"總計\",\"\",(IF(印領清冊統計表!A393=0,A389,印領清冊統計表!A393)))","v":""},{"$f":"+印領清冊統計表!B393","v":0},{"$f":"+印領清冊統計表!C393","v":0},{"$f":"+印領清冊統計表!D393","v":0},{"$f":"+印領清冊統計表!E393","v":0}]
[{"$f":"IF(印領清冊統計表!$A394=\"總計\",\"\",(IF(印領清冊統計表!A394=0,A390,印領清冊統計表!A394)))","v":""},{"$f":"+印領清冊統計表!B394","v":0},{"$f":"+印領清冊統計表!C394","v":0},{"$f":"+印領清冊統計表!D394","v":0},{"$f":"+印領清冊統計表!E394","v":0}]
[{"$f":"IF(印領清冊統計表!$A395=\"總計\",\"\",(IF(印領清冊統計表!A395=0,A391,印領清冊統計表!A395)))","v":""},{"$f":"+印領清冊統計表!B395","v":0},{"$f":"+印領清冊統計表!C395","v":0},{"$f":"+印領清冊統計表!D395","v":0},{"$f":"+印領清冊統計表!E395","v":0}]
[{"$f":"IF(印領清冊統計表!$A396=\"總計\",\"\",(IF(印領清冊統計表!A396=0,A392,印領清冊統計表!A396)))","v":""},{"$f":"+印領清冊統計表!B396","v":0},{"$f":"+印領清冊統計表!C396","v":0},{"$f":"+印領清冊統計表!D396","v":0},{"$f":"+印領清冊統計表!E396","v":0}]
[{"$f":"IF(印領清冊統計表!$A397=\"總計\",\"\",(IF(印領清冊統計表!A397=0,A393,印領清冊統計表!A397)))","v":""},{"$f":"+印領清冊統計表!B397","v":0},{"$f":"+印領清冊統計表!C397","v":0},{"$f":"+印領清冊統計表!D397","v":0},{"$f":"+印領清冊統計表!E397","v":0}]
[{"$f":"IF(印領清冊統計表!$A398=\"總計\",\"\",(IF(印領清冊統計表!A398=0,A394,印領清冊統計表!A398)))","v":""},{"$f":"+印領清冊統計表!B398","v":0},{"$f":"+印領清冊統計表!C398","v":0},{"$f":"+印領清冊統計表!D398","v":0},{"$f":"+印領清冊統計表!E398","v":0}]
[{"$f":"IF(印領清冊統計表!$A399=\"總計\",\"\",(IF(印領清冊統計表!A399=0,A395,印領清冊統計表!A399)))","v":""},{"$f":"+印領清冊統計表!B399","v":0},{"$f":"+印領清冊統計表!C399","v":0},{"$f":"+印領清冊統計表!D399","v":0},{"$f":"+印領清冊統計表!E399","v":0}]
[{"$f":"IF(印領清冊統計表!$A400=\"總計\",\"\",(IF(印領清冊統計表!A400=0,A396,印領清冊統計表!A400)))","v":""},{"$f":"+印領清冊統計表!B400","v":0},{"$f":"+印領清冊統計表!C400","v":0},{"$f":"+印領清冊統計表!D400","v":0},{"$f":"+印領清冊統計表!E400","v":0}]
[{"$f":"IF(印領清冊統計表!$A401=\"總計\",\"\",(IF(印領清冊統計表!A401=0,A397,印領清冊統計表!A401)))","v":""},{"$f":"+印領清冊統計表!B401","v":0},{"$f":"+印領清冊統計表!C401","v":0},{"$f":"+印領清冊統計表!D401","v":0},{"$f":"+印領清冊統計表!E401","v":0}]
[{"$f":"IF(印領清冊統計表!$A402=\"總計\",\"\",(IF(印領清冊統計表!A402=0,A398,印領清冊統計表!A402)))","v":""},{"$f":"+印領清冊統計表!B402","v":0},{"$f":"+印領清冊統計表!C402","v":0},{"$f":"+印領清冊統計表!D402","v":0},{"$f":"+印領清冊統計表!E402","v":0}]
[{"$f":"IF(印領清冊統計表!$A403=\"總計\",\"\",(IF(印領清冊統計表!A403=0,A399,印領清冊統計表!A403)))","v":""},{"$f":"+印領清冊統計表!B403","v":0},{"$f":"+印領清冊統計表!C403","v":0},{"$f":"+印領清冊統計表!D403","v":0},{"$f":"+印領清冊統計表!E403","v":0}]
[{"$f":"IF(印領清冊統計表!$A404=\"總計\",\"\",(IF(印領清冊統計表!A404=0,A400,印領清冊統計表!A404)))","v":""},{"$f":"+印領清冊統計表!B404","v":0},{"$f":"+印領清冊統計表!C404","v":0},{"$f":"+印領清冊統計表!D404","v":0},{"$f":"+印領清冊統計表!E404","v":0}]
[{"$f":"IF(印領清冊統計表!$A405=\"總計\",\"\",(IF(印領清冊統計表!A405=0,A401,印領清冊統計表!A405)))","v":""},{"$f":"+印領清冊統計表!B405","v":0},{"$f":"+印領清冊統計表!C405","v":0},{"$f":"+印領清冊統計表!D405","v":0},{"$f":"+印領清冊統計表!E405","v":0}]
[{"$f":"IF(印領清冊統計表!$A406=\"總計\",\"\",(IF(印領清冊統計表!A406=0,A402,印領清冊統計表!A406)))","v":""},{"$f":"+印領清冊統計表!B406","v":0},{"$f":"+印領清冊統計表!C406","v":0},{"$f":"+印領清冊統計表!D406","v":0},{"$f":"+印領清冊統計表!E406","v":0}]
[{"$f":"IF(印領清冊統計表!$A407=\"總計\",\"\",(IF(印領清冊統計表!A407=0,A403,印領清冊統計表!A407)))","v":""},{"$f":"+印領清冊統計表!B407","v":0},{"$f":"+印領清冊統計表!C407","v":0},{"$f":"+印領清冊統計表!D407","v":0},{"$f":"+印領清冊統計表!E407","v":0}]
[{"$f":"IF(印領清冊統計表!$A408=\"總計\",\"\",(IF(印領清冊統計表!A408=0,A404,印領清冊統計表!A408)))","v":""},{"$f":"+印領清冊統計表!B408","v":0},{"$f":"+印領清冊統計表!C408","v":0},{"$f":"+印領清冊統計表!D408","v":0},{"$f":"+印領清冊統計表!E408","v":0}]
[{"$f":"IF(印領清冊統計表!$A409=\"總計\",\"\",(IF(印領清冊統計表!A409=0,A405,印領清冊統計表!A409)))","v":""},{"$f":"+印領清冊統計表!B409","v":0},{"$f":"+印領清冊統計表!C409","v":0},{"$f":"+印領清冊統計表!D409","v":0},{"$f":"+印領清冊統計表!E409","v":0}]
[{"$f":"IF(印領清冊統計表!$A410=\"總計\",\"\",(IF(印領清冊統計表!A410=0,A406,印領清冊統計表!A410)))","v":""},{"$f":"+印領清冊統計表!B410","v":0},{"$f":"+印領清冊統計表!C410","v":0},{"$f":"+印領清冊統計表!D410","v":0},{"$f":"+印領清冊統計表!E410","v":0}]
[{"$f":"IF(印領清冊統計表!$A411=\"總計\",\"\",(IF(印領清冊統計表!A411=0,A407,印領清冊統計表!A411)))","v":""},{"$f":"+印領清冊統計表!B411","v":0},{"$f":"+印領清冊統計表!C411","v":0},{"$f":"+印領清冊統計表!D411","v":0},{"$f":"+印領清冊統計表!E411","v":0}]
[{"$f":"IF(印領清冊統計表!$A412=\"總計\",\"\",(IF(印領清冊統計表!A412=0,A408,印領清冊統計表!A412)))","v":""},{"$f":"+印領清冊統計表!B412","v":0},{"$f":"+印領清冊統計表!C412","v":0},{"$f":"+印領清冊統計表!D412","v":0},{"$f":"+印領清冊統計表!E412","v":0}]
[{"$f":"IF(印領清冊統計表!$A413=\"總計\",\"\",(IF(印領清冊統計表!A413=0,A409,印領清冊統計表!A413)))","v":""},{"$f":"+印領清冊統計表!B413","v":0},{"$f":"+印領清冊統計表!C413","v":0},{"$f":"+印領清冊統計表!D413","v":0},{"$f":"+印領清冊統計表!E413","v":0}]
[{"$f":"IF(印領清冊統計表!$A414=\"總計\",\"\",(IF(印領清冊統計表!A414=0,A410,印領清冊統計表!A414)))","v":""},{"$f":"+印領清冊統計表!B414","v":0},{"$f":"+印領清冊統計表!C414","v":0},{"$f":"+印領清冊統計表!D414","v":0},{"$f":"+印領清冊統計表!E414","v":0}]
[{"$f":"IF(印領清冊統計表!$A415=\"總計\",\"\",(IF(印領清冊統計表!A415=0,A411,印領清冊統計表!A415)))","v":""},{"$f":"+印領清冊統計表!B415","v":0},{"$f":"+印領清冊統計表!C415","v":0},{"$f":"+印領清冊統計表!D415","v":0},{"$f":"+印領清冊統計表!E415","v":0}]
[{"$f":"IF(印領清冊統計表!$A416=\"總計\",\"\",(IF(印領清冊統計表!A416=0,A412,印領清冊統計表!A416)))","v":""},{"$f":"+印領清冊統計表!B416","v":0},{"$f":"+印領清冊統計表!C416","v":0},{"$f":"+印領清冊統計表!D416","v":0},{"$f":"+印領清冊統計表!E416","v":0}]
[{"$f":"IF(印領清冊統計表!$A417=\"總計\",\"\",(IF(印領清冊統計表!A417=0,A413,印領清冊統計表!A417)))","v":""},{"$f":"+印領清冊統計表!B417","v":0},{"$f":"+印領清冊統計表!C417","v":0},{"$f":"+印領清冊統計表!D417","v":0},{"$f":"+印領清冊統計表!E417","v":0}]
[{"$f":"IF(印領清冊統計表!$A418=\"總計\",\"\",(IF(印領清冊統計表!A418=0,A414,印領清冊統計表!A418)))","v":""},{"$f":"+印領清冊統計表!B418","v":0},{"$f":"+印領清冊統計表!C418","v":0},{"$f":"+印領清冊統計表!D418","v":0},{"$f":"+印領清冊統計表!E418","v":0}]
[{"$f":"IF(印領清冊統計表!$A419=\"總計\",\"\",(IF(印領清冊統計表!A419=0,A415,印領清冊統計表!A419)))","v":""},{"$f":"+印領清冊統計表!B419","v":0},{"$f":"+印領清冊統計表!C419","v":0},{"$f":"+印領清冊統計表!D419","v":0},{"$f":"+印領清冊統計表!E419","v":0}]
[{"$f":"IF(印領清冊統計表!$A420=\"總計\",\"\",(IF(印領清冊統計表!A420=0,A416,印領清冊統計表!A420)))","v":""},{"$f":"+印領清冊統計表!B420","v":0},{"$f":"+印領清冊統計表!C420","v":0},{"$f":"+印領清冊統計表!D420","v":0},{"$f":"+印領清冊統計表!E420","v":0}]
[{"$f":"IF(印領清冊統計表!$A421=\"總計\",\"\",(IF(印領清冊統計表!A421=0,A417,印領清冊統計表!A421)))","v":""},{"$f":"+印領清冊統計表!B421","v":0},{"$f":"+印領清冊統計表!C421","v":0},{"$f":"+印領清冊統計表!D421","v":0},{"$f":"+印領清冊統計表!E421","v":0}]
[{"$f":"IF(印領清冊統計表!$A422=\"總計\",\"\",(IF(印領清冊統計表!A422=0,A418,印領清冊統計表!A422)))","v":""},{"$f":"+印領清冊統計表!B422","v":0},{"$f":"+印領清冊統計表!C422","v":0},{"$f":"+印領清冊統計表!D422","v":0},{"$f":"+印領清冊統計表!E422","v":0}]
[{"$f":"IF(印領清冊統計表!$A423=\"總計\",\"\",(IF(印領清冊統計表!A423=0,A419,印領清冊統計表!A423)))","v":""},{"$f":"+印領清冊統計表!B423","v":0},{"$f":"+印領清冊統計表!C423","v":0},{"$f":"+印領清冊統計表!D423","v":0},{"$f":"+印領清冊統計表!E423","v":0}]
[{"$f":"IF(印領清冊統計表!$A424=\"總計\",\"\",(IF(印領清冊統計表!A424=0,A420,印領清冊統計表!A424)))","v":""},{"$f":"+印領清冊統計表!B424","v":0},{"$f":"+印領清冊統計表!C424","v":0},{"$f":"+印領清冊統計表!D424","v":0},{"$f":"+印領清冊統計表!E424","v":0}]
[{"$f":"IF(印領清冊統計表!$A425=\"總計\",\"\",(IF(印領清冊統計表!A425=0,A421,印領清冊統計表!A425)))","v":""},{"$f":"+印領清冊統計表!B425","v":0},{"$f":"+印領清冊統計表!C425","v":0},{"$f":"+印領清冊統計表!D425","v":0},{"$f":"+印領清冊統計表!E425","v":0}]
[{"$f":"IF(印領清冊統計表!$A426=\"總計\",\"\",(IF(印領清冊統計表!A426=0,A422,印領清冊統計表!A426)))","v":""},{"$f":"+印領清冊統計表!B426","v":0},{"$f":"+印領清冊統計表!C426","v":0},{"$f":"+印領清冊統計表!D426","v":0},{"$f":"+印領清冊統計表!E426","v":0}]
[{"$f":"IF(印領清冊統計表!$A427=\"總計\",\"\",(IF(印領清冊統計表!A427=0,A423,印領清冊統計表!A427)))","v":""},{"$f":"+印領清冊統計表!B427","v":0},{"$f":"+印領清冊統計表!C427","v":0},{"$f":"+印領清冊統計表!D427","v":0},{"$f":"+印領清冊統計表!E427","v":0}]
[{"$f":"IF(印領清冊統計表!$A428=\"總計\",\"\",(IF(印領清冊統計表!A428=0,A424,印領清冊統計表!A428)))","v":""},{"$f":"+印領清冊統計表!B428","v":0},{"$f":"+印領清冊統計表!C428","v":0},{"$f":"+印領清冊統計表!D428","v":0},{"$f":"+印領清冊統計表!E428","v":0}]
[{"$f":"IF(印領清冊統計表!$A429=\"總計\",\"\",(IF(印領清冊統計表!A429=0,A425,印領清冊統計表!A429)))","v":""},{"$f":"+印領清冊統計表!B429","v":0},{"$f":"+印領清冊統計表!C429","v":0},{"$f":"+印領清冊統計表!D429","v":0},{"$f":"+印領清冊統計表!E429","v":0}]
[{"$f":"IF(印領清冊統計表!$A430=\"總計\",\"\",(IF(印領清冊統計表!A430=0,A426,印領清冊統計表!A430)))","v":""},{"$f":"+印領清冊統計表!B430","v":0},{"$f":"+印領清冊統計表!C430","v":0},{"$f":"+印領清冊統計表!D430","v":0},{"$f":"+印領清冊統計表!E430","v":0}]
[{"$f":"IF(印領清冊統計表!$A431=\"總計\",\"\",(IF(印領清冊統計表!A431=0,A427,印領清冊統計表!A431)))","v":""},{"$f":"+印領清冊統計表!B431","v":0},{"$f":"+印領清冊統計表!C431","v":0},{"$f":"+印領清冊統計表!D431","v":0},{"$f":"+印領清冊統計表!E431","v":0}]
[{"$f":"IF(印領清冊統計表!$A432=\"總計\",\"\",(IF(印領清冊統計表!A432=0,A428,印領清冊統計表!A432)))","v":""},{"$f":"+印領清冊統計表!B432","v":0},{"$f":"+印領清冊統計表!C432","v":0},{"$f":"+印領清冊統計表!D432","v":0},{"$f":"+印領清冊統計表!E432","v":0}]
[{"$f":"IF(印領清冊統計表!$A433=\"總計\",\"\",(IF(印領清冊統計表!A433=0,A429,印領清冊統計表!A433)))","v":""},{"$f":"+印領清冊統計表!B433","v":0},{"$f":"+印領清冊統計表!C433","v":0},{"$f":"+印領清冊統計表!D433","v":0},{"$f":"+印領清冊統計表!E433","v":0}]
[{"$f":"IF(印領清冊統計表!$A434=\"總計\",\"\",(IF(印領清冊統計表!A434=0,A430,印領清冊統計表!A434)))","v":""},{"$f":"+印領清冊統計表!B434","v":0},{"$f":"+印領清冊統計表!C434","v":0},{"$f":"+印領清冊統計表!D434","v":0},{"$f":"+印領清冊統計表!E434","v":0}]
[{"$f":"IF(印領清冊統計表!$A435=\"總計\",\"\",(IF(印領清冊統計表!A435=0,A431,印領清冊統計表!A435)))","v":""},{"$f":"+印領清冊統計表!B435","v":0},{"$f":"+印領清冊統計表!C435","v":0},{"$f":"+印領清冊統計表!D435","v":0},{"$f":"+印領清冊統計表!E435","v":0}]
[{"$f":"IF(印領清冊統計表!$A436=\"總計\",\"\",(IF(印領清冊統計表!A436=0,A432,印領清冊統計表!A436)))","v":""},{"$f":"+印領清冊統計表!B436","v":0},{"$f":"+印領清冊統計表!C436","v":0},{"$f":"+印領清冊統計表!D436","v":0},{"$f":"+印領清冊統計表!E436","v":0}]
[{"$f":"IF(印領清冊統計表!$A437=\"總計\",\"\",(IF(印領清冊統計表!A437=0,A433,印領清冊統計表!A437)))","v":""},{"$f":"+印領清冊統計表!B437","v":0},{"$f":"+印領清冊統計表!C437","v":0},{"$f":"+印領清冊統計表!D437","v":0},{"$f":"+印領清冊統計表!E437","v":0}]
[{"$f":"IF(印領清冊統計表!$A438=\"總計\",\"\",(IF(印領清冊統計表!A438=0,A434,印領清冊統計表!A438)))","v":""},{"$f":"+印領清冊統計表!B438","v":0},{"$f":"+印領清冊統計表!C438","v":0},{"$f":"+印領清冊統計表!D438","v":0},{"$f":"+印領清冊統計表!E438","v":0}]
[{"$f":"IF(印領清冊統計表!$A439=\"總計\",\"\",(IF(印領清冊統計表!A439=0,A435,印領清冊統計表!A439)))","v":""},{"$f":"+印領清冊統計表!B439","v":0},{"$f":"+印領清冊統計表!C439","v":0},{"$f":"+印領清冊統計表!D439","v":0},{"$f":"+印領清冊統計表!E439","v":0}]
[{"$f":"IF(印領清冊統計表!$A440=\"總計\",\"\",(IF(印領清冊統計表!A440=0,A436,印領清冊統計表!A440)))","v":""},{"$f":"+印領清冊統計表!B440","v":0},{"$f":"+印領清冊統計表!C440","v":0},{"$f":"+印領清冊統計表!D440","v":0},{"$f":"+印領清冊統計表!E440","v":0}]
[{"$f":"IF(印領清冊統計表!$A441=\"總計\",\"\",(IF(印領清冊統計表!A441=0,A437,印領清冊統計表!A441)))","v":""},{"$f":"+印領清冊統計表!B441","v":0},{"$f":"+印領清冊統計表!C441","v":0},{"$f":"+印領清冊統計表!D441","v":0},{"$f":"+印領清冊統計表!E441","v":0}]
[{"$f":"IF(印領清冊統計表!$A442=\"總計\",\"\",(IF(印領清冊統計表!A442=0,A438,印領清冊統計表!A442)))","v":""},{"$f":"+印領清冊統計表!B442","v":0},{"$f":"+印領清冊統計表!C442","v":0},{"$f":"+印領清冊統計表!D442","v":0},{"$f":"+印領清冊統計表!E442","v":0}]
[{"$f":"IF(印領清冊統計表!$A443=\"總計\",\"\",(IF(印領清冊統計表!A443=0,A439,印領清冊統計表!A443)))","v":""},{"$f":"+印領清冊統計表!B443","v":0},{"$f":"+印領清冊統計表!C443","v":0},{"$f":"+印領清冊統計表!D443","v":0},{"$f":"+印領清冊統計表!E443","v":0}]
[{"$f":"IF(印領清冊統計表!$A444=\"總計\",\"\",(IF(印領清冊統計表!A444=0,A440,印領清冊統計表!A444)))","v":""},{"$f":"+印領清冊統計表!B444","v":0},{"$f":"+印領清冊統計表!C444","v":0},{"$f":"+印領清冊統計表!D444","v":0},{"$f":"+印領清冊統計表!E444","v":0}]
[{"$f":"IF(印領清冊統計表!$A445=\"總計\",\"\",(IF(印領清冊統計表!A445=0,A441,印領清冊統計表!A445)))","v":""},{"$f":"+印領清冊統計表!B445","v":0},{"$f":"+印領清冊統計表!C445","v":0},{"$f":"+印領清冊統計表!D445","v":0},{"$f":"+印領清冊統計表!E445","v":0}]
[{"$f":"IF(印領清冊統計表!$A446=\"總計\",\"\",(IF(印領清冊統計表!A446=0,A442,印領清冊統計表!A446)))","v":""},{"$f":"+印領清冊統計表!B446","v":0},{"$f":"+印領清冊統計表!C446","v":0},{"$f":"+印領清冊統計表!D446","v":0},{"$f":"+印領清冊統計表!E446","v":0}]
[{"$f":"IF(印領清冊統計表!$A447=\"總計\",\"\",(IF(印領清冊統計表!A447=0,A443,印領清冊統計表!A447)))","v":""},{"$f":"+印領清冊統計表!B447","v":0},{"$f":"+印領清冊統計表!C447","v":0},{"$f":"+印領清冊統計表!D447","v":0},{"$f":"+印領清冊統計表!E447","v":0}]
[{"$f":"IF(印領清冊統計表!$A448=\"總計\",\"\",(IF(印領清冊統計表!A448=0,A444,印領清冊統計表!A448)))","v":""},{"$f":"+印領清冊統計表!B448","v":0},{"$f":"+印領清冊統計表!C448","v":0},{"$f":"+印領清冊統計表!D448","v":0},{"$f":"+印領清冊統計表!E448","v":0}]
[{"$f":"IF(印領清冊統計表!$A449=\"總計\",\"\",(IF(印領清冊統計表!A449=0,A445,印領清冊統計表!A449)))","v":""},{"$f":"+印領清冊統計表!B449","v":0},{"$f":"+印領清冊統計表!C449","v":0},{"$f":"+印領清冊統計表!D449","v":0},{"$f":"+印領清冊統計表!E449","v":0}]
[{"$f":"IF(印領清冊統計表!$A450=\"總計\",\"\",(IF(印領清冊統計表!A450=0,A446,印領清冊統計表!A450)))","v":""},{"$f":"+印領清冊統計表!B450","v":0},{"$f":"+印領清冊統計表!C450","v":0},{"$f":"+印領清冊統計表!D450","v":0},{"$f":"+印領清冊統計表!E450","v":0}]
[{"$f":"IF(印領清冊統計表!$A451=\"總計\",\"\",(IF(印領清冊統計表!A451=0,A447,印領清冊統計表!A451)))","v":""},{"$f":"+印領清冊統計表!B451","v":0},{"$f":"+印領清冊統計表!C451","v":0},{"$f":"+印領清冊統計表!D451","v":0},{"$f":"+印領清冊統計表!E451","v":0}]
[{"$f":"IF(印領清冊統計表!$A452=\"總計\",\"\",(IF(印領清冊統計表!A452=0,A448,印領清冊統計表!A452)))","v":""},{"$f":"+印領清冊統計表!B452","v":0},{"$f":"+印領清冊統計表!C452","v":0},{"$f":"+印領清冊統計表!D452","v":0},{"$f":"+印領清冊統計表!E452","v":0}]
[{"$f":"IF(印領清冊統計表!$A453=\"總計\",\"\",(IF(印領清冊統計表!A453=0,A449,印領清冊統計表!A453)))","v":""},{"$f":"+印領清冊統計表!B453","v":0},{"$f":"+印領清冊統計表!C453","v":0},{"$f":"+印領清冊統計表!D453","v":0},{"$f":"+印領清冊統計表!E453","v":0}]
[{"$f":"IF(印領清冊統計表!$A454=\"總計\",\"\",(IF(印領清冊統計表!A454=0,A450,印領清冊統計表!A454)))","v":""},{"$f":"+印領清冊統計表!B454","v":0},{"$f":"+印領清冊統計表!C454","v":0},{"$f":"+印領清冊統計表!D454","v":0},{"$f":"+印領清冊統計表!E454","v":0}]
[{"$f":"IF(印領清冊統計表!$A455=\"總計\",\"\",(IF(印領清冊統計表!A455=0,A451,印領清冊統計表!A455)))","v":""},{"$f":"+印領清冊統計表!B455","v":0},{"$f":"+印領清冊統計表!C455","v":0},{"$f":"+印領清冊統計表!D455","v":0},{"$f":"+印領清冊統計表!E455","v":0}]
[{"$f":"IF(印領清冊統計表!$A456=\"總計\",\"\",(IF(印領清冊統計表!A456=0,A452,印領清冊統計表!A456)))","v":""},{"$f":"+印領清冊統計表!B456","v":0},{"$f":"+印領清冊統計表!C456","v":0},{"$f":"+印領清冊統計表!D456","v":0},{"$f":"+印領清冊統計表!E456","v":0}]
[{"$f":"IF(印領清冊統計表!$A457=\"總計\",\"\",(IF(印領清冊統計表!A457=0,A453,印領清冊統計表!A457)))","v":""},{"$f":"+印領清冊統計表!B457","v":0},{"$f":"+印領清冊統計表!C457","v":0},{"$f":"+印領清冊統計表!D457","v":0},{"$f":"+印領清冊統計表!E457","v":0}]
[{"$f":"IF(印領清冊統計表!$A458=\"總計\",\"\",(IF(印領清冊統計表!A458=0,A454,印領清冊統計表!A458)))","v":""},{"$f":"+印領清冊統計表!B458","v":0},{"$f":"+印領清冊統計表!C458","v":0},{"$f":"+印領清冊統計表!D458","v":0},{"$f":"+印領清冊統計表!E458","v":0}]
[{"$f":"IF(印領清冊統計表!$A459=\"總計\",\"\",(IF(印領清冊統計表!A459=0,A455,印領清冊統計表!A459)))","v":""},{"$f":"+印領清冊統計表!B459","v":0},{"$f":"+印領清冊統計表!C459","v":0},{"$f":"+印領清冊統計表!D459","v":0},{"$f":"+印領清冊統計表!E459","v":0}]
[{"$f":"IF(印領清冊統計表!$A460=\"總計\",\"\",(IF(印領清冊統計表!A460=0,A456,印領清冊統計表!A460)))","v":""},{"$f":"+印領清冊統計表!B460","v":0},{"$f":"+印領清冊統計表!C460","v":0},{"$f":"+印領清冊統計表!D460","v":0},{"$f":"+印領清冊統計表!E460","v":0}]
[{"$f":"IF(印領清冊統計表!$A461=\"總計\",\"\",(IF(印領清冊統計表!A461=0,A457,印領清冊統計表!A461)))","v":""},{"$f":"+印領清冊統計表!B461","v":0},{"$f":"+印領清冊統計表!C461","v":0},{"$f":"+印領清冊統計表!D461","v":0},{"$f":"+印領清冊統計表!E461","v":0}]
[{"$f":"IF(印領清冊統計表!$A462=\"總計\",\"\",(IF(印領清冊統計表!A462=0,A458,印領清冊統計表!A462)))","v":""},{"$f":"+印領清冊統計表!B462","v":0},{"$f":"+印領清冊統計表!C462","v":0},{"$f":"+印領清冊統計表!D462","v":0},{"$f":"+印領清冊統計表!E462","v":0}]
[{"$f":"IF(印領清冊統計表!$A463=\"總計\",\"\",(IF(印領清冊統計表!A463=0,A459,印領清冊統計表!A463)))","v":""},{"$f":"+印領清冊統計表!B463","v":0},{"$f":"+印領清冊統計表!C463","v":0},{"$f":"+印領清冊統計表!D463","v":0},{"$f":"+印領清冊統計表!E463","v":0}]
[{"$f":"IF(印領清冊統計表!$A464=\"總計\",\"\",(IF(印領清冊統計表!A464=0,A460,印領清冊統計表!A464)))","v":""},{"$f":"+印領清冊統計表!B464","v":0},{"$f":"+印領清冊統計表!C464","v":0},{"$f":"+印領清冊統計表!D464","v":0},{"$f":"+印領清冊統計表!E464","v":0}]
[{"$f":"IF(印領清冊統計表!$A465=\"總計\",\"\",(IF(印領清冊統計表!A465=0,A461,印領清冊統計表!A465)))","v":""},{"$f":"+印領清冊統計表!B465","v":0},{"$f":"+印領清冊統計表!C465","v":0},{"$f":"+印領清冊統計表!D465","v":0},{"$f":"+印領清冊統計表!E465","v":0}]
[{"$f":"IF(印領清冊統計表!$A466=\"總計\",\"\",(IF(印領清冊統計表!A466=0,A462,印領清冊統計表!A466)))","v":""},{"$f":"+印領清冊統計表!B466","v":0},{"$f":"+印領清冊統計表!C466","v":0},{"$f":"+印領清冊統計表!D466","v":0},{"$f":"+印領清冊統計表!E466","v":0}]
[{"$f":"IF(印領清冊統計表!$A467=\"總計\",\"\",(IF(印領清冊統計表!A467=0,A463,印領清冊統計表!A467)))","v":""},{"$f":"+印領清冊統計表!B467","v":0},{"$f":"+印領清冊統計表!C467","v":0},{"$f":"+印領清冊統計表!D467","v":0},{"$f":"+印領清冊統計表!E467","v":0}]
[{"$f":"IF(印領清冊統計表!$A468=\"總計\",\"\",(IF(印領清冊統計表!A468=0,A464,印領清冊統計表!A468)))","v":""},{"$f":"+印領清冊統計表!B468","v":0},{"$f":"+印領清冊統計表!C468","v":0},{"$f":"+印領清冊統計表!D468","v":0},{"$f":"+印領清冊統計表!E468","v":0}]
[{"$f":"IF(印領清冊統計表!$A469=\"總計\",\"\",(IF(印領清冊統計表!A469=0,A465,印領清冊統計表!A469)))","v":""},{"$f":"+印領清冊統計表!B469","v":0},{"$f":"+印領清冊統計表!C469","v":0},{"$f":"+印領清冊統計表!D469","v":0},{"$f":"+印領清冊統計表!E469","v":0}]
[{"$f":"IF(印領清冊統計表!$A470=\"總計\",\"\",(IF(印領清冊統計表!A470=0,A466,印領清冊統計表!A470)))","v":""},{"$f":"+印領清冊統計表!B470","v":0},{"$f":"+印領清冊統計表!C470","v":0},{"$f":"+印領清冊統計表!D470","v":0},{"$f":"+印領清冊統計表!E470","v":0}]
[{"$f":"IF(印領清冊統計表!$A471=\"總計\",\"\",(IF(印領清冊統計表!A471=0,A467,印領清冊統計表!A471)))","v":""},{"$f":"+印領清冊統計表!B471","v":0},{"$f":"+印領清冊統計表!C471","v":0},{"$f":"+印領清冊統計表!D471","v":0},{"$f":"+印領清冊統計表!E471","v":0}]
[{"$f":"IF(印領清冊統計表!$A472=\"總計\",\"\",(IF(印領清冊統計表!A472=0,A468,印領清冊統計表!A472)))","v":""},{"$f":"+印領清冊統計表!B472","v":0},{"$f":"+印領清冊統計表!C472","v":0},{"$f":"+印領清冊統計表!D472","v":0},{"$f":"+印領清冊統計表!E472","v":0}]
[{"$f":"IF(印領清冊統計表!$A473=\"總計\",\"\",(IF(印領清冊統計表!A473=0,A469,印領清冊統計表!A473)))","v":""},{"$f":"+印領清冊統計表!B473","v":0},{"$f":"+印領清冊統計表!C473","v":0},{"$f":"+印領清冊統計表!D473","v":0},{"$f":"+印領清冊統計表!E473","v":0}]
[{"$f":"IF(印領清冊統計表!$A474=\"總計\",\"\",(IF(印領清冊統計表!A474=0,A470,印領清冊統計表!A474)))","v":""},{"$f":"+印領清冊統計表!B474","v":0},{"$f":"+印領清冊統計表!C474","v":0},{"$f":"+印領清冊統計表!D474","v":0},{"$f":"+印領清冊統計表!E474","v":0}]
[{"$f":"IF(印領清冊統計表!$A475=\"總計\",\"\",(IF(印領清冊統計表!A475=0,A471,印領清冊統計表!A475)))","v":""},{"$f":"+印領清冊統計表!B475","v":0},{"$f":"+印領清冊統計表!C475","v":0},{"$f":"+印領清冊統計表!D475","v":0},{"$f":"+印領清冊統計表!E475","v":0}]
[{"$f":"IF(印領清冊統計表!$A476=\"總計\",\"\",(IF(印領清冊統計表!A476=0,A472,印領清冊統計表!A476)))","v":""},{"$f":"+印領清冊統計表!B476","v":0},{"$f":"+印領清冊統計表!C476","v":0},{"$f":"+印領清冊統計表!D476","v":0},{"$f":"+印領清冊統計表!E476","v":0}]
[{"$f":"IF(印領清冊統計表!$A477=\"總計\",\"\",(IF(印領清冊統計表!A477=0,A473,印領清冊統計表!A477)))","v":""},{"$f":"+印領清冊統計表!B477","v":0},{"$f":"+印領清冊統計表!C477","v":0},{"$f":"+印領清冊統計表!D477","v":0},{"$f":"+印領清冊統計表!E477","v":0}]
[{"$f":"IF(印領清冊統計表!$A478=\"總計\",\"\",(IF(印領清冊統計表!A478=0,A474,印領清冊統計表!A478)))","v":""},{"$f":"+印領清冊統計表!B478","v":0},{"$f":"+印領清冊統計表!C478","v":0},{"$f":"+印領清冊統計表!D478","v":0},{"$f":"+印領清冊統計表!E478","v":0}]
[{"$f":"IF(印領清冊統計表!$A479=\"總計\",\"\",(IF(印領清冊統計表!A479=0,A475,印領清冊統計表!A479)))","v":""},{"$f":"+印領清冊統計表!B479","v":0},{"$f":"+印領清冊統計表!C479","v":0},{"$f":"+印領清冊統計表!D479","v":0},{"$f":"+印領清冊統計表!E479","v":0}]
[{"$f":"IF(印領清冊統計表!$A480=\"總計\",\"\",(IF(印領清冊統計表!A480=0,A476,印領清冊統計表!A480)))","v":""},{"$f":"+印領清冊統計表!B480","v":0},{"$f":"+印領清冊統計表!C480","v":0},{"$f":"+印領清冊統計表!D480","v":0},{"$f":"+印領清冊統計表!E480","v":0}]
[{"$f":"IF(印領清冊統計表!$A481=\"總計\",\"\",(IF(印領清冊統計表!A481=0,A477,印領清冊統計表!A481)))","v":""},{"$f":"+印領清冊統計表!B481","v":0},{"$f":"+印領清冊統計表!C481","v":0},{"$f":"+印領清冊統計表!D481","v":0},{"$f":"+印領清冊統計表!E481","v":0}]
[{"$f":"IF(印領清冊統計表!$A482=\"總計\",\"\",(IF(印領清冊統計表!A482=0,A478,印領清冊統計表!A482)))","v":""},{"$f":"+印領清冊統計表!B482","v":0},{"$f":"+印領清冊統計表!C482","v":0},{"$f":"+印領清冊統計表!D482","v":0},{"$f":"+印領清冊統計表!E482","v":0}]
[{"$f":"IF(印領清冊統計表!$A483=\"總計\",\"\",(IF(印領清冊統計表!A483=0,A479,印領清冊統計表!A483)))","v":""},{"$f":"+印領清冊統計表!B483","v":0},{"$f":"+印領清冊統計表!C483","v":0},{"$f":"+印領清冊統計表!D483","v":0},{"$f":"+印領清冊統計表!E483","v":0}]
[{"$f":"IF(印領清冊統計表!$A484=\"總計\",\"\",(IF(印領清冊統計表!A484=0,A480,印領清冊統計表!A484)))","v":""},{"$f":"+印領清冊統計表!B484","v":0},{"$f":"+印領清冊統計表!C484","v":0},{"$f":"+印領清冊統計表!D484","v":0},{"$f":"+印領清冊統計表!E484","v":0}]
[{"$f":"IF(印領清冊統計表!$A485=\"總計\",\"\",(IF(印領清冊統計表!A485=0,A481,印領清冊統計表!A485)))","v":""},{"$f":"+印領清冊統計表!B485","v":0},{"$f":"+印領清冊統計表!C485","v":0},{"$f":"+印領清冊統計表!D485","v":0},{"$f":"+印領清冊統計表!E485","v":0}]
[{"$f":"IF(印領清冊統計表!$A486=\"總計\",\"\",(IF(印領清冊統計表!A486=0,A482,印領清冊統計表!A486)))","v":""},{"$f":"+印領清冊統計表!B486","v":0},{"$f":"+印領清冊統計表!C486","v":0},{"$f":"+印領清冊統計表!D486","v":0},{"$f":"+印領清冊統計表!E486","v":0}]
[{"$f":"IF(印領清冊統計表!$A487=\"總計\",\"\",(IF(印領清冊統計表!A487=0,A483,印領清冊統計表!A487)))","v":""},{"$f":"+印領清冊統計表!B487","v":0},{"$f":"+印領清冊統計表!C487","v":0},{"$f":"+印領清冊統計表!D487","v":0},{"$f":"+印領清冊統計表!E487","v":0}]
[{"$f":"IF(印領清冊統計表!$A488=\"總計\",\"\",(IF(印領清冊統計表!A488=0,A484,印領清冊統計表!A488)))","v":""},{"$f":"+印領清冊統計表!B488","v":0},{"$f":"+印領清冊統計表!C488","v":0},{"$f":"+印領清冊統計表!D488","v":0},{"$f":"+印領清冊統計表!E488","v":0}]
[{"$f":"IF(印領清冊統計表!$A489=\"總計\",\"\",(IF(印領清冊統計表!A489=0,A485,印領清冊統計表!A489)))","v":""},{"$f":"+印領清冊統計表!B489","v":0},{"$f":"+印領清冊統計表!C489","v":0},{"$f":"+印領清冊統計表!D489","v":0},{"$f":"+印領清冊統計表!E489","v":0}]
[{"$f":"IF(印領清冊統計表!$A490=\"總計\",\"\",(IF(印領清冊統計表!A490=0,A486,印領清冊統計表!A490)))","v":""},{"$f":"+印領清冊統計表!B490","v":0},{"$f":"+印領清冊統計表!C490","v":0},{"$f":"+印領清冊統計表!D490","v":0},{"$f":"+印領清冊統計表!E490","v":0}]
[{"$f":"IF(印領清冊統計表!$A491=\"總計\",\"\",(IF(印領清冊統計表!A491=0,A487,印領清冊統計表!A491)))","v":""},{"$f":"+印領清冊統計表!B491","v":0},{"$f":"+印領清冊統計表!C491","v":0},{"$f":"+印領清冊統計表!D491","v":0},{"$f":"+印領清冊統計表!E491","v":0}]
[{"$f":"IF(印領清冊統計表!$A492=\"總計\",\"\",(IF(印領清冊統計表!A492=0,A488,印領清冊統計表!A492)))","v":""},{"$f":"+印領清冊統計表!B492","v":0},{"$f":"+印領清冊統計表!C492","v":0},{"$f":"+印領清冊統計表!D492","v":0},{"$f":"+印領清冊統計表!E492","v":0}]
[{"$f":"IF(印領清冊統計表!$A493=\"總計\",\"\",(IF(印領清冊統計表!A493=0,A489,印領清冊統計表!A493)))","v":""},{"$f":"+印領清冊統計表!B493","v":0},{"$f":"+印領清冊統計表!C493","v":0},{"$f":"+印領清冊統計表!D493","v":0},{"$f":"+印領清冊統計表!E493","v":0}]
[{"$f":"IF(印領清冊統計表!$A494=\"總計\",\"\",(IF(印領清冊統計表!A494=0,A490,印領清冊統計表!A494)))","v":""},{"$f":"+印領清冊統計表!B494","v":0},{"$f":"+印領清冊統計表!C494","v":0},{"$f":"+印領清冊統計表!D494","v":0},{"$f":"+印領清冊統計表!E494","v":0}]
[{"$f":"IF(印領清冊統計表!$A495=\"總計\",\"\",(IF(印領清冊統計表!A495=0,A491,印領清冊統計表!A495)))","v":""},{"$f":"+印領清冊統計表!B495","v":0},{"$f":"+印領清冊統計表!C495","v":0},{"$f":"+印領清冊統計表!D495","v":0},{"$f":"+印領清冊統計表!E495","v":0}]
[{"$f":"IF(印領清冊統計表!$A496=\"總計\",\"\",(IF(印領清冊統計表!A496=0,A492,印領清冊統計表!A496)))","v":""},{"$f":"+印領清冊統計表!B496","v":0},{"$f":"+印領清冊統計表!C496","v":0},{"$f":"+印領清冊統計表!D496","v":0},{"$f":"+印領清冊統計表!E496","v":0}]
[{"$f":"IF(印領清冊統計表!$A497=\"總計\",\"\",(IF(印領清冊統計表!A497=0,A493,印領清冊統計表!A497)))","v":""},{"$f":"+印領清冊統計表!B497","v":0},{"$f":"+印領清冊統計表!C497","v":0},{"$f":"+印領清冊統計表!D497","v":0},{"$f":"+印領清冊統計表!E497","v":0}]
[{"$f":"IF(印領清冊統計表!$A498=\"總計\",\"\",(IF(印領清冊統計表!A498=0,A494,印領清冊統計表!A498)))","v":""},{"$f":"+印領清冊統計表!B498","v":0},{"$f":"+印領清冊統計表!C498","v":0},{"$f":"+印領清冊統計表!D498","v":0},{"$f":"+印領清冊統計表!E498","v":0}]
[{"$f":"IF(印領清冊統計表!$A499=\"總計\",\"\",(IF(印領清冊統計表!A499=0,A495,印領清冊統計表!A499)))","v":""},{"$f":"+印領清冊統計表!B499","v":0},{"$f":"+印領清冊統計表!C499","v":0},{"$f":"+印領清冊統計表!D499","v":0},{"$f":"+印領清冊統計表!E499","v":0}]
[{"$f":"IF(印領清冊統計表!$A500=\"總計\",\"\",(IF(印領清冊統計表!A500=0,A496,印領清冊統計表!A500)))","v":""},{"$f":"+印領清冊統計表!B500","v":0},{"$f":"+印領清冊統計表!C500","v":0},{"$f":"+印領清冊統計表!D500","v":0},{"$f":"+印領清冊統計表!E500","v":0}]
[{"$f":"IF(印領清冊統計表!$A501=\"總計\",\"\",(IF(印領清冊統計表!A501=0,A497,印領清冊統計表!A501)))","v":""},{"$f":"+印領清冊統計表!B501","v":0},{"$f":"+印領清冊統計表!C501","v":0},{"$f":"+印領清冊統計表!D501","v":0},{"$f":"+印領清冊統計表!E501","v":0}]
[{"$f":"IF(印領清冊統計表!$A502=\"總計\",\"\",(IF(印領清冊統計表!A502=0,A498,印領清冊統計表!A502)))","v":""},{"$f":"+印領清冊統計表!B502","v":0},{"$f":"+印領清冊統計表!C502","v":0},{"$f":"+印領清冊統計表!D502","v":0},{"$f":"+印領清冊統計表!E502","v":0}]
[{"$f":"IF(印領清冊統計表!$A503=\"總計\",\"\",(IF(印領清冊統計表!A503=0,A499,印領清冊統計表!A503)))","v":""},{"$f":"+印領清冊統計表!B503","v":0},{"$f":"+印領清冊統計表!C503","v":0},{"$f":"+印領清冊統計表!D503","v":0},{"$f":"+印領清冊統計表!E503","v":0}]
[{"$f":"IF(印領清冊統計表!$A504=\"總計\",\"\",(IF(印領清冊統計表!A504=0,A500,印領清冊統計表!A504)))","v":""},{"$f":"+印領清冊統計表!B504","v":0},{"$f":"+印領清冊統計表!C504","v":0},{"$f":"+印領清冊統計表!D504","v":0},{"$f":"+印領清冊統計表!E504","v":0}]
[{"$f":"IF(印領清冊統計表!$A505=\"總計\",\"\",(IF(印領清冊統計表!A505=0,A501,印領清冊統計表!A505)))","v":""},{"$f":"+印領清冊統計表!B505","v":0},{"$f":"+印領清冊統計表!C505","v":0},{"$f":"+印領清冊統計表!D505","v":0},{"$f":"+印領清冊統計表!E505","v":0}]
[{"$f":"IF(印領清冊統計表!$A506=\"總計\",\"\",(IF(印領清冊統計表!A506=0,A502,印領清冊統計表!A506)))","v":""},{"$f":"+印領清冊統計表!B506","v":0},{"$f":"+印領清冊統計表!C506","v":0},{"$f":"+印領清冊統計表!D506","v":0},{"$f":"+印領清冊統計表!E506","v":0}]
[{"$f":"IF(印領清冊統計表!$A507=\"總計\",\"\",(IF(印領清冊統計表!A507=0,A503,印領清冊統計表!A507)))","v":""},{"$f":"+印領清冊統計表!B507","v":0},{"$f":"+印領清冊統計表!C507","v":0},{"$f":"+印領清冊統計表!D507","v":0},{"$f":"+印領清冊統計表!E507","v":0}]
[{"$f":"IF(印領清冊統計表!$A508=\"總計\",\"\",(IF(印領清冊統計表!A508=0,A504,印領清冊統計表!A508)))","v":""},{"$f":"+印領清冊統計表!B508","v":0},{"$f":"+印領清冊統計表!C508","v":0},{"$f":"+印領清冊統計表!D508","v":0},{"$f":"+印領清冊統計表!E508","v":0}]
[{"$f":"IF(印領清冊統計表!$A509=\"總計\",\"\",(IF(印領清冊統計表!A509=0,A505,印領清冊統計表!A509)))","v":""},{"$f":"+印領清冊統計表!B509","v":0},{"$f":"+印領清冊統計表!C509","v":0},{"$f":"+印領清冊統計表!D509","v":0},{"$f":"+印領清冊統計表!E509","v":0}]
[{"$f":"IF(印領清冊統計表!$A510=\"總計\",\"\",(IF(印領清冊統計表!A510=0,A506,印領清冊統計表!A510)))","v":""},{"$f":"+印領清冊統計表!B510","v":0},{"$f":"+印領清冊統計表!C510","v":0},{"$f":"+印領清冊統計表!D510","v":0},{"$f":"+印領清冊統計表!E510","v":0}]
[{"$f":"IF(印領清冊統計表!$A511=\"總計\",\"\",(IF(印領清冊統計表!A511=0,A507,印領清冊統計表!A511)))","v":""},{"$f":"+印領清冊統計表!B511","v":0},{"$f":"+印領清冊統計表!C511","v":0},{"$f":"+印領清冊統計表!D511","v":0},{"$f":"+印領清冊統計表!E511","v":0}]
[{"$f":"IF(印領清冊統計表!$A512=\"總計\",\"\",(IF(印領清冊統計表!A512=0,A508,印領清冊統計表!A512)))","v":""},{"$f":"+印領清冊統計表!B512","v":0},{"$f":"+印領清冊統計表!C512","v":0},{"$f":"+印領清冊統計表!D512","v":0},{"$f":"+印領清冊統計表!E512","v":0}]
[{"$f":"IF(印領清冊統計表!$A513=\"總計\",\"\",(IF(印領清冊統計表!A513=0,A509,印領清冊統計表!A513)))","v":""},{"$f":"+印領清冊統計表!B513","v":0},{"$f":"+印領清冊統計表!C513","v":0},{"$f":"+印領清冊統計表!D513","v":0},{"$f":"+印領清冊統計表!E513","v":0}]
[{"$f":"IF(印領清冊統計表!$A514=\"總計\",\"\",(IF(印領清冊統計表!A514=0,A510,印領清冊統計表!A514)))","v":""},{"$f":"+印領清冊統計表!B514","v":0},{"$f":"+印領清冊統計表!C514","v":0},{"$f":"+印領清冊統計表!D514","v":0},{"$f":"+印領清冊統計表!E514","v":0}]
[{"$f":"IF(印領清冊統計表!$A515=\"總計\",\"\",(IF(印領清冊統計表!A515=0,A511,印領清冊統計表!A515)))","v":""},{"$f":"+印領清冊統計表!B515","v":0},{"$f":"+印領清冊統計表!C515","v":0},{"$f":"+印領清冊統計表!D515","v":0},{"$f":"+印領清冊統計表!E515","v":0}]
[{"$f":"IF(印領清冊統計表!$A516=\"總計\",\"\",(IF(印領清冊統計表!A516=0,A512,印領清冊統計表!A516)))","v":""},{"$f":"+印領清冊統計表!B516","v":0},{"$f":"+印領清冊統計表!C516","v":0},{"$f":"+印領清冊統計表!D516","v":0},{"$f":"+印領清冊統計表!E516","v":0}]
[{"$f":"IF(印領清冊統計表!$A517=\"總計\",\"\",(IF(印領清冊統計表!A517=0,A513,印領清冊統計表!A517)))","v":""},{"$f":"+印領清冊統計表!B517","v":0},{"$f":"+印領清冊統計表!C517","v":0},{"$f":"+印領清冊統計表!D517","v":0},{"$f":"+印領清冊統計表!E517","v":0}]
[{"$f":"IF(印領清冊統計表!$A518=\"總計\",\"\",(IF(印領清冊統計表!A518=0,A514,印領清冊統計表!A518)))","v":""},{"$f":"+印領清冊統計表!B518","v":0},{"$f":"+印領清冊統計表!C518","v":0},{"$f":"+印領清冊統計表!D518","v":0},{"$f":"+印領清冊統計表!E518","v":0}]
[{"$f":"IF(印領清冊統計表!$A519=\"總計\",\"\",(IF(印領清冊統計表!A519=0,A515,印領清冊統計表!A519)))","v":""},{"$f":"+印領清冊統計表!B519","v":0},{"$f":"+印領清冊統計表!C519","v":0},{"$f":"+印領清冊統計表!D519","v":0},{"$f":"+印領清冊統計表!E519","v":0}]
[{"$f":"IF(印領清冊統計表!$A520=\"總計\",\"\",(IF(印領清冊統計表!A520=0,A516,印領清冊統計表!A520)))","v":""},{"$f":"+印領清冊統計表!B520","v":0},{"$f":"+印領清冊統計表!C520","v":0},{"$f":"+印領清冊統計表!D520","v":0},{"$f":"+印領清冊統計表!E520","v":0}]
[{"$f":"IF(印領清冊統計表!$A521=\"總計\",\"\",(IF(印領清冊統計表!A521=0,A517,印領清冊統計表!A521)))","v":""},{"$f":"+印領清冊統計表!B521","v":0},{"$f":"+印領清冊統計表!C521","v":0},{"$f":"+印領清冊統計表!D521","v":0},{"$f":"+印領清冊統計表!E521","v":0}]
[{"$f":"IF(印領清冊統計表!$A522=\"總計\",\"\",(IF(印領清冊統計表!A522=0,A518,印領清冊統計表!A522)))","v":""},{"$f":"+印領清冊統計表!B522","v":0},{"$f":"+印領清冊統計表!C522","v":0},{"$f":"+印領清冊統計表!D522","v":0},{"$f":"+印領清冊統計表!E522","v":0}]
[{"$f":"IF(印領清冊統計表!$A523=\"總計\",\"\",(IF(印領清冊統計表!A523=0,A519,印領清冊統計表!A523)))","v":""},{"$f":"+印領清冊統計表!B523","v":0},{"$f":"+印領清冊統計表!C523","v":0},{"$f":"+印領清冊統計表!D523","v":0},{"$f":"+印領清冊統計表!E523","v":0}]
[{"$f":"IF(印領清冊統計表!$A524=\"總計\",\"\",(IF(印領清冊統計表!A524=0,A520,印領清冊統計表!A524)))","v":""},{"$f":"+印領清冊統計表!B524","v":0},{"$f":"+印領清冊統計表!C524","v":0},{"$f":"+印領清冊統計表!D524","v":0},{"$f":"+印領清冊統計表!E524","v":0}]
[{"$f":"IF(印領清冊統計表!$A525=\"總計\",\"\",(IF(印領清冊統計表!A525=0,A521,印領清冊統計表!A525)))","v":""},{"$f":"+印領清冊統計表!B525","v":0},{"$f":"+印領清冊統計表!C525","v":0},{"$f":"+印領清冊統計表!D525","v":0},{"$f":"+印領清冊統計表!E525","v":0}]
[{"$f":"IF(印領清冊統計表!$A526=\"總計\",\"\",(IF(印領清冊統計表!A526=0,A522,印領清冊統計表!A526)))","v":""},{"$f":"+印領清冊統計表!B526","v":0},{"$f":"+印領清冊統計表!C526","v":0},{"$f":"+印領清冊統計表!D526","v":0},{"$f":"+印領清冊統計表!E526","v":0}]
[{"$f":"IF(印領清冊統計表!$A527=\"總計\",\"\",(IF(印領清冊統計表!A527=0,A523,印領清冊統計表!A527)))","v":""},{"$f":"+印領清冊統計表!B527","v":0},{"$f":"+印領清冊統計表!C527","v":0},{"$f":"+印領清冊統計表!D527","v":0},{"$f":"+印領清冊統計表!E527","v":0}]
[{"$f":"IF(印領清冊統計表!$A528=\"總計\",\"\",(IF(印領清冊統計表!A528=0,A524,印領清冊統計表!A528)))","v":""},{"$f":"+印領清冊統計表!B528","v":0},{"$f":"+印領清冊統計表!C528","v":0},{"$f":"+印領清冊統計表!D528","v":0},{"$f":"+印領清冊統計表!E528","v":0}]
[{"$f":"IF(印領清冊統計表!$A529=\"總計\",\"\",(IF(印領清冊統計表!A529=0,A525,印領清冊統計表!A529)))","v":""},{"$f":"+印領清冊統計表!B529","v":0},{"$f":"+印領清冊統計表!C529","v":0},{"$f":"+印領清冊統計表!D529","v":0},{"$f":"+印領清冊統計表!E529","v":0}]
[{"$f":"IF(印領清冊統計表!$A530=\"總計\",\"\",(IF(印領清冊統計表!A530=0,A526,印領清冊統計表!A530)))","v":""},{"$f":"+印領清冊統計表!B530","v":0},{"$f":"+印領清冊統計表!C530","v":0},{"$f":"+印領清冊統計表!D530","v":0},{"$f":"+印領清冊統計表!E530","v":0}]
[{"$f":"IF(印領清冊統計表!$A531=\"總計\",\"\",(IF(印領清冊統計表!A531=0,A527,印領清冊統計表!A531)))","v":""},{"$f":"+印領清冊統計表!B531","v":0},{"$f":"+印領清冊統計表!C531","v":0},{"$f":"+印領清冊統計表!D531","v":0},{"$f":"+印領清冊統計表!E531","v":0}]
[{"$f":"IF(印領清冊統計表!$A532=\"總計\",\"\",(IF(印領清冊統計表!A532=0,A528,印領清冊統計表!A532)))","v":""},{"$f":"+印領清冊統計表!B532","v":0},{"$f":"+印領清冊統計表!C532","v":0},{"$f":"+印領清冊統計表!D532","v":0},{"$f":"+印領清冊統計表!E532","v":0}]
[{"$f":"IF(印領清冊統計表!$A533=\"總計\",\"\",(IF(印領清冊統計表!A533=0,A529,印領清冊統計表!A533)))","v":""},{"$f":"+印領清冊統計表!B533","v":0},{"$f":"+印領清冊統計表!C533","v":0},{"$f":"+印領清冊統計表!D533","v":0},{"$f":"+印領清冊統計表!E533","v":0}]
[{"$f":"IF(印領清冊統計表!$A534=\"總計\",\"\",(IF(印領清冊統計表!A534=0,A530,印領清冊統計表!A534)))","v":""},{"$f":"+印領清冊統計表!B534","v":0},{"$f":"+印領清冊統計表!C534","v":0},{"$f":"+印領清冊統計表!D534","v":0},{"$f":"+印領清冊統計表!E534","v":0}]
[{"$f":"IF(印領清冊統計表!$A535=\"總計\",\"\",(IF(印領清冊統計表!A535=0,A531,印領清冊統計表!A535)))","v":""},{"$f":"+印領清冊統計表!B535","v":0},{"$f":"+印領清冊統計表!C535","v":0},{"$f":"+印領清冊統計表!D535","v":0},{"$f":"+印領清冊統計表!E535","v":0}]
[{"$f":"IF(印領清冊統計表!$A536=\"總計\",\"\",(IF(印領清冊統計表!A536=0,A532,印領清冊統計表!A536)))","v":""},{"$f":"+印領清冊統計表!B536","v":0},{"$f":"+印領清冊統計表!C536","v":0},{"$f":"+印領清冊統計表!D536","v":0},{"$f":"+印領清冊統計表!E536","v":0}]
[{"$f":"IF(印領清冊統計表!$A537=\"總計\",\"\",(IF(印領清冊統計表!A537=0,A533,印領清冊統計表!A537)))","v":""},{"$f":"+印領清冊統計表!B537","v":0},{"$f":"+印領清冊統計表!C537","v":0},{"$f":"+印領清冊統計表!D537","v":0},{"$f":"+印領清冊統計表!E537","v":0}]
[{"$f":"IF(印領清冊統計表!$A538=\"總計\",\"\",(IF(印領清冊統計表!A538=0,A534,印領清冊統計表!A538)))","v":""},{"$f":"+印領清冊統計表!B538","v":0},{"$f":"+印領清冊統計表!C538","v":0},{"$f":"+印領清冊統計表!D538","v":0},{"$f":"+印領清冊統計表!E538","v":0}]
[{"$f":"IF(印領清冊統計表!$A539=\"總計\",\"\",(IF(印領清冊統計表!A539=0,A535,印領清冊統計表!A539)))","v":""},{"$f":"+印領清冊統計表!B539","v":0},{"$f":"+印領清冊統計表!C539","v":0},{"$f":"+印領清冊統計表!D539","v":0},{"$f":"+印領清冊統計表!E539","v":0}]
[{"$f":"IF(印領清冊統計表!$A540=\"總計\",\"\",(IF(印領清冊統計表!A540=0,A536,印領清冊統計表!A540)))","v":""},{"$f":"+印領清冊統計表!B540","v":0},{"$f":"+印領清冊統計表!C540","v":0},{"$f":"+印領清冊統計表!D540","v":0},{"$f":"+印領清冊統計表!E540","v":0}]
[{"$f":"IF(印領清冊統計表!$A541=\"總計\",\"\",(IF(印領清冊統計表!A541=0,A537,印領清冊統計表!A541)))","v":""},{"$f":"+印領清冊統計表!B541","v":0},{"$f":"+印領清冊統計表!C541","v":0},{"$f":"+印領清冊統計表!D541","v":0},{"$f":"+印領清冊統計表!E541","v":0}]
[{"$f":"IF(印領清冊統計表!$A542=\"總計\",\"\",(IF(印領清冊統計表!A542=0,A538,印領清冊統計表!A542)))","v":""},{"$f":"+印領清冊統計表!B542","v":0},{"$f":"+印領清冊統計表!C542","v":0},{"$f":"+印領清冊統計表!D542","v":0},{"$f":"+印領清冊統計表!E542","v":0}]
[{"$f":"IF(印領清冊統計表!$A543=\"總計\",\"\",(IF(印領清冊統計表!A543=0,A539,印領清冊統計表!A543)))","v":""},{"$f":"+印領清冊統計表!B543","v":0},{"$f":"+印領清冊統計表!C543","v":0},{"$f":"+印領清冊統計表!D543","v":0},{"$f":"+印領清冊統計表!E543","v":0}]
[{"$f":"IF(印領清冊統計表!$A544=\"總計\",\"\",(IF(印領清冊統計表!A544=0,A540,印領清冊統計表!A544)))","v":""},{"$f":"+印領清冊統計表!B544","v":0},{"$f":"+印領清冊統計表!C544","v":0},{"$f":"+印領清冊統計表!D544","v":0},{"$f":"+印領清冊統計表!E544","v":0}]
[{"$f":"IF(印領清冊統計表!$A545=\"總計\",\"\",(IF(印領清冊統計表!A545=0,A541,印領清冊統計表!A545)))","v":""},{"$f":"+印領清冊統計表!B545","v":0},{"$f":"+印領清冊統計表!C545","v":0},{"$f":"+印領清冊統計表!D545","v":0},{"$f":"+印領清冊統計表!E545","v":0}]
[{"$f":"IF(印領清冊統計表!$A546=\"總計\",\"\",(IF(印領清冊統計表!A546=0,A542,印領清冊統計表!A546)))","v":""},{"$f":"+印領清冊統計表!B546","v":0},{"$f":"+印領清冊統計表!C546","v":0},{"$f":"+印領清冊統計表!D546","v":0},{"$f":"+印領清冊統計表!E546","v":0}]
[{"$f":"IF(印領清冊統計表!$A547=\"總計\",\"\",(IF(印領清冊統計表!A547=0,A543,印領清冊統計表!A547)))","v":""},{"$f":"+印領清冊統計表!B547","v":0},{"$f":"+印領清冊統計表!C547","v":0},{"$f":"+印領清冊統計表!D547","v":0},{"$f":"+印領清冊統計表!E547","v":0}]
[{"$f":"IF(印領清冊統計表!$A548=\"總計\",\"\",(IF(印領清冊統計表!A548=0,A544,印領清冊統計表!A548)))","v":""},{"$f":"+印領清冊統計表!B548","v":0},{"$f":"+印領清冊統計表!C548","v":0},{"$f":"+印領清冊統計表!D548","v":0},{"$f":"+印領清冊統計表!E548","v":0}]
[{"$f":"IF(印領清冊統計表!$A549=\"總計\",\"\",(IF(印領清冊統計表!A549=0,A545,印領清冊統計表!A549)))","v":""},{"$f":"+印領清冊統計表!B549","v":0},{"$f":"+印領清冊統計表!C549","v":0},{"$f":"+印領清冊統計表!D549","v":0},{"$f":"+印領清冊統計表!E549","v":0}]
[{"$f":"IF(印領清冊統計表!$A550=\"總計\",\"\",(IF(印領清冊統計表!A550=0,A546,印領清冊統計表!A550)))","v":""},{"$f":"+印領清冊統計表!B550","v":0},{"$f":"+印領清冊統計表!C550","v":0},{"$f":"+印領清冊統計表!D550","v":0},{"$f":"+印領清冊統計表!E550","v":0}]
[{"$f":"IF(印領清冊統計表!$A551=\"總計\",\"\",(IF(印領清冊統計表!A551=0,A547,印領清冊統計表!A551)))","v":""},{"$f":"+印領清冊統計表!B551","v":0},{"$f":"+印領清冊統計表!C551","v":0},{"$f":"+印領清冊統計表!D551","v":0},{"$f":"+印領清冊統計表!E551","v":0}]
[{"$f":"IF(印領清冊統計表!$A552=\"總計\",\"\",(IF(印領清冊統計表!A552=0,A548,印領清冊統計表!A552)))","v":""},{"$f":"+印領清冊統計表!B552","v":0},{"$f":"+印領清冊統計表!C552","v":0},{"$f":"+印領清冊統計表!D552","v":0},{"$f":"+印領清冊統計表!E552","v":0}]
[{"$f":"IF(印領清冊統計表!$A553=\"總計\",\"\",(IF(印領清冊統計表!A553=0,A549,印領清冊統計表!A553)))","v":""},{"$f":"+印領清冊統計表!B553","v":0},{"$f":"+印領清冊統計表!C553","v":0},{"$f":"+印領清冊統計表!D553","v":0},{"$f":"+印領清冊統計表!E553","v":0}]
[{"$f":"IF(印領清冊統計表!$A554=\"總計\",\"\",(IF(印領清冊統計表!A554=0,A550,印領清冊統計表!A554)))","v":""},{"$f":"+印領清冊統計表!B554","v":0},{"$f":"+印領清冊統計表!C554","v":0},{"$f":"+印領清冊統計表!D554","v":0},{"$f":"+印領清冊統計表!E554","v":0}]
[{"$f":"IF(印領清冊統計表!$A555=\"總計\",\"\",(IF(印領清冊統計表!A555=0,A551,印領清冊統計表!A555)))","v":""},{"$f":"+印領清冊統計表!B555","v":0},{"$f":"+印領清冊統計表!C555","v":0},{"$f":"+印領清冊統計表!D555","v":0},{"$f":"+印領清冊統計表!E555","v":0}]
[{"$f":"IF(印領清冊統計表!$A556=\"總計\",\"\",(IF(印領清冊統計表!A556=0,A552,印領清冊統計表!A556)))","v":""},{"$f":"+印領清冊統計表!B556","v":0},{"$f":"+印領清冊統計表!C556","v":0},{"$f":"+印領清冊統計表!D556","v":0},{"$f":"+印領清冊統計表!E556","v":0}]
[{"$f":"IF(印領清冊統計表!$A557=\"總計\",\"\",(IF(印領清冊統計表!A557=0,A553,印領清冊統計表!A557)))","v":""},{"$f":"+印領清冊統計表!B557","v":0},{"$f":"+印領清冊統計表!C557","v":0},{"$f":"+印領清冊統計表!D557","v":0},{"$f":"+印領清冊統計表!E557","v":0}]
[{"$f":"IF(印領清冊統計表!$A558=\"總計\",\"\",(IF(印領清冊統計表!A558=0,A554,印領清冊統計表!A558)))","v":""},{"$f":"+印領清冊統計表!B558","v":0},{"$f":"+印領清冊統計表!C558","v":0},{"$f":"+印領清冊統計表!D558","v":0},{"$f":"+印領清冊統計表!E558","v":0}]
[{"$f":"IF(印領清冊統計表!$A559=\"總計\",\"\",(IF(印領清冊統計表!A559=0,A555,印領清冊統計表!A559)))","v":""},{"$f":"+印領清冊統計表!B559","v":0},{"$f":"+印領清冊統計表!C559","v":0},{"$f":"+印領清冊統計表!D559","v":0},{"$f":"+印領清冊統計表!E559","v":0}]
[{"$f":"IF(印領清冊統計表!$A560=\"總計\",\"\",(IF(印領清冊統計表!A560=0,A556,印領清冊統計表!A560)))","v":""},{"$f":"+印領清冊統計表!B560","v":0},{"$f":"+印領清冊統計表!C560","v":0},{"$f":"+印領清冊統計表!D560","v":0},{"$f":"+印領清冊統計表!E560","v":0}]
[{"$f":"IF(印領清冊統計表!$A561=\"總計\",\"\",(IF(印領清冊統計表!A561=0,A557,印領清冊統計表!A561)))","v":""},{"$f":"+印領清冊統計表!B561","v":0},{"$f":"+印領清冊統計表!C561","v":0},{"$f":"+印領清冊統計表!D561","v":0},{"$f":"+印領清冊統計表!E561","v":0}]
[{"$f":"IF(印領清冊統計表!$A562=\"總計\",\"\",(IF(印領清冊統計表!A562=0,A558,印領清冊統計表!A562)))","v":""},{"$f":"+印領清冊統計表!B562","v":0},{"$f":"+印領清冊統計表!C562","v":0},{"$f":"+印領清冊統計表!D562","v":0},{"$f":"+印領清冊統計表!E562","v":0}]
[{"$f":"IF(印領清冊統計表!$A563=\"總計\",\"\",(IF(印領清冊統計表!A563=0,A559,印領清冊統計表!A563)))","v":""},{"$f":"+印領清冊統計表!B563","v":0},{"$f":"+印領清冊統計表!C563","v":0},{"$f":"+印領清冊統計表!D563","v":0},{"$f":"+印領清冊統計表!E563","v":0}]
[{"$f":"IF(印領清冊統計表!$A564=\"總計\",\"\",(IF(印領清冊統計表!A564=0,A560,印領清冊統計表!A564)))","v":""},{"$f":"+印領清冊統計表!B564","v":0},{"$f":"+印領清冊統計表!C564","v":0},{"$f":"+印領清冊統計表!D564","v":0},{"$f":"+印領清冊統計表!E564","v":0}]
[{"$f":"IF(印領清冊統計表!$A565=\"總計\",\"\",(IF(印領清冊統計表!A565=0,A561,印領清冊統計表!A565)))","v":""},{"$f":"+印領清冊統計表!B565","v":0},{"$f":"+印領清冊統計表!C565","v":0},{"$f":"+印領清冊統計表!D565","v":0},{"$f":"+印領清冊統計表!E565","v":0}]
[{"$f":"IF(印領清冊統計表!$A566=\"總計\",\"\",(IF(印領清冊統計表!A566=0,A562,印領清冊統計表!A566)))","v":""},{"$f":"+印領清冊統計表!B566","v":0},{"$f":"+印領清冊統計表!C566","v":0},{"$f":"+印領清冊統計表!D566","v":0},{"$f":"+印領清冊統計表!E566","v":0}]
[{"$f":"IF(印領清冊統計表!$A567=\"總計\",\"\",(IF(印領清冊統計表!A567=0,A563,印領清冊統計表!A567)))","v":""},{"$f":"+印領清冊統計表!B567","v":0},{"$f":"+印領清冊統計表!C567","v":0},{"$f":"+印領清冊統計表!D567","v":0},{"$f":"+印領清冊統計表!E567","v":0}]
[{"$f":"IF(印領清冊統計表!$A568=\"總計\",\"\",(IF(印領清冊統計表!A568=0,A564,印領清冊統計表!A568)))","v":""},{"$f":"+印領清冊統計表!B568","v":0},{"$f":"+印領清冊統計表!C568","v":0},{"$f":"+印領清冊統計表!D568","v":0},{"$f":"+印領清冊統計表!E568","v":0}]
[{"$f":"IF(印領清冊統計表!$A569=\"總計\",\"\",(IF(印領清冊統計表!A569=0,A565,印領清冊統計表!A569)))","v":""},{"$f":"+印領清冊統計表!B569","v":0},{"$f":"+印領清冊統計表!C569","v":0},{"$f":"+印領清冊統計表!D569","v":0},{"$f":"+印領清冊統計表!E569","v":0}]
[{"$f":"IF(印領清冊統計表!$A570=\"總計\",\"\",(IF(印領清冊統計表!A570=0,A566,印領清冊統計表!A570)))","v":""},{"$f":"+印領清冊統計表!B570","v":0},{"$f":"+印領清冊統計表!C570","v":0},{"$f":"+印領清冊統計表!D570","v":0},{"$f":"+印領清冊統計表!E570","v":0}]
[{"$f":"IF(印領清冊統計表!$A571=\"總計\",\"\",(IF(印領清冊統計表!A571=0,A567,印領清冊統計表!A571)))","v":""},{"$f":"+印領清冊統計表!B571","v":0},{"$f":"+印領清冊統計表!C571","v":0},{"$f":"+印領清冊統計表!D571","v":0},{"$f":"+印領清冊統計表!E571","v":0}]
[{"$f":"IF(印領清冊統計表!$A572=\"總計\",\"\",(IF(印領清冊統計表!A572=0,A568,印領清冊統計表!A572)))","v":""},{"$f":"+印領清冊統計表!B572","v":0},{"$f":"+印領清冊統計表!C572","v":0},{"$f":"+印領清冊統計表!D572","v":0},{"$f":"+印領清冊統計表!E572","v":0}]
[{"$f":"IF(印領清冊統計表!$A573=\"總計\",\"\",(IF(印領清冊統計表!A573=0,A569,印領清冊統計表!A573)))","v":""},{"$f":"+印領清冊統計表!B573","v":0},{"$f":"+印領清冊統計表!C573","v":0},{"$f":"+印領清冊統計表!D573","v":0},{"$f":"+印領清冊統計表!E573","v":0}]
[{"$f":"IF(印領清冊統計表!$A574=\"總計\",\"\",(IF(印領清冊統計表!A574=0,A570,印領清冊統計表!A574)))","v":""},{"$f":"+印領清冊統計表!B574","v":0},{"$f":"+印領清冊統計表!C574","v":0},{"$f":"+印領清冊統計表!D574","v":0},{"$f":"+印領清冊統計表!E574","v":0}]
[{"$f":"IF(印領清冊統計表!$A575=\"總計\",\"\",(IF(印領清冊統計表!A575=0,A571,印領清冊統計表!A575)))","v":""},{"$f":"+印領清冊統計表!B575","v":0},{"$f":"+印領清冊統計表!C575","v":0},{"$f":"+印領清冊統計表!D575","v":0},{"$f":"+印領清冊統計表!E575","v":0}]
[{"$f":"IF(印領清冊統計表!$A576=\"總計\",\"\",(IF(印領清冊統計表!A576=0,A572,印領清冊統計表!A576)))","v":""},{"$f":"+印領清冊統計表!B576","v":0},{"$f":"+印領清冊統計表!C576","v":0},{"$f":"+印領清冊統計表!D576","v":0},{"$f":"+印領清冊統計表!E576","v":0}]
[{"$f":"IF(印領清冊統計表!$A577=\"總計\",\"\",(IF(印領清冊統計表!A577=0,A573,印領清冊統計表!A577)))","v":""},{"$f":"+印領清冊統計表!B577","v":0},{"$f":"+印領清冊統計表!C577","v":0},{"$f":"+印領清冊統計表!D577","v":0},{"$f":"+印領清冊統計表!E577","v":0}]
[{"$f":"IF(印領清冊統計表!$A578=\"總計\",\"\",(IF(印領清冊統計表!A578=0,A574,印領清冊統計表!A578)))","v":""},{"$f":"+印領清冊統計表!B578","v":0},{"$f":"+印領清冊統計表!C578","v":0},{"$f":"+印領清冊統計表!D578","v":0},{"$f":"+印領清冊統計表!E578","v":0}]
[{"$f":"IF(印領清冊統計表!$A579=\"總計\",\"\",(IF(印領清冊統計表!A579=0,A575,印領清冊統計表!A579)))","v":""},{"$f":"+印領清冊統計表!B579","v":0},{"$f":"+印領清冊統計表!C579","v":0},{"$f":"+印領清冊統計表!D579","v":0},{"$f":"+印領清冊統計表!E579","v":0}]
[{"$f":"IF(印領清冊統計表!$A580=\"總計\",\"\",(IF(印領清冊統計表!A580=0,A576,印領清冊統計表!A580)))","v":""},{"$f":"+印領清冊統計表!B580","v":0},{"$f":"+印領清冊統計表!C580","v":0},{"$f":"+印領清冊統計表!D580","v":0},{"$f":"+印領清冊統計表!E580","v":0}]
[{"$f":"IF(印領清冊統計表!$A581=\"總計\",\"\",(IF(印領清冊統計表!A581=0,A577,印領清冊統計表!A581)))","v":""},{"$f":"+印領清冊統計表!B581","v":0},{"$f":"+印領清冊統計表!C581","v":0},{"$f":"+印領清冊統計表!D581","v":0},{"$f":"+印領清冊統計表!E581","v":0}]
[{"$f":"IF(印領清冊統計表!$A582=\"總計\",\"\",(IF(印領清冊統計表!A582=0,A578,印領清冊統計表!A582)))","v":""},{"$f":"+印領清冊統計表!B582","v":0},{"$f":"+印領清冊統計表!C582","v":0},{"$f":"+印領清冊統計表!D582","v":0},{"$f":"+印領清冊統計表!E582","v":0}]
[{"$f":"IF(印領清冊統計表!$A583=\"總計\",\"\",(IF(印領清冊統計表!A583=0,A579,印領清冊統計表!A583)))","v":""},{"$f":"+印領清冊統計表!B583","v":0},{"$f":"+印領清冊統計表!C583","v":0},{"$f":"+印領清冊統計表!D583","v":0},{"$f":"+印領清冊統計表!E583","v":0}]
[{"$f":"IF(印領清冊統計表!$A584=\"總計\",\"\",(IF(印領清冊統計表!A584=0,A580,印領清冊統計表!A584)))","v":""},{"$f":"+印領清冊統計表!B584","v":0},{"$f":"+印領清冊統計表!C584","v":0},{"$f":"+印領清冊統計表!D584","v":0},{"$f":"+印領清冊統計表!E584","v":0}]
[{"$f":"IF(印領清冊統計表!$A585=\"總計\",\"\",(IF(印領清冊統計表!A585=0,A581,印領清冊統計表!A585)))","v":""},{"$f":"+印領清冊統計表!B585","v":0},{"$f":"+印領清冊統計表!C585","v":0},{"$f":"+印領清冊統計表!D585","v":0},{"$f":"+印領清冊統計表!E585","v":0}]
[{"$f":"IF(印領清冊統計表!$A586=\"總計\",\"\",(IF(印領清冊統計表!A586=0,A582,印領清冊統計表!A586)))","v":""},{"$f":"+印領清冊統計表!B586","v":0},{"$f":"+印領清冊統計表!C586","v":0},{"$f":"+印領清冊統計表!D586","v":0},{"$f":"+印領清冊統計表!E586","v":0}]
[{"$f":"IF(印領清冊統計表!$A587=\"總計\",\"\",(IF(印領清冊統計表!A587=0,A583,印領清冊統計表!A587)))","v":""},{"$f":"+印領清冊統計表!B587","v":0},{"$f":"+印領清冊統計表!C587","v":0},{"$f":"+印領清冊統計表!D587","v":0},{"$f":"+印領清冊統計表!E587","v":0}]
[{"$f":"IF(印領清冊統計表!$A588=\"總計\",\"\",(IF(印領清冊統計表!A588=0,A584,印領清冊統計表!A588)))","v":""},{"$f":"+印領清冊統計表!B588","v":0},{"$f":"+印領清冊統計表!C588","v":0},{"$f":"+印領清冊統計表!D588","v":0},{"$f":"+印領清冊統計表!E588","v":0}]
[{"$f":"IF(印領清冊統計表!$A589=\"總計\",\"\",(IF(印領清冊統計表!A589=0,A585,印領清冊統計表!A589)))","v":""},{"$f":"+印領清冊統計表!B589","v":0},{"$f":"+印領清冊統計表!C589","v":0},{"$f":"+印領清冊統計表!D589","v":0},{"$f":"+印領清冊統計表!E589","v":0}]
[{"$f":"IF(印領清冊統計表!$A590=\"總計\",\"\",(IF(印領清冊統計表!A590=0,A586,印領清冊統計表!A590)))","v":""},{"$f":"+印領清冊統計表!B590","v":0},{"$f":"+印領清冊統計表!C590","v":0},{"$f":"+印領清冊統計表!D590","v":0},{"$f":"+印領清冊統計表!E590","v":0}]
[{"$f":"IF(印領清冊統計表!$A591=\"總計\",\"\",(IF(印領清冊統計表!A591=0,A587,印領清冊統計表!A591)))","v":""},{"$f":"+印領清冊統計表!B591","v":0},{"$f":"+印領清冊統計表!C591","v":0},{"$f":"+印領清冊統計表!D591","v":0},{"$f":"+印領清冊統計表!E591","v":0}]
[{"$f":"IF(印領清冊統計表!$A592=\"總計\",\"\",(IF(印領清冊統計表!A592=0,A588,印領清冊統計表!A592)))","v":""},{"$f":"+印領清冊統計表!B592","v":0},{"$f":"+印領清冊統計表!C592","v":0},{"$f":"+印領清冊統計表!D592","v":0},{"$f":"+印領清冊統計表!E592","v":0}]
[{"$f":"IF(印領清冊統計表!$A593=\"總計\",\"\",(IF(印領清冊統計表!A593=0,A589,印領清冊統計表!A593)))","v":""},{"$f":"+印領清冊統計表!B593","v":0},{"$f":"+印領清冊統計表!C593","v":0},{"$f":"+印領清冊統計表!D593","v":0},{"$f":"+印領清冊統計表!E593","v":0}]
[{"$f":"IF(印領清冊統計表!$A594=\"總計\",\"\",(IF(印領清冊統計表!A594=0,A590,印領清冊統計表!A594)))","v":""},{"$f":"+印領清冊統計表!B594","v":0},{"$f":"+印領清冊統計表!C594","v":0},{"$f":"+印領清冊統計表!D594","v":0},{"$f":"+印領清冊統計表!E594","v":0}]
[{"$f":"IF(印領清冊統計表!$A595=\"總計\",\"\",(IF(印領清冊統計表!A595=0,A591,印領清冊統計表!A595)))","v":""},{"$f":"+印領清冊統計表!B595","v":0},{"$f":"+印領清冊統計表!C595","v":0},{"$f":"+印領清冊統計表!D595","v":0},{"$f":"+印領清冊統計表!E595","v":0}]
[{"$f":"IF(印領清冊統計表!$A596=\"總計\",\"\",(IF(印領清冊統計表!A596=0,A592,印領清冊統計表!A596)))","v":""},{"$f":"+印領清冊統計表!B596","v":0},{"$f":"+印領清冊統計表!C596","v":0},{"$f":"+印領清冊統計表!D596","v":0},{"$f":"+印領清冊統計表!E596","v":0}]
[{"$f":"IF(印領清冊統計表!$A597=\"總計\",\"\",(IF(印領清冊統計表!A597=0,A593,印領清冊統計表!A597)))","v":""},{"$f":"+印領清冊統計表!B597","v":0},{"$f":"+印領清冊統計表!C597","v":0},{"$f":"+印領清冊統計表!D597","v":0},{"$f":"+印領清冊統計表!E597","v":0}]
[{"$f":"IF(印領清冊統計表!$A598=\"總計\",\"\",(IF(印領清冊統計表!A598=0,A594,印領清冊統計表!A598)))","v":""},{"$f":"+印領清冊統計表!B598","v":0},{"$f":"+印領清冊統計表!C598","v":0},{"$f":"+印領清冊統計表!D598","v":0},{"$f":"+印領清冊統計表!E598","v":0}]
[{"$f":"IF(印領清冊統計表!$A599=\"總計\",\"\",(IF(印領清冊統計表!A599=0,A595,印領清冊統計表!A599)))","v":""},{"$f":"+印領清冊統計表!B599","v":0},{"$f":"+印領清冊統計表!C599","v":0},{"$f":"+印領清冊統計表!D599","v":0},{"$f":"+印領清冊統計表!E599","v":0}]
[{"$f":"IF(印領清冊統計表!$A600=\"總計\",\"\",(IF(印領清冊統計表!A600=0,A596,印領清冊統計表!A600)))","v":""},{"$f":"+印領清冊統計表!B600","v":0},{"$f":"+印領清冊統計表!C600","v":0},{"$f":"+印領清冊統計表!D600","v":0},{"$f":"+印領清冊統計表!E600","v":0}]
[{"$f":"IF(印領清冊統計表!$A601=\"總計\",\"\",(IF(印領清冊統計表!A601=0,A597,印領清冊統計表!A601)))","v":""},{"$f":"+印領清冊統計表!B601","v":0},{"$f":"+印領清冊統計表!C601","v":0},{"$f":"+印領清冊統計表!D601","v":0},{"$f":"+印領清冊統計表!E601","v":0}]
[{"$f":"IF(印領清冊統計表!$A602=\"總計\",\"\",(IF(印領清冊統計表!A602=0,A598,印領清冊統計表!A602)))","v":""},{"$f":"+印領清冊統計表!B602","v":0},{"$f":"+印領清冊統計表!C602","v":0},{"$f":"+印領清冊統計表!D602","v":0},{"$f":"+印領清冊統計表!E602","v":0}]
[{"$f":"IF(印領清冊統計表!$A603=\"總計\",\"\",(IF(印領清冊統計表!A603=0,A599,印領清冊統計表!A603)))","v":""},{"$f":"+印領清冊統計表!B603","v":0},{"$f":"+印領清冊統計表!C603","v":0},{"$f":"+印領清冊統計表!D603","v":0},{"$f":"+印領清冊統計表!E603","v":0}]
[{"$f":"IF(印領清冊統計表!$A604=\"總計\",\"\",(IF(印領清冊統計表!A604=0,A600,印領清冊統計表!A604)))","v":""},{"$f":"+印領清冊統計表!B604","v":0},{"$f":"+印領清冊統計表!C604","v":0},{"$f":"+印領清冊統計表!D604","v":0},{"$f":"+印領清冊統計表!E604","v":0}]
[{"$f":"IF(印領清冊統計表!$A605=\"總計\",\"\",(IF(印領清冊統計表!A605=0,A601,印領清冊統計表!A605)))","v":""},{"$f":"+印領清冊統計表!B605","v":0},{"$f":"+印領清冊統計表!C605","v":0},{"$f":"+印領清冊統計表!D605","v":0},{"$f":"+印領清冊統計表!E605","v":0}]
[{"$f":"IF(印領清冊統計表!$A606=\"總計\",\"\",(IF(印領清冊統計表!A606=0,A602,印領清冊統計表!A606)))","v":""},{"$f":"+印領清冊統計表!B606","v":0},{"$f":"+印領清冊統計表!C606","v":0},{"$f":"+印領清冊統計表!D606","v":0},{"$f":"+印領清冊統計表!E606","v":0}]
[{"$f":"IF(印領清冊統計表!$A607=\"總計\",\"\",(IF(印領清冊統計表!A607=0,A603,印領清冊統計表!A607)))","v":""},{"$f":"+印領清冊統計表!B607","v":0},{"$f":"+印領清冊統計表!C607","v":0},{"$f":"+印領清冊統計表!D607","v":0},{"$f":"+印領清冊統計表!E607","v":0}]
[{"$f":"IF(印領清冊統計表!$A608=\"總計\",\"\",(IF(印領清冊統計表!A608=0,A604,印領清冊統計表!A608)))","v":""},{"$f":"+印領清冊統計表!B608","v":0},{"$f":"+印領清冊統計表!C608","v":0},{"$f":"+印領清冊統計表!D608","v":0},{"$f":"+印領清冊統計表!E608","v":0}]
[{"$f":"IF(印領清冊統計表!$A609=\"總計\",\"\",(IF(印領清冊統計表!A609=0,A605,印領清冊統計表!A609)))","v":""},{"$f":"+印領清冊統計表!B609","v":0},{"$f":"+印領清冊統計表!C609","v":0},{"$f":"+印領清冊統計表!D609","v":0},{"$f":"+印領清冊統計表!E609","v":0}]
[{"$f":"IF(印領清冊統計表!$A610=\"總計\",\"\",(IF(印領清冊統計表!A610=0,A606,印領清冊統計表!A610)))","v":""},{"$f":"+印領清冊統計表!B610","v":0},{"$f":"+印領清冊統計表!C610","v":0},{"$f":"+印領清冊統計表!D610","v":0},{"$f":"+印領清冊統計表!E610","v":0}]
[{"$f":"IF(印領清冊統計表!$A611=\"總計\",\"\",(IF(印領清冊統計表!A611=0,A607,印領清冊統計表!A611)))","v":""},{"$f":"+印領清冊統計表!B611","v":0},{"$f":"+印領清冊統計表!C611","v":0},{"$f":"+印領清冊統計表!D611","v":0},{"$f":"+印領清冊統計表!E611","v":0}]
[{"$f":"IF(印領清冊統計表!$A612=\"總計\",\"\",(IF(印領清冊統計表!A612=0,A608,印領清冊統計表!A612)))","v":""},{"$f":"+印領清冊統計表!B612","v":0},{"$f":"+印領清冊統計表!C612","v":0},{"$f":"+印領清冊統計表!D612","v":0},{"$f":"+印領清冊統計表!E612","v":0}]
[{"$f":"IF(印領清冊統計表!$A613=\"總計\",\"\",(IF(印領清冊統計表!A613=0,A609,印領清冊統計表!A613)))","v":""},{"$f":"+印領清冊統計表!B613","v":0},{"$f":"+印領清冊統計表!C613","v":0},{"$f":"+印領清冊統計表!D613","v":0},{"$f":"+印領清冊統計表!E613","v":0}]
[{"$f":"IF(印領清冊統計表!$A614=\"總計\",\"\",(IF(印領清冊統計表!A614=0,A610,印領清冊統計表!A614)))","v":""},{"$f":"+印領清冊統計表!B614","v":0},{"$f":"+印領清冊統計表!C614","v":0},{"$f":"+印領清冊統計表!D614","v":0},{"$f":"+印領清冊統計表!E614","v":0}]
[{"$f":"IF(印領清冊統計表!$A615=\"總計\",\"\",(IF(印領清冊統計表!A615=0,A611,印領清冊統計表!A615)))","v":""},{"$f":"+印領清冊統計表!B615","v":0},{"$f":"+印領清冊統計表!C615","v":0},{"$f":"+印領清冊統計表!D615","v":0},{"$f":"+印領清冊統計表!E615","v":0}]
[{"$f":"IF(印領清冊統計表!$A616=\"總計\",\"\",(IF(印領清冊統計表!A616=0,A612,印領清冊統計表!A616)))","v":""},{"$f":"+印領清冊統計表!B616","v":0},{"$f":"+印領清冊統計表!C616","v":0},{"$f":"+印領清冊統計表!D616","v":0},{"$f":"+印領清冊統計表!E616","v":0}]
[{"$f":"IF(印領清冊統計表!$A617=\"總計\",\"\",(IF(印領清冊統計表!A617=0,A613,印領清冊統計表!A617)))","v":""},{"$f":"+印領清冊統計表!B617","v":0},{"$f":"+印領清冊統計表!C617","v":0},{"$f":"+印領清冊統計表!D617","v":0},{"$f":"+印領清冊統計表!E617","v":0}]
[{"$f":"IF(印領清冊統計表!$A618=\"總計\",\"\",(IF(印領清冊統計表!A618=0,A614,印領清冊統計表!A618)))","v":""},{"$f":"+印領清冊統計表!B618","v":0},{"$f":"+印領清冊統計表!C618","v":0},{"$f":"+印領清冊統計表!D618","v":0},{"$f":"+印領清冊統計表!E618","v":0}]
[{"$f":"IF(印領清冊統計表!$A619=\"總計\",\"\",(IF(印領清冊統計表!A619=0,A615,印領清冊統計表!A619)))","v":""},{"$f":"+印領清冊統計表!B619","v":0},{"$f":"+印領清冊統計表!C619","v":0},{"$f":"+印領清冊統計表!D619","v":0},{"$f":"+印領清冊統計表!E619","v":0}]
[{"$f":"IF(印領清冊統計表!$A620=\"總計\",\"\",(IF(印領清冊統計表!A620=0,A616,印領清冊統計表!A620)))","v":""},{"$f":"+印領清冊統計表!B620","v":0},{"$f":"+印領清冊統計表!C620","v":0},{"$f":"+印領清冊統計表!D620","v":0},{"$f":"+印領清冊統計表!E620","v":0}]
[{"$f":"IF(印領清冊統計表!$A621=\"總計\",\"\",(IF(印領清冊統計表!A621=0,A617,印領清冊統計表!A621)))","v":""},{"$f":"+印領清冊統計表!B621","v":0},{"$f":"+印領清冊統計表!C621","v":0},{"$f":"+印領清冊統計表!D621","v":0},{"$f":"+印領清冊統計表!E621","v":0}]
[{"$f":"IF(印領清冊統計表!$A622=\"總計\",\"\",(IF(印領清冊統計表!A622=0,A618,印領清冊統計表!A622)))","v":""},{"$f":"+印領清冊統計表!B622","v":0},{"$f":"+印領清冊統計表!C622","v":0},{"$f":"+印領清冊統計表!D622","v":0},{"$f":"+印領清冊統計表!E622","v":0}]
[{"$f":"IF(印領清冊統計表!$A623=\"總計\",\"\",(IF(印領清冊統計表!A623=0,A619,印領清冊統計表!A623)))","v":""},{"$f":"+印領清冊統計表!B623","v":0},{"$f":"+印領清冊統計表!C623","v":0},{"$f":"+印領清冊統計表!D623","v":0},{"$f":"+印領清冊統計表!E623","v":0}]
[{"$f":"IF(印領清冊統計表!$A624=\"總計\",\"\",(IF(印領清冊統計表!A624=0,A620,印領清冊統計表!A624)))","v":""},{"$f":"+印領清冊統計表!B624","v":0},{"$f":"+印領清冊統計表!C624","v":0},{"$f":"+印領清冊統計表!D624","v":0},{"$f":"+印領清冊統計表!E624","v":0}]
[{"$f":"IF(印領清冊統計表!$A625=\"總計\",\"\",(IF(印領清冊統計表!A625=0,A621,印領清冊統計表!A625)))","v":""},{"$f":"+印領清冊統計表!B625","v":0},{"$f":"+印領清冊統計表!C625","v":0},{"$f":"+印領清冊統計表!D625","v":0},{"$f":"+印領清冊統計表!E625","v":0}]
[{"$f":"IF(印領清冊統計表!$A626=\"總計\",\"\",(IF(印領清冊統計表!A626=0,A622,印領清冊統計表!A626)))","v":""},{"$f":"+印領清冊統計表!B626","v":0},{"$f":"+印領清冊統計表!C626","v":0},{"$f":"+印領清冊統計表!D626","v":0},{"$f":"+印領清冊統計表!E626","v":0}]
[{"$f":"IF(印領清冊統計表!$A627=\"總計\",\"\",(IF(印領清冊統計表!A627=0,A623,印領清冊統計表!A627)))","v":""},{"$f":"+印領清冊統計表!B627","v":0},{"$f":"+印領清冊統計表!C627","v":0},{"$f":"+印領清冊統計表!D627","v":0},{"$f":"+印領清冊統計表!E627","v":0}]
[{"$f":"IF(印領清冊統計表!$A628=\"總計\",\"\",(IF(印領清冊統計表!A628=0,A624,印領清冊統計表!A628)))","v":""},{"$f":"+印領清冊統計表!B628","v":0},{"$f":"+印領清冊統計表!C628","v":0},{"$f":"+印領清冊統計表!D628","v":0},{"$f":"+印領清冊統計表!E628","v":0}]
[{"$f":"IF(印領清冊統計表!$A629=\"總計\",\"\",(IF(印領清冊統計表!A629=0,A625,印領清冊統計表!A629)))","v":""},{"$f":"+印領清冊統計表!B629","v":0},{"$f":"+印領清冊統計表!C629","v":0},{"$f":"+印領清冊統計表!D629","v":0},{"$f":"+印領清冊統計表!E629","v":0}]
[{"$f":"IF(印領清冊統計表!$A630=\"總計\",\"\",(IF(印領清冊統計表!A630=0,A626,印領清冊統計表!A630)))","v":""},{"$f":"+印領清冊統計表!B630","v":0},{"$f":"+印領清冊統計表!C630","v":0},{"$f":"+印領清冊統計表!D630","v":0},{"$f":"+印領清冊統計表!E630","v":0}]
[{"$f":"IF(印領清冊統計表!$A631=\"總計\",\"\",(IF(印領清冊統計表!A631=0,A627,印領清冊統計表!A631)))","v":""},{"$f":"+印領清冊統計表!B631","v":0},{"$f":"+印領清冊統計表!C631","v":0},{"$f":"+印領清冊統計表!D631","v":0},{"$f":"+印領清冊統計表!E631","v":0}]
[{"$f":"IF(印領清冊統計表!$A632=\"總計\",\"\",(IF(印領清冊統計表!A632=0,A628,印領清冊統計表!A632)))","v":""},{"$f":"+印領清冊統計表!B632","v":0},{"$f":"+印領清冊統計表!C632","v":0},{"$f":"+印領清冊統計表!D632","v":0},{"$f":"+印領清冊統計表!E632","v":0}]
[{"$f":"IF(印領清冊統計表!$A633=\"總計\",\"\",(IF(印領清冊統計表!A633=0,A629,印領清冊統計表!A633)))","v":""},{"$f":"+印領清冊統計表!B633","v":0},{"$f":"+印領清冊統計表!C633","v":0},{"$f":"+印領清冊統計表!D633","v":0},{"$f":"+印領清冊統計表!E633","v":0}]
[{"$f":"IF(印領清冊統計表!$A634=\"總計\",\"\",(IF(印領清冊統計表!A634=0,A630,印領清冊統計表!A634)))","v":""},{"$f":"+印領清冊統計表!B634","v":0},{"$f":"+印領清冊統計表!C634","v":0},{"$f":"+印領清冊統計表!D634","v":0},{"$f":"+印領清冊統計表!E634","v":0}]
[{"$f":"IF(印領清冊統計表!$A635=\"總計\",\"\",(IF(印領清冊統計表!A635=0,A631,印領清冊統計表!A635)))","v":""},{"$f":"+印領清冊統計表!B635","v":0},{"$f":"+印領清冊統計表!C635","v":0},{"$f":"+印領清冊統計表!D635","v":0},{"$f":"+印領清冊統計表!E635","v":0}]
[{"$f":"IF(印領清冊統計表!$A636=\"總計\",\"\",(IF(印領清冊統計表!A636=0,A632,印領清冊統計表!A636)))","v":""},{"$f":"+印領清冊統計表!B636","v":0},{"$f":"+印領清冊統計表!C636","v":0},{"$f":"+印領清冊統計表!D636","v":0},{"$f":"+印領清冊統計表!E636","v":0}]
[{"$f":"IF(印領清冊統計表!$A637=\"總計\",\"\",(IF(印領清冊統計表!A637=0,A633,印領清冊統計表!A637)))","v":""},{"$f":"+印領清冊統計表!B637","v":0},{"$f":"+印領清冊統計表!C637","v":0},{"$f":"+印領清冊統計表!D637","v":0},{"$f":"+印領清冊統計表!E637","v":0}]
[{"$f":"IF(印領清冊統計表!$A638=\"總計\",\"\",(IF(印領清冊統計表!A638=0,A634,印領清冊統計表!A638)))","v":""},{"$f":"+印領清冊統計表!B638","v":0},{"$f":"+印領清冊統計表!C638","v":0},{"$f":"+印領清冊統計表!D638","v":0},{"$f":"+印領清冊統計表!E638","v":0}]
[{"$f":"IF(印領清冊統計表!$A639=\"總計\",\"\",(IF(印領清冊統計表!A639=0,A635,印領清冊統計表!A639)))","v":""},{"$f":"+印領清冊統計表!B639","v":0},{"$f":"+印領清冊統計表!C639","v":0},{"$f":"+印領清冊統計表!D639","v":0},{"$f":"+印領清冊統計表!E639","v":0}]
[{"$f":"IF(印領清冊統計表!$A640=\"總計\",\"\",(IF(印領清冊統計表!A640=0,A636,印領清冊統計表!A640)))","v":""},{"$f":"+印領清冊統計表!B640","v":0},{"$f":"+印領清冊統計表!C640","v":0},{"$f":"+印領清冊統計表!D640","v":0},{"$f":"+印領清冊統計表!E640","v":0}]
[{"$f":"IF(印領清冊統計表!$A641=\"總計\",\"\",(IF(印領清冊統計表!A641=0,A637,印領清冊統計表!A641)))","v":""},{"$f":"+印領清冊統計表!B641","v":0},{"$f":"+印領清冊統計表!C641","v":0},{"$f":"+印領清冊統計表!D641","v":0},{"$f":"+印領清冊統計表!E641","v":0}]
[{"$f":"IF(印領清冊統計表!$A642=\"總計\",\"\",(IF(印領清冊統計表!A642=0,A638,印領清冊統計表!A642)))","v":""},{"$f":"+印領清冊統計表!B642","v":0},{"$f":"+印領清冊統計表!C642","v":0},{"$f":"+印領清冊統計表!D642","v":0},{"$f":"+印領清冊統計表!E642","v":0}]
[{"$f":"IF(印領清冊統計表!$A643=\"總計\",\"\",(IF(印領清冊統計表!A643=0,A639,印領清冊統計表!A643)))","v":""},{"$f":"+印領清冊統計表!B643","v":0},{"$f":"+印領清冊統計表!C643","v":0},{"$f":"+印領清冊統計表!D643","v":0},{"$f":"+印領清冊統計表!E643","v":0}]
[{"$f":"IF(印領清冊統計表!$A644=\"總計\",\"\",(IF(印領清冊統計表!A644=0,A640,印領清冊統計表!A644)))","v":""},{"$f":"+印領清冊統計表!B644","v":0},{"$f":"+印領清冊統計表!C644","v":0},{"$f":"+印領清冊統計表!D644","v":0},{"$f":"+印領清冊統計表!E644","v":0}]
[{"$f":"IF(印領清冊統計表!$A645=\"總計\",\"\",(IF(印領清冊統計表!A645=0,A641,印領清冊統計表!A645)))","v":""},{"$f":"+印領清冊統計表!B645","v":0},{"$f":"+印領清冊統計表!C645","v":0},{"$f":"+印領清冊統計表!D645","v":0},{"$f":"+印領清冊統計表!E645","v":0}]
[{"$f":"IF(印領清冊統計表!$A646=\"總計\",\"\",(IF(印領清冊統計表!A646=0,A642,印領清冊統計表!A646)))","v":""},{"$f":"+印領清冊統計表!B646","v":0},{"$f":"+印領清冊統計表!C646","v":0},{"$f":"+印領清冊統計表!D646","v":0},{"$f":"+印領清冊統計表!E646","v":0}]
[{"$f":"IF(印領清冊統計表!$A647=\"總計\",\"\",(IF(印領清冊統計表!A647=0,A643,印領清冊統計表!A647)))","v":""},{"$f":"+印領清冊統計表!B647","v":0},{"$f":"+印領清冊統計表!C647","v":0},{"$f":"+印領清冊統計表!D647","v":0},{"$f":"+印領清冊統計表!E647","v":0}]
[{"$f":"IF(印領清冊統計表!$A648=\"總計\",\"\",(IF(印領清冊統計表!A648=0,A644,印領清冊統計表!A648)))","v":""},{"$f":"+印領清冊統計表!B648","v":0},{"$f":"+印領清冊統計表!C648","v":0},{"$f":"+印領清冊統計表!D648","v":0},{"$f":"+印領清冊統計表!E648","v":0}]
[{"$f":"IF(印領清冊統計表!$A649=\"總計\",\"\",(IF(印領清冊統計表!A649=0,A645,印領清冊統計表!A649)))","v":""},{"$f":"+印領清冊統計表!B649","v":0},{"$f":"+印領清冊統計表!C649","v":0},{"$f":"+印領清冊統計表!D649","v":0},{"$f":"+印領清冊統計表!E649","v":0}]
[{"$f":"IF(印領清冊統計表!$A650=\"總計\",\"\",(IF(印領清冊統計表!A650=0,A646,印領清冊統計表!A650)))","v":""},{"$f":"+印領清冊統計表!B650","v":0},{"$f":"+印領清冊統計表!C650","v":0},{"$f":"+印領清冊統計表!D650","v":0},{"$f":"+印領清冊統計表!E650","v":0}]
[{"$f":"IF(印領清冊統計表!$A651=\"總計\",\"\",(IF(印領清冊統計表!A651=0,A647,印領清冊統計表!A651)))","v":""},{"$f":"+印領清冊統計表!B651","v":0},{"$f":"+印領清冊統計表!C651","v":0},{"$f":"+印領清冊統計表!D651","v":0},{"$f":"+印領清冊統計表!E651","v":0}]
[{"$f":"IF(印領清冊統計表!$A652=\"總計\",\"\",(IF(印領清冊統計表!A652=0,A648,印領清冊統計表!A652)))","v":""},{"$f":"+印領清冊統計表!B652","v":0},{"$f":"+印領清冊統計表!C652","v":0},{"$f":"+印領清冊統計表!D652","v":0},{"$f":"+印領清冊統計表!E652","v":0}]
[{"$f":"IF(印領清冊統計表!$A653=\"總計\",\"\",(IF(印領清冊統計表!A653=0,A649,印領清冊統計表!A653)))","v":""},{"$f":"+印領清冊統計表!B653","v":0},{"$f":"+印領清冊統計表!C653","v":0},{"$f":"+印領清冊統計表!D653","v":0},{"$f":"+印領清冊統計表!E653","v":0}]
[{"$f":"IF(印領清冊統計表!$A654=\"總計\",\"\",(IF(印領清冊統計表!A654=0,A650,印領清冊統計表!A654)))","v":""},{"$f":"+印領清冊統計表!B654","v":0},{"$f":"+印領清冊統計表!C654","v":0},{"$f":"+印領清冊統計表!D654","v":0},{"$f":"+印領清冊統計表!E654","v":0}]
[{"$f":"IF(印領清冊統計表!$A655=\"總計\",\"\",(IF(印領清冊統計表!A655=0,A651,印領清冊統計表!A655)))","v":""},{"$f":"+印領清冊統計表!B655","v":0},{"$f":"+印領清冊統計表!C655","v":0},{"$f":"+印領清冊統計表!D655","v":0},{"$f":"+印領清冊統計表!E655","v":0}]
[{"$f":"IF(印領清冊統計表!$A656=\"總計\",\"\",(IF(印領清冊統計表!A656=0,A652,印領清冊統計表!A656)))","v":""},{"$f":"+印領清冊統計表!B656","v":0},{"$f":"+印領清冊統計表!C656","v":0},{"$f":"+印領清冊統計表!D656","v":0},{"$f":"+印領清冊統計表!E656","v":0}]
[{"$f":"IF(印領清冊統計表!$A657=\"總計\",\"\",(IF(印領清冊統計表!A657=0,A653,印領清冊統計表!A657)))","v":""},{"$f":"+印領清冊統計表!B657","v":0},{"$f":"+印領清冊統計表!C657","v":0},{"$f":"+印領清冊統計表!D657","v":0},{"$f":"+印領清冊統計表!E657","v":0}]
[{"$f":"IF(印領清冊統計表!$A658=\"總計\",\"\",(IF(印領清冊統計表!A658=0,A654,印領清冊統計表!A658)))","v":""},{"$f":"+印領清冊統計表!B658","v":0},{"$f":"+印領清冊統計表!C658","v":0},{"$f":"+印領清冊統計表!D658","v":0},{"$f":"+印領清冊統計表!E658","v":0}]
[{"$f":"IF(印領清冊統計表!$A659=\"總計\",\"\",(IF(印領清冊統計表!A659=0,A655,印領清冊統計表!A659)))","v":""},{"$f":"+印領清冊統計表!B659","v":0},{"$f":"+印領清冊統計表!C659","v":0},{"$f":"+印領清冊統計表!D659","v":0},{"$f":"+印領清冊統計表!E659","v":0}]
[{"$f":"IF(印領清冊統計表!$A660=\"總計\",\"\",(IF(印領清冊統計表!A660=0,A656,印領清冊統計表!A660)))","v":""},{"$f":"+印領清冊統計表!B660","v":0},{"$f":"+印領清冊統計表!C660","v":0},{"$f":"+印領清冊統計表!D660","v":0},{"$f":"+印領清冊統計表!E660","v":0}]
[{"$f":"IF(印領清冊統計表!$A661=\"總計\",\"\",(IF(印領清冊統計表!A661=0,A657,印領清冊統計表!A661)))","v":""},{"$f":"+印領清冊統計表!B661","v":0},{"$f":"+印領清冊統計表!C661","v":0},{"$f":"+印領清冊統計表!D661","v":0},{"$f":"+印領清冊統計表!E661","v":0}]
[{"$f":"IF(印領清冊統計表!$A662=\"總計\",\"\",(IF(印領清冊統計表!A662=0,A658,印領清冊統計表!A662)))","v":""},{"$f":"+印領清冊統計表!B662","v":0},{"$f":"+印領清冊統計表!C662","v":0},{"$f":"+印領清冊統計表!D662","v":0},{"$f":"+印領清冊統計表!E662","v":0}]
[{"$f":"IF(印領清冊統計表!$A663=\"總計\",\"\",(IF(印領清冊統計表!A663=0,A659,印領清冊統計表!A663)))","v":""},{"$f":"+印領清冊統計表!B663","v":0},{"$f":"+印領清冊統計表!C663","v":0},{"$f":"+印領清冊統計表!D663","v":0},{"$f":"+印領清冊統計表!E663","v":0}]
[{"$f":"IF(印領清冊統計表!$A664=\"總計\",\"\",(IF(印領清冊統計表!A664=0,A660,印領清冊統計表!A664)))","v":""},{"$f":"+印領清冊統計表!B664","v":0},{"$f":"+印領清冊統計表!C664","v":0},{"$f":"+印領清冊統計表!D664","v":0},{"$f":"+印領清冊統計表!E664","v":0}]
[{"$f":"IF(印領清冊統計表!$A665=\"總計\",\"\",(IF(印領清冊統計表!A665=0,A661,印領清冊統計表!A665)))","v":""},{"$f":"+印領清冊統計表!B665","v":0},{"$f":"+印領清冊統計表!C665","v":0},{"$f":"+印領清冊統計表!D665","v":0},{"$f":"+印領清冊統計表!E665","v":0}]
[{"$f":"IF(印領清冊統計表!$A666=\"總計\",\"\",(IF(印領清冊統計表!A666=0,A662,印領清冊統計表!A666)))","v":""},{"$f":"+印領清冊統計表!B666","v":0},{"$f":"+印領清冊統計表!C666","v":0},{"$f":"+印領清冊統計表!D666","v":0},{"$f":"+印領清冊統計表!E666","v":0}]
[{"$f":"IF(印領清冊統計表!$A667=\"總計\",\"\",(IF(印領清冊統計表!A667=0,A663,印領清冊統計表!A667)))","v":""},{"$f":"+印領清冊統計表!B667","v":0},{"$f":"+印領清冊統計表!C667","v":0},{"$f":"+印領清冊統計表!D667","v":0},{"$f":"+印領清冊統計表!E667","v":0}]
[{"$f":"IF(印領清冊統計表!$A668=\"總計\",\"\",(IF(印領清冊統計表!A668=0,A664,印領清冊統計表!A668)))","v":""},{"$f":"+印領清冊統計表!B668","v":0},{"$f":"+印領清冊統計表!C668","v":0},{"$f":"+印領清冊統計表!D668","v":0},{"$f":"+印領清冊統計表!E668","v":0}]
[{"$f":"IF(印領清冊統計表!$A669=\"總計\",\"\",(IF(印領清冊統計表!A669=0,A665,印領清冊統計表!A669)))","v":""},{"$f":"+印領清冊統計表!B669","v":0},{"$f":"+印領清冊統計表!C669","v":0},{"$f":"+印領清冊統計表!D669","v":0},{"$f":"+印領清冊統計表!E669","v":0}]
[{"$f":"IF(印領清冊統計表!$A670=\"總計\",\"\",(IF(印領清冊統計表!A670=0,A666,印領清冊統計表!A670)))","v":""},{"$f":"+印領清冊統計表!B670","v":0},{"$f":"+印領清冊統計表!C670","v":0},{"$f":"+印領清冊統計表!D670","v":0},{"$f":"+印領清冊統計表!E670","v":0}]
[{"$f":"IF(印領清冊統計表!$A671=\"總計\",\"\",(IF(印領清冊統計表!A671=0,A667,印領清冊統計表!A671)))","v":""},{"$f":"+印領清冊統計表!B671","v":0},{"$f":"+印領清冊統計表!C671","v":0},{"$f":"+印領清冊統計表!D671","v":0},{"$f":"+印領清冊統計表!E671","v":0}]
[{"$f":"IF(印領清冊統計表!$A672=\"總計\",\"\",(IF(印領清冊統計表!A672=0,A668,印領清冊統計表!A672)))","v":""},{"$f":"+印領清冊統計表!B672","v":0},{"$f":"+印領清冊統計表!C672","v":0},{"$f":"+印領清冊統計表!D672","v":0},{"$f":"+印領清冊統計表!E672","v":0}]
[{"$f":"IF(印領清冊統計表!$A673=\"總計\",\"\",(IF(印領清冊統計表!A673=0,A669,印領清冊統計表!A673)))","v":""},{"$f":"+印領清冊統計表!B673","v":0},{"$f":"+印領清冊統計表!C673","v":0},{"$f":"+印領清冊統計表!D673","v":0},{"$f":"+印領清冊統計表!E673","v":0}]
[{"$f":"IF(印領清冊統計表!$A674=\"總計\",\"\",(IF(印領清冊統計表!A674=0,A670,印領清冊統計表!A674)))","v":""},{"$f":"+印領清冊統計表!B674","v":0},{"$f":"+印領清冊統計表!C674","v":0},{"$f":"+印領清冊統計表!D674","v":0},{"$f":"+印領清冊統計表!E674","v":0}]
[{"$f":"IF(印領清冊統計表!$A675=\"總計\",\"\",(IF(印領清冊統計表!A675=0,A671,印領清冊統計表!A675)))","v":""},{"$f":"+印領清冊統計表!B675","v":0},{"$f":"+印領清冊統計表!C675","v":0},{"$f":"+印領清冊統計表!D675","v":0},{"$f":"+印領清冊統計表!E675","v":0}]
[{"$f":"IF(印領清冊統計表!$A676=\"總計\",\"\",(IF(印領清冊統計表!A676=0,A672,印領清冊統計表!A676)))","v":""},{"$f":"+印領清冊統計表!B676","v":0},{"$f":"+印領清冊統計表!C676","v":0},{"$f":"+印領清冊統計表!D676","v":0},{"$f":"+印領清冊統計表!E676","v":0}]
[{"$f":"IF(印領清冊統計表!$A677=\"總計\",\"\",(IF(印領清冊統計表!A677=0,A673,印領清冊統計表!A677)))","v":""},{"$f":"+印領清冊統計表!B677","v":0},{"$f":"+印領清冊統計表!C677","v":0},{"$f":"+印領清冊統計表!D677","v":0},{"$f":"+印領清冊統計表!E677","v":0}]
[{"$f":"IF(印領清冊統計表!$A678=\"總計\",\"\",(IF(印領清冊統計表!A678=0,A674,印領清冊統計表!A678)))","v":""},{"$f":"+印領清冊統計表!B678","v":0},{"$f":"+印領清冊統計表!C678","v":0},{"$f":"+印領清冊統計表!D678","v":0},{"$f":"+印領清冊統計表!E678","v":0}]
[{"$f":"IF(印領清冊統計表!$A679=\"總計\",\"\",(IF(印領清冊統計表!A679=0,A675,印領清冊統計表!A679)))","v":""},{"$f":"+印領清冊統計表!B679","v":0},{"$f":"+印領清冊統計表!C679","v":0},{"$f":"+印領清冊統計表!D679","v":0},{"$f":"+印領清冊統計表!E679","v":0}]
[{"$f":"IF(印領清冊統計表!$A680=\"總計\",\"\",(IF(印領清冊統計表!A680=0,A676,印領清冊統計表!A680)))","v":""},{"$f":"+印領清冊統計表!B680","v":0},{"$f":"+印領清冊統計表!C680","v":0},{"$f":"+印領清冊統計表!D680","v":0},{"$f":"+印領清冊統計表!E680","v":0}]
[{"$f":"IF(印領清冊統計表!$A681=\"總計\",\"\",(IF(印領清冊統計表!A681=0,A677,印領清冊統計表!A681)))","v":""},{"$f":"+印領清冊統計表!B681","v":0},{"$f":"+印領清冊統計表!C681","v":0},{"$f":"+印領清冊統計表!D681","v":0},{"$f":"+印領清冊統計表!E681","v":0}]
[{"$f":"IF(印領清冊統計表!$A682=\"總計\",\"\",(IF(印領清冊統計表!A682=0,A678,印領清冊統計表!A682)))","v":""},{"$f":"+印領清冊統計表!B682","v":0},{"$f":"+印領清冊統計表!C682","v":0},{"$f":"+印領清冊統計表!D682","v":0},{"$f":"+印領清冊統計表!E682","v":0}]
[{"$f":"IF(印領清冊統計表!$A683=\"總計\",\"\",(IF(印領清冊統計表!A683=0,A679,印領清冊統計表!A683)))","v":""},{"$f":"+印領清冊統計表!B683","v":0},{"$f":"+印領清冊統計表!C683","v":0},{"$f":"+印領清冊統計表!D683","v":0},{"$f":"+印領清冊統計表!E683","v":0}]
[{"$f":"IF(印領清冊統計表!$A684=\"總計\",\"\",(IF(印領清冊統計表!A684=0,A680,印領清冊統計表!A684)))","v":""},{"$f":"+印領清冊統計表!B684","v":0},{"$f":"+印領清冊統計表!C684","v":0},{"$f":"+印領清冊統計表!D684","v":0},{"$f":"+印領清冊統計表!E684","v":0}]
[{"$f":"IF(印領清冊統計表!$A685=\"總計\",\"\",(IF(印領清冊統計表!A685=0,A681,印領清冊統計表!A685)))","v":""},{"$f":"+印領清冊統計表!B685","v":0},{"$f":"+印領清冊統計表!C685","v":0},{"$f":"+印領清冊統計表!D685","v":0},{"$f":"+印領清冊統計表!E685","v":0}]
[{"$f":"IF(印領清冊統計表!$A686=\"總計\",\"\",(IF(印領清冊統計表!A686=0,A682,印領清冊統計表!A686)))","v":""},{"$f":"+印領清冊統計表!B686","v":0},{"$f":"+印領清冊統計表!C686","v":0},{"$f":"+印領清冊統計表!D686","v":0},{"$f":"+印領清冊統計表!E686","v":0}]
[{"$f":"IF(印領清冊統計表!$A687=\"總計\",\"\",(IF(印領清冊統計表!A687=0,A683,印領清冊統計表!A687)))","v":""},{"$f":"+印領清冊統計表!B687","v":0},{"$f":"+印領清冊統計表!C687","v":0},{"$f":"+印領清冊統計表!D687","v":0},{"$f":"+印領清冊統計表!E687","v":0}]
[{"$f":"IF(印領清冊統計表!$A688=\"總計\",\"\",(IF(印領清冊統計表!A688=0,A684,印領清冊統計表!A688)))","v":""},{"$f":"+印領清冊統計表!B688","v":0},{"$f":"+印領清冊統計表!C688","v":0},{"$f":"+印領清冊統計表!D688","v":0},{"$f":"+印領清冊統計表!E688","v":0}]
[{"$f":"IF(印領清冊統計表!$A689=\"總計\",\"\",(IF(印領清冊統計表!A689=0,A685,印領清冊統計表!A689)))","v":""},{"$f":"+印領清冊統計表!B689","v":0},{"$f":"+印領清冊統計表!C689","v":0},{"$f":"+印領清冊統計表!D689","v":0},{"$f":"+印領清冊統計表!E689","v":0}]
[{"$f":"IF(印領清冊統計表!$A690=\"總計\",\"\",(IF(印領清冊統計表!A690=0,A686,印領清冊統計表!A690)))","v":""},{"$f":"+印領清冊統計表!B690","v":0},{"$f":"+印領清冊統計表!C690","v":0},{"$f":"+印領清冊統計表!D690","v":0},{"$f":"+印領清冊統計表!E690","v":0}]
[{"$f":"IF(印領清冊統計表!$A691=\"總計\",\"\",(IF(印領清冊統計表!A691=0,A687,印領清冊統計表!A691)))","v":""},{"$f":"+印領清冊統計表!B691","v":0},{"$f":"+印領清冊統計表!C691","v":0},{"$f":"+印領清冊統計表!D691","v":0},{"$f":"+印領清冊統計表!E691","v":0}]
[{"$f":"IF(印領清冊統計表!$A692=\"總計\",\"\",(IF(印領清冊統計表!A692=0,A688,印領清冊統計表!A692)))","v":""},{"$f":"+印領清冊統計表!B692","v":0},{"$f":"+印領清冊統計表!C692","v":0},{"$f":"+印領清冊統計表!D692","v":0},{"$f":"+印領清冊統計表!E692","v":0}]
[{"$f":"IF(印領清冊統計表!$A693=\"總計\",\"\",(IF(印領清冊統計表!A693=0,A689,印領清冊統計表!A693)))","v":""},{"$f":"+印領清冊統計表!B693","v":0},{"$f":"+印領清冊統計表!C693","v":0},{"$f":"+印領清冊統計表!D693","v":0},{"$f":"+印領清冊統計表!E693","v":0}]
[{"$f":"IF(印領清冊統計表!$A694=\"總計\",\"\",(IF(印領清冊統計表!A694=0,A690,印領清冊統計表!A694)))","v":""},{"$f":"+印領清冊統計表!B694","v":0},{"$f":"+印領清冊統計表!C694","v":0},{"$f":"+印領清冊統計表!D694","v":0},{"$f":"+印領清冊統計表!E694","v":0}]
[{"$f":"IF(印領清冊統計表!$A695=\"總計\",\"\",(IF(印領清冊統計表!A695=0,A691,印領清冊統計表!A695)))","v":""},{"$f":"+印領清冊統計表!B695","v":0},{"$f":"+印領清冊統計表!C695","v":0},{"$f":"+印領清冊統計表!D695","v":0},{"$f":"+印領清冊統計表!E695","v":0}]
[{"$f":"IF(印領清冊統計表!$A696=\"總計\",\"\",(IF(印領清冊統計表!A696=0,A692,印領清冊統計表!A696)))","v":""},{"$f":"+印領清冊統計表!B696","v":0},{"$f":"+印領清冊統計表!C696","v":0},{"$f":"+印領清冊統計表!D696","v":0},{"$f":"+印領清冊統計表!E696","v":0}]
[{"$f":"IF(印領清冊統計表!$A697=\"總計\",\"\",(IF(印領清冊統計表!A697=0,A693,印領清冊統計表!A697)))","v":""},{"$f":"+印領清冊統計表!B697","v":0},{"$f":"+印領清冊統計表!C697","v":0},{"$f":"+印領清冊統計表!D697","v":0},{"$f":"+印領清冊統計表!E697","v":0}]
[{"$f":"IF(印領清冊統計表!$A698=\"總計\",\"\",(IF(印領清冊統計表!A698=0,A694,印領清冊統計表!A698)))","v":""},{"$f":"+印領清冊統計表!B698","v":0},{"$f":"+印領清冊統計表!C698","v":0},{"$f":"+印領清冊統計表!D698","v":0},{"$f":"+印領清冊統計表!E698","v":0}]
[{"$f":"IF(印領清冊統計表!$A699=\"總計\",\"\",(IF(印領清冊統計表!A699=0,A695,印領清冊統計表!A699)))","v":""},{"$f":"+印領清冊統計表!B699","v":0},{"$f":"+印領清冊統計表!C699","v":0},{"$f":"+印領清冊統計表!D699","v":0},{"$f":"+印領清冊統計表!E699","v":0}]
[{"$f":"IF(印領清冊統計表!$A700=\"總計\",\"\",(IF(印領清冊統計表!A700=0,A696,印領清冊統計表!A700)))","v":""},{"$f":"+印領清冊統計表!B700","v":0},{"$f":"+印領清冊統計表!C700","v":0},{"$f":"+印領清冊統計表!D700","v":0},{"$f":"+印領清冊統計表!E700","v":0}]
[{"$f":"IF(印領清冊統計表!$A701=\"總計\",\"\",(IF(印領清冊統計表!A701=0,A697,印領清冊統計表!A701)))","v":""},{"$f":"+印領清冊統計表!B701","v":0},{"$f":"+印領清冊統計表!C701","v":0},{"$f":"+印領清冊統計表!D701","v":0},{"$f":"+印領清冊統計表!E701","v":0}]
[{"$f":"IF(印領清冊統計表!$A702=\"總計\",\"\",(IF(印領清冊統計表!A702=0,A698,印領清冊統計表!A702)))","v":""},{"$f":"+印領清冊統計表!B702","v":0},{"$f":"+印領清冊統計表!C702","v":0},{"$f":"+印領清冊統計表!D702","v":0},{"$f":"+印領清冊統計表!E702","v":0}]
[{"$f":"IF(印領清冊統計表!$A703=\"總計\",\"\",(IF(印領清冊統計表!A703=0,A699,印領清冊統計表!A703)))","v":""},{"$f":"+印領清冊統計表!B703","v":0},{"$f":"+印領清冊統計表!C703","v":0},{"$f":"+印領清冊統計表!D703","v":0},{"$f":"+印領清冊統計表!E703","v":0}]
[{"$f":"IF(印領清冊統計表!$A704=\"總計\",\"\",(IF(印領清冊統計表!A704=0,A700,印領清冊統計表!A704)))","v":""},{"$f":"+印領清冊統計表!B704","v":0},{"$f":"+印領清冊統計表!C704","v":0},{"$f":"+印領清冊統計表!D704","v":0},{"$f":"+印領清冊統計表!E704","v":0}]
[{"$f":"IF(印領清冊統計表!$A705=\"總計\",\"\",(IF(印領清冊統計表!A705=0,A701,印領清冊統計表!A705)))","v":""},{"$f":"+印領清冊統計表!B705","v":0},{"$f":"+印領清冊統計表!C705","v":0},{"$f":"+印領清冊統計表!D705","v":0},{"$f":"+印領清冊統計表!E705","v":0}]
[{"$f":"IF(印領清冊統計表!$A706=\"總計\",\"\",(IF(印領清冊統計表!A706=0,A702,印領清冊統計表!A706)))","v":""},{"$f":"+印領清冊統計表!B706","v":0},{"$f":"+印領清冊統計表!C706","v":0},{"$f":"+印領清冊統計表!D706","v":0},{"$f":"+印領清冊統計表!E706","v":0}]
[{"$f":"IF(印領清冊統計表!$A707=\"總計\",\"\",(IF(印領清冊統計表!A707=0,A703,印領清冊統計表!A707)))","v":""},{"$f":"+印領清冊統計表!B707","v":0},{"$f":"+印領清冊統計表!C707","v":0},{"$f":"+印領清冊統計表!D707","v":0},{"$f":"+印領清冊統計表!E707","v":0}]
[{"$f":"IF(印領清冊統計表!$A708=\"總計\",\"\",(IF(印領清冊統計表!A708=0,A704,印領清冊統計表!A708)))","v":""},{"$f":"+印領清冊統計表!B708","v":0},{"$f":"+印領清冊統計表!C708","v":0},{"$f":"+印領清冊統計表!D708","v":0},{"$f":"+印領清冊統計表!E708","v":0}]
[{"$f":"IF(印領清冊統計表!$A709=\"總計\",\"\",(IF(印領清冊統計表!A709=0,A705,印領清冊統計表!A709)))","v":""},{"$f":"+印領清冊統計表!B709","v":0},{"$f":"+印領清冊統計表!C709","v":0},{"$f":"+印領清冊統計表!D709","v":0},{"$f":"+印領清冊統計表!E709","v":0}]
[{"$f":"IF(印領清冊統計表!$A710=\"總計\",\"\",(IF(印領清冊統計表!A710=0,A706,印領清冊統計表!A710)))","v":""},{"$f":"+印領清冊統計表!B710","v":0},{"$f":"+印領清冊統計表!C710","v":0},{"$f":"+印領清冊統計表!D710","v":0},{"$f":"+印領清冊統計表!E710","v":0}]
[{"$f":"IF(印領清冊統計表!$A711=\"總計\",\"\",(IF(印領清冊統計表!A711=0,A707,印領清冊統計表!A711)))","v":""},{"$f":"+印領清冊統計表!B711","v":0},{"$f":"+印領清冊統計表!C711","v":0},{"$f":"+印領清冊統計表!D711","v":0},{"$f":"+印領清冊統計表!E711","v":0}]
[{"$f":"IF(印領清冊統計表!$A712=\"總計\",\"\",(IF(印領清冊統計表!A712=0,A708,印領清冊統計表!A712)))","v":""},{"$f":"+印領清冊統計表!B712","v":0},{"$f":"+印領清冊統計表!C712","v":0},{"$f":"+印領清冊統計表!D712","v":0},{"$f":"+印領清冊統計表!E712","v":0}]
[{"$f":"IF(印領清冊統計表!$A713=\"總計\",\"\",(IF(印領清冊統計表!A713=0,A709,印領清冊統計表!A713)))","v":""},{"$f":"+印領清冊統計表!B713","v":0},{"$f":"+印領清冊統計表!C713","v":0},{"$f":"+印領清冊統計表!D713","v":0},{"$f":"+印領清冊統計表!E713","v":0}]
[{"$f":"IF(印領清冊統計表!$A714=\"總計\",\"\",(IF(印領清冊統計表!A714=0,A710,印領清冊統計表!A714)))","v":""},{"$f":"+印領清冊統計表!B714","v":0},{"$f":"+印領清冊統計表!C714","v":0},{"$f":"+印領清冊統計表!D714","v":0},{"$f":"+印領清冊統計表!E714","v":0}]
[{"$f":"IF(印領清冊統計表!$A715=\"總計\",\"\",(IF(印領清冊統計表!A715=0,A711,印領清冊統計表!A715)))","v":""},{"$f":"+印領清冊統計表!B715","v":0},{"$f":"+印領清冊統計表!C715","v":0},{"$f":"+印領清冊統計表!D715","v":0},{"$f":"+印領清冊統計表!E715","v":0}]
[{"$f":"IF(印領清冊統計表!$A716=\"總計\",\"\",(IF(印領清冊統計表!A716=0,A712,印領清冊統計表!A716)))","v":""},{"$f":"+印領清冊統計表!B716","v":0},{"$f":"+印領清冊統計表!C716","v":0},{"$f":"+印領清冊統計表!D716","v":0},{"$f":"+印領清冊統計表!E716","v":0}]
[{"$f":"IF(印領清冊統計表!$A717=\"總計\",\"\",(IF(印領清冊統計表!A717=0,A713,印領清冊統計表!A717)))","v":""},{"$f":"+印領清冊統計表!B717","v":0},{"$f":"+印領清冊統計表!C717","v":0},{"$f":"+印領清冊統計表!D717","v":0},{"$f":"+印領清冊統計表!E717","v":0}]
[{"$f":"IF(印領清冊統計表!$A718=\"總計\",\"\",(IF(印領清冊統計表!A718=0,A714,印領清冊統計表!A718)))","v":""},{"$f":"+印領清冊統計表!B718","v":0},{"$f":"+印領清冊統計表!C718","v":0},{"$f":"+印領清冊統計表!D718","v":0},{"$f":"+印領清冊統計表!E718","v":0}]
[{"$f":"IF(印領清冊統計表!$A719=\"總計\",\"\",(IF(印領清冊統計表!A719=0,A715,印領清冊統計表!A719)))","v":""},{"$f":"+印領清冊統計表!B719","v":0},{"$f":"+印領清冊統計表!C719","v":0},{"$f":"+印領清冊統計表!D719","v":0},{"$f":"+印領清冊統計表!E719","v":0}]
[{"$f":"IF(印領清冊統計表!$A720=\"總計\",\"\",(IF(印領清冊統計表!A720=0,A716,印領清冊統計表!A720)))","v":""},{"$f":"+印領清冊統計表!B720","v":0},{"$f":"+印領清冊統計表!C720","v":0},{"$f":"+印領清冊統計表!D720","v":0},{"$f":"+印領清冊統計表!E720","v":0}]
[{"$f":"IF(印領清冊統計表!$A721=\"總計\",\"\",(IF(印領清冊統計表!A721=0,A717,印領清冊統計表!A721)))","v":""},{"$f":"+印領清冊統計表!B721","v":0},{"$f":"+印領清冊統計表!C721","v":0},{"$f":"+印領清冊統計表!D721","v":0},{"$f":"+印領清冊統計表!E721","v":0}]
[{"$f":"IF(印領清冊統計表!$A722=\"總計\",\"\",(IF(印領清冊統計表!A722=0,A718,印領清冊統計表!A722)))","v":""},{"$f":"+印領清冊統計表!B722","v":0},{"$f":"+印領清冊統計表!C722","v":0},{"$f":"+印領清冊統計表!D722","v":0},{"$f":"+印領清冊統計表!E722","v":0}]
[{"$f":"IF(印領清冊統計表!$A723=\"總計\",\"\",(IF(印領清冊統計表!A723=0,A719,印領清冊統計表!A723)))","v":""},{"$f":"+印領清冊統計表!B723","v":0},{"$f":"+印領清冊統計表!C723","v":0},{"$f":"+印領清冊統計表!D723","v":0},{"$f":"+印領清冊統計表!E723","v":0}]
[{"$f":"IF(印領清冊統計表!$A724=\"總計\",\"\",(IF(印領清冊統計表!A724=0,A720,印領清冊統計表!A724)))","v":""},{"$f":"+印領清冊統計表!B724","v":0},{"$f":"+印領清冊統計表!C724","v":0},{"$f":"+印領清冊統計表!D724","v":0},{"$f":"+印領清冊統計表!E724","v":0}]
[{"$f":"IF(印領清冊統計表!$A725=\"總計\",\"\",(IF(印領清冊統計表!A725=0,A721,印領清冊統計表!A725)))","v":""},{"$f":"+印領清冊統計表!B725","v":0},{"$f":"+印領清冊統計表!C725","v":0},{"$f":"+印領清冊統計表!D725","v":0},{"$f":"+印領清冊統計表!E725","v":0}]
[{"$f":"IF(印領清冊統計表!$A726=\"總計\",\"\",(IF(印領清冊統計表!A726=0,A722,印領清冊統計表!A726)))","v":""},{"$f":"+印領清冊統計表!B726","v":0},{"$f":"+印領清冊統計表!C726","v":0},{"$f":"+印領清冊統計表!D726","v":0},{"$f":"+印領清冊統計表!E726","v":0}]
[{"$f":"IF(印領清冊統計表!$A727=\"總計\",\"\",(IF(印領清冊統計表!A727=0,A723,印領清冊統計表!A727)))","v":""},{"$f":"+印領清冊統計表!B727","v":0},{"$f":"+印領清冊統計表!C727","v":0},{"$f":"+印領清冊統計表!D727","v":0},{"$f":"+印領清冊統計表!E727","v":0}]
[{"$f":"IF(印領清冊統計表!$A728=\"總計\",\"\",(IF(印領清冊統計表!A728=0,A724,印領清冊統計表!A728)))","v":""},{"$f":"+印領清冊統計表!B728","v":0},{"$f":"+印領清冊統計表!C728","v":0},{"$f":"+印領清冊統計表!D728","v":0},{"$f":"+印領清冊統計表!E728","v":0}]
[{"$f":"IF(印領清冊統計表!$A729=\"總計\",\"\",(IF(印領清冊統計表!A729=0,A725,印領清冊統計表!A729)))","v":""},{"$f":"+印領清冊統計表!B729","v":0},{"$f":"+印領清冊統計表!C729","v":0},{"$f":"+印領清冊統計表!D729","v":0},{"$f":"+印領清冊統計表!E729","v":0}]
[{"$f":"IF(印領清冊統計表!$A730=\"總計\",\"\",(IF(印領清冊統計表!A730=0,A726,印領清冊統計表!A730)))","v":""},{"$f":"+印領清冊統計表!B730","v":0},{"$f":"+印領清冊統計表!C730","v":0},{"$f":"+印領清冊統計表!D730","v":0},{"$f":"+印領清冊統計表!E730","v":0}]
[{"$f":"IF(印領清冊統計表!$A731=\"總計\",\"\",(IF(印領清冊統計表!A731=0,A727,印領清冊統計表!A731)))","v":""},{"$f":"+印領清冊統計表!B731","v":0},{"$f":"+印領清冊統計表!C731","v":0},{"$f":"+印領清冊統計表!D731","v":0},{"$f":"+印領清冊統計表!E731","v":0}]
[{"$f":"IF(印領清冊統計表!$A732=\"總計\",\"\",(IF(印領清冊統計表!A732=0,A728,印領清冊統計表!A732)))","v":""},{"$f":"+印領清冊統計表!B732","v":0},{"$f":"+印領清冊統計表!C732","v":0},{"$f":"+印領清冊統計表!D732","v":0},{"$f":"+印領清冊統計表!E732","v":0}]
[{"$f":"IF(印領清冊統計表!$A733=\"總計\",\"\",(IF(印領清冊統計表!A733=0,A729,印領清冊統計表!A733)))","v":""},{"$f":"+印領清冊統計表!B733","v":0},{"$f":"+印領清冊統計表!C733","v":0},{"$f":"+印領清冊統計表!D733","v":0},{"$f":"+印領清冊統計表!E733","v":0}]
[{"$f":"IF(印領清冊統計表!$A734=\"總計\",\"\",(IF(印領清冊統計表!A734=0,A730,印領清冊統計表!A734)))","v":""},{"$f":"+印領清冊統計表!B734","v":0},{"$f":"+印領清冊統計表!C734","v":0},{"$f":"+印領清冊統計表!D734","v":0},{"$f":"+印領清冊統計表!E734","v":0}]
[{"$f":"IF(印領清冊統計表!$A735=\"總計\",\"\",(IF(印領清冊統計表!A735=0,A731,印領清冊統計表!A735)))","v":""},{"$f":"+印領清冊統計表!B735","v":0},{"$f":"+印領清冊統計表!C735","v":0},{"$f":"+印領清冊統計表!D735","v":0},{"$f":"+印領清冊統計表!E735","v":0}]
[{"$f":"IF(印領清冊統計表!$A736=\"總計\",\"\",(IF(印領清冊統計表!A736=0,A732,印領清冊統計表!A736)))","v":""},{"$f":"+印領清冊統計表!B736","v":0},{"$f":"+印領清冊統計表!C736","v":0},{"$f":"+印領清冊統計表!D736","v":0},{"$f":"+印領清冊統計表!E736","v":0}]
[{"$f":"IF(印領清冊統計表!$A737=\"總計\",\"\",(IF(印領清冊統計表!A737=0,A733,印領清冊統計表!A737)))","v":""},{"$f":"+印領清冊統計表!B737","v":0},{"$f":"+印領清冊統計表!C737","v":0},{"$f":"+印領清冊統計表!D737","v":0},{"$f":"+印領清冊統計表!E737","v":0}]
[{"$f":"IF(印領清冊統計表!$A738=\"總計\",\"\",(IF(印領清冊統計表!A738=0,A734,印領清冊統計表!A738)))","v":""},{"$f":"+印領清冊統計表!B738","v":0},{"$f":"+印領清冊統計表!C738","v":0},{"$f":"+印領清冊統計表!D738","v":0},{"$f":"+印領清冊統計表!E738","v":0}]
[{"$f":"IF(印領清冊統計表!$A739=\"總計\",\"\",(IF(印領清冊統計表!A739=0,A735,印領清冊統計表!A739)))","v":""},{"$f":"+印領清冊統計表!B739","v":0},{"$f":"+印領清冊統計表!C739","v":0},{"$f":"+印領清冊統計表!D739","v":0},{"$f":"+印領清冊統計表!E739","v":0}]
[{"$f":"IF(印領清冊統計表!$A740=\"總計\",\"\",(IF(印領清冊統計表!A740=0,A736,印領清冊統計表!A740)))","v":""},{"$f":"+印領清冊統計表!B740","v":0},{"$f":"+印領清冊統計表!C740","v":0},{"$f":"+印領清冊統計表!D740","v":0},{"$f":"+印領清冊統計表!E740","v":0}]
[{"$f":"IF(印領清冊統計表!$A741=\"總計\",\"\",(IF(印領清冊統計表!A741=0,A737,印領清冊統計表!A741)))","v":""},{"$f":"+印領清冊統計表!B741","v":0},{"$f":"+印領清冊統計表!C741","v":0},{"$f":"+印領清冊統計表!D741","v":0},{"$f":"+印領清冊統計表!E741","v":0}]
[{"$f":"IF(印領清冊統計表!$A742=\"總計\",\"\",(IF(印領清冊統計表!A742=0,A738,印領清冊統計表!A742)))","v":""},{"$f":"+印領清冊統計表!B742","v":0},{"$f":"+印領清冊統計表!C742","v":0},{"$f":"+印領清冊統計表!D742","v":0},{"$f":"+印領清冊統計表!E742","v":0}]
[{"$f":"IF(印領清冊統計表!$A743=\"總計\",\"\",(IF(印領清冊統計表!A743=0,A739,印領清冊統計表!A743)))","v":""},{"$f":"+印領清冊統計表!B743","v":0},{"$f":"+印領清冊統計表!C743","v":0},{"$f":"+印領清冊統計表!D743","v":0},{"$f":"+印領清冊統計表!E743","v":0}]
[{"$f":"IF(印領清冊統計表!$A744=\"總計\",\"\",(IF(印領清冊統計表!A744=0,A740,印領清冊統計表!A744)))","v":""},{"$f":"+印領清冊統計表!B744","v":0},{"$f":"+印領清冊統計表!C744","v":0},{"$f":"+印領清冊統計表!D744","v":0},{"$f":"+印領清冊統計表!E744","v":0}]
[{"$f":"IF(印領清冊統計表!$A745=\"總計\",\"\",(IF(印領清冊統計表!A745=0,A741,印領清冊統計表!A745)))","v":""},{"$f":"+印領清冊統計表!B745","v":0},{"$f":"+印領清冊統計表!C745","v":0},{"$f":"+印領清冊統計表!D745","v":0},{"$f":"+印領清冊統計表!E745","v":0}]
[{"$f":"IF(印領清冊統計表!$A746=\"總計\",\"\",(IF(印領清冊統計表!A746=0,A742,印領清冊統計表!A746)))","v":""},{"$f":"+印領清冊統計表!B746","v":0},{"$f":"+印領清冊統計表!C746","v":0},{"$f":"+印領清冊統計表!D746","v":0},{"$f":"+印領清冊統計表!E746","v":0}]
[{"$f":"IF(印領清冊統計表!$A747=\"總計\",\"\",(IF(印領清冊統計表!A747=0,A743,印領清冊統計表!A747)))","v":""},{"$f":"+印領清冊統計表!B747","v":0},{"$f":"+印領清冊統計表!C747","v":0},{"$f":"+印領清冊統計表!D747","v":0},{"$f":"+印領清冊統計表!E747","v":0}]
[{"$f":"IF(印領清冊統計表!$A748=\"總計\",\"\",(IF(印領清冊統計表!A748=0,A744,印領清冊統計表!A748)))","v":""},{"$f":"+印領清冊統計表!B748","v":0},{"$f":"+印領清冊統計表!C748","v":0},{"$f":"+印領清冊統計表!D748","v":0},{"$f":"+印領清冊統計表!E748","v":0}]
[{"$f":"IF(印領清冊統計表!$A749=\"總計\",\"\",(IF(印領清冊統計表!A749=0,A745,印領清冊統計表!A749)))","v":""},{"$f":"+印領清冊統計表!B749","v":0},{"$f":"+印領清冊統計表!C749","v":0},{"$f":"+印領清冊統計表!D749","v":0},{"$f":"+印領清冊統計表!E749","v":0}]
[{"$f":"IF(印領清冊統計表!$A750=\"總計\",\"\",(IF(印領清冊統計表!A750=0,A746,印領清冊統計表!A750)))","v":""},{"$f":"+印領清冊統計表!B750","v":0},{"$f":"+印領清冊統計表!C750","v":0},{"$f":"+印領清冊統計表!D750","v":0},{"$f":"+印領清冊統計表!E750","v":0}]
[{"$f":"IF(印領清冊統計表!$A751=\"總計\",\"\",(IF(印領清冊統計表!A751=0,A747,印領清冊統計表!A751)))","v":""},{"$f":"+印領清冊統計表!B751","v":0},{"$f":"+印領清冊統計表!C751","v":0},{"$f":"+印領清冊統計表!D751","v":0},{"$f":"+印領清冊統計表!E751","v":0}]
[{"$f":"IF(印領清冊統計表!$A752=\"總計\",\"\",(IF(印領清冊統計表!A752=0,A748,印領清冊統計表!A752)))","v":""},{"$f":"+印領清冊統計表!B752","v":0},{"$f":"+印領清冊統計表!C752","v":0},{"$f":"+印領清冊統計表!D752","v":0},{"$f":"+印領清冊統計表!E752","v":0}]
[{"$f":"IF(印領清冊統計表!$A753=\"總計\",\"\",(IF(印領清冊統計表!A753=0,A749,印領清冊統計表!A753)))","v":""},{"$f":"+印領清冊統計表!B753","v":0},{"$f":"+印領清冊統計表!C753","v":0},{"$f":"+印領清冊統計表!D753","v":0},{"$f":"+印領清冊統計表!E753","v":0}]
[{"$f":"IF(印領清冊統計表!$A754=\"總計\",\"\",(IF(印領清冊統計表!A754=0,A750,印領清冊統計表!A754)))","v":""},{"$f":"+印領清冊統計表!B754","v":0},{"$f":"+印領清冊統計表!C754","v":0},{"$f":"+印領清冊統計表!D754","v":0},{"$f":"+印領清冊統計表!E754","v":0}]
[{"$f":"IF(印領清冊統計表!$A755=\"總計\",\"\",(IF(印領清冊統計表!A755=0,A751,印領清冊統計表!A755)))","v":""},{"$f":"+印領清冊統計表!B755","v":0},{"$f":"+印領清冊統計表!C755","v":0},{"$f":"+印領清冊統計表!D755","v":0},{"$f":"+印領清冊統計表!E755","v":0}]
[{"$f":"IF(印領清冊統計表!$A756=\"總計\",\"\",(IF(印領清冊統計表!A756=0,A752,印領清冊統計表!A756)))","v":""},{"$f":"+印領清冊統計表!B756","v":0},{"$f":"+印領清冊統計表!C756","v":0},{"$f":"+印領清冊統計表!D756","v":0},{"$f":"+印領清冊統計表!E756","v":0}]
[{"$f":"IF(印領清冊統計表!$A757=\"總計\",\"\",(IF(印領清冊統計表!A757=0,A753,印領清冊統計表!A757)))","v":""},{"$f":"+印領清冊統計表!B757","v":0},{"$f":"+印領清冊統計表!C757","v":0},{"$f":"+印領清冊統計表!D757","v":0},{"$f":"+印領清冊統計表!E757","v":0}]
[{"$f":"IF(印領清冊統計表!$A758=\"總計\",\"\",(IF(印領清冊統計表!A758=0,A754,印領清冊統計表!A758)))","v":""},{"$f":"+印領清冊統計表!B758","v":0},{"$f":"+印領清冊統計表!C758","v":0},{"$f":"+印領清冊統計表!D758","v":0},{"$f":"+印領清冊統計表!E758","v":0}]
[{"$f":"IF(印領清冊統計表!$A759=\"總計\",\"\",(IF(印領清冊統計表!A759=0,A755,印領清冊統計表!A759)))","v":""},{"$f":"+印領清冊統計表!B759","v":0},{"$f":"+印領清冊統計表!C759","v":0},{"$f":"+印領清冊統計表!D759","v":0},{"$f":"+印領清冊統計表!E759","v":0}]
[{"$f":"IF(印領清冊統計表!$A760=\"總計\",\"\",(IF(印領清冊統計表!A760=0,A756,印領清冊統計表!A760)))","v":""},{"$f":"+印領清冊統計表!B760","v":0},{"$f":"+印領清冊統計表!C760","v":0},{"$f":"+印領清冊統計表!D760","v":0},{"$f":"+印領清冊統計表!E760","v":0}]
[{"$f":"IF(印領清冊統計表!$A761=\"總計\",\"\",(IF(印領清冊統計表!A761=0,A757,印領清冊統計表!A761)))","v":""},{"$f":"+印領清冊統計表!B761","v":0},{"$f":"+印領清冊統計表!C761","v":0},{"$f":"+印領清冊統計表!D761","v":0},{"$f":"+印領清冊統計表!E761","v":0}]
[{"$f":"IF(印領清冊統計表!$A762=\"總計\",\"\",(IF(印領清冊統計表!A762=0,A758,印領清冊統計表!A762)))","v":""},{"$f":"+印領清冊統計表!B762","v":0},{"$f":"+印領清冊統計表!C762","v":0},{"$f":"+印領清冊統計表!D762","v":0},{"$f":"+印領清冊統計表!E762","v":0}]
[{"$f":"IF(印領清冊統計表!$A763=\"總計\",\"\",(IF(印領清冊統計表!A763=0,A759,印領清冊統計表!A763)))","v":""},{"$f":"+印領清冊統計表!B763","v":0},{"$f":"+印領清冊統計表!C763","v":0},{"$f":"+印領清冊統計表!D763","v":0},{"$f":"+印領清冊統計表!E763","v":0}]
[{"$f":"IF(印領清冊統計表!$A764=\"總計\",\"\",(IF(印領清冊統計表!A764=0,A760,印領清冊統計表!A764)))","v":""},{"$f":"+印領清冊統計表!B764","v":0},{"$f":"+印領清冊統計表!C764","v":0},{"$f":"+印領清冊統計表!D764","v":0},{"$f":"+印領清冊統計表!E764","v":0}]
[{"$f":"IF(印領清冊統計表!$A765=\"總計\",\"\",(IF(印領清冊統計表!A765=0,A761,印領清冊統計表!A765)))","v":""},{"$f":"+印領清冊統計表!B765","v":0},{"$f":"+印領清冊統計表!C765","v":0},{"$f":"+印領清冊統計表!D765","v":0},{"$f":"+印領清冊統計表!E765","v":0}]
[{"$f":"IF(印領清冊統計表!$A766=\"總計\",\"\",(IF(印領清冊統計表!A766=0,A762,印領清冊統計表!A766)))","v":""},{"$f":"+印領清冊統計表!B766","v":0},{"$f":"+印領清冊統計表!C766","v":0},{"$f":"+印領清冊統計表!D766","v":0},{"$f":"+印領清冊統計表!E766","v":0}]
[{"$f":"IF(印領清冊統計表!$A767=\"總計\",\"\",(IF(印領清冊統計表!A767=0,A763,印領清冊統計表!A767)))","v":""},{"$f":"+印領清冊統計表!B767","v":0},{"$f":"+印領清冊統計表!C767","v":0},{"$f":"+印領清冊統計表!D767","v":0},{"$f":"+印領清冊統計表!E767","v":0}]
[{"$f":"IF(印領清冊統計表!$A768=\"總計\",\"\",(IF(印領清冊統計表!A768=0,A764,印領清冊統計表!A768)))","v":""},{"$f":"+印領清冊統計表!B768","v":0},{"$f":"+印領清冊統計表!C768","v":0},{"$f":"+印領清冊統計表!D768","v":0},{"$f":"+印領清冊統計表!E768","v":0}]
[{"$f":"IF(印領清冊統計表!$A769=\"總計\",\"\",(IF(印領清冊統計表!A769=0,A765,印領清冊統計表!A769)))","v":""},{"$f":"+印領清冊統計表!B769","v":0},{"$f":"+印領清冊統計表!C769","v":0},{"$f":"+印領清冊統計表!D769","v":0},{"$f":"+印領清冊統計表!E769","v":0}]
[{"$f":"IF(印領清冊統計表!$A770=\"總計\",\"\",(IF(印領清冊統計表!A770=0,A766,印領清冊統計表!A770)))","v":""},{"$f":"+印領清冊統計表!B770","v":0},{"$f":"+印領清冊統計表!C770","v":0},{"$f":"+印領清冊統計表!D770","v":0},{"$f":"+印領清冊統計表!E770","v":0}]
[{"$f":"IF(印領清冊統計表!$A771=\"總計\",\"\",(IF(印領清冊統計表!A771=0,A767,印領清冊統計表!A771)))","v":""},{"$f":"+印領清冊統計表!B771","v":0},{"$f":"+印領清冊統計表!C771","v":0},{"$f":"+印領清冊統計表!D771","v":0},{"$f":"+印領清冊統計表!E771","v":0}]
[{"$f":"IF(印領清冊統計表!$A772=\"總計\",\"\",(IF(印領清冊統計表!A772=0,A768,印領清冊統計表!A772)))","v":""},{"$f":"+印領清冊統計表!B772","v":0},{"$f":"+印領清冊統計表!C772","v":0},{"$f":"+印領清冊統計表!D772","v":0},{"$f":"+印領清冊統計表!E772","v":0}]
[{"$f":"IF(印領清冊統計表!$A773=\"總計\",\"\",(IF(印領清冊統計表!A773=0,A769,印領清冊統計表!A773)))","v":""},{"$f":"+印領清冊統計表!B773","v":0},{"$f":"+印領清冊統計表!C773","v":0},{"$f":"+印領清冊統計表!D773","v":0},{"$f":"+印領清冊統計表!E773","v":0}]
[{"$f":"IF(印領清冊統計表!$A774=\"總計\",\"\",(IF(印領清冊統計表!A774=0,A770,印領清冊統計表!A774)))","v":""},{"$f":"+印領清冊統計表!B774","v":0},{"$f":"+印領清冊統計表!C774","v":0},{"$f":"+印領清冊統計表!D774","v":0},{"$f":"+印領清冊統計表!E774","v":0}]
[{"$f":"IF(印領清冊統計表!$A775=\"總計\",\"\",(IF(印領清冊統計表!A775=0,A771,印領清冊統計表!A775)))","v":""},{"$f":"+印領清冊統計表!B775","v":0},{"$f":"+印領清冊統計表!C775","v":0},{"$f":"+印領清冊統計表!D775","v":0},{"$f":"+印領清冊統計表!E775","v":0}]
[{"$f":"IF(印領清冊統計表!$A776=\"總計\",\"\",(IF(印領清冊統計表!A776=0,A772,印領清冊統計表!A776)))","v":""},{"$f":"+印領清冊統計表!B776","v":0},{"$f":"+印領清冊統計表!C776","v":0},{"$f":"+印領清冊統計表!D776","v":0},{"$f":"+印領清冊統計表!E776","v":0}]
[{"$f":"IF(印領清冊統計表!$A777=\"總計\",\"\",(IF(印領清冊統計表!A777=0,A773,印領清冊統計表!A777)))","v":""},{"$f":"+印領清冊統計表!B777","v":0},{"$f":"+印領清冊統計表!C777","v":0},{"$f":"+印領清冊統計表!D777","v":0},{"$f":"+印領清冊統計表!E777","v":0}]
[{"$f":"IF(印領清冊統計表!$A778=\"總計\",\"\",(IF(印領清冊統計表!A778=0,A774,印領清冊統計表!A778)))","v":""},{"$f":"+印領清冊統計表!B778","v":0},{"$f":"+印領清冊統計表!C778","v":0},{"$f":"+印領清冊統計表!D778","v":0},{"$f":"+印領清冊統計表!E778","v":0}]
[{"$f":"IF(印領清冊統計表!$A779=\"總計\",\"\",(IF(印領清冊統計表!A779=0,A775,印領清冊統計表!A779)))","v":""},{"$f":"+印領清冊統計表!B779","v":0},{"$f":"+印領清冊統計表!C779","v":0},{"$f":"+印領清冊統計表!D779","v":0},{"$f":"+印領清冊統計表!E779","v":0}]
[{"$f":"IF(印領清冊統計表!$A780=\"總計\",\"\",(IF(印領清冊統計表!A780=0,A776,印領清冊統計表!A780)))","v":""},{"$f":"+印領清冊統計表!B780","v":0},{"$f":"+印領清冊統計表!C780","v":0},{"$f":"+印領清冊統計表!D780","v":0},{"$f":"+印領清冊統計表!E780","v":0}]
[{"$f":"IF(印領清冊統計表!$A781=\"總計\",\"\",(IF(印領清冊統計表!A781=0,A777,印領清冊統計表!A781)))","v":""},{"$f":"+印領清冊統計表!B781","v":0},{"$f":"+印領清冊統計表!C781","v":0},{"$f":"+印領清冊統計表!D781","v":0},{"$f":"+印領清冊統計表!E781","v":0}]
[{"$f":"IF(印領清冊統計表!$A782=\"總計\",\"\",(IF(印領清冊統計表!A782=0,A778,印領清冊統計表!A782)))","v":""},{"$f":"+印領清冊統計表!B782","v":0},{"$f":"+印領清冊統計表!C782","v":0},{"$f":"+印領清冊統計表!D782","v":0},{"$f":"+印領清冊統計表!E782","v":0}]
[{"$f":"IF(印領清冊統計表!$A783=\"總計\",\"\",(IF(印領清冊統計表!A783=0,A779,印領清冊統計表!A783)))","v":""},{"$f":"+印領清冊統計表!B783","v":0},{"$f":"+印領清冊統計表!C783","v":0},{"$f":"+印領清冊統計表!D783","v":0},{"$f":"+印領清冊統計表!E783","v":0}]
[{"$f":"IF(印領清冊統計表!$A784=\"總計\",\"\",(IF(印領清冊統計表!A784=0,A780,印領清冊統計表!A784)))","v":""},{"$f":"+印領清冊統計表!B784","v":0},{"$f":"+印領清冊統計表!C784","v":0},{"$f":"+印領清冊統計表!D784","v":0},{"$f":"+印領清冊統計表!E784","v":0}]
[{"$f":"IF(印領清冊統計表!$A785=\"總計\",\"\",(IF(印領清冊統計表!A785=0,A781,印領清冊統計表!A785)))","v":""},{"$f":"+印領清冊統計表!B785","v":0},{"$f":"+印領清冊統計表!C785","v":0},{"$f":"+印領清冊統計表!D785","v":0},{"$f":"+印領清冊統計表!E785","v":0}]
[{"$f":"IF(印領清冊統計表!$A786=\"總計\",\"\",(IF(印領清冊統計表!A786=0,A782,印領清冊統計表!A786)))","v":""},{"$f":"+印領清冊統計表!B786","v":0},{"$f":"+印領清冊統計表!C786","v":0},{"$f":"+印領清冊統計表!D786","v":0},{"$f":"+印領清冊統計表!E786","v":0}]
[{"$f":"IF(印領清冊統計表!$A787=\"總計\",\"\",(IF(印領清冊統計表!A787=0,A783,印領清冊統計表!A787)))","v":""},{"$f":"+印領清冊統計表!B787","v":0},{"$f":"+印領清冊統計表!C787","v":0},{"$f":"+印領清冊統計表!D787","v":0},{"$f":"+印領清冊統計表!E787","v":0}]
[{"$f":"IF(印領清冊統計表!$A788=\"總計\",\"\",(IF(印領清冊統計表!A788=0,A784,印領清冊統計表!A788)))","v":""},{"$f":"+印領清冊統計表!B788","v":0},{"$f":"+印領清冊統計表!C788","v":0},{"$f":"+印領清冊統計表!D788","v":0},{"$f":"+印領清冊統計表!E788","v":0}]
[{"$f":"IF(印領清冊統計表!$A789=\"總計\",\"\",(IF(印領清冊統計表!A789=0,A785,印領清冊統計表!A789)))","v":""},{"$f":"+印領清冊統計表!B789","v":0},{"$f":"+印領清冊統計表!C789","v":0},{"$f":"+印領清冊統計表!D789","v":0},{"$f":"+印領清冊統計表!E789","v":0}]
[{"$f":"IF(印領清冊統計表!$A790=\"總計\",\"\",(IF(印領清冊統計表!A790=0,A786,印領清冊統計表!A790)))","v":""},{"$f":"+印領清冊統計表!B790","v":0},{"$f":"+印領清冊統計表!C790","v":0},{"$f":"+印領清冊統計表!D790","v":0},{"$f":"+印領清冊統計表!E790","v":0}]
[{"$f":"IF(印領清冊統計表!$A791=\"總計\",\"\",(IF(印領清冊統計表!A791=0,A787,印領清冊統計表!A791)))","v":""},{"$f":"+印領清冊統計表!B791","v":0},{"$f":"+印領清冊統計表!C791","v":0},{"$f":"+印領清冊統計表!D791","v":0},{"$f":"+印領清冊統計表!E791","v":0}]
[{"$f":"IF(印領清冊統計表!$A792=\"總計\",\"\",(IF(印領清冊統計表!A792=0,A788,印領清冊統計表!A792)))","v":""},{"$f":"+印領清冊統計表!B792","v":0},{"$f":"+印領清冊統計表!C792","v":0},{"$f":"+印領清冊統計表!D792","v":0},{"$f":"+印領清冊統計表!E792","v":0}]
[{"$f":"IF(印領清冊統計表!$A793=\"總計\",\"\",(IF(印領清冊統計表!A793=0,A789,印領清冊統計表!A793)))","v":""},{"$f":"+印領清冊統計表!B793","v":0},{"$f":"+印領清冊統計表!C793","v":0},{"$f":"+印領清冊統計表!D793","v":0},{"$f":"+印領清冊統計表!E793","v":0}]
[{"$f":"IF(印領清冊統計表!$A794=\"總計\",\"\",(IF(印領清冊統計表!A794=0,A790,印領清冊統計表!A794)))","v":""},{"$f":"+印領清冊統計表!B794","v":0},{"$f":"+印領清冊統計表!C794","v":0},{"$f":"+印領清冊統計表!D794","v":0},{"$f":"+印領清冊統計表!E794","v":0}]
[{"$f":"IF(印領清冊統計表!$A795=\"總計\",\"\",(IF(印領清冊統計表!A795=0,A791,印領清冊統計表!A795)))","v":""},{"$f":"+印領清冊統計表!B795","v":0},{"$f":"+印領清冊統計表!C795","v":0},{"$f":"+印領清冊統計表!D795","v":0},{"$f":"+印領清冊統計表!E795","v":0}]
[{"$f":"IF(印領清冊統計表!$A796=\"總計\",\"\",(IF(印領清冊統計表!A796=0,A792,印領清冊統計表!A796)))","v":""},{"$f":"+印領清冊統計表!B796","v":0},{"$f":"+印領清冊統計表!C796","v":0},{"$f":"+印領清冊統計表!D796","v":0},{"$f":"+印領清冊統計表!E796","v":0}]
[{"$f":"IF(印領清冊統計表!$A797=\"總計\",\"\",(IF(印領清冊統計表!A797=0,A793,印領清冊統計表!A797)))","v":""},{"$f":"+印領清冊統計表!B797","v":0},{"$f":"+印領清冊統計表!C797","v":0},{"$f":"+印領清冊統計表!D797","v":0},{"$f":"+印領清冊統計表!E797","v":0}]
[{"$f":"IF(印領清冊統計表!$A798=\"總計\",\"\",(IF(印領清冊統計表!A798=0,A794,印領清冊統計表!A798)))","v":""},{"$f":"+印領清冊統計表!B798","v":0},{"$f":"+印領清冊統計表!C798","v":0},{"$f":"+印領清冊統計表!D798","v":0},{"$f":"+印領清冊統計表!E798","v":0}]
[{"$f":"IF(印領清冊統計表!$A799=\"總計\",\"\",(IF(印領清冊統計表!A799=0,A795,印領清冊統計表!A799)))","v":""},{"$f":"+印領清冊統計表!B799","v":0},{"$f":"+印領清冊統計表!C799","v":0},{"$f":"+印領清冊統計表!D799","v":0},{"$f":"+印領清冊統計表!E799","v":0}]
[{"$f":"IF(印領清冊統計表!$A800=\"總計\",\"\",(IF(印領清冊統計表!A800=0,A796,印領清冊統計表!A800)))","v":""},{"$f":"+印領清冊統計表!B800","v":0},{"$f":"+印領清冊統計表!C800","v":0},{"$f":"+印領清冊統計表!D800","v":0},{"$f":"+印領清冊統計表!E800","v":0}]
[{"$f":"IF(印領清冊統計表!$A801=\"總計\",\"\",(IF(印領清冊統計表!A801=0,A797,印領清冊統計表!A801)))","v":""},{"$f":"+印領清冊統計表!B801","v":0},{"$f":"+印領清冊統計表!C801","v":0},{"$f":"+印領清冊統計表!D801","v":0},{"$f":"+印領清冊統計表!E801","v":0}]
[{"$f":"IF(印領清冊統計表!$A802=\"總計\",\"\",(IF(印領清冊統計表!A802=0,A798,印領清冊統計表!A802)))","v":""},{"$f":"+印領清冊統計表!B802","v":0},{"$f":"+印領清冊統計表!C802","v":0},{"$f":"+印領清冊統計表!D802","v":0},{"$f":"+印領清冊統計表!E802","v":0}]
[{"$f":"IF(印領清冊統計表!$A803=\"總計\",\"\",(IF(印領清冊統計表!A803=0,A799,印領清冊統計表!A803)))","v":""},{"$f":"+印領清冊統計表!B803","v":0},{"$f":"+印領清冊統計表!C803","v":0},{"$f":"+印領清冊統計表!D803","v":0},{"$f":"+印領清冊統計表!E803","v":0}]
[{"$f":"IF(印領清冊統計表!$A804=\"總計\",\"\",(IF(印領清冊統計表!A804=0,A800,印領清冊統計表!A804)))","v":""},{"$f":"+印領清冊統計表!B804","v":0},{"$f":"+印領清冊統計表!C804","v":0},{"$f":"+印領清冊統計表!D804","v":0},{"$f":"+印領清冊統計表!E804","v":0}]
[{"$f":"IF(印領清冊統計表!$A805=\"總計\",\"\",(IF(印領清冊統計表!A805=0,A801,印領清冊統計表!A805)))","v":""},{"$f":"+印領清冊統計表!B805","v":0},{"$f":"+印領清冊統計表!C805","v":0},{"$f":"+印領清冊統計表!D805","v":0},{"$f":"+印領清冊統計表!E805","v":0}]
[{"$f":"IF(印領清冊統計表!$A806=\"總計\",\"\",(IF(印領清冊統計表!A806=0,A802,印領清冊統計表!A806)))","v":""},{"$f":"+印領清冊統計表!B806","v":0},{"$f":"+印領清冊統計表!C806","v":0},{"$f":"+印領清冊統計表!D806","v":0},{"$f":"+印領清冊統計表!E806","v":0}]
[{"$f":"IF(印領清冊統計表!$A807=\"總計\",\"\",(IF(印領清冊統計表!A807=0,A803,印領清冊統計表!A807)))","v":""},{"$f":"+印領清冊統計表!B807","v":0},{"$f":"+印領清冊統計表!C807","v":0},{"$f":"+印領清冊統計表!D807","v":0},{"$f":"+印領清冊統計表!E807","v":0}]
[{"$f":"IF(印領清冊統計表!$A808=\"總計\",\"\",(IF(印領清冊統計表!A808=0,A804,印領清冊統計表!A808)))","v":""},{"$f":"+印領清冊統計表!B808","v":0},{"$f":"+印領清冊統計表!C808","v":0},{"$f":"+印領清冊統計表!D808","v":0},{"$f":"+印領清冊統計表!E808","v":0}]
[{"$f":"IF(印領清冊統計表!$A809=\"總計\",\"\",(IF(印領清冊統計表!A809=0,A805,印領清冊統計表!A809)))","v":""},{"$f":"+印領清冊統計表!B809","v":0},{"$f":"+印領清冊統計表!C809","v":0},{"$f":"+印領清冊統計表!D809","v":0},{"$f":"+印領清冊統計表!E809","v":0}]
[{"$f":"IF(印領清冊統計表!$A810=\"總計\",\"\",(IF(印領清冊統計表!A810=0,A806,印領清冊統計表!A810)))","v":""},{"$f":"+印領清冊統計表!B810","v":0},{"$f":"+印領清冊統計表!C810","v":0},{"$f":"+印領清冊統計表!D810","v":0},{"$f":"+印領清冊統計表!E810","v":0}]
[{"$f":"IF(印領清冊統計表!$A811=\"總計\",\"\",(IF(印領清冊統計表!A811=0,A807,印領清冊統計表!A811)))","v":""},{"$f":"+印領清冊統計表!B811","v":0},{"$f":"+印領清冊統計表!C811","v":0},{"$f":"+印領清冊統計表!D811","v":0},{"$f":"+印領清冊統計表!E811","v":0}]
[{"$f":"IF(印領清冊統計表!$A812=\"總計\",\"\",(IF(印領清冊統計表!A812=0,A808,印領清冊統計表!A812)))","v":""},{"$f":"+印領清冊統計表!B812","v":0},{"$f":"+印領清冊統計表!C812","v":0},{"$f":"+印領清冊統計表!D812","v":0},{"$f":"+印領清冊統計表!E812","v":0}]
[{"$f":"IF(印領清冊統計表!$A813=\"總計\",\"\",(IF(印領清冊統計表!A813=0,A809,印領清冊統計表!A813)))","v":""},{"$f":"+印領清冊統計表!B813","v":0},{"$f":"+印領清冊統計表!C813","v":0},{"$f":"+印領清冊統計表!D813","v":0},{"$f":"+印領清冊統計表!E813","v":0}]
[{"$f":"IF(印領清冊統計表!$A814=\"總計\",\"\",(IF(印領清冊統計表!A814=0,A810,印領清冊統計表!A814)))","v":""},{"$f":"+印領清冊統計表!B814","v":0},{"$f":"+印領清冊統計表!C814","v":0},{"$f":"+印領清冊統計表!D814","v":0},{"$f":"+印領清冊統計表!E814","v":0}]
[{"$f":"IF(印領清冊統計表!$A815=\"總計\",\"\",(IF(印領清冊統計表!A815=0,A811,印領清冊統計表!A815)))","v":""},{"$f":"+印領清冊統計表!B815","v":0},{"$f":"+印領清冊統計表!C815","v":0},{"$f":"+印領清冊統計表!D815","v":0},{"$f":"+印領清冊統計表!E815","v":0}]
[{"$f":"IF(印領清冊統計表!$A816=\"總計\",\"\",(IF(印領清冊統計表!A816=0,A812,印領清冊統計表!A816)))","v":""},{"$f":"+印領清冊統計表!B816","v":0},{"$f":"+印領清冊統計表!C816","v":0},{"$f":"+印領清冊統計表!D816","v":0},{"$f":"+印領清冊統計表!E816","v":0}]
[{"$f":"IF(印領清冊統計表!$A817=\"總計\",\"\",(IF(印領清冊統計表!A817=0,A813,印領清冊統計表!A817)))","v":""},{"$f":"+印領清冊統計表!B817","v":0},{"$f":"+印領清冊統計表!C817","v":0},{"$f":"+印領清冊統計表!D817","v":0},{"$f":"+印領清冊統計表!E817","v":0}]
[{"$f":"IF(印領清冊統計表!$A818=\"總計\",\"\",(IF(印領清冊統計表!A818=0,A814,印領清冊統計表!A818)))","v":""},{"$f":"+印領清冊統計表!B818","v":0},{"$f":"+印領清冊統計表!C818","v":0},{"$f":"+印領清冊統計表!D818","v":0},{"$f":"+印領清冊統計表!E818","v":0}]
[{"$f":"IF(印領清冊統計表!$A819=\"總計\",\"\",(IF(印領清冊統計表!A819=0,A815,印領清冊統計表!A819)))","v":""},{"$f":"+印領清冊統計表!B819","v":0},{"$f":"+印領清冊統計表!C819","v":0},{"$f":"+印領清冊統計表!D819","v":0},{"$f":"+印領清冊統計表!E819","v":0}]
[{"$f":"IF(印領清冊統計表!$A820=\"總計\",\"\",(IF(印領清冊統計表!A820=0,A816,印領清冊統計表!A820)))","v":""},{"$f":"+印領清冊統計表!B820","v":0},{"$f":"+印領清冊統計表!C820","v":0},{"$f":"+印領清冊統計表!D820","v":0},{"$f":"+印領清冊統計表!E820","v":0}]
[{"$f":"IF(印領清冊統計表!$A821=\"總計\",\"\",(IF(印領清冊統計表!A821=0,A817,印領清冊統計表!A821)))","v":""},{"$f":"+印領清冊統計表!B821","v":0},{"$f":"+印領清冊統計表!C821","v":0},{"$f":"+印領清冊統計表!D821","v":0},{"$f":"+印領清冊統計表!E821","v":0}]
[{"$f":"IF(印領清冊統計表!$A822=\"總計\",\"\",(IF(印領清冊統計表!A822=0,A818,印領清冊統計表!A822)))","v":""},{"$f":"+印領清冊統計表!B822","v":0},{"$f":"+印領清冊統計表!C822","v":0},{"$f":"+印領清冊統計表!D822","v":0},{"$f":"+印領清冊統計表!E822","v":0}]
[{"$f":"IF(印領清冊統計表!$A823=\"總計\",\"\",(IF(印領清冊統計表!A823=0,A819,印領清冊統計表!A823)))","v":""},{"$f":"+印領清冊統計表!B823","v":0},{"$f":"+印領清冊統計表!C823","v":0},{"$f":"+印領清冊統計表!D823","v":0},{"$f":"+印領清冊統計表!E823","v":0}]
[{"$f":"IF(印領清冊統計表!$A824=\"總計\",\"\",(IF(印領清冊統計表!A824=0,A820,印領清冊統計表!A824)))","v":""},{"$f":"+印領清冊統計表!B824","v":0},{"$f":"+印領清冊統計表!C824","v":0},{"$f":"+印領清冊統計表!D824","v":0},{"$f":"+印領清冊統計表!E824","v":0}]
[{"$f":"IF(印領清冊統計表!$A825=\"總計\",\"\",(IF(印領清冊統計表!A825=0,A821,印領清冊統計表!A825)))","v":""},{"$f":"+印領清冊統計表!B825","v":0},{"$f":"+印領清冊統計表!C825","v":0},{"$f":"+印領清冊統計表!D825","v":0},{"$f":"+印領清冊統計表!E825","v":0}]
[{"$f":"IF(印領清冊統計表!$A826=\"總計\",\"\",(IF(印領清冊統計表!A826=0,A822,印領清冊統計表!A826)))","v":""},{"$f":"+印領清冊統計表!B826","v":0},{"$f":"+印領清冊統計表!C826","v":0},{"$f":"+印領清冊統計表!D826","v":0},{"$f":"+印領清冊統計表!E826","v":0}]
[{"$f":"IF(印領清冊統計表!$A827=\"總計\",\"\",(IF(印領清冊統計表!A827=0,A823,印領清冊統計表!A827)))","v":""},{"$f":"+印領清冊統計表!B827","v":0},{"$f":"+印領清冊統計表!C827","v":0},{"$f":"+印領清冊統計表!D827","v":0},{"$f":"+印領清冊統計表!E827","v":0}]
[{"$f":"IF(印領清冊統計表!$A828=\"總計\",\"\",(IF(印領清冊統計表!A828=0,A824,印領清冊統計表!A828)))","v":""},{"$f":"+印領清冊統計表!B828","v":0},{"$f":"+印領清冊統計表!C828","v":0},{"$f":"+印領清冊統計表!D828","v":0},{"$f":"+印領清冊統計表!E828","v":0}]
[{"$f":"IF(印領清冊統計表!$A829=\"總計\",\"\",(IF(印領清冊統計表!A829=0,A825,印領清冊統計表!A829)))","v":""},{"$f":"+印領清冊統計表!B829","v":0},{"$f":"+印領清冊統計表!C829","v":0},{"$f":"+印領清冊統計表!D829","v":0},{"$f":"+印領清冊統計表!E829","v":0}]
[{"$f":"IF(印領清冊統計表!$A830=\"總計\",\"\",(IF(印領清冊統計表!A830=0,A826,印領清冊統計表!A830)))","v":""},{"$f":"+印領清冊統計表!B830","v":0},{"$f":"+印領清冊統計表!C830","v":0},{"$f":"+印領清冊統計表!D830","v":0},{"$f":"+印領清冊統計表!E830","v":0}]
[{"$f":"IF(印領清冊統計表!$A831=\"總計\",\"\",(IF(印領清冊統計表!A831=0,A827,印領清冊統計表!A831)))","v":""},{"$f":"+印領清冊統計表!B831","v":0},{"$f":"+印領清冊統計表!C831","v":0},{"$f":"+印領清冊統計表!D831","v":0},{"$f":"+印領清冊統計表!E831","v":0}]
[{"$f":"IF(印領清冊統計表!$A832=\"總計\",\"\",(IF(印領清冊統計表!A832=0,A828,印領清冊統計表!A832)))","v":""},{"$f":"+印領清冊統計表!B832","v":0},{"$f":"+印領清冊統計表!C832","v":0},{"$f":"+印領清冊統計表!D832","v":0},{"$f":"+印領清冊統計表!E832","v":0}]
[{"$f":"IF(印領清冊統計表!$A833=\"總計\",\"\",(IF(印領清冊統計表!A833=0,A829,印領清冊統計表!A833)))","v":""},{"$f":"+印領清冊統計表!B833","v":0},{"$f":"+印領清冊統計表!C833","v":0},{"$f":"+印領清冊統計表!D833","v":0},{"$f":"+印領清冊統計表!E833","v":0}]
[{"$f":"IF(印領清冊統計表!$A834=\"總計\",\"\",(IF(印領清冊統計表!A834=0,A830,印領清冊統計表!A834)))","v":""},{"$f":"+印領清冊統計表!B834","v":0},{"$f":"+印領清冊統計表!C834","v":0},{"$f":"+印領清冊統計表!D834","v":0},{"$f":"+印領清冊統計表!E834","v":0}]
[{"$f":"IF(印領清冊統計表!$A835=\"總計\",\"\",(IF(印領清冊統計表!A835=0,A831,印領清冊統計表!A835)))","v":""},{"$f":"+印領清冊統計表!B835","v":0},{"$f":"+印領清冊統計表!C835","v":0},{"$f":"+印領清冊統計表!D835","v":0},{"$f":"+印領清冊統計表!E835","v":0}]
[{"$f":"IF(印領清冊統計表!$A836=\"總計\",\"\",(IF(印領清冊統計表!A836=0,A832,印領清冊統計表!A836)))","v":""},{"$f":"+印領清冊統計表!B836","v":0},{"$f":"+印領清冊統計表!C836","v":0},{"$f":"+印領清冊統計表!D836","v":0},{"$f":"+印領清冊統計表!E836","v":0}]
[{"$f":"IF(印領清冊統計表!$A837=\"總計\",\"\",(IF(印領清冊統計表!A837=0,A833,印領清冊統計表!A837)))","v":""},{"$f":"+印領清冊統計表!B837","v":0},{"$f":"+印領清冊統計表!C837","v":0},{"$f":"+印領清冊統計表!D837","v":0},{"$f":"+印領清冊統計表!E837","v":0}]
[{"$f":"IF(印領清冊統計表!$A838=\"總計\",\"\",(IF(印領清冊統計表!A838=0,A834,印領清冊統計表!A838)))","v":""},{"$f":"+印領清冊統計表!B838","v":0},{"$f":"+印領清冊統計表!C838","v":0},{"$f":"+印領清冊統計表!D838","v":0},{"$f":"+印領清冊統計表!E838","v":0}]
[{"$f":"IF(印領清冊統計表!$A839=\"總計\",\"\",(IF(印領清冊統計表!A839=0,A835,印領清冊統計表!A839)))","v":""},{"$f":"+印領清冊統計表!B839","v":0},{"$f":"+印領清冊統計表!C839","v":0},{"$f":"+印領清冊統計表!D839","v":0},{"$f":"+印領清冊統計表!E839","v":0}]
[{"$f":"IF(印領清冊統計表!$A840=\"總計\",\"\",(IF(印領清冊統計表!A840=0,A836,印領清冊統計表!A840)))","v":""},{"$f":"+印領清冊統計表!B840","v":0},{"$f":"+印領清冊統計表!C840","v":0},{"$f":"+印領清冊統計表!D840","v":0},{"$f":"+印領清冊統計表!E840","v":0}]
[{"$f":"IF(印領清冊統計表!$A841=\"總計\",\"\",(IF(印領清冊統計表!A841=0,A837,印領清冊統計表!A841)))","v":""},{"$f":"+印領清冊統計表!B841","v":0},{"$f":"+印領清冊統計表!C841","v":0},{"$f":"+印領清冊統計表!D841","v":0},{"$f":"+印領清冊統計表!E841","v":0}]
[{"$f":"IF(印領清冊統計表!$A842=\"總計\",\"\",(IF(印領清冊統計表!A842=0,A838,印領清冊統計表!A842)))","v":""},{"$f":"+印領清冊統計表!B842","v":0},{"$f":"+印領清冊統計表!C842","v":0},{"$f":"+印領清冊統計表!D842","v":0},{"$f":"+印領清冊統計表!E842","v":0}]
[{"$f":"IF(印領清冊統計表!$A843=\"總計\",\"\",(IF(印領清冊統計表!A843=0,A839,印領清冊統計表!A843)))","v":""},{"$f":"+印領清冊統計表!B843","v":0},{"$f":"+印領清冊統計表!C843","v":0},{"$f":"+印領清冊統計表!D843","v":0},{"$f":"+印領清冊統計表!E843","v":0}]
[{"$f":"IF(印領清冊統計表!$A844=\"總計\",\"\",(IF(印領清冊統計表!A844=0,A840,印領清冊統計表!A844)))","v":""},{"$f":"+印領清冊統計表!B844","v":0},{"$f":"+印領清冊統計表!C844","v":0},{"$f":"+印領清冊統計表!D844","v":0},{"$f":"+印領清冊統計表!E844","v":0}]
[{"$f":"IF(印領清冊統計表!$A845=\"總計\",\"\",(IF(印領清冊統計表!A845=0,A841,印領清冊統計表!A845)))","v":""},{"$f":"+印領清冊統計表!B845","v":0},{"$f":"+印領清冊統計表!C845","v":0},{"$f":"+印領清冊統計表!D845","v":0},{"$f":"+印領清冊統計表!E845","v":0}]
[{"$f":"IF(印領清冊統計表!$A846=\"總計\",\"\",(IF(印領清冊統計表!A846=0,A842,印領清冊統計表!A846)))","v":""},{"$f":"+印領清冊統計表!B846","v":0},{"$f":"+印領清冊統計表!C846","v":0},{"$f":"+印領清冊統計表!D846","v":0},{"$f":"+印領清冊統計表!E846","v":0}]
[{"$f":"IF(印領清冊統計表!$A847=\"總計\",\"\",(IF(印領清冊統計表!A847=0,A843,印領清冊統計表!A847)))","v":""},{"$f":"+印領清冊統計表!B847","v":0},{"$f":"+印領清冊統計表!C847","v":0},{"$f":"+印領清冊統計表!D847","v":0},{"$f":"+印領清冊統計表!E847","v":0}]
[{"$f":"IF(印領清冊統計表!$A848=\"總計\",\"\",(IF(印領清冊統計表!A848=0,A844,印領清冊統計表!A848)))","v":""},{"$f":"+印領清冊統計表!B848","v":0},{"$f":"+印領清冊統計表!C848","v":0},{"$f":"+印領清冊統計表!D848","v":0},{"$f":"+印領清冊統計表!E848","v":0}]
[{"$f":"IF(印領清冊統計表!$A849=\"總計\",\"\",(IF(印領清冊統計表!A849=0,A845,印領清冊統計表!A849)))","v":""},{"$f":"+印領清冊統計表!B849","v":0},{"$f":"+印領清冊統計表!C849","v":0},{"$f":"+印領清冊統計表!D849","v":0},{"$f":"+印領清冊統計表!E849","v":0}]
[{"$f":"IF(印領清冊統計表!$A850=\"總計\",\"\",(IF(印領清冊統計表!A850=0,A846,印領清冊統計表!A850)))","v":""},{"$f":"+印領清冊統計表!B850","v":0},{"$f":"+印領清冊統計表!C850","v":0},{"$f":"+印領清冊統計表!D850","v":0},{"$f":"+印領清冊統計表!E850","v":0}]
[{"$f":"IF(印領清冊統計表!$A851=\"總計\",\"\",(IF(印領清冊統計表!A851=0,A847,印領清冊統計表!A851)))","v":""},{"$f":"+印領清冊統計表!B851","v":0},{"$f":"+印領清冊統計表!C851","v":0},{"$f":"+印領清冊統計表!D851","v":0},{"$f":"+印領清冊統計表!E851","v":0}]
[{"$f":"IF(印領清冊統計表!$A852=\"總計\",\"\",(IF(印領清冊統計表!A852=0,A848,印領清冊統計表!A852)))","v":""},{"$f":"+印領清冊統計表!B852","v":0},{"$f":"+印領清冊統計表!C852","v":0},{"$f":"+印領清冊統計表!D852","v":0},{"$f":"+印領清冊統計表!E852","v":0}]
[{"$f":"IF(印領清冊統計表!$A853=\"總計\",\"\",(IF(印領清冊統計表!A853=0,A849,印領清冊統計表!A853)))","v":""},{"$f":"+印領清冊統計表!B853","v":0},{"$f":"+印領清冊統計表!C853","v":0},{"$f":"+印領清冊統計表!D853","v":0},{"$f":"+印領清冊統計表!E853","v":0}]
[{"$f":"IF(印領清冊統計表!$A854=\"總計\",\"\",(IF(印領清冊統計表!A854=0,A850,印領清冊統計表!A854)))","v":""},{"$f":"+印領清冊統計表!B854","v":0},{"$f":"+印領清冊統計表!C854","v":0},{"$f":"+印領清冊統計表!D854","v":0},{"$f":"+印領清冊統計表!E854","v":0}]
[{"$f":"IF(印領清冊統計表!$A855=\"總計\",\"\",(IF(印領清冊統計表!A855=0,A851,印領清冊統計表!A855)))","v":""},{"$f":"+印領清冊統計表!B855","v":0},{"$f":"+印領清冊統計表!C855","v":0},{"$f":"+印領清冊統計表!D855","v":0},{"$f":"+印領清冊統計表!E855","v":0}]
[{"$f":"IF(印領清冊統計表!$A856=\"總計\",\"\",(IF(印領清冊統計表!A856=0,A852,印領清冊統計表!A856)))","v":""},{"$f":"+印領清冊統計表!B856","v":0},{"$f":"+印領清冊統計表!C856","v":0},{"$f":"+印領清冊統計表!D856","v":0},{"$f":"+印領清冊統計表!E856","v":0}]
[{"$f":"IF(印領清冊統計表!$A857=\"總計\",\"\",(IF(印領清冊統計表!A857=0,A853,印領清冊統計表!A857)))","v":""},{"$f":"+印領清冊統計表!B857","v":0},{"$f":"+印領清冊統計表!C857","v":0},{"$f":"+印領清冊統計表!D857","v":0},{"$f":"+印領清冊統計表!E857","v":0}]
[{"$f":"IF(印領清冊統計表!$A858=\"總計\",\"\",(IF(印領清冊統計表!A858=0,A854,印領清冊統計表!A858)))","v":""},{"$f":"+印領清冊統計表!B858","v":0},{"$f":"+印領清冊統計表!C858","v":0},{"$f":"+印領清冊統計表!D858","v":0},{"$f":"+印領清冊統計表!E858","v":0}]
[{"$f":"IF(印領清冊統計表!$A859=\"總計\",\"\",(IF(印領清冊統計表!A859=0,A855,印領清冊統計表!A859)))","v":""},{"$f":"+印領清冊統計表!B859","v":0},{"$f":"+印領清冊統計表!C859","v":0},{"$f":"+印領清冊統計表!D859","v":0},{"$f":"+印領清冊統計表!E859","v":0}]
[{"$f":"IF(印領清冊統計表!$A860=\"總計\",\"\",(IF(印領清冊統計表!A860=0,A856,印領清冊統計表!A860)))","v":""},{"$f":"+印領清冊統計表!B860","v":0},{"$f":"+印領清冊統計表!C860","v":0},{"$f":"+印領清冊統計表!D860","v":0},{"$f":"+印領清冊統計表!E860","v":0}]
[{"$f":"IF(印領清冊統計表!$A861=\"總計\",\"\",(IF(印領清冊統計表!A861=0,A857,印領清冊統計表!A861)))","v":""},{"$f":"+印領清冊統計表!B861","v":0},{"$f":"+印領清冊統計表!C861","v":0},{"$f":"+印領清冊統計表!D861","v":0},{"$f":"+印領清冊統計表!E861","v":0}]
[{"$f":"IF(印領清冊統計表!$A862=\"總計\",\"\",(IF(印領清冊統計表!A862=0,A858,印領清冊統計表!A862)))","v":""},{"$f":"+印領清冊統計表!B862","v":0},{"$f":"+印領清冊統計表!C862","v":0},{"$f":"+印領清冊統計表!D862","v":0},{"$f":"+印領清冊統計表!E862","v":0}]
[{"$f":"IF(印領清冊統計表!$A863=\"總計\",\"\",(IF(印領清冊統計表!A863=0,A859,印領清冊統計表!A863)))","v":""},{"$f":"+印領清冊統計表!B863","v":0},{"$f":"+印領清冊統計表!C863","v":0},{"$f":"+印領清冊統計表!D863","v":0},{"$f":"+印領清冊統計表!E863","v":0}]
[{"$f":"IF(印領清冊統計表!$A864=\"總計\",\"\",(IF(印領清冊統計表!A864=0,A860,印領清冊統計表!A864)))","v":""},{"$f":"+印領清冊統計表!B864","v":0},{"$f":"+印領清冊統計表!C864","v":0},{"$f":"+印領清冊統計表!D864","v":0},{"$f":"+印領清冊統計表!E864","v":0}]
[{"$f":"IF(印領清冊統計表!$A865=\"總計\",\"\",(IF(印領清冊統計表!A865=0,A861,印領清冊統計表!A865)))","v":""},{"$f":"+印領清冊統計表!B865","v":0},{"$f":"+印領清冊統計表!C865","v":0},{"$f":"+印領清冊統計表!D865","v":0},{"$f":"+印領清冊統計表!E865","v":0}]
[{"$f":"IF(印領清冊統計表!$A866=\"總計\",\"\",(IF(印領清冊統計表!A866=0,A862,印領清冊統計表!A866)))","v":""},{"$f":"+印領清冊統計表!B866","v":0},{"$f":"+印領清冊統計表!C866","v":0},{"$f":"+印領清冊統計表!D866","v":0},{"$f":"+印領清冊統計表!E866","v":0}]
[{"$f":"IF(印領清冊統計表!$A867=\"總計\",\"\",(IF(印領清冊統計表!A867=0,A863,印領清冊統計表!A867)))","v":""},{"$f":"+印領清冊統計表!B867","v":0},{"$f":"+印領清冊統計表!C867","v":0},{"$f":"+印領清冊統計表!D867","v":0},{"$f":"+印領清冊統計表!E867","v":0}]
[{"$f":"IF(印領清冊統計表!$A868=\"總計\",\"\",(IF(印領清冊統計表!A868=0,A864,印領清冊統計表!A868)))","v":""},{"$f":"+印領清冊統計表!B868","v":0},{"$f":"+印領清冊統計表!C868","v":0},{"$f":"+印領清冊統計表!D868","v":0},{"$f":"+印領清冊統計表!E868","v":0}]
[{"$f":"IF(印領清冊統計表!$A869=\"總計\",\"\",(IF(印領清冊統計表!A869=0,A865,印領清冊統計表!A869)))","v":""},{"$f":"+印領清冊統計表!B869","v":0},{"$f":"+印領清冊統計表!C869","v":0},{"$f":"+印領清冊統計表!D869","v":0},{"$f":"+印領清冊統計表!E869","v":0}]
[{"$f":"IF(印領清冊統計表!$A870=\"總計\",\"\",(IF(印領清冊統計表!A870=0,A866,印領清冊統計表!A870)))","v":""},{"$f":"+印領清冊統計表!B870","v":0},{"$f":"+印領清冊統計表!C870","v":0},{"$f":"+印領清冊統計表!D870","v":0},{"$f":"+印領清冊統計表!E870","v":0}]
[{"$f":"IF(印領清冊統計表!$A871=\"總計\",\"\",(IF(印領清冊統計表!A871=0,A867,印領清冊統計表!A871)))","v":""},{"$f":"+印領清冊統計表!B871","v":0},{"$f":"+印領清冊統計表!C871","v":0},{"$f":"+印領清冊統計表!D871","v":0},{"$f":"+印領清冊統計表!E871","v":0}]
[{"$f":"IF(印領清冊統計表!$A872=\"總計\",\"\",(IF(印領清冊統計表!A872=0,A868,印領清冊統計表!A872)))","v":""},{"$f":"+印領清冊統計表!B872","v":0},{"$f":"+印領清冊統計表!C872","v":0},{"$f":"+印領清冊統計表!D872","v":0},{"$f":"+印領清冊統計表!E872","v":0}]
[{"$f":"IF(印領清冊統計表!$A873=\"總計\",\"\",(IF(印領清冊統計表!A873=0,A869,印領清冊統計表!A873)))","v":""},{"$f":"+印領清冊統計表!B873","v":0},{"$f":"+印領清冊統計表!C873","v":0},{"$f":"+印領清冊統計表!D873","v":0},{"$f":"+印領清冊統計表!E873","v":0}]
[{"$f":"IF(印領清冊統計表!$A874=\"總計\",\"\",(IF(印領清冊統計表!A874=0,A870,印領清冊統計表!A874)))","v":""},{"$f":"+印領清冊統計表!B874","v":0},{"$f":"+印領清冊統計表!C874","v":0},{"$f":"+印領清冊統計表!D874","v":0},{"$f":"+印領清冊統計表!E874","v":0}]
[{"$f":"IF(印領清冊統計表!$A875=\"總計\",\"\",(IF(印領清冊統計表!A875=0,A871,印領清冊統計表!A875)))","v":""},{"$f":"+印領清冊統計表!B875","v":0},{"$f":"+印領清冊統計表!C875","v":0},{"$f":"+印領清冊統計表!D875","v":0},{"$f":"+印領清冊統計表!E875","v":0}]
[{"$f":"IF(印領清冊統計表!$A876=\"總計\",\"\",(IF(印領清冊統計表!A876=0,A872,印領清冊統計表!A876)))","v":""},{"$f":"+印領清冊統計表!B876","v":0},{"$f":"+印領清冊統計表!C876","v":0},{"$f":"+印領清冊統計表!D876","v":0},{"$f":"+印領清冊統計表!E876","v":0}]
[{"$f":"IF(印領清冊統計表!$A877=\"總計\",\"\",(IF(印領清冊統計表!A877=0,A873,印領清冊統計表!A877)))","v":""},{"$f":"+印領清冊統計表!B877","v":0},{"$f":"+印領清冊統計表!C877","v":0},{"$f":"+印領清冊統計表!D877","v":0},{"$f":"+印領清冊統計表!E877","v":0}]
[{"$f":"IF(印領清冊統計表!$A878=\"總計\",\"\",(IF(印領清冊統計表!A878=0,A874,印領清冊統計表!A878)))","v":""},{"$f":"+印領清冊統計表!B878","v":0},{"$f":"+印領清冊統計表!C878","v":0},{"$f":"+印領清冊統計表!D878","v":0},{"$f":"+印領清冊統計表!E878","v":0}]
[{"$f":"IF(印領清冊統計表!$A879=\"總計\",\"\",(IF(印領清冊統計表!A879=0,A875,印領清冊統計表!A879)))","v":""},{"$f":"+印領清冊統計表!B879","v":0},{"$f":"+印領清冊統計表!C879","v":0},{"$f":"+印領清冊統計表!D879","v":0},{"$f":"+印領清冊統計表!E879","v":0}]
[{"$f":"IF(印領清冊統計表!$A880=\"總計\",\"\",(IF(印領清冊統計表!A880=0,A876,印領清冊統計表!A880)))","v":""},{"$f":"+印領清冊統計表!B880","v":0},{"$f":"+印領清冊統計表!C880","v":0},{"$f":"+印領清冊統計表!D880","v":0},{"$f":"+印領清冊統計表!E880","v":0}]
[{"$f":"IF(印領清冊統計表!$A881=\"總計\",\"\",(IF(印領清冊統計表!A881=0,A877,印領清冊統計表!A881)))","v":""},{"$f":"+印領清冊統計表!B881","v":0},{"$f":"+印領清冊統計表!C881","v":0},{"$f":"+印領清冊統計表!D881","v":0},{"$f":"+印領清冊統計表!E881","v":0}]
[{"$f":"IF(印領清冊統計表!$A882=\"總計\",\"\",(IF(印領清冊統計表!A882=0,A878,印領清冊統計表!A882)))","v":""},{"$f":"+印領清冊統計表!B882","v":0},{"$f":"+印領清冊統計表!C882","v":0},{"$f":"+印領清冊統計表!D882","v":0},{"$f":"+印領清冊統計表!E882","v":0}]
[{"$f":"IF(印領清冊統計表!$A883=\"總計\",\"\",(IF(印領清冊統計表!A883=0,A879,印領清冊統計表!A883)))","v":""},{"$f":"+印領清冊統計表!B883","v":0},{"$f":"+印領清冊統計表!C883","v":0},{"$f":"+印領清冊統計表!D883","v":0},{"$f":"+印領清冊統計表!E883","v":0}]
[{"$f":"IF(印領清冊統計表!$A884=\"總計\",\"\",(IF(印領清冊統計表!A884=0,A880,印領清冊統計表!A884)))","v":""},{"$f":"+印領清冊統計表!B884","v":0},{"$f":"+印領清冊統計表!C884","v":0},{"$f":"+印領清冊統計表!D884","v":0},{"$f":"+印領清冊統計表!E884","v":0}]
[{"$f":"IF(印領清冊統計表!$A885=\"總計\",\"\",(IF(印領清冊統計表!A885=0,A881,印領清冊統計表!A885)))","v":""},{"$f":"+印領清冊統計表!B885","v":0},{"$f":"+印領清冊統計表!C885","v":0},{"$f":"+印領清冊統計表!D885","v":0},{"$f":"+印領清冊統計表!E885","v":0}]
[{"$f":"IF(印領清冊統計表!$A886=\"總計\",\"\",(IF(印領清冊統計表!A886=0,A882,印領清冊統計表!A886)))","v":""},{"$f":"+印領清冊統計表!B886","v":0},{"$f":"+印領清冊統計表!C886","v":0},{"$f":"+印領清冊統計表!D886","v":0},{"$f":"+印領清冊統計表!E886","v":0}]
[{"$f":"IF(印領清冊統計表!$A887=\"總計\",\"\",(IF(印領清冊統計表!A887=0,A883,印領清冊統計表!A887)))","v":""},{"$f":"+印領清冊統計表!B887","v":0},{"$f":"+印領清冊統計表!C887","v":0},{"$f":"+印領清冊統計表!D887","v":0},{"$f":"+印領清冊統計表!E887","v":0}]
[{"$f":"IF(印領清冊統計表!$A888=\"總計\",\"\",(IF(印領清冊統計表!A888=0,A884,印領清冊統計表!A888)))","v":""},{"$f":"+印領清冊統計表!B888","v":0},{"$f":"+印領清冊統計表!C888","v":0},{"$f":"+印領清冊統計表!D888","v":0},{"$f":"+印領清冊統計表!E888","v":0}]
[{"$f":"IF(印領清冊統計表!$A889=\"總計\",\"\",(IF(印領清冊統計表!A889=0,A885,印領清冊統計表!A889)))","v":""},{"$f":"+印領清冊統計表!B889","v":0},{"$f":"+印領清冊統計表!C889","v":0},{"$f":"+印領清冊統計表!D889","v":0},{"$f":"+印領清冊統計表!E889","v":0}]
[{"$f":"IF(印領清冊統計表!$A890=\"總計\",\"\",(IF(印領清冊統計表!A890=0,A886,印領清冊統計表!A890)))","v":""},{"$f":"+印領清冊統計表!B890","v":0},{"$f":"+印領清冊統計表!C890","v":0},{"$f":"+印領清冊統計表!D890","v":0},{"$f":"+印領清冊統計表!E890","v":0}]
[{"$f":"IF(印領清冊統計表!$A891=\"總計\",\"\",(IF(印領清冊統計表!A891=0,A887,印領清冊統計表!A891)))","v":""},{"$f":"+印領清冊統計表!B891","v":0},{"$f":"+印領清冊統計表!C891","v":0},{"$f":"+印領清冊統計表!D891","v":0},{"$f":"+印領清冊統計表!E891","v":0}]
[{"$f":"IF(印領清冊統計表!$A892=\"總計\",\"\",(IF(印領清冊統計表!A892=0,A888,印領清冊統計表!A892)))","v":""},{"$f":"+印領清冊統計表!B892","v":0},{"$f":"+印領清冊統計表!C892","v":0},{"$f":"+印領清冊統計表!D892","v":0},{"$f":"+印領清冊統計表!E892","v":0}]
[{"$f":"IF(印領清冊統計表!$A893=\"總計\",\"\",(IF(印領清冊統計表!A893=0,A889,印領清冊統計表!A893)))","v":""},{"$f":"+印領清冊統計表!B893","v":0},{"$f":"+印領清冊統計表!C893","v":0},{"$f":"+印領清冊統計表!D893","v":0},{"$f":"+印領清冊統計表!E893","v":0}]
[{"$f":"IF(印領清冊統計表!$A894=\"總計\",\"\",(IF(印領清冊統計表!A894=0,A890,印領清冊統計表!A894)))","v":""},{"$f":"+印領清冊統計表!B894","v":0},{"$f":"+印領清冊統計表!C894","v":0},{"$f":"+印領清冊統計表!D894","v":0},{"$f":"+印領清冊統計表!E894","v":0}]
[{"$f":"IF(印領清冊統計表!$A895=\"總計\",\"\",(IF(印領清冊統計表!A895=0,A891,印領清冊統計表!A895)))","v":""},{"$f":"+印領清冊統計表!B895","v":0},{"$f":"+印領清冊統計表!C895","v":0},{"$f":"+印領清冊統計表!D895","v":0},{"$f":"+印領清冊統計表!E895","v":0}]
[{"$f":"IF(印領清冊統計表!$A896=\"總計\",\"\",(IF(印領清冊統計表!A896=0,A892,印領清冊統計表!A896)))","v":""},{"$f":"+印領清冊統計表!B896","v":0},{"$f":"+印領清冊統計表!C896","v":0},{"$f":"+印領清冊統計表!D896","v":0},{"$f":"+印領清冊統計表!E896","v":0}]
[{"$f":"IF(印領清冊統計表!$A897=\"總計\",\"\",(IF(印領清冊統計表!A897=0,A893,印領清冊統計表!A897)))","v":""},{"$f":"+印領清冊統計表!B897","v":0},{"$f":"+印領清冊統計表!C897","v":0},{"$f":"+印領清冊統計表!D897","v":0},{"$f":"+印領清冊統計表!E897","v":0}]
[{"$f":"IF(印領清冊統計表!$A898=\"總計\",\"\",(IF(印領清冊統計表!A898=0,A894,印領清冊統計表!A898)))","v":""},{"$f":"+印領清冊統計表!B898","v":0},{"$f":"+印領清冊統計表!C898","v":0},{"$f":"+印領清冊統計表!D898","v":0},{"$f":"+印領清冊統計表!E898","v":0}]
[{"$f":"IF(印領清冊統計表!$A899=\"總計\",\"\",(IF(印領清冊統計表!A899=0,A895,印領清冊統計表!A899)))","v":""},{"$f":"+印領清冊統計表!B899","v":0},{"$f":"+印領清冊統計表!C899","v":0},{"$f":"+印領清冊統計表!D899","v":0},{"$f":"+印領清冊統計表!E899","v":0}]
[{"$f":"IF(印領清冊統計表!$A900=\"總計\",\"\",(IF(印領清冊統計表!A900=0,A896,印領清冊統計表!A900)))","v":""},{"$f":"+印領清冊統計表!B900","v":0},{"$f":"+印領清冊統計表!C900","v":0},{"$f":"+印領清冊統計表!D900","v":0},{"$f":"+印領清冊統計表!E900","v":0}]
[{"$f":"IF(印領清冊統計表!$A901=\"總計\",\"\",(IF(印領清冊統計表!A901=0,A897,印領清冊統計表!A901)))","v":""},{"$f":"+印領清冊統計表!B901","v":0},{"$f":"+印領清冊統計表!C901","v":0},{"$f":"+印領清冊統計表!D901","v":0},{"$f":"+印領清冊統計表!E901","v":0}]
[{"$f":"IF(印領清冊統計表!$A902=\"總計\",\"\",(IF(印領清冊統計表!A902=0,A898,印領清冊統計表!A902)))","v":""},{"$f":"+印領清冊統計表!B902","v":0},{"$f":"+印領清冊統計表!C902","v":0},{"$f":"+印領清冊統計表!D902","v":0},{"$f":"+印領清冊統計表!E902","v":0}]
[{"$f":"IF(印領清冊統計表!$A903=\"總計\",\"\",(IF(印領清冊統計表!A903=0,A899,印領清冊統計表!A903)))","v":""},{"$f":"+印領清冊統計表!B903","v":0},{"$f":"+印領清冊統計表!C903","v":0},{"$f":"+印領清冊統計表!D903","v":0},{"$f":"+印領清冊統計表!E903","v":0}]
[{"$f":"IF(印領清冊統計表!$A904=\"總計\",\"\",(IF(印領清冊統計表!A904=0,A900,印領清冊統計表!A904)))","v":""},{"$f":"+印領清冊統計表!B904","v":0},{"$f":"+印領清冊統計表!C904","v":0},{"$f":"+印領清冊統計表!D904","v":0},{"$f":"+印領清冊統計表!E904","v":0}]
[{"$f":"IF(印領清冊統計表!$A905=\"總計\",\"\",(IF(印領清冊統計表!A905=0,A901,印領清冊統計表!A905)))","v":""},{"$f":"+印領清冊統計表!B905","v":0},{"$f":"+印領清冊統計表!C905","v":0},{"$f":"+印領清冊統計表!D905","v":0},{"$f":"+印領清冊統計表!E905","v":0}]
[{"$f":"IF(印領清冊統計表!$A906=\"總計\",\"\",(IF(印領清冊統計表!A906=0,A902,印領清冊統計表!A906)))","v":""},{"$f":"+印領清冊統計表!B906","v":0},{"$f":"+印領清冊統計表!C906","v":0},{"$f":"+印領清冊統計表!D906","v":0},{"$f":"+印領清冊統計表!E906","v":0}]
[{"$f":"IF(印領清冊統計表!$A907=\"總計\",\"\",(IF(印領清冊統計表!A907=0,A903,印領清冊統計表!A907)))","v":""},{"$f":"+印領清冊統計表!B907","v":0},{"$f":"+印領清冊統計表!C907","v":0},{"$f":"+印領清冊統計表!D907","v":0},{"$f":"+印領清冊統計表!E907","v":0}]
[{"$f":"IF(印領清冊統計表!$A908=\"總計\",\"\",(IF(印領清冊統計表!A908=0,A904,印領清冊統計表!A908)))","v":""},{"$f":"+印領清冊統計表!B908","v":0},{"$f":"+印領清冊統計表!C908","v":0},{"$f":"+印領清冊統計表!D908","v":0},{"$f":"+印領清冊統計表!E908","v":0}]
[{"$f":"IF(印領清冊統計表!$A909=\"總計\",\"\",(IF(印領清冊統計表!A909=0,A905,印領清冊統計表!A909)))","v":""},{"$f":"+印領清冊統計表!B909","v":0},{"$f":"+印領清冊統計表!C909","v":0},{"$f":"+印領清冊統計表!D909","v":0},{"$f":"+印領清冊統計表!E909","v":0}]
[{"$f":"IF(印領清冊統計表!$A910=\"總計\",\"\",(IF(印領清冊統計表!A910=0,A906,印領清冊統計表!A910)))","v":""},{"$f":"+印領清冊統計表!B910","v":0},{"$f":"+印領清冊統計表!C910","v":0},{"$f":"+印領清冊統計表!D910","v":0},{"$f":"+印領清冊統計表!E910","v":0}]
[{"$f":"IF(印領清冊統計表!$A911=\"總計\",\"\",(IF(印領清冊統計表!A911=0,A907,印領清冊統計表!A911)))","v":""},{"$f":"+印領清冊統計表!B911","v":0},{"$f":"+印領清冊統計表!C911","v":0},{"$f":"+印領清冊統計表!D911","v":0},{"$f":"+印領清冊統計表!E911","v":0}]
[{"$f":"IF(印領清冊統計表!$A912=\"總計\",\"\",(IF(印領清冊統計表!A912=0,A908,印領清冊統計表!A912)))","v":""},{"$f":"+印領清冊統計表!B912","v":0},{"$f":"+印領清冊統計表!C912","v":0},{"$f":"+印領清冊統計表!D912","v":0},{"$f":"+印領清冊統計表!E912","v":0}]
[{"$f":"IF(印領清冊統計表!$A913=\"總計\",\"\",(IF(印領清冊統計表!A913=0,A909,印領清冊統計表!A913)))","v":""},{"$f":"+印領清冊統計表!B913","v":0},{"$f":"+印領清冊統計表!C913","v":0},{"$f":"+印領清冊統計表!D913","v":0},{"$f":"+印領清冊統計表!E913","v":0}]
[{"$f":"IF(印領清冊統計表!$A914=\"總計\",\"\",(IF(印領清冊統計表!A914=0,A910,印領清冊統計表!A914)))","v":""},{"$f":"+印領清冊統計表!B914","v":0},{"$f":"+印領清冊統計表!C914","v":0},{"$f":"+印領清冊統計表!D914","v":0},{"$f":"+印領清冊統計表!E914","v":0}]
[{"$f":"IF(印領清冊統計表!$A915=\"總計\",\"\",(IF(印領清冊統計表!A915=0,A911,印領清冊統計表!A915)))","v":""},{"$f":"+印領清冊統計表!B915","v":0},{"$f":"+印領清冊統計表!C915","v":0},{"$f":"+印領清冊統計表!D915","v":0},{"$f":"+印領清冊統計表!E915","v":0}]
[{"$f":"IF(印領清冊統計表!$A916=\"總計\",\"\",(IF(印領清冊統計表!A916=0,A912,印領清冊統計表!A916)))","v":""},{"$f":"+印領清冊統計表!B916","v":0},{"$f":"+印領清冊統計表!C916","v":0},{"$f":"+印領清冊統計表!D916","v":0},{"$f":"+印領清冊統計表!E916","v":0}]
[{"$f":"IF(印領清冊統計表!$A917=\"總計\",\"\",(IF(印領清冊統計表!A917=0,A913,印領清冊統計表!A917)))","v":""},{"$f":"+印領清冊統計表!B917","v":0},{"$f":"+印領清冊統計表!C917","v":0},{"$f":"+印領清冊統計表!D917","v":0},{"$f":"+印領清冊統計表!E917","v":0}]
[{"$f":"IF(印領清冊統計表!$A918=\"總計\",\"\",(IF(印領清冊統計表!A918=0,A914,印領清冊統計表!A918)))","v":""},{"$f":"+印領清冊統計表!B918","v":0},{"$f":"+印領清冊統計表!C918","v":0},{"$f":"+印領清冊統計表!D918","v":0},{"$f":"+印領清冊統計表!E918","v":0}]
[{"$f":"IF(印領清冊統計表!$A919=\"總計\",\"\",(IF(印領清冊統計表!A919=0,A915,印領清冊統計表!A919)))","v":""},{"$f":"+印領清冊統計表!B919","v":0},{"$f":"+印領清冊統計表!C919","v":0},{"$f":"+印領清冊統計表!D919","v":0},{"$f":"+印領清冊統計表!E919","v":0}]
[{"$f":"IF(印領清冊統計表!$A920=\"總計\",\"\",(IF(印領清冊統計表!A920=0,A916,印領清冊統計表!A920)))","v":""},{"$f":"+印領清冊統計表!B920","v":0},{"$f":"+印領清冊統計表!C920","v":0},{"$f":"+印領清冊統計表!D920","v":0},{"$f":"+印領清冊統計表!E920","v":0}]
[{"$f":"IF(印領清冊統計表!$A921=\"總計\",\"\",(IF(印領清冊統計表!A921=0,A917,印領清冊統計表!A921)))","v":""},{"$f":"+印領清冊統計表!B921","v":0},{"$f":"+印領清冊統計表!C921","v":0},{"$f":"+印領清冊統計表!D921","v":0},{"$f":"+印領清冊統計表!E921","v":0}]
[{"$f":"IF(印領清冊統計表!$A922=\"總計\",\"\",(IF(印領清冊統計表!A922=0,A918,印領清冊統計表!A922)))","v":""},{"$f":"+印領清冊統計表!B922","v":0},{"$f":"+印領清冊統計表!C922","v":0},{"$f":"+印領清冊統計表!D922","v":0},{"$f":"+印領清冊統計表!E922","v":0}]
[{"$f":"IF(印領清冊統計表!$A923=\"總計\",\"\",(IF(印領清冊統計表!A923=0,A919,印領清冊統計表!A923)))","v":""},{"$f":"+印領清冊統計表!B923","v":0},{"$f":"+印領清冊統計表!C923","v":0},{"$f":"+印領清冊統計表!D923","v":0},{"$f":"+印領清冊統計表!E923","v":0}]
[{"$f":"IF(印領清冊統計表!$A924=\"總計\",\"\",(IF(印領清冊統計表!A924=0,A920,印領清冊統計表!A924)))","v":""},{"$f":"+印領清冊統計表!B924","v":0},{"$f":"+印領清冊統計表!C924","v":0},{"$f":"+印領清冊統計表!D924","v":0},{"$f":"+印領清冊統計表!E924","v":0}]
[{"$f":"IF(印領清冊統計表!$A925=\"總計\",\"\",(IF(印領清冊統計表!A925=0,A921,印領清冊統計表!A925)))","v":""},{"$f":"+印領清冊統計表!B925","v":0},{"$f":"+印領清冊統計表!C925","v":0},{"$f":"+印領清冊統計表!D925","v":0},{"$f":"+印領清冊統計表!E925","v":0}]
[{"$f":"IF(印領清冊統計表!$A926=\"總計\",\"\",(IF(印領清冊統計表!A926=0,A922,印領清冊統計表!A926)))","v":""},{"$f":"+印領清冊統計表!B926","v":0},{"$f":"+印領清冊統計表!C926","v":0},{"$f":"+印領清冊統計表!D926","v":0},{"$f":"+印領清冊統計表!E926","v":0}]
[{"$f":"IF(印領清冊統計表!$A927=\"總計\",\"\",(IF(印領清冊統計表!A927=0,A923,印領清冊統計表!A927)))","v":""},{"$f":"+印領清冊統計表!B927","v":0},{"$f":"+印領清冊統計表!C927","v":0},{"$f":"+印領清冊統計表!D927","v":0},{"$f":"+印領清冊統計表!E927","v":0}]
[{"$f":"IF(印領清冊統計表!$A928=\"總計\",\"\",(IF(印領清冊統計表!A928=0,A924,印領清冊統計表!A928)))","v":""},{"$f":"+印領清冊統計表!B928","v":0},{"$f":"+印領清冊統計表!C928","v":0},{"$f":"+印領清冊統計表!D928","v":0},{"$f":"+印領清冊統計表!E928","v":0}]
[{"$f":"IF(印領清冊統計表!$A929=\"總計\",\"\",(IF(印領清冊統計表!A929=0,A925,印領清冊統計表!A929)))","v":""},{"$f":"+印領清冊統計表!B929","v":0},{"$f":"+印領清冊統計表!C929","v":0},{"$f":"+印領清冊統計表!D929","v":0},{"$f":"+印領清冊統計表!E929","v":0}]
[{"$f":"IF(印領清冊統計表!$A930=\"總計\",\"\",(IF(印領清冊統計表!A930=0,A926,印領清冊統計表!A930)))","v":""},{"$f":"+印領清冊統計表!B930","v":0},{"$f":"+印領清冊統計表!C930","v":0},{"$f":"+印領清冊統計表!D930","v":0},{"$f":"+印領清冊統計表!E930","v":0}]
[{"$f":"IF(印領清冊統計表!$A931=\"總計\",\"\",(IF(印領清冊統計表!A931=0,A927,印領清冊統計表!A931)))","v":""},{"$f":"+印領清冊統計表!B931","v":0},{"$f":"+印領清冊統計表!C931","v":0},{"$f":"+印領清冊統計表!D931","v":0},{"$f":"+印領清冊統計表!E931","v":0}]
[{"$f":"IF(印領清冊統計表!$A932=\"總計\",\"\",(IF(印領清冊統計表!A932=0,A928,印領清冊統計表!A932)))","v":""},{"$f":"+印領清冊統計表!B932","v":0},{"$f":"+印領清冊統計表!C932","v":0},{"$f":"+印領清冊統計表!D932","v":0},{"$f":"+印領清冊統計表!E932","v":0}]
[{"$f":"IF(印領清冊統計表!$A933=\"總計\",\"\",(IF(印領清冊統計表!A933=0,A929,印領清冊統計表!A933)))","v":""},{"$f":"+印領清冊統計表!B933","v":0},{"$f":"+印領清冊統計表!C933","v":0},{"$f":"+印領清冊統計表!D933","v":0},{"$f":"+印領清冊統計表!E933","v":0}]
[{"$f":"IF(印領清冊統計表!$A934=\"總計\",\"\",(IF(印領清冊統計表!A934=0,A930,印領清冊統計表!A934)))","v":""},{"$f":"+印領清冊統計表!B934","v":0},{"$f":"+印領清冊統計表!C934","v":0},{"$f":"+印領清冊統計表!D934","v":0},{"$f":"+印領清冊統計表!E934","v":0}]
[{"$f":"IF(印領清冊統計表!$A935=\"總計\",\"\",(IF(印領清冊統計表!A935=0,A931,印領清冊統計表!A935)))","v":""},{"$f":"+印領清冊統計表!B935","v":0},{"$f":"+印領清冊統計表!C935","v":0},{"$f":"+印領清冊統計表!D935","v":0},{"$f":"+印領清冊統計表!E935","v":0}]
[{"$f":"IF(印領清冊統計表!$A936=\"總計\",\"\",(IF(印領清冊統計表!A936=0,A932,印領清冊統計表!A936)))","v":""},{"$f":"+印領清冊統計表!B936","v":0},{"$f":"+印領清冊統計表!C936","v":0},{"$f":"+印領清冊統計表!D936","v":0},{"$f":"+印領清冊統計表!E936","v":0}]
[{"$f":"IF(印領清冊統計表!$A937=\"總計\",\"\",(IF(印領清冊統計表!A937=0,A933,印領清冊統計表!A937)))","v":""},{"$f":"+印領清冊統計表!B937","v":0},{"$f":"+印領清冊統計表!C937","v":0},{"$f":"+印領清冊統計表!D937","v":0},{"$f":"+印領清冊統計表!E937","v":0}]
[{"$f":"IF(印領清冊統計表!$A938=\"總計\",\"\",(IF(印領清冊統計表!A938=0,A934,印領清冊統計表!A938)))","v":""},{"$f":"+印領清冊統計表!B938","v":0},{"$f":"+印領清冊統計表!C938","v":0},{"$f":"+印領清冊統計表!D938","v":0},{"$f":"+印領清冊統計表!E938","v":0}]
[{"$f":"IF(印領清冊統計表!$A939=\"總計\",\"\",(IF(印領清冊統計表!A939=0,A935,印領清冊統計表!A939)))","v":""},{"$f":"+印領清冊統計表!B939","v":0},{"$f":"+印領清冊統計表!C939","v":0},{"$f":"+印領清冊統計表!D939","v":0},{"$f":"+印領清冊統計表!E939","v":0}]
[{"$f":"IF(印領清冊統計表!$A940=\"總計\",\"\",(IF(印領清冊統計表!A940=0,A936,印領清冊統計表!A940)))","v":""},{"$f":"+印領清冊統計表!B940","v":0},{"$f":"+印領清冊統計表!C940","v":0},{"$f":"+印領清冊統計表!D940","v":0},{"$f":"+印領清冊統計表!E940","v":0}]
[{"$f":"IF(印領清冊統計表!$A941=\"總計\",\"\",(IF(印領清冊統計表!A941=0,A937,印領清冊統計表!A941)))","v":""},{"$f":"+印領清冊統計表!B941","v":0},{"$f":"+印領清冊統計表!C941","v":0},{"$f":"+印領清冊統計表!D941","v":0},{"$f":"+印領清冊統計表!E941","v":0}]
[{"$f":"IF(印領清冊統計表!$A942=\"總計\",\"\",(IF(印領清冊統計表!A942=0,A938,印領清冊統計表!A942)))","v":""},{"$f":"+印領清冊統計表!B942","v":0},{"$f":"+印領清冊統計表!C942","v":0},{"$f":"+印領清冊統計表!D942","v":0},{"$f":"+印領清冊統計表!E942","v":0}]
[{"$f":"IF(印領清冊統計表!$A943=\"總計\",\"\",(IF(印領清冊統計表!A943=0,A939,印領清冊統計表!A943)))","v":""},{"$f":"+印領清冊統計表!B943","v":0},{"$f":"+印領清冊統計表!C943","v":0},{"$f":"+印領清冊統計表!D943","v":0},{"$f":"+印領清冊統計表!E943","v":0}]
[{"$f":"IF(印領清冊統計表!$A944=\"總計\",\"\",(IF(印領清冊統計表!A944=0,A940,印領清冊統計表!A944)))","v":""},{"$f":"+印領清冊統計表!B944","v":0},{"$f":"+印領清冊統計表!C944","v":0},{"$f":"+印領清冊統計表!D944","v":0},{"$f":"+印領清冊統計表!E944","v":0}]
[{"$f":"IF(印領清冊統計表!$A945=\"總計\",\"\",(IF(印領清冊統計表!A945=0,A941,印領清冊統計表!A945)))","v":""},{"$f":"+印領清冊統計表!B945","v":0},{"$f":"+印領清冊統計表!C945","v":0},{"$f":"+印領清冊統計表!D945","v":0},{"$f":"+印領清冊統計表!E945","v":0}]
[{"$f":"IF(印領清冊統計表!$A946=\"總計\",\"\",(IF(印領清冊統計表!A946=0,A942,印領清冊統計表!A946)))","v":""},{"$f":"+印領清冊統計表!B946","v":0},{"$f":"+印領清冊統計表!C946","v":0},{"$f":"+印領清冊統計表!D946","v":0},{"$f":"+印領清冊統計表!E946","v":0}]
[{"$f":"IF(印領清冊統計表!$A947=\"總計\",\"\",(IF(印領清冊統計表!A947=0,A943,印領清冊統計表!A947)))","v":""},{"$f":"+印領清冊統計表!B947","v":0},{"$f":"+印領清冊統計表!C947","v":0},{"$f":"+印領清冊統計表!D947","v":0},{"$f":"+印領清冊統計表!E947","v":0}]
[{"$f":"IF(印領清冊統計表!$A948=\"總計\",\"\",(IF(印領清冊統計表!A948=0,A944,印領清冊統計表!A948)))","v":""},{"$f":"+印領清冊統計表!B948","v":0},{"$f":"+印領清冊統計表!C948","v":0},{"$f":"+印領清冊統計表!D948","v":0},{"$f":"+印領清冊統計表!E948","v":0}]
[{"$f":"IF(印領清冊統計表!$A949=\"總計\",\"\",(IF(印領清冊統計表!A949=0,A945,印領清冊統計表!A949)))","v":""},{"$f":"+印領清冊統計表!B949","v":0},{"$f":"+印領清冊統計表!C949","v":0},{"$f":"+印領清冊統計表!D949","v":0},{"$f":"+印領清冊統計表!E949","v":0}]
[{"$f":"IF(印領清冊統計表!$A950=\"總計\",\"\",(IF(印領清冊統計表!A950=0,A946,印領清冊統計表!A950)))","v":""},{"$f":"+印領清冊統計表!B950","v":0},{"$f":"+印領清冊統計表!C950","v":0},{"$f":"+印領清冊統計表!D950","v":0},{"$f":"+印領清冊統計表!E950","v":0}]
[{"$f":"IF(印領清冊統計表!$A951=\"總計\",\"\",(IF(印領清冊統計表!A951=0,A947,印領清冊統計表!A951)))","v":""},{"$f":"+印領清冊統計表!B951","v":0},{"$f":"+印領清冊統計表!C951","v":0},{"$f":"+印領清冊統計表!D951","v":0},{"$f":"+印領清冊統計表!E951","v":0}]
[{"$f":"IF(印領清冊統計表!$A952=\"總計\",\"\",(IF(印領清冊統計表!A952=0,A948,印領清冊統計表!A952)))","v":""},{"$f":"+印領清冊統計表!B952","v":0},{"$f":"+印領清冊統計表!C952","v":0},{"$f":"+印領清冊統計表!D952","v":0},{"$f":"+印領清冊統計表!E952","v":0}]
[{"$f":"IF(印領清冊統計表!$A953=\"總計\",\"\",(IF(印領清冊統計表!A953=0,A949,印領清冊統計表!A953)))","v":""},{"$f":"+印領清冊統計表!B953","v":0},{"$f":"+印領清冊統計表!C953","v":0},{"$f":"+印領清冊統計表!D953","v":0},{"$f":"+印領清冊統計表!E953","v":0}]
[{"$f":"IF(印領清冊統計表!$A954=\"總計\",\"\",(IF(印領清冊統計表!A954=0,A950,印領清冊統計表!A954)))","v":""},{"$f":"+印領清冊統計表!B954","v":0},{"$f":"+印領清冊統計表!C954","v":0},{"$f":"+印領清冊統計表!D954","v":0},{"$f":"+印領清冊統計表!E954","v":0}]
[{"$f":"IF(印領清冊統計表!$A955=\"總計\",\"\",(IF(印領清冊統計表!A955=0,A951,印領清冊統計表!A955)))","v":""},{"$f":"+印領清冊統計表!B955","v":0},{"$f":"+印領清冊統計表!C955","v":0},{"$f":"+印領清冊統計表!D955","v":0},{"$f":"+印領清冊統計表!E955","v":0}]
[{"$f":"IF(印領清冊統計表!$A956=\"總計\",\"\",(IF(印領清冊統計表!A956=0,A952,印領清冊統計表!A956)))","v":""},{"$f":"+印領清冊統計表!B956","v":0},{"$f":"+印領清冊統計表!C956","v":0},{"$f":"+印領清冊統計表!D956","v":0},{"$f":"+印領清冊統計表!E956","v":0}]
[{"$f":"IF(印領清冊統計表!$A957=\"總計\",\"\",(IF(印領清冊統計表!A957=0,A953,印領清冊統計表!A957)))","v":""},{"$f":"+印領清冊統計表!B957","v":0},{"$f":"+印領清冊統計表!C957","v":0},{"$f":"+印領清冊統計表!D957","v":0},{"$f":"+印領清冊統計表!E957","v":0}]
[{"$f":"IF(印領清冊統計表!$A958=\"總計\",\"\",(IF(印領清冊統計表!A958=0,A954,印領清冊統計表!A958)))","v":""},{"$f":"+印領清冊統計表!B958","v":0},{"$f":"+印領清冊統計表!C958","v":0},{"$f":"+印領清冊統計表!D958","v":0},{"$f":"+印領清冊統計表!E958","v":0}]
[{"$f":"IF(印領清冊統計表!$A959=\"總計\",\"\",(IF(印領清冊統計表!A959=0,A955,印領清冊統計表!A959)))","v":""},{"$f":"+印領清冊統計表!B959","v":0},{"$f":"+印領清冊統計表!C959","v":0},{"$f":"+印領清冊統計表!D959","v":0},{"$f":"+印領清冊統計表!E959","v":0}]
[{"$f":"IF(印領清冊統計表!$A960=\"總計\",\"\",(IF(印領清冊統計表!A960=0,A956,印領清冊統計表!A960)))","v":""},{"$f":"+印領清冊統計表!B960","v":0},{"$f":"+印領清冊統計表!C960","v":0},{"$f":"+印領清冊統計表!D960","v":0},{"$f":"+印領清冊統計表!E960","v":0}]
[{"$f":"IF(印領清冊統計表!$A961=\"總計\",\"\",(IF(印領清冊統計表!A961=0,A957,印領清冊統計表!A961)))","v":""},{"$f":"+印領清冊統計表!B961","v":0},{"$f":"+印領清冊統計表!C961","v":0},{"$f":"+印領清冊統計表!D961","v":0},{"$f":"+印領清冊統計表!E961","v":0}]
[{"$f":"IF(印領清冊統計表!$A962=\"總計\",\"\",(IF(印領清冊統計表!A962=0,A958,印領清冊統計表!A962)))","v":""},{"$f":"+印領清冊統計表!B962","v":0},{"$f":"+印領清冊統計表!C962","v":0},{"$f":"+印領清冊統計表!D962","v":0},{"$f":"+印領清冊統計表!E962","v":0}]
[{"$f":"IF(印領清冊統計表!$A963=\"總計\",\"\",(IF(印領清冊統計表!A963=0,A959,印領清冊統計表!A963)))","v":""},{"$f":"+印領清冊統計表!B963","v":0},{"$f":"+印領清冊統計表!C963","v":0},{"$f":"+印領清冊統計表!D963","v":0},{"$f":"+印領清冊統計表!E963","v":0}]
[{"$f":"IF(印領清冊統計表!$A964=\"總計\",\"\",(IF(印領清冊統計表!A964=0,A960,印領清冊統計表!A964)))","v":""},{"$f":"+印領清冊統計表!B964","v":0},{"$f":"+印領清冊統計表!C964","v":0},{"$f":"+印領清冊統計表!D964","v":0},{"$f":"+印領清冊統計表!E964","v":0}]
[{"$f":"IF(印領清冊統計表!$A965=\"總計\",\"\",(IF(印領清冊統計表!A965=0,A961,印領清冊統計表!A965)))","v":""},{"$f":"+印領清冊統計表!B965","v":0},{"$f":"+印領清冊統計表!C965","v":0},{"$f":"+印領清冊統計表!D965","v":0},{"$f":"+印領清冊統計表!E965","v":0}]
[{"$f":"IF(印領清冊統計表!$A966=\"總計\",\"\",(IF(印領清冊統計表!A966=0,A962,印領清冊統計表!A966)))","v":""},{"$f":"+印領清冊統計表!B966","v":0},{"$f":"+印領清冊統計表!C966","v":0},{"$f":"+印領清冊統計表!D966","v":0},{"$f":"+印領清冊統計表!E966","v":0}]
[{"$f":"IF(印領清冊統計表!$A967=\"總計\",\"\",(IF(印領清冊統計表!A967=0,A963,印領清冊統計表!A967)))","v":""},{"$f":"+印領清冊統計表!B967","v":0},{"$f":"+印領清冊統計表!C967","v":0},{"$f":"+印領清冊統計表!D967","v":0},{"$f":"+印領清冊統計表!E967","v":0}]
[{"$f":"IF(印領清冊統計表!$A968=\"總計\",\"\",(IF(印領清冊統計表!A968=0,A964,印領清冊統計表!A968)))","v":""},{"$f":"+印領清冊統計表!B968","v":0},{"$f":"+印領清冊統計表!C968","v":0},{"$f":"+印領清冊統計表!D968","v":0},{"$f":"+印領清冊統計表!E968","v":0}]
[{"$f":"IF(印領清冊統計表!$A969=\"總計\",\"\",(IF(印領清冊統計表!A969=0,A965,印領清冊統計表!A969)))","v":""},{"$f":"+印領清冊統計表!B969","v":0},{"$f":"+印領清冊統計表!C969","v":0},{"$f":"+印領清冊統計表!D969","v":0},{"$f":"+印領清冊統計表!E969","v":0}]
[{"$f":"IF(印領清冊統計表!$A970=\"總計\",\"\",(IF(印領清冊統計表!A970=0,A966,印領清冊統計表!A970)))","v":""},{"$f":"+印領清冊統計表!B970","v":0},{"$f":"+印領清冊統計表!C970","v":0},{"$f":"+印領清冊統計表!D970","v":0},{"$f":"+印領清冊統計表!E970","v":0}]
[{"$f":"IF(印領清冊統計表!$A971=\"總計\",\"\",(IF(印領清冊統計表!A971=0,A967,印領清冊統計表!A971)))","v":""},{"$f":"+印領清冊統計表!B971","v":0},{"$f":"+印領清冊統計表!C971","v":0},{"$f":"+印領清冊統計表!D971","v":0},{"$f":"+印領清冊統計表!E971","v":0}]
[{"$f":"IF(印領清冊統計表!$A972=\"總計\",\"\",(IF(印領清冊統計表!A972=0,A968,印領清冊統計表!A972)))","v":""},{"$f":"+印領清冊統計表!B972","v":0},{"$f":"+印領清冊統計表!C972","v":0},{"$f":"+印領清冊統計表!D972","v":0},{"$f":"+印領清冊統計表!E972","v":0}]
[{"$f":"IF(印領清冊統計表!$A973=\"總計\",\"\",(IF(印領清冊統計表!A973=0,A969,印領清冊統計表!A973)))","v":""},{"$f":"+印領清冊統計表!B973","v":0},{"$f":"+印領清冊統計表!C973","v":0},{"$f":"+印領清冊統計表!D973","v":0},{"$f":"+印領清冊統計表!E973","v":0}]
[{"$f":"IF(印領清冊統計表!$A974=\"總計\",\"\",(IF(印領清冊統計表!A974=0,A970,印領清冊統計表!A974)))","v":""},{"$f":"+印領清冊統計表!B974","v":0},{"$f":"+印領清冊統計表!C974","v":0},{"$f":"+印領清冊統計表!D974","v":0},{"$f":"+印領清冊統計表!E974","v":0}]
[{"$f":"IF(印領清冊統計表!$A975=\"總計\",\"\",(IF(印領清冊統計表!A975=0,A971,印領清冊統計表!A975)))","v":""},{"$f":"+印領清冊統計表!B975","v":0},{"$f":"+印領清冊統計表!C975","v":0},{"$f":"+印領清冊統計表!D975","v":0},{"$f":"+印領清冊統計表!E975","v":0}]
[{"$f":"IF(印領清冊統計表!$A976=\"總計\",\"\",(IF(印領清冊統計表!A976=0,A972,印領清冊統計表!A976)))","v":""},{"$f":"+印領清冊統計表!B976","v":0},{"$f":"+印領清冊統計表!C976","v":0},{"$f":"+印領清冊統計表!D976","v":0},{"$f":"+印領清冊統計表!E976","v":0}]
[{"$f":"IF(印領清冊統計表!$A977=\"總計\",\"\",(IF(印領清冊統計表!A977=0,A973,印領清冊統計表!A977)))","v":""},{"$f":"+印領清冊統計表!B977","v":0},{"$f":"+印領清冊統計表!C977","v":0},{"$f":"+印領清冊統計表!D977","v":0},{"$f":"+印領清冊統計表!E977","v":0}]
[{"$f":"IF(印領清冊統計表!$A978=\"總計\",\"\",(IF(印領清冊統計表!A978=0,A974,印領清冊統計表!A978)))","v":""},{"$f":"+印領清冊統計表!B978","v":0},{"$f":"+印領清冊統計表!C978","v":0},{"$f":"+印領清冊統計表!D978","v":0},{"$f":"+印領清冊統計表!E978","v":0}]
[{"$f":"IF(印領清冊統計表!$A979=\"總計\",\"\",(IF(印領清冊統計表!A979=0,A975,印領清冊統計表!A979)))","v":""},{"$f":"+印領清冊統計表!B979","v":0},{"$f":"+印領清冊統計表!C979","v":0},{"$f":"+印領清冊統計表!D979","v":0},{"$f":"+印領清冊統計表!E979","v":0}]
[{"$f":"IF(印領清冊統計表!$A980=\"總計\",\"\",(IF(印領清冊統計表!A980=0,A976,印領清冊統計表!A980)))","v":""},{"$f":"+印領清冊統計表!B980","v":0},{"$f":"+印領清冊統計表!C980","v":0},{"$f":"+印領清冊統計表!D980","v":0},{"$f":"+印領清冊統計表!E980","v":0}]
[{"$f":"IF(印領清冊統計表!$A981=\"總計\",\"\",(IF(印領清冊統計表!A981=0,A977,印領清冊統計表!A981)))","v":""},{"$f":"+印領清冊統計表!B981","v":0},{"$f":"+印領清冊統計表!C981","v":0},{"$f":"+印領清冊統計表!D981","v":0},{"$f":"+印領清冊統計表!E981","v":0}]
[{"$f":"IF(印領清冊統計表!$A982=\"總計\",\"\",(IF(印領清冊統計表!A982=0,A978,印領清冊統計表!A982)))","v":""},{"$f":"+印領清冊統計表!B982","v":0},{"$f":"+印領清冊統計表!C982","v":0},{"$f":"+印領清冊統計表!D982","v":0},{"$f":"+印領清冊統計表!E982","v":0}]
[{"$f":"IF(印領清冊統計表!$A983=\"總計\",\"\",(IF(印領清冊統計表!A983=0,A979,印領清冊統計表!A983)))","v":""},{"$f":"+印領清冊統計表!B983","v":0},{"$f":"+印領清冊統計表!C983","v":0},{"$f":"+印領清冊統計表!D983","v":0},{"$f":"+印領清冊統計表!E983","v":0}]
[{"$f":"IF(印領清冊統計表!$A984=\"總計\",\"\",(IF(印領清冊統計表!A984=0,A980,印領清冊統計表!A984)))","v":""},{"$f":"+印領清冊統計表!B984","v":0},{"$f":"+印領清冊統計表!C984","v":0},{"$f":"+印領清冊統計表!D984","v":0},{"$f":"+印領清冊統計表!E984","v":0}]
[{"$f":"IF(印領清冊統計表!$A985=\"總計\",\"\",(IF(印領清冊統計表!A985=0,A981,印領清冊統計表!A985)))","v":""},{"$f":"+印領清冊統計表!B985","v":0},{"$f":"+印領清冊統計表!C985","v":0},{"$f":"+印領清冊統計表!D985","v":0},{"$f":"+印領清冊統計表!E985","v":0}]
[{"$f":"IF(印領清冊統計表!$A986=\"總計\",\"\",(IF(印領清冊統計表!A986=0,A982,印領清冊統計表!A986)))","v":""},{"$f":"+印領清冊統計表!B986","v":0},{"$f":"+印領清冊統計表!C986","v":0},{"$f":"+印領清冊統計表!D986","v":0},{"$f":"+印領清冊統計表!E986","v":0}]
[{"$f":"IF(印領清冊統計表!$A987=\"總計\",\"\",(IF(印領清冊統計表!A987=0,A983,印領清冊統計表!A987)))","v":""},{"$f":"+印領清冊統計表!B987","v":0},{"$f":"+印領清冊統計表!C987","v":0},{"$f":"+印領清冊統計表!D987","v":0},{"$f":"+印領清冊統計表!E987","v":0}]
[{"$f":"IF(印領清冊統計表!$A988=\"總計\",\"\",(IF(印領清冊統計表!A988=0,A984,印領清冊統計表!A988)))","v":""},{"$f":"+印領清冊統計表!B988","v":0},{"$f":"+印領清冊統計表!C988","v":0},{"$f":"+印領清冊統計表!D988","v":0},{"$f":"+印領清冊統計表!E988","v":0}]
[{"$f":"IF(印領清冊統計表!$A989=\"總計\",\"\",(IF(印領清冊統計表!A989=0,A985,印領清冊統計表!A989)))","v":""},{"$f":"+印領清冊統計表!B989","v":0},{"$f":"+印領清冊統計表!C989","v":0},{"$f":"+印領清冊統計表!D989","v":0},{"$f":"+印領清冊統計表!E989","v":0}]
[{"$f":"IF(印領清冊統計表!$A990=\"總計\",\"\",(IF(印領清冊統計表!A990=0,A986,印領清冊統計表!A990)))","v":""},{"$f":"+印領清冊統計表!B990","v":0},{"$f":"+印領清冊統計表!C990","v":0},{"$f":"+印領清冊統計表!D990","v":0},{"$f":"+印領清冊統計表!E990","v":0}]
[{"$f":"IF(印領清冊統計表!$A991=\"總計\",\"\",(IF(印領清冊統計表!A991=0,A987,印領清冊統計表!A991)))","v":""},{"$f":"+印領清冊統計表!B991","v":0},{"$f":"+印領清冊統計表!C991","v":0},{"$f":"+印領清冊統計表!D991","v":0},{"$f":"+印領清冊統計表!E991","v":0}]
[{"$f":"IF(印領清冊統計表!$A992=\"總計\",\"\",(IF(印領清冊統計表!A992=0,A988,印領清冊統計表!A992)))","v":""},{"$f":"+印領清冊統計表!B992","v":0},{"$f":"+印領清冊統計表!C992","v":0},{"$f":"+印領清冊統計表!D992","v":0},{"$f":"+印領清冊統計表!E992","v":0}]
[{"$f":"IF(印領清冊統計表!$A993=\"總計\",\"\",(IF(印領清冊統計表!A993=0,A989,印領清冊統計表!A993)))","v":""},{"$f":"+印領清冊統計表!B993","v":0},{"$f":"+印領清冊統計表!C993","v":0},{"$f":"+印領清冊統計表!D993","v":0},{"$f":"+印領清冊統計表!E993","v":0}]
[{"$f":"IF(印領清冊統計表!$A994=\"總計\",\"\",(IF(印領清冊統計表!A994=0,A990,印領清冊統計表!A994)))","v":""},{"$f":"+印領清冊統計表!B994","v":0},{"$f":"+印領清冊統計表!C994","v":0},{"$f":"+印領清冊統計表!D994","v":0},{"$f":"+印領清冊統計表!E994","v":0}]
[{"$f":"IF(印領清冊統計表!$A995=\"總計\",\"\",(IF(印領清冊統計表!A995=0,A991,印領清冊統計表!A995)))","v":""},{"$f":"+印領清冊統計表!B995","v":0},{"$f":"+印領清冊統計表!C995","v":0},{"$f":"+印領清冊統計表!D995","v":0},{"$f":"+印領清冊統計表!E995","v":0}]
[{"$f":"IF(印領清冊統計表!$A996=\"總計\",\"\",(IF(印領清冊統計表!A996=0,A992,印領清冊統計表!A996)))","v":""},{"$f":"+印領清冊統計表!B996","v":0},{"$f":"+印領清冊統計表!C996","v":0},{"$f":"+印領清冊統計表!D996","v":0},{"$f":"+印領清冊統計表!E996","v":0}]
[{"$f":"IF(印領清冊統計表!$A997=\"總計\",\"\",(IF(印領清冊統計表!A997=0,A993,印領清冊統計表!A997)))","v":""},{"$f":"+印領清冊統計表!B997","v":0},{"$f":"+印領清冊統計表!C997","v":0},{"$f":"+印領清冊統計表!D997","v":0},{"$f":"+印領清冊統計表!E997","v":0}]
[{"$f":"IF(印領清冊統計表!$A998=\"總計\",\"\",(IF(印領清冊統計表!A998=0,A994,印領清冊統計表!A998)))","v":""},{"$f":"+印領清冊統計表!B998","v":0},{"$f":"+印領清冊統計表!C998","v":0},{"$f":"+印領清冊統計表!D998","v":0},{"$f":"+印領清冊統計表!E998","v":0}]
[{"$f":"IF(印領清冊統計表!$A999=\"總計\",\"\",(IF(印領清冊統計表!A999=0,A995,印領清冊統計表!A999)))","v":""},{"$f":"+印領清冊統計表!B999","v":0},{"$f":"+印領清冊統計表!C999","v":0},{"$f":"+印領清冊統計表!D999","v":0},{"$f":"+印領清冊統計表!E999","v":0}]
[{"$f":"IF(印領清冊統計表!$A1000=\"總計\",\"\",(IF(印領清冊統計表!A1000=0,A996,印領清冊統計表!A1000)))","v":""},{"$f":"+印領清冊統計表!B1000","v":0},{"$f":"+印領清冊統計表!C1000","v":0},{"$f":"+印領清冊統計表!D1000","v":0},{"$f":"+印領清冊統計表!E1000","v":0}]
[{"$f":"IF(印領清冊統計表!$A1001=\"總計\",\"\",(IF(印領清冊統計表!A1001=0,A997,印領清冊統計表!A1001)))","v":""},{"$f":"+印領清冊統計表!B1001","v":0},{"$f":"+印領清冊統計表!C1001","v":0},{"$f":"+印領清冊統計表!D1001","v":0},{"$f":"+印領清冊統計表!E1001","v":0}]
[{"$f":"IF(印領清冊統計表!$A1002=\"總計\",\"\",(IF(印領清冊統計表!A1002=0,A998,印領清冊統計表!A1002)))","v":""},{"$f":"+印領清冊統計表!B1002","v":0},{"$f":"+印領清冊統計表!C1002","v":0},{"$f":"+印領清冊統計表!D1002","v":0},{"$f":"+印領清冊統計表!E1002","v":0}]
[{"$f":"IF(印領清冊統計表!$A1003=\"總計\",\"\",(IF(印領清冊統計表!A1003=0,A999,印領清冊統計表!A1003)))","v":""},{"$f":"+印領清冊統計表!B1003","v":0},{"$f":"+印領清冊統計表!C1003","v":0},{"$f":"+印領清冊統計表!D1003","v":0},{"$f":"+印領清冊統計表!E1003","v":0}]
[{"$f":"IF(印領清冊統計表!$A1004=\"總計\",\"\",(IF(印領清冊統計表!A1004=0,A1000,印領清冊統計表!A1004)))","v":""},{"$f":"+印領清冊統計表!B1004","v":0},{"$f":"+印領清冊統計表!C1004","v":0},{"$f":"+印領清冊統計表!D1004","v":0},{"$f":"+印領清冊統計表!E1004","v":0}]
[{"$f":"IF(印領清冊統計表!$A1005=\"總計\",\"\",(IF(印領清冊統計表!A1005=0,A1001,印領清冊統計表!A1005)))","v":""},{"$f":"+印領清冊統計表!B1005","v":0},{"$f":"+印領清冊統計表!C1005","v":0},{"$f":"+印領清冊統計表!D1005","v":0},{"$f":"+印領清冊統計表!E1005","v":0}]
[{"$f":"IF(印領清冊統計表!$A1006=\"總計\",\"\",(IF(印領清冊統計表!A1006=0,A1002,印領清冊統計表!A1006)))","v":""},{"$f":"+印領清冊統計表!B1006","v":0},{"$f":"+印領清冊統計表!C1006","v":0},{"$f":"+印領清冊統計表!D1006","v":0},{"$f":"+印領清冊統計表!E1006","v":0}]
[{"$f":"IF(印領清冊統計表!$A1007=\"總計\",\"\",(IF(印領清冊統計表!A1007=0,A1003,印領清冊統計表!A1007)))","v":""},{"$f":"+印領清冊統計表!B1007","v":0},{"$f":"+印領清冊統計表!C1007","v":0},{"$f":"+印領清冊統計表!D1007","v":0},{"$f":"+印領清冊統計表!E1007","v":0}]
[{"$f":"IF(印領清冊統計表!$A1008=\"總計\",\"\",(IF(印領清冊統計表!A1008=0,A1004,印領清冊統計表!A1008)))","v":""},{"$f":"+印領清冊統計表!B1008","v":0},{"$f":"+印領清冊統計表!C1008","v":0},{"$f":"+印領清冊統計表!D1008","v":0},{"$f":"+印領清冊統計表!E1008","v":0}]
[{"$f":"IF(印領清冊統計表!$A1009=\"總計\",\"\",(IF(印領清冊統計表!A1009=0,A1005,印領清冊統計表!A1009)))","v":""},{"$f":"+印領清冊統計表!B1009","v":0},{"$f":"+印領清冊統計表!C1009","v":0},{"$f":"+印領清冊統計表!D1009","v":0},{"$f":"+印領清冊統計表!E1009","v":0}]
[{"$f":"IF(印領清冊統計表!$A1010=\"總計\",\"\",(IF(印領清冊統計表!A1010=0,A1006,印領清冊統計表!A1010)))","v":""},{"$f":"+印領清冊統計表!B1010","v":0},{"$f":"+印領清冊統計表!C1010","v":0},{"$f":"+印領清冊統計表!D1010","v":0},{"$f":"+印領清冊統計表!E1010","v":0}]
[{"$f":"IF(印領清冊統計表!$A1011=\"總計\",\"\",(IF(印領清冊統計表!A1011=0,A1007,印領清冊統計表!A1011)))","v":""},{"$f":"+印領清冊統計表!B1011","v":0},{"$f":"+印領清冊統計表!C1011","v":0},{"$f":"+印領清冊統計表!D1011","v":0},{"$f":"+印領清冊統計表!E1011","v":0}]
[{"$f":"IF(印領清冊統計表!$A1012=\"總計\",\"\",(IF(印領清冊統計表!A1012=0,A1008,印領清冊統計表!A1012)))","v":""},{"$f":"+印領清冊統計表!B1012","v":0},{"$f":"+印領清冊統計表!C1012","v":0},{"$f":"+印領清冊統計表!D1012","v":0},{"$f":"+印領清冊統計表!E1012","v":0}]
[{"$f":"IF(印領清冊統計表!$A1013=\"總計\",\"\",(IF(印領清冊統計表!A1013=0,A1009,印領清冊統計表!A1013)))","v":""},{"$f":"+印領清冊統計表!B1013","v":0},{"$f":"+印領清冊統計表!C1013","v":0},{"$f":"+印領清冊統計表!D1013","v":0},{"$f":"+印領清冊統計表!E1013","v":0}]
[{"$f":"IF(印領清冊統計表!$A1014=\"總計\",\"\",(IF(印領清冊統計表!A1014=0,A1010,印領清冊統計表!A1014)))","v":""},{"$f":"+印領清冊統計表!B1014","v":0},{"$f":"+印領清冊統計表!C1014","v":0},{"$f":"+印領清冊統計表!D1014","v":0},{"$f":"+印領清冊統計表!E1014","v":0}]
[{"$f":"IF(印領清冊統計表!$A1015=\"總計\",\"\",(IF(印領清冊統計表!A1015=0,A1011,印領清冊統計表!A1015)))","v":""},{"$f":"+印領清冊統計表!B1015","v":0},{"$f":"+印領清冊統計表!C1015","v":0},{"$f":"+印領清冊統計表!D1015","v":0},{"$f":"+印領清冊統計表!E1015","v":0}]
[{"$f":"IF(印領清冊統計表!$A1016=\"總計\",\"\",(IF(印領清冊統計表!A1016=0,A1012,印領清冊統計表!A1016)))","v":""},{"$f":"+印領清冊統計表!B1016","v":0},{"$f":"+印領清冊統計表!C1016","v":0},{"$f":"+印領清冊統計表!D1016","v":0},{"$f":"+印領清冊統計表!E1016","v":0}]
[{"$f":"IF(印領清冊統計表!$A1017=\"總計\",\"\",(IF(印領清冊統計表!A1017=0,A1013,印領清冊統計表!A1017)))","v":""},{"$f":"+印領清冊統計表!B1017","v":0},{"$f":"+印領清冊統計表!C1017","v":0},{"$f":"+印領清冊統計表!D1017","v":0},{"$f":"+印領清冊統計表!E1017","v":0}]
[{"$f":"IF(印領清冊統計表!$A1018=\"總計\",\"\",(IF(印領清冊統計表!A1018=0,A1014,印領清冊統計表!A1018)))","v":""},{"$f":"+印領清冊統計表!B1018","v":0},{"$f":"+印領清冊統計表!C1018","v":0},{"$f":"+印領清冊統計表!D1018","v":0},{"$f":"+印領清冊統計表!E1018","v":0}]
[{"$f":"IF(印領清冊統計表!$A1019=\"總計\",\"\",(IF(印領清冊統計表!A1019=0,A1015,印領清冊統計表!A1019)))","v":""},{"$f":"+印領清冊統計表!B1019","v":0},{"$f":"+印領清冊統計表!C1019","v":0},{"$f":"+印領清冊統計表!D1019","v":0},{"$f":"+印領清冊統計表!E1019","v":0}]
[{"$f":"IF(印領清冊統計表!$A1020=\"總計\",\"\",(IF(印領清冊統計表!A1020=0,A1016,印領清冊統計表!A1020)))","v":""},{"$f":"+印領清冊統計表!B1020","v":0},{"$f":"+印領清冊統計表!C1020","v":0},{"$f":"+印領清冊統計表!D1020","v":0},{"$f":"+印領清冊統計表!E1020","v":0}]
[{"$f":"IF(印領清冊統計表!$A1021=\"總計\",\"\",(IF(印領清冊統計表!A1021=0,A1017,印領清冊統計表!A1021)))","v":""},{"$f":"+印領清冊統計表!B1021","v":0},{"$f":"+印領清冊統計表!C1021","v":0},{"$f":"+印領清冊統計表!D1021","v":0},{"$f":"+印領清冊統計表!E1021","v":0}]
[{"$f":"IF(印領清冊統計表!$A1022=\"總計\",\"\",(IF(印領清冊統計表!A1022=0,A1018,印領清冊統計表!A1022)))","v":""},{"$f":"+印領清冊統計表!B1022","v":0},{"$f":"+印領清冊統計表!C1022","v":0},{"$f":"+印領清冊統計表!D1022","v":0},{"$f":"+印領清冊統計表!E1022","v":0}]
[{"$f":"IF(印領清冊統計表!$A1023=\"總計\",\"\",(IF(印領清冊統計表!A1023=0,A1019,印領清冊統計表!A1023)))","v":""},{"$f":"+印領清冊統計表!B1023","v":0},{"$f":"+印領清冊統計表!C1023","v":0},{"$f":"+印領清冊統計表!D1023","v":0},{"$f":"+印領清冊統計表!E1023","v":0}]
[{"$f":"IF(印領清冊統計表!$A1024=\"總計\",\"\",(IF(印領清冊統計表!A1024=0,A1020,印領清冊統計表!A1024)))","v":""},{"$f":"+印領清冊統計表!B1024","v":0},{"$f":"+印領清冊統計表!C1024","v":0},{"$f":"+印領清冊統計表!D1024","v":0},{"$f":"+印領清冊統計表!E1024","v":0}]
[{"$f":"IF(印領清冊統計表!$A1025=\"總計\",\"\",(IF(印領清冊統計表!A1025=0,A1021,印領清冊統計表!A1025)))","v":""},{"$f":"+印領清冊統計表!B1025","v":0},{"$f":"+印領清冊統計表!C1025","v":0},{"$f":"+印領清冊統計表!D1025","v":0},{"$f":"+印領清冊統計表!E1025","v":0}]
[{"$f":"IF(印領清冊統計表!$A1026=\"總計\",\"\",(IF(印領清冊統計表!A1026=0,A1022,印領清冊統計表!A1026)))","v":""},{"$f":"+印領清冊統計表!B1026","v":0},{"$f":"+印領清冊統計表!C1026","v":0},{"$f":"+印領清冊統計表!D1026","v":0},{"$f":"+印領清冊統計表!E1026","v":0}]
[{"$f":"IF(印領清冊統計表!$A1027=\"總計\",\"\",(IF(印領清冊統計表!A1027=0,A1023,印領清冊統計表!A1027)))","v":""},{"$f":"+印領清冊統計表!B1027","v":0},{"$f":"+印領清冊統計表!C1027","v":0},{"$f":"+印領清冊統計表!D1027","v":0},{"$f":"+印領清冊統計表!E1027","v":0}]
[{"$f":"IF(印領清冊統計表!$A1028=\"總計\",\"\",(IF(印領清冊統計表!A1028=0,A1024,印領清冊統計表!A1028)))","v":""},{"$f":"+印領清冊統計表!B1028","v":0},{"$f":"+印領清冊統計表!C1028","v":0},{"$f":"+印領清冊統計表!D1028","v":0},{"$f":"+印領清冊統計表!E1028","v":0}]
[{"$f":"IF(印領清冊統計表!$A1029=\"總計\",\"\",(IF(印領清冊統計表!A1029=0,A1025,印領清冊統計表!A1029)))","v":""},{"$f":"+印領清冊統計表!B1029","v":0},{"$f":"+印領清冊統計表!C1029","v":0},{"$f":"+印領清冊統計表!D1029","v":0},{"$f":"+印領清冊統計表!E1029","v":0}]
[{"$f":"IF(印領清冊統計表!$A1030=\"總計\",\"\",(IF(印領清冊統計表!A1030=0,A1026,印領清冊統計表!A1030)))","v":""},{"$f":"+印領清冊統計表!B1030","v":0},{"$f":"+印領清冊統計表!C1030","v":0},{"$f":"+印領清冊統計表!D1030","v":0},{"$f":"+印領清冊統計表!E1030","v":0}]
[{"$f":"IF(印領清冊統計表!$A1031=\"總計\",\"\",(IF(印領清冊統計表!A1031=0,A1027,印領清冊統計表!A1031)))","v":""},{"$f":"+印領清冊統計表!B1031","v":0},{"$f":"+印領清冊統計表!C1031","v":0},{"$f":"+印領清冊統計表!D1031","v":0},{"$f":"+印領清冊統計表!E1031","v":0}]
[{"$f":"IF(印領清冊統計表!$A1032=\"總計\",\"\",(IF(印領清冊統計表!A1032=0,A1028,印領清冊統計表!A1032)))","v":""},{"$f":"+印領清冊統計表!B1032","v":0},{"$f":"+印領清冊統計表!C1032","v":0},{"$f":"+印領清冊統計表!D1032","v":0},{"$f":"+印領清冊統計表!E1032","v":0}]
[{"$f":"IF(印領清冊統計表!$A1033=\"總計\",\"\",(IF(印領清冊統計表!A1033=0,A1029,印領清冊統計表!A1033)))","v":""},{"$f":"+印領清冊統計表!B1033","v":0},{"$f":"+印領清冊統計表!C1033","v":0},{"$f":"+印領清冊統計表!D1033","v":0},{"$f":"+印領清冊統計表!E1033","v":0}]
[{"$f":"IF(印領清冊統計表!$A1034=\"總計\",\"\",(IF(印領清冊統計表!A1034=0,A1030,印領清冊統計表!A1034)))","v":""},{"$f":"+印領清冊統計表!B1034","v":0},{"$f":"+印領清冊統計表!C1034","v":0},{"$f":"+印領清冊統計表!D1034","v":0},{"$f":"+印領清冊統計表!E1034","v":0}]
[{"$f":"IF(印領清冊統計表!$A1035=\"總計\",\"\",(IF(印領清冊統計表!A1035=0,A1031,印領清冊統計表!A1035)))","v":""},{"$f":"+印領清冊統計表!B1035","v":0},{"$f":"+印領清冊統計表!C1035","v":0},{"$f":"+印領清冊統計表!D1035","v":0},{"$f":"+印領清冊統計表!E1035","v":0}]
[{"$f":"IF(印領清冊統計表!$A1036=\"總計\",\"\",(IF(印領清冊統計表!A1036=0,A1032,印領清冊統計表!A1036)))","v":""},{"$f":"+印領清冊統計表!B1036","v":0},{"$f":"+印領清冊統計表!C1036","v":0},{"$f":"+印領清冊統計表!D1036","v":0},{"$f":"+印領清冊統計表!E1036","v":0}]
[{"$f":"IF(印領清冊統計表!$A1037=\"總計\",\"\",(IF(印領清冊統計表!A1037=0,A1033,印領清冊統計表!A1037)))","v":""},{"$f":"+印領清冊統計表!B1037","v":0},{"$f":"+印領清冊統計表!C1037","v":0},{"$f":"+印領清冊統計表!D1037","v":0},{"$f":"+印領清冊統計表!E1037","v":0}]
[{"$f":"IF(印領清冊統計表!$A1038=\"總計\",\"\",(IF(印領清冊統計表!A1038=0,A1034,印領清冊統計表!A1038)))","v":""},{"$f":"+印領清冊統計表!B1038","v":0},{"$f":"+印領清冊統計表!C1038","v":0},{"$f":"+印領清冊統計表!D1038","v":0},{"$f":"+印領清冊統計表!E1038","v":0}]
[{"$f":"IF(印領清冊統計表!$A1039=\"總計\",\"\",(IF(印領清冊統計表!A1039=0,A1035,印領清冊統計表!A1039)))","v":""},{"$f":"+印領清冊統計表!B1039","v":0},{"$f":"+印領清冊統計表!C1039","v":0},{"$f":"+印領清冊統計表!D1039","v":0},{"$f":"+印領清冊統計表!E1039","v":0}]
[{"$f":"IF(印領清冊統計表!$A1040=\"總計\",\"\",(IF(印領清冊統計表!A1040=0,A1036,印領清冊統計表!A1040)))","v":""},{"$f":"+印領清冊統計表!B1040","v":0},{"$f":"+印領清冊統計表!C1040","v":0},{"$f":"+印領清冊統計表!D1040","v":0},{"$f":"+印領清冊統計表!E1040","v":0}]
[{"$f":"IF(印領清冊統計表!$A1041=\"總計\",\"\",(IF(印領清冊統計表!A1041=0,A1037,印領清冊統計表!A1041)))","v":""},{"$f":"+印領清冊統計表!B1041","v":0},{"$f":"+印領清冊統計表!C1041","v":0},{"$f":"+印領清冊統計表!D1041","v":0},{"$f":"+印領清冊統計表!E1041","v":0}]
[{"$f":"IF(印領清冊統計表!$A1042=\"總計\",\"\",(IF(印領清冊統計表!A1042=0,A1038,印領清冊統計表!A1042)))","v":""},{"$f":"+印領清冊統計表!B1042","v":0},{"$f":"+印領清冊統計表!C1042","v":0},{"$f":"+印領清冊統計表!D1042","v":0},{"$f":"+印領清冊統計表!E1042","v":0}]
[{"$f":"IF(印領清冊統計表!$A1043=\"總計\",\"\",(IF(印領清冊統計表!A1043=0,A1039,印領清冊統計表!A1043)))","v":""},{"$f":"+印領清冊統計表!B1043","v":0},{"$f":"+印領清冊統計表!C1043","v":0},{"$f":"+印領清冊統計表!D1043","v":0},{"$f":"+印領清冊統計表!E1043","v":0}]
[{"$f":"IF(印領清冊統計表!$A1044=\"總計\",\"\",(IF(印領清冊統計表!A1044=0,A1040,印領清冊統計表!A1044)))","v":""},{"$f":"+印領清冊統計表!B1044","v":0},{"$f":"+印領清冊統計表!C1044","v":0},{"$f":"+印領清冊統計表!D1044","v":0},{"$f":"+印領清冊統計表!E1044","v":0}]
[{"$f":"IF(印領清冊統計表!$A1045=\"總計\",\"\",(IF(印領清冊統計表!A1045=0,A1041,印領清冊統計表!A1045)))","v":""},{"$f":"+印領清冊統計表!B1045","v":0},{"$f":"+印領清冊統計表!C1045","v":0},{"$f":"+印領清冊統計表!D1045","v":0},{"$f":"+印領清冊統計表!E1045","v":0}]
[{"$f":"IF(印領清冊統計表!$A1046=\"總計\",\"\",(IF(印領清冊統計表!A1046=0,A1042,印領清冊統計表!A1046)))","v":""},{"$f":"+印領清冊統計表!B1046","v":0},{"$f":"+印領清冊統計表!C1046","v":0},{"$f":"+印領清冊統計表!D1046","v":0},{"$f":"+印領清冊統計表!E1046","v":0}]
[{"$f":"IF(印領清冊統計表!$A1047=\"總計\",\"\",(IF(印領清冊統計表!A1047=0,A1043,印領清冊統計表!A1047)))","v":""},{"$f":"+印領清冊統計表!B1047","v":0},{"$f":"+印領清冊統計表!C1047","v":0},{"$f":"+印領清冊統計表!D1047","v":0},{"$f":"+印領清冊統計表!E1047","v":0}]
[{"$f":"IF(印領清冊統計表!$A1048=\"總計\",\"\",(IF(印領清冊統計表!A1048=0,A1044,印領清冊統計表!A1048)))","v":""},{"$f":"+印領清冊統計表!B1048","v":0},{"$f":"+印領清冊統計表!C1048","v":0},{"$f":"+印領清冊統計表!D1048","v":0},{"$f":"+印領清冊統計表!E1048","v":0}]
[{"$f":"IF(印領清冊統計表!$A1049=\"總計\",\"\",(IF(印領清冊統計表!A1049=0,A1045,印領清冊統計表!A1049)))","v":""},{"$f":"+印領清冊統計表!B1049","v":0},{"$f":"+印領清冊統計表!C1049","v":0},{"$f":"+印領清冊統計表!D1049","v":0},{"$f":"+印領清冊統計表!E1049","v":0}]
[{"$f":"IF(印領清冊統計表!$A1050=\"總計\",\"\",(IF(印領清冊統計表!A1050=0,A1046,印領清冊統計表!A1050)))","v":""},{"$f":"+印領清冊統計表!B1050","v":0},{"$f":"+印領清冊統計表!C1050","v":0},{"$f":"+印領清冊統計表!D1050","v":0},{"$f":"+印領清冊統計表!E1050","v":0}]
[{"$f":"IF(印領清冊統計表!$A1051=\"總計\",\"\",(IF(印領清冊統計表!A1051=0,A1047,印領清冊統計表!A1051)))","v":""},{"$f":"+印領清冊統計表!B1051","v":0},{"$f":"+印領清冊統計表!C1051","v":0},{"$f":"+印領清冊統計表!D1051","v":0},{"$f":"+印領清冊統計表!E1051","v":0}]
[{"$f":"IF(印領清冊統計表!$A1052=\"總計\",\"\",(IF(印領清冊統計表!A1052=0,A1048,印領清冊統計表!A1052)))","v":""},{"$f":"+印領清冊統計表!B1052","v":0},{"$f":"+印領清冊統計表!C1052","v":0},{"$f":"+印領清冊統計表!D1052","v":0},{"$f":"+印領清冊統計表!E1052","v":0}]
[{"$f":"IF(印領清冊統計表!$A1053=\"總計\",\"\",(IF(印領清冊統計表!A1053=0,A1049,印領清冊統計表!A1053)))","v":""},{"$f":"+印領清冊統計表!B1053","v":0},{"$f":"+印領清冊統計表!C1053","v":0},{"$f":"+印領清冊統計表!D1053","v":0},{"$f":"+印領清冊統計表!E1053","v":0}]
[{"$f":"IF(印領清冊統計表!$A1054=\"總計\",\"\",(IF(印領清冊統計表!A1054=0,A1050,印領清冊統計表!A1054)))","v":""},{"$f":"+印領清冊統計表!B1054","v":0},{"$f":"+印領清冊統計表!C1054","v":0},{"$f":"+印領清冊統計表!D1054","v":0},{"$f":"+印領清冊統計表!E1054","v":0}]
[{"$f":"IF(印領清冊統計表!$A1055=\"總計\",\"\",(IF(印領清冊統計表!A1055=0,A1051,印領清冊統計表!A1055)))","v":""},{"$f":"+印領清冊統計表!B1055","v":0},{"$f":"+印領清冊統計表!C1055","v":0},{"$f":"+印領清冊統計表!D1055","v":0},{"$f":"+印領清冊統計表!E1055","v":0}]
[{"$f":"IF(印領清冊統計表!$A1056=\"總計\",\"\",(IF(印領清冊統計表!A1056=0,A1052,印領清冊統計表!A1056)))","v":""},{"$f":"+印領清冊統計表!B1056","v":0},{"$f":"+印領清冊統計表!C1056","v":0},{"$f":"+印領清冊統計表!D1056","v":0},{"$f":"+印領清冊統計表!E1056","v":0}]
[{"$f":"IF(印領清冊統計表!$A1057=\"總計\",\"\",(IF(印領清冊統計表!A1057=0,A1053,印領清冊統計表!A1057)))","v":""},{"$f":"+印領清冊統計表!B1057","v":0},{"$f":"+印領清冊統計表!C1057","v":0},{"$f":"+印領清冊統計表!D1057","v":0},{"$f":"+印領清冊統計表!E1057","v":0}]
[{"$f":"IF(印領清冊統計表!$A1058=\"總計\",\"\",(IF(印領清冊統計表!A1058=0,A1054,印領清冊統計表!A1058)))","v":""},{"$f":"+印領清冊統計表!B1058","v":0},{"$f":"+印領清冊統計表!C1058","v":0},{"$f":"+印領清冊統計表!D1058","v":0},{"$f":"+印領清冊統計表!E1058","v":0}]
[{"$f":"IF(印領清冊統計表!$A1059=\"總計\",\"\",(IF(印領清冊統計表!A1059=0,A1055,印領清冊統計表!A1059)))","v":""},{"$f":"+印領清冊統計表!B1059","v":0},{"$f":"+印領清冊統計表!C1059","v":0},{"$f":"+印領清冊統計表!D1059","v":0},{"$f":"+印領清冊統計表!E1059","v":0}]
[{"$f":"IF(印領清冊統計表!$A1060=\"總計\",\"\",(IF(印領清冊統計表!A1060=0,A1056,印領清冊統計表!A1060)))","v":""},{"$f":"+印領清冊統計表!B1060","v":0},{"$f":"+印領清冊統計表!C1060","v":0},{"$f":"+印領清冊統計表!D1060","v":0},{"$f":"+印領清冊統計表!E1060","v":0}]
[{"$f":"IF(印領清冊統計表!$A1061=\"總計\",\"\",(IF(印領清冊統計表!A1061=0,A1057,印領清冊統計表!A1061)))","v":""},{"$f":"+印領清冊統計表!B1061","v":0},{"$f":"+印領清冊統計表!C1061","v":0},{"$f":"+印領清冊統計表!D1061","v":0},{"$f":"+印領清冊統計表!E1061","v":0}]
[{"$f":"IF(印領清冊統計表!$A1062=\"總計\",\"\",(IF(印領清冊統計表!A1062=0,A1058,印領清冊統計表!A1062)))","v":""},{"$f":"+印領清冊統計表!B1062","v":0},{"$f":"+印領清冊統計表!C1062","v":0},{"$f":"+印領清冊統計表!D1062","v":0},{"$f":"+印領清冊統計表!E1062","v":0}]
[{"$f":"IF(印領清冊統計表!$A1063=\"總計\",\"\",(IF(印領清冊統計表!A1063=0,A1059,印領清冊統計表!A1063)))","v":""},{"$f":"+印領清冊統計表!B1063","v":0},{"$f":"+印領清冊統計表!C1063","v":0},{"$f":"+印領清冊統計表!D1063","v":0},{"$f":"+印領清冊統計表!E1063","v":0}]
[{"$f":"IF(印領清冊統計表!$A1064=\"總計\",\"\",(IF(印領清冊統計表!A1064=0,A1060,印領清冊統計表!A1064)))","v":""},{"$f":"+印領清冊統計表!B1064","v":0},{"$f":"+印領清冊統計表!C1064","v":0},{"$f":"+印領清冊統計表!D1064","v":0},{"$f":"+印領清冊統計表!E1064","v":0}]
[{"$f":"IF(印領清冊統計表!$A1065=\"總計\",\"\",(IF(印領清冊統計表!A1065=0,A1061,印領清冊統計表!A1065)))","v":""},{"$f":"+印領清冊統計表!B1065","v":0},{"$f":"+印領清冊統計表!C1065","v":0},{"$f":"+印領清冊統計表!D1065","v":0},{"$f":"+印領清冊統計表!E1065","v":0}]
[{"$f":"IF(印領清冊統計表!$A1066=\"總計\",\"\",(IF(印領清冊統計表!A1066=0,A1062,印領清冊統計表!A1066)))","v":""},{"$f":"+印領清冊統計表!B1066","v":0},{"$f":"+印領清冊統計表!C1066","v":0},{"$f":"+印領清冊統計表!D1066","v":0},{"$f":"+印領清冊統計表!E1066","v":0}]
[{"$f":"IF(印領清冊統計表!$A1067=\"總計\",\"\",(IF(印領清冊統計表!A1067=0,A1063,印領清冊統計表!A1067)))","v":""},{"$f":"+印領清冊統計表!B1067","v":0},{"$f":"+印領清冊統計表!C1067","v":0},{"$f":"+印領清冊統計表!D1067","v":0},{"$f":"+印領清冊統計表!E1067","v":0}]
[{"$f":"IF(印領清冊統計表!$A1068=\"總計\",\"\",(IF(印領清冊統計表!A1068=0,A1064,印領清冊統計表!A1068)))","v":""},{"$f":"+印領清冊統計表!B1068","v":0},{"$f":"+印領清冊統計表!C1068","v":0},{"$f":"+印領清冊統計表!D1068","v":0},{"$f":"+印領清冊統計表!E1068","v":0}]
[{"$f":"IF(印領清冊統計表!$A1069=\"總計\",\"\",(IF(印領清冊統計表!A1069=0,A1065,印領清冊統計表!A1069)))","v":""},{"$f":"+印領清冊統計表!B1069","v":0},{"$f":"+印領清冊統計表!C1069","v":0},{"$f":"+印領清冊統計表!D1069","v":0},{"$f":"+印領清冊統計表!E1069","v":0}]
[{"$f":"IF(印領清冊統計表!$A1070=\"總計\",\"\",(IF(印領清冊統計表!A1070=0,A1066,印領清冊統計表!A1070)))","v":""},{"$f":"+印領清冊統計表!B1070","v":0},{"$f":"+印領清冊統計表!C1070","v":0},{"$f":"+印領清冊統計表!D1070","v":0},{"$f":"+印領清冊統計表!E1070","v":0}]
[{"$f":"IF(印領清冊統計表!$A1071=\"總計\",\"\",(IF(印領清冊統計表!A1071=0,A1067,印領清冊統計表!A1071)))","v":""},{"$f":"+印領清冊統計表!B1071","v":0},{"$f":"+印領清冊統計表!C1071","v":0},{"$f":"+印領清冊統計表!D1071","v":0},{"$f":"+印領清冊統計表!E1071","v":0}]
[{"$f":"IF(印領清冊統計表!$A1072=\"總計\",\"\",(IF(印領清冊統計表!A1072=0,A1068,印領清冊統計表!A1072)))","v":""},{"$f":"+印領清冊統計表!B1072","v":0},{"$f":"+印領清冊統計表!C1072","v":0},{"$f":"+印領清冊統計表!D1072","v":0},{"$f":"+印領清冊統計表!E1072","v":0}]
[{"$f":"IF(印領清冊統計表!$A1073=\"總計\",\"\",(IF(印領清冊統計表!A1073=0,A1069,印領清冊統計表!A1073)))","v":""},{"$f":"+印領清冊統計表!B1073","v":0},{"$f":"+印領清冊統計表!C1073","v":0},{"$f":"+印領清冊統計表!D1073","v":0},{"$f":"+印領清冊統計表!E1073","v":0}]
[{"$f":"IF(印領清冊統計表!$A1074=\"總計\",\"\",(IF(印領清冊統計表!A1074=0,A1070,印領清冊統計表!A1074)))","v":""},{"$f":"+印領清冊統計表!B1074","v":0},{"$f":"+印領清冊統計表!C1074","v":0},{"$f":"+印領清冊統計表!D1074","v":0},{"$f":"+印領清冊統計表!E1074","v":0}]
[{"$f":"IF(印領清冊統計表!$A1075=\"總計\",\"\",(IF(印領清冊統計表!A1075=0,A1071,印領清冊統計表!A1075)))","v":""},{"$f":"+印領清冊統計表!B1075","v":0},{"$f":"+印領清冊統計表!C1075","v":0},{"$f":"+印領清冊統計表!D1075","v":0},{"$f":"+印領清冊統計表!E1075","v":0}]
[{"$f":"IF(印領清冊統計表!$A1076=\"總計\",\"\",(IF(印領清冊統計表!A1076=0,A1072,印領清冊統計表!A1076)))","v":""},{"$f":"+印領清冊統計表!B1076","v":0},{"$f":"+印領清冊統計表!C1076","v":0},{"$f":"+印領清冊統計表!D1076","v":0},{"$f":"+印領清冊統計表!E1076","v":0}]
[{"$f":"IF(印領清冊統計表!$A1077=\"總計\",\"\",(IF(印領清冊統計表!A1077=0,A1073,印領清冊統計表!A1077)))","v":""},{"$f":"+印領清冊統計表!B1077","v":0},{"$f":"+印領清冊統計表!C1077","v":0},{"$f":"+印領清冊統計表!D1077","v":0},{"$f":"+印領清冊統計表!E1077","v":0}]
[{"$f":"IF(印領清冊統計表!$A1078=\"總計\",\"\",(IF(印領清冊統計表!A1078=0,A1074,印領清冊統計表!A1078)))","v":""},{"$f":"+印領清冊統計表!B1078","v":0},{"$f":"+印領清冊統計表!C1078","v":0},{"$f":"+印領清冊統計表!D1078","v":0},{"$f":"+印領清冊統計表!E1078","v":0}]
[{"$f":"IF(印領清冊統計表!$A1079=\"總計\",\"\",(IF(印領清冊統計表!A1079=0,A1075,印領清冊統計表!A1079)))","v":""},{"$f":"+印領清冊統計表!B1079","v":0},{"$f":"+印領清冊統計表!C1079","v":0},{"$f":"+印領清冊統計表!D1079","v":0},{"$f":"+印領清冊統計表!E1079","v":0}]
[{"$f":"IF(印領清冊統計表!$A1080=\"總計\",\"\",(IF(印領清冊統計表!A1080=0,A1076,印領清冊統計表!A1080)))","v":""},{"$f":"+印領清冊統計表!B1080","v":0},{"$f":"+印領清冊統計表!C1080","v":0},{"$f":"+印領清冊統計表!D1080","v":0},{"$f":"+印領清冊統計表!E1080","v":0}]
[{"$f":"IF(印領清冊統計表!$A1081=\"總計\",\"\",(IF(印領清冊統計表!A1081=0,A1077,印領清冊統計表!A1081)))","v":""},{"$f":"+印領清冊統計表!B1081","v":0},{"$f":"+印領清冊統計表!C1081","v":0},{"$f":"+印領清冊統計表!D1081","v":0},{"$f":"+印領清冊統計表!E1081","v":0}]
[{"$f":"IF(印領清冊統計表!$A1082=\"總計\",\"\",(IF(印領清冊統計表!A1082=0,A1078,印領清冊統計表!A1082)))","v":""},{"$f":"+印領清冊統計表!B1082","v":0},{"$f":"+印領清冊統計表!C1082","v":0},{"$f":"+印領清冊統計表!D1082","v":0},{"$f":"+印領清冊統計表!E1082","v":0}]
[{"$f":"IF(印領清冊統計表!$A1083=\"總計\",\"\",(IF(印領清冊統計表!A1083=0,A1079,印領清冊統計表!A1083)))","v":""},{"$f":"+印領清冊統計表!B1083","v":0},{"$f":"+印領清冊統計表!C1083","v":0},{"$f":"+印領清冊統計表!D1083","v":0},{"$f":"+印領清冊統計表!E1083","v":0}]
[{"$f":"IF(印領清冊統計表!$A1084=\"總計\",\"\",(IF(印領清冊統計表!A1084=0,A1080,印領清冊統計表!A1084)))","v":""},{"$f":"+印領清冊統計表!B1084","v":0},{"$f":"+印領清冊統計表!C1084","v":0},{"$f":"+印領清冊統計表!D1084","v":0},{"$f":"+印領清冊統計表!E1084","v":0}]
[{"$f":"IF(印領清冊統計表!$A1085=\"總計\",\"\",(IF(印領清冊統計表!A1085=0,A1081,印領清冊統計表!A1085)))","v":""},{"$f":"+印領清冊統計表!B1085","v":0},{"$f":"+印領清冊統計表!C1085","v":0},{"$f":"+印領清冊統計表!D1085","v":0},{"$f":"+印領清冊統計表!E1085","v":0}]
[{"$f":"IF(印領清冊統計表!$A1086=\"總計\",\"\",(IF(印領清冊統計表!A1086=0,A1082,印領清冊統計表!A1086)))","v":""},{"$f":"+印領清冊統計表!B1086","v":0},{"$f":"+印領清冊統計表!C1086","v":0},{"$f":"+印領清冊統計表!D1086","v":0},{"$f":"+印領清冊統計表!E1086","v":0}]
[{"$f":"IF(印領清冊統計表!$A1087=\"總計\",\"\",(IF(印領清冊統計表!A1087=0,A1083,印領清冊統計表!A1087)))","v":""},{"$f":"+印領清冊統計表!B1087","v":0},{"$f":"+印領清冊統計表!C1087","v":0},{"$f":"+印領清冊統計表!D1087","v":0},{"$f":"+印領清冊統計表!E1087","v":0}]
[{"$f":"IF(印領清冊統計表!$A1088=\"總計\",\"\",(IF(印領清冊統計表!A1088=0,A1084,印領清冊統計表!A1088)))","v":""},{"$f":"+印領清冊統計表!B1088","v":0},{"$f":"+印領清冊統計表!C1088","v":0},{"$f":"+印領清冊統計表!D1088","v":0},{"$f":"+印領清冊統計表!E1088","v":0}]
[{"$f":"IF(印領清冊統計表!$A1089=\"總計\",\"\",(IF(印領清冊統計表!A1089=0,A1085,印領清冊統計表!A1089)))","v":""},{"$f":"+印領清冊統計表!B1089","v":0},{"$f":"+印領清冊統計表!C1089","v":0},{"$f":"+印領清冊統計表!D1089","v":0},{"$f":"+印領清冊統計表!E1089","v":0}]
[{"$f":"IF(印領清冊統計表!$A1090=\"總計\",\"\",(IF(印領清冊統計表!A1090=0,A1086,印領清冊統計表!A1090)))","v":""},{"$f":"+印領清冊統計表!B1090","v":0},{"$f":"+印領清冊統計表!C1090","v":0},{"$f":"+印領清冊統計表!D1090","v":0},{"$f":"+印領清冊統計表!E1090","v":0}]
[{"$f":"IF(印領清冊統計表!$A1091=\"總計\",\"\",(IF(印領清冊統計表!A1091=0,A1087,印領清冊統計表!A1091)))","v":""},{"$f":"+印領清冊統計表!B1091","v":0},{"$f":"+印領清冊統計表!C1091","v":0},{"$f":"+印領清冊統計表!D1091","v":0},{"$f":"+印領清冊統計表!E1091","v":0}]
[{"$f":"IF(印領清冊統計表!$A1092=\"總計\",\"\",(IF(印領清冊統計表!A1092=0,A1088,印領清冊統計表!A1092)))","v":""},{"$f":"+印領清冊統計表!B1092","v":0},{"$f":"+印領清冊統計表!C1092","v":0},{"$f":"+印領清冊統計表!D1092","v":0},{"$f":"+印領清冊統計表!E1092","v":0}]
[{"$f":"IF(印領清冊統計表!$A1093=\"總計\",\"\",(IF(印領清冊統計表!A1093=0,A1089,印領清冊統計表!A1093)))","v":""},{"$f":"+印領清冊統計表!B1093","v":0},{"$f":"+印領清冊統計表!C1093","v":0},{"$f":"+印領清冊統計表!D1093","v":0},{"$f":"+印領清冊統計表!E1093","v":0}]
[{"$f":"IF(印領清冊統計表!$A1094=\"總計\",\"\",(IF(印領清冊統計表!A1094=0,A1090,印領清冊統計表!A1094)))","v":""},{"$f":"+印領清冊統計表!B1094","v":0},{"$f":"+印領清冊統計表!C1094","v":0},{"$f":"+印領清冊統計表!D1094","v":0},{"$f":"+印領清冊統計表!E1094","v":0}]
[{"$f":"IF(印領清冊統計表!$A1095=\"總計\",\"\",(IF(印領清冊統計表!A1095=0,A1091,印領清冊統計表!A1095)))","v":""},{"$f":"+印領清冊統計表!B1095","v":0},{"$f":"+印領清冊統計表!C1095","v":0},{"$f":"+印領清冊統計表!D1095","v":0},{"$f":"+印領清冊統計表!E1095","v":0}]
[{"$f":"IF(印領清冊統計表!$A1096=\"總計\",\"\",(IF(印領清冊統計表!A1096=0,A1092,印領清冊統計表!A1096)))","v":""},{"$f":"+印領清冊統計表!B1096","v":0},{"$f":"+印領清冊統計表!C1096","v":0},{"$f":"+印領清冊統計表!D1096","v":0},{"$f":"+印領清冊統計表!E1096","v":0}]
[{"$f":"IF(印領清冊統計表!$A1097=\"總計\",\"\",(IF(印領清冊統計表!A1097=0,A1093,印領清冊統計表!A1097)))","v":""},{"$f":"+印領清冊統計表!B1097","v":0},{"$f":"+印領清冊統計表!C1097","v":0},{"$f":"+印領清冊統計表!D1097","v":0},{"$f":"+印領清冊統計表!E1097","v":0}]
[{"$f":"IF(印領清冊統計表!$A1098=\"總計\",\"\",(IF(印領清冊統計表!A1098=0,A1094,印領清冊統計表!A1098)))","v":""},{"$f":"+印領清冊統計表!B1098","v":0},{"$f":"+印領清冊統計表!C1098","v":0},{"$f":"+印領清冊統計表!D1098","v":0},{"$f":"+印領清冊統計表!E1098","v":0}]
[{"$f":"IF(印領清冊統計表!$A1099=\"總計\",\"\",(IF(印領清冊統計表!A1099=0,A1095,印領清冊統計表!A1099)))","v":""},{"$f":"+印領清冊統計表!B1099","v":0},{"$f":"+印領清冊統計表!C1099","v":0},{"$f":"+印領清冊統計表!D1099","v":0},{"$f":"+印領清冊統計表!E1099","v":0}]
[{"$f":"IF(印領清冊統計表!$A1100=\"總計\",\"\",(IF(印領清冊統計表!A1100=0,A1096,印領清冊統計表!A1100)))","v":""},{"$f":"+印領清冊統計表!B1100","v":0},{"$f":"+印領清冊統計表!C1100","v":0},{"$f":"+印領清冊統計表!D1100","v":0},{"$f":"+印領清冊統計表!E1100","v":0}]
[{"$f":"IF(印領清冊統計表!$A1101=\"總計\",\"\",(IF(印領清冊統計表!A1101=0,A1097,印領清冊統計表!A1101)))","v":""},{"$f":"+印領清冊統計表!B1101","v":0},{"$f":"+印領清冊統計表!C1101","v":0},{"$f":"+印領清冊統計表!D1101","v":0},{"$f":"+印領清冊統計表!E1101","v":0}]
[{"$f":"IF(印領清冊統計表!$A1102=\"總計\",\"\",(IF(印領清冊統計表!A1102=0,A1098,印領清冊統計表!A1102)))","v":""},{"$f":"+印領清冊統計表!B1102","v":0},{"$f":"+印領清冊統計表!C1102","v":0},{"$f":"+印領清冊統計表!D1102","v":0},{"$f":"+印領清冊統計表!E1102","v":0}]
[{"$f":"IF(印領清冊統計表!$A1103=\"總計\",\"\",(IF(印領清冊統計表!A1103=0,A1099,印領清冊統計表!A1103)))","v":""},{"$f":"+印領清冊統計表!B1103","v":0},{"$f":"+印領清冊統計表!C1103","v":0},{"$f":"+印領清冊統計表!D1103","v":0},{"$f":"+印領清冊統計表!E1103","v":0}]
[{"$f":"IF(印領清冊統計表!$A1104=\"總計\",\"\",(IF(印領清冊統計表!A1104=0,A1100,印領清冊統計表!A1104)))","v":""},{"$f":"+印領清冊統計表!B1104","v":0},{"$f":"+印領清冊統計表!C1104","v":0},{"$f":"+印領清冊統計表!D1104","v":0},{"$f":"+印領清冊統計表!E1104","v":0}]
[{"$f":"IF(印領清冊統計表!$A1105=\"總計\",\"\",(IF(印領清冊統計表!A1105=0,A1101,印領清冊統計表!A1105)))","v":""},{"$f":"+印領清冊統計表!B1105","v":0},{"$f":"+印領清冊統計表!C1105","v":0},{"$f":"+印領清冊統計表!D1105","v":0},{"$f":"+印領清冊統計表!E1105","v":0}]
[{"$f":"IF(印領清冊統計表!$A1106=\"總計\",\"\",(IF(印領清冊統計表!A1106=0,A1102,印領清冊統計表!A1106)))","v":""},{"$f":"+印領清冊統計表!B1106","v":0},{"$f":"+印領清冊統計表!C1106","v":0},{"$f":"+印領清冊統計表!D1106","v":0},{"$f":"+印領清冊統計表!E1106","v":0}]
[{"$f":"IF(印領清冊統計表!$A1107=\"總計\",\"\",(IF(印領清冊統計表!A1107=0,A1103,印領清冊統計表!A1107)))","v":""},{"$f":"+印領清冊統計表!B1107","v":0},{"$f":"+印領清冊統計表!C1107","v":0},{"$f":"+印領清冊統計表!D1107","v":0},{"$f":"+印領清冊統計表!E1107","v":0}]
[{"$f":"IF(印領清冊統計表!$A1108=\"總計\",\"\",(IF(印領清冊統計表!A1108=0,A1104,印領清冊統計表!A1108)))","v":""},{"$f":"+印領清冊統計表!B1108","v":0},{"$f":"+印領清冊統計表!C1108","v":0},{"$f":"+印領清冊統計表!D1108","v":0},{"$f":"+印領清冊統計表!E1108","v":0}]
[{"$f":"IF(印領清冊統計表!$A1109=\"總計\",\"\",(IF(印領清冊統計表!A1109=0,A1105,印領清冊統計表!A1109)))","v":""},{"$f":"+印領清冊統計表!B1109","v":0},{"$f":"+印領清冊統計表!C1109","v":0},{"$f":"+印領清冊統計表!D1109","v":0},{"$f":"+印領清冊統計表!E1109","v":0}]
[{"$f":"IF(印領清冊統計表!$A1110=\"總計\",\"\",(IF(印領清冊統計表!A1110=0,A1106,印領清冊統計表!A1110)))","v":""},{"$f":"+印領清冊統計表!B1110","v":0},{"$f":"+印領清冊統計表!C1110","v":0},{"$f":"+印領清冊統計表!D1110","v":0},{"$f":"+印領清冊統計表!E1110","v":0}]
[{"$f":"IF(印領清冊統計表!$A1111=\"總計\",\"\",(IF(印領清冊統計表!A1111=0,A1107,印領清冊統計表!A1111)))","v":""},{"$f":"+印領清冊統計表!B1111","v":0},{"$f":"+印領清冊統計表!C1111","v":0},{"$f":"+印領清冊統計表!D1111","v":0},{"$f":"+印領清冊統計表!E1111","v":0}]
[{"$f":"IF(印領清冊統計表!$A1112=\"總計\",\"\",(IF(印領清冊統計表!A1112=0,A1108,印領清冊統計表!A1112)))","v":""},{"$f":"+印領清冊統計表!B1112","v":0},{"$f":"+印領清冊統計表!C1112","v":0},{"$f":"+印領清冊統計表!D1112","v":0},{"$f":"+印領清冊統計表!E1112","v":0}]
[{"$f":"IF(印領清冊統計表!$A1113=\"總計\",\"\",(IF(印領清冊統計表!A1113=0,A1109,印領清冊統計表!A1113)))","v":""},{"$f":"+印領清冊統計表!B1113","v":0},{"$f":"+印領清冊統計表!C1113","v":0},{"$f":"+印領清冊統計表!D1113","v":0},{"$f":"+印領清冊統計表!E1113","v":0}]
[{"$f":"IF(印領清冊統計表!$A1114=\"總計\",\"\",(IF(印領清冊統計表!A1114=0,A1110,印領清冊統計表!A1114)))","v":""},{"$f":"+印領清冊統計表!B1114","v":0},{"$f":"+印領清冊統計表!C1114","v":0},{"$f":"+印領清冊統計表!D1114","v":0},{"$f":"+印領清冊統計表!E1114","v":0}]
[{"$f":"IF(印領清冊統計表!$A1115=\"總計\",\"\",(IF(印領清冊統計表!A1115=0,A1111,印領清冊統計表!A1115)))","v":""},{"$f":"+印領清冊統計表!B1115","v":0},{"$f":"+印領清冊統計表!C1115","v":0},{"$f":"+印領清冊統計表!D1115","v":0},{"$f":"+印領清冊統計表!E1115","v":0}]
[{"$f":"IF(印領清冊統計表!$A1116=\"總計\",\"\",(IF(印領清冊統計表!A1116=0,A1112,印領清冊統計表!A1116)))","v":""},{"$f":"+印領清冊統計表!B1116","v":0},{"$f":"+印領清冊統計表!C1116","v":0},{"$f":"+印領清冊統計表!D1116","v":0},{"$f":"+印領清冊統計表!E1116","v":0}]
[{"$f":"IF(印領清冊統計表!$A1117=\"總計\",\"\",(IF(印領清冊統計表!A1117=0,A1113,印領清冊統計表!A1117)))","v":""},{"$f":"+印領清冊統計表!B1117","v":0},{"$f":"+印領清冊統計表!C1117","v":0},{"$f":"+印領清冊統計表!D1117","v":0},{"$f":"+印領清冊統計表!E1117","v":0}]
[{"$f":"IF(印領清冊統計表!$A1118=\"總計\",\"\",(IF(印領清冊統計表!A1118=0,A1114,印領清冊統計表!A1118)))","v":""},{"$f":"+印領清冊統計表!B1118","v":0},{"$f":"+印領清冊統計表!C1118","v":0},{"$f":"+印領清冊統計表!D1118","v":0},{"$f":"+印領清冊統計表!E1118","v":0}]
[{"$f":"IF(印領清冊統計表!$A1119=\"總計\",\"\",(IF(印領清冊統計表!A1119=0,A1115,印領清冊統計表!A1119)))","v":""},{"$f":"+印領清冊統計表!B1119","v":0},{"$f":"+印領清冊統計表!C1119","v":0},{"$f":"+印領清冊統計表!D1119","v":0},{"$f":"+印領清冊統計表!E1119","v":0}]
[{"$f":"IF(印領清冊統計表!$A1120=\"總計\",\"\",(IF(印領清冊統計表!A1120=0,A1116,印領清冊統計表!A1120)))","v":""},{"$f":"+印領清冊統計表!B1120","v":0},{"$f":"+印領清冊統計表!C1120","v":0},{"$f":"+印領清冊統計表!D1120","v":0},{"$f":"+印領清冊統計表!E1120","v":0}]
[{"$f":"IF(印領清冊統計表!$A1121=\"總計\",\"\",(IF(印領清冊統計表!A1121=0,A1117,印領清冊統計表!A1121)))","v":""},{"$f":"+印領清冊統計表!B1121","v":0},{"$f":"+印領清冊統計表!C1121","v":0},{"$f":"+印領清冊統計表!D1121","v":0},{"$f":"+印領清冊統計表!E1121","v":0}]
[{"$f":"IF(印領清冊統計表!$A1122=\"總計\",\"\",(IF(印領清冊統計表!A1122=0,A1118,印領清冊統計表!A1122)))","v":""},{"$f":"+印領清冊統計表!B1122","v":0},{"$f":"+印領清冊統計表!C1122","v":0},{"$f":"+印領清冊統計表!D1122","v":0},{"$f":"+印領清冊統計表!E1122","v":0}]
[{"$f":"IF(印領清冊統計表!$A1123=\"總計\",\"\",(IF(印領清冊統計表!A1123=0,A1119,印領清冊統計表!A1123)))","v":""},{"$f":"+印領清冊統計表!B1123","v":0},{"$f":"+印領清冊統計表!C1123","v":0},{"$f":"+印領清冊統計表!D1123","v":0},{"$f":"+印領清冊統計表!E1123","v":0}]
[{"$f":"IF(印領清冊統計表!$A1124=\"總計\",\"\",(IF(印領清冊統計表!A1124=0,A1120,印領清冊統計表!A1124)))","v":""},{"$f":"+印領清冊統計表!B1124","v":0},{"$f":"+印領清冊統計表!C1124","v":0},{"$f":"+印領清冊統計表!D1124","v":0},{"$f":"+印領清冊統計表!E1124","v":0}]
[{"$f":"IF(印領清冊統計表!$A1125=\"總計\",\"\",(IF(印領清冊統計表!A1125=0,A1121,印領清冊統計表!A1125)))","v":""},{"$f":"+印領清冊統計表!B1125","v":0},{"$f":"+印領清冊統計表!C1125","v":0},{"$f":"+印領清冊統計表!D1125","v":0},{"$f":"+印領清冊統計表!E1125","v":0}]
[{"$f":"IF(印領清冊統計表!$A1126=\"總計\",\"\",(IF(印領清冊統計表!A1126=0,A1122,印領清冊統計表!A1126)))","v":""},{"$f":"+印領清冊統計表!B1126","v":0},{"$f":"+印領清冊統計表!C1126","v":0},{"$f":"+印領清冊統計表!D1126","v":0},{"$f":"+印領清冊統計表!E1126","v":0}]
[{"$f":"IF(印領清冊統計表!$A1127=\"總計\",\"\",(IF(印領清冊統計表!A1127=0,A1123,印領清冊統計表!A1127)))","v":""},{"$f":"+印領清冊統計表!B1127","v":0},{"$f":"+印領清冊統計表!C1127","v":0},{"$f":"+印領清冊統計表!D1127","v":0},{"$f":"+印領清冊統計表!E1127","v":0}]
[{"$f":"IF(印領清冊統計表!$A1128=\"總計\",\"\",(IF(印領清冊統計表!A1128=0,A1124,印領清冊統計表!A1128)))","v":""},{"$f":"+印領清冊統計表!B1128","v":0},{"$f":"+印領清冊統計表!C1128","v":0},{"$f":"+印領清冊統計表!D1128","v":0},{"$f":"+印領清冊統計表!E1128","v":0}]
[{"$f":"IF(印領清冊統計表!$A1129=\"總計\",\"\",(IF(印領清冊統計表!A1129=0,A1125,印領清冊統計表!A1129)))","v":""},{"$f":"+印領清冊統計表!B1129","v":0},{"$f":"+印領清冊統計表!C1129","v":0},{"$f":"+印領清冊統計表!D1129","v":0},{"$f":"+印領清冊統計表!E1129","v":0}]
[{"$f":"IF(印領清冊統計表!$A1130=\"總計\",\"\",(IF(印領清冊統計表!A1130=0,A1126,印領清冊統計表!A1130)))","v":""},{"$f":"+印領清冊統計表!B1130","v":0},{"$f":"+印領清冊統計表!C1130","v":0},{"$f":"+印領清冊統計表!D1130","v":0},{"$f":"+印領清冊統計表!E1130","v":0}]
[{"$f":"IF(印領清冊統計表!$A1131=\"總計\",\"\",(IF(印領清冊統計表!A1131=0,A1127,印領清冊統計表!A1131)))","v":""},{"$f":"+印領清冊統計表!B1131","v":0},{"$f":"+印領清冊統計表!C1131","v":0},{"$f":"+印領清冊統計表!D1131","v":0},{"$f":"+印領清冊統計表!E1131","v":0}]
[{"$f":"IF(印領清冊統計表!$A1132=\"總計\",\"\",(IF(印領清冊統計表!A1132=0,A1128,印領清冊統計表!A1132)))","v":""},{"$f":"+印領清冊統計表!B1132","v":0},{"$f":"+印領清冊統計表!C1132","v":0},{"$f":"+印領清冊統計表!D1132","v":0},{"$f":"+印領清冊統計表!E1132","v":0}]
[{"$f":"IF(印領清冊統計表!$A1133=\"總計\",\"\",(IF(印領清冊統計表!A1133=0,A1129,印領清冊統計表!A1133)))","v":""},{"$f":"+印領清冊統計表!B1133","v":0},{"$f":"+印領清冊統計表!C1133","v":0},{"$f":"+印領清冊統計表!D1133","v":0},{"$f":"+印領清冊統計表!E1133","v":0}]
[{"$f":"IF(印領清冊統計表!$A1134=\"總計\",\"\",(IF(印領清冊統計表!A1134=0,A1130,印領清冊統計表!A1134)))","v":""},{"$f":"+印領清冊統計表!B1134","v":0},{"$f":"+印領清冊統計表!C1134","v":0},{"$f":"+印領清冊統計表!D1134","v":0},{"$f":"+印領清冊統計表!E1134","v":0}]
[{"$f":"IF(印領清冊統計表!$A1135=\"總計\",\"\",(IF(印領清冊統計表!A1135=0,A1131,印領清冊統計表!A1135)))","v":""},{"$f":"+印領清冊統計表!B1135","v":0},{"$f":"+印領清冊統計表!C1135","v":0},{"$f":"+印領清冊統計表!D1135","v":0},{"$f":"+印領清冊統計表!E1135","v":0}]
[{"$f":"IF(印領清冊統計表!$A1136=\"總計\",\"\",(IF(印領清冊統計表!A1136=0,A1132,印領清冊統計表!A1136)))","v":""},{"$f":"+印領清冊統計表!B1136","v":0},{"$f":"+印領清冊統計表!C1136","v":0},{"$f":"+印領清冊統計表!D1136","v":0},{"$f":"+印領清冊統計表!E1136","v":0}]
[{"$f":"IF(印領清冊統計表!$A1137=\"總計\",\"\",(IF(印領清冊統計表!A1137=0,A1133,印領清冊統計表!A1137)))","v":""},{"$f":"+印領清冊統計表!B1137","v":0},{"$f":"+印領清冊統計表!C1137","v":0},{"$f":"+印領清冊統計表!D1137","v":0},{"$f":"+印領清冊統計表!E1137","v":0}]
[{"$f":"IF(印領清冊統計表!$A1138=\"總計\",\"\",(IF(印領清冊統計表!A1138=0,A1134,印領清冊統計表!A1138)))","v":""},{"$f":"+印領清冊統計表!B1138","v":0},{"$f":"+印領清冊統計表!C1138","v":0},{"$f":"+印領清冊統計表!D1138","v":0},{"$f":"+印領清冊統計表!E1138","v":0}]
[{"$f":"IF(印領清冊統計表!$A1139=\"總計\",\"\",(IF(印領清冊統計表!A1139=0,A1135,印領清冊統計表!A1139)))","v":""},{"$f":"+印領清冊統計表!B1139","v":0},{"$f":"+印領清冊統計表!C1139","v":0},{"$f":"+印領清冊統計表!D1139","v":0},{"$f":"+印領清冊統計表!E1139","v":0}]
[{"$f":"IF(印領清冊統計表!$A1140=\"總計\",\"\",(IF(印領清冊統計表!A1140=0,A1136,印領清冊統計表!A1140)))","v":""},{"$f":"+印領清冊統計表!B1140","v":0},{"$f":"+印領清冊統計表!C1140","v":0},{"$f":"+印領清冊統計表!D1140","v":0},{"$f":"+印領清冊統計表!E1140","v":0}]
[{"$f":"IF(印領清冊統計表!$A1141=\"總計\",\"\",(IF(印領清冊統計表!A1141=0,A1137,印領清冊統計表!A1141)))","v":""},{"$f":"+印領清冊統計表!B1141","v":0},{"$f":"+印領清冊統計表!C1141","v":0},{"$f":"+印領清冊統計表!D1141","v":0},{"$f":"+印領清冊統計表!E1141","v":0}]
[{"$f":"IF(印領清冊統計表!$A1142=\"總計\",\"\",(IF(印領清冊統計表!A1142=0,A1138,印領清冊統計表!A1142)))","v":""},{"$f":"+印領清冊統計表!B1142","v":0},{"$f":"+印領清冊統計表!C1142","v":0},{"$f":"+印領清冊統計表!D1142","v":0},{"$f":"+印領清冊統計表!E1142","v":0}]
[{"$f":"IF(印領清冊統計表!$A1143=\"總計\",\"\",(IF(印領清冊統計表!A1143=0,A1139,印領清冊統計表!A1143)))","v":""},{"$f":"+印領清冊統計表!B1143","v":0},{"$f":"+印領清冊統計表!C1143","v":0},{"$f":"+印領清冊統計表!D1143","v":0},{"$f":"+印領清冊統計表!E1143","v":0}]
[{"$f":"IF(印領清冊統計表!$A1144=\"總計\",\"\",(IF(印領清冊統計表!A1144=0,A1140,印領清冊統計表!A1144)))","v":""},{"$f":"+印領清冊統計表!B1144","v":0},{"$f":"+印領清冊統計表!C1144","v":0},{"$f":"+印領清冊統計表!D1144","v":0},{"$f":"+印領清冊統計表!E1144","v":0}]
[{"$f":"IF(印領清冊統計表!$A1145=\"總計\",\"\",(IF(印領清冊統計表!A1145=0,A1141,印領清冊統計表!A1145)))","v":""},{"$f":"+印領清冊統計表!B1145","v":0},{"$f":"+印領清冊統計表!C1145","v":0},{"$f":"+印領清冊統計表!D1145","v":0},{"$f":"+印領清冊統計表!E1145","v":0}]
[{"$f":"IF(印領清冊統計表!$A1146=\"總計\",\"\",(IF(印領清冊統計表!A1146=0,A1142,印領清冊統計表!A1146)))","v":""},{"$f":"+印領清冊統計表!B1146","v":0},{"$f":"+印領清冊統計表!C1146","v":0},{"$f":"+印領清冊統計表!D1146","v":0},{"$f":"+印領清冊統計表!E1146","v":0}]
[{"$f":"IF(印領清冊統計表!$A1147=\"總計\",\"\",(IF(印領清冊統計表!A1147=0,A1143,印領清冊統計表!A1147)))","v":""},{"$f":"+印領清冊統計表!B1147","v":0},{"$f":"+印領清冊統計表!C1147","v":0},{"$f":"+印領清冊統計表!D1147","v":0},{"$f":"+印領清冊統計表!E1147","v":0}]
[{"$f":"IF(印領清冊統計表!$A1148=\"總計\",\"\",(IF(印領清冊統計表!A1148=0,A1144,印領清冊統計表!A1148)))","v":""},{"$f":"+印領清冊統計表!B1148","v":0},{"$f":"+印領清冊統計表!C1148","v":0},{"$f":"+印領清冊統計表!D1148","v":0},{"$f":"+印領清冊統計表!E1148","v":0}]
[{"$f":"IF(印領清冊統計表!$A1149=\"總計\",\"\",(IF(印領清冊統計表!A1149=0,A1145,印領清冊統計表!A1149)))","v":""},{"$f":"+印領清冊統計表!B1149","v":0},{"$f":"+印領清冊統計表!C1149","v":0},{"$f":"+印領清冊統計表!D1149","v":0},{"$f":"+印領清冊統計表!E1149","v":0}]
[{"$f":"IF(印領清冊統計表!$A1150=\"總計\",\"\",(IF(印領清冊統計表!A1150=0,A1146,印領清冊統計表!A1150)))","v":""},{"$f":"+印領清冊統計表!B1150","v":0},{"$f":"+印領清冊統計表!C1150","v":0},{"$f":"+印領清冊統計表!D1150","v":0},{"$f":"+印領清冊統計表!E1150","v":0}]
[{"$f":"IF(印領清冊統計表!$A1151=\"總計\",\"\",(IF(印領清冊統計表!A1151=0,A1147,印領清冊統計表!A1151)))","v":""},{"$f":"+印領清冊統計表!B1151","v":0},{"$f":"+印領清冊統計表!C1151","v":0},{"$f":"+印領清冊統計表!D1151","v":0},{"$f":"+印領清冊統計表!E1151","v":0}]
[{"$f":"IF(印領清冊統計表!$A1152=\"總計\",\"\",(IF(印領清冊統計表!A1152=0,A1148,印領清冊統計表!A1152)))","v":""},{"$f":"+印領清冊統計表!B1152","v":0},{"$f":"+印領清冊統計表!C1152","v":0},{"$f":"+印領清冊統計表!D1152","v":0},{"$f":"+印領清冊統計表!E1152","v":0}]
[{"$f":"IF(印領清冊統計表!$A1153=\"總計\",\"\",(IF(印領清冊統計表!A1153=0,A1149,印領清冊統計表!A1153)))","v":""},{"$f":"+印領清冊統計表!B1153","v":0},{"$f":"+印領清冊統計表!C1153","v":0},{"$f":"+印領清冊統計表!D1153","v":0},{"$f":"+印領清冊統計表!E1153","v":0}]
[{"$f":"IF(印領清冊統計表!$A1154=\"總計\",\"\",(IF(印領清冊統計表!A1154=0,A1150,印領清冊統計表!A1154)))","v":""},{"$f":"+印領清冊統計表!B1154","v":0},{"$f":"+印領清冊統計表!C1154","v":0},{"$f":"+印領清冊統計表!D1154","v":0},{"$f":"+印領清冊統計表!E1154","v":0}]
[{"$f":"IF(印領清冊統計表!$A1155=\"總計\",\"\",(IF(印領清冊統計表!A1155=0,A1151,印領清冊統計表!A1155)))","v":""},{"$f":"+印領清冊統計表!B1155","v":0},{"$f":"+印領清冊統計表!C1155","v":0},{"$f":"+印領清冊統計表!D1155","v":0},{"$f":"+印領清冊統計表!E1155","v":0}]
[{"$f":"IF(印領清冊統計表!$A1156=\"總計\",\"\",(IF(印領清冊統計表!A1156=0,A1152,印領清冊統計表!A1156)))","v":""},{"$f":"+印領清冊統計表!B1156","v":0},{"$f":"+印領清冊統計表!C1156","v":0},{"$f":"+印領清冊統計表!D1156","v":0},{"$f":"+印領清冊統計表!E1156","v":0}]
[{"$f":"IF(印領清冊統計表!$A1157=\"總計\",\"\",(IF(印領清冊統計表!A1157=0,A1153,印領清冊統計表!A1157)))","v":""},{"$f":"+印領清冊統計表!B1157","v":0},{"$f":"+印領清冊統計表!C1157","v":0},{"$f":"+印領清冊統計表!D1157","v":0},{"$f":"+印領清冊統計表!E1157","v":0}]
[{"$f":"IF(印領清冊統計表!$A1158=\"總計\",\"\",(IF(印領清冊統計表!A1158=0,A1154,印領清冊統計表!A1158)))","v":""},{"$f":"+印領清冊統計表!B1158","v":0},{"$f":"+印領清冊統計表!C1158","v":0},{"$f":"+印領清冊統計表!D1158","v":0},{"$f":"+印領清冊統計表!E1158","v":0}]
[{"$f":"IF(印領清冊統計表!$A1159=\"總計\",\"\",(IF(印領清冊統計表!A1159=0,A1155,印領清冊統計表!A1159)))","v":""},{"$f":"+印領清冊統計表!B1159","v":0},{"$f":"+印領清冊統計表!C1159","v":0},{"$f":"+印領清冊統計表!D1159","v":0},{"$f":"+印領清冊統計表!E1159","v":0}]
[{"$f":"IF(印領清冊統計表!$A1160=\"總計\",\"\",(IF(印領清冊統計表!A1160=0,A1156,印領清冊統計表!A1160)))","v":""},{"$f":"+印領清冊統計表!B1160","v":0},{"$f":"+印領清冊統計表!C1160","v":0},{"$f":"+印領清冊統計表!D1160","v":0},{"$f":"+印領清冊統計表!E1160","v":0}]
[{"$f":"IF(印領清冊統計表!$A1161=\"總計\",\"\",(IF(印領清冊統計表!A1161=0,A1157,印領清冊統計表!A1161)))","v":""},{"$f":"+印領清冊統計表!B1161","v":0},{"$f":"+印領清冊統計表!C1161","v":0},{"$f":"+印領清冊統計表!D1161","v":0},{"$f":"+印領清冊統計表!E1161","v":0}]
[{"$f":"IF(印領清冊統計表!$A1162=\"總計\",\"\",(IF(印領清冊統計表!A1162=0,A1158,印領清冊統計表!A1162)))","v":""},{"$f":"+印領清冊統計表!B1162","v":0},{"$f":"+印領清冊統計表!C1162","v":0},{"$f":"+印領清冊統計表!D1162","v":0},{"$f":"+印領清冊統計表!E1162","v":0}]
[{"$f":"IF(印領清冊統計表!$A1163=\"總計\",\"\",(IF(印領清冊統計表!A1163=0,A1159,印領清冊統計表!A1163)))","v":""},{"$f":"+印領清冊統計表!B1163","v":0},{"$f":"+印領清冊統計表!C1163","v":0},{"$f":"+印領清冊統計表!D1163","v":0},{"$f":"+印領清冊統計表!E1163","v":0}]
[{"$f":"IF(印領清冊統計表!$A1164=\"總計\",\"\",(IF(印領清冊統計表!A1164=0,A1160,印領清冊統計表!A1164)))","v":""},{"$f":"+印領清冊統計表!B1164","v":0},{"$f":"+印領清冊統計表!C1164","v":0},{"$f":"+印領清冊統計表!D1164","v":0},{"$f":"+印領清冊統計表!E1164","v":0}]
[{"$f":"IF(印領清冊統計表!$A1165=\"總計\",\"\",(IF(印領清冊統計表!A1165=0,A1161,印領清冊統計表!A1165)))","v":""},{"$f":"+印領清冊統計表!B1165","v":0},{"$f":"+印領清冊統計表!C1165","v":0},{"$f":"+印領清冊統計表!D1165","v":0},{"$f":"+印領清冊統計表!E1165","v":0}]
[{"$f":"IF(印領清冊統計表!$A1166=\"總計\",\"\",(IF(印領清冊統計表!A1166=0,A1162,印領清冊統計表!A1166)))","v":""},{"$f":"+印領清冊統計表!B1166","v":0},{"$f":"+印領清冊統計表!C1166","v":0},{"$f":"+印領清冊統計表!D1166","v":0},{"$f":"+印領清冊統計表!E1166","v":0}]
[{"$f":"IF(印領清冊統計表!$A1167=\"總計\",\"\",(IF(印領清冊統計表!A1167=0,A1163,印領清冊統計表!A1167)))","v":""},{"$f":"+印領清冊統計表!B1167","v":0},{"$f":"+印領清冊統計表!C1167","v":0},{"$f":"+印領清冊統計表!D1167","v":0},{"$f":"+印領清冊統計表!E1167","v":0}]
[{"$f":"IF(印領清冊統計表!$A1168=\"總計\",\"\",(IF(印領清冊統計表!A1168=0,A1164,印領清冊統計表!A1168)))","v":""},{"$f":"+印領清冊統計表!B1168","v":0},{"$f":"+印領清冊統計表!C1168","v":0},{"$f":"+印領清冊統計表!D1168","v":0},{"$f":"+印領清冊統計表!E1168","v":0}]
[{"$f":"IF(印領清冊統計表!$A1169=\"總計\",\"\",(IF(印領清冊統計表!A1169=0,A1165,印領清冊統計表!A1169)))","v":""},{"$f":"+印領清冊統計表!B1169","v":0},{"$f":"+印領清冊統計表!C1169","v":0},{"$f":"+印領清冊統計表!D1169","v":0},{"$f":"+印領清冊統計表!E1169","v":0}]
[{"$f":"IF(印領清冊統計表!$A1170=\"總計\",\"\",(IF(印領清冊統計表!A1170=0,A1166,印領清冊統計表!A1170)))","v":""},{"$f":"+印領清冊統計表!B1170","v":0},{"$f":"+印領清冊統計表!C1170","v":0},{"$f":"+印領清冊統計表!D1170","v":0},{"$f":"+印領清冊統計表!E1170","v":0}]
[{"$f":"IF(印領清冊統計表!$A1171=\"總計\",\"\",(IF(印領清冊統計表!A1171=0,A1167,印領清冊統計表!A1171)))","v":""},{"$f":"+印領清冊統計表!B1171","v":0},{"$f":"+印領清冊統計表!C1171","v":0},{"$f":"+印領清冊統計表!D1171","v":0},{"$f":"+印領清冊統計表!E1171","v":0}]
[{"$f":"IF(印領清冊統計表!$A1172=\"總計\",\"\",(IF(印領清冊統計表!A1172=0,A1168,印領清冊統計表!A1172)))","v":""},{"$f":"+印領清冊統計表!B1172","v":0},{"$f":"+印領清冊統計表!C1172","v":0},{"$f":"+印領清冊統計表!D1172","v":0},{"$f":"+印領清冊統計表!E1172","v":0}]
[{"$f":"IF(印領清冊統計表!$A1173=\"總計\",\"\",(IF(印領清冊統計表!A1173=0,A1169,印領清冊統計表!A1173)))","v":""},{"$f":"+印領清冊統計表!B1173","v":0},{"$f":"+印領清冊統計表!C1173","v":0},{"$f":"+印領清冊統計表!D1173","v":0},{"$f":"+印領清冊統計表!E1173","v":0}]
[{"$f":"IF(印領清冊統計表!$A1174=\"總計\",\"\",(IF(印領清冊統計表!A1174=0,A1170,印領清冊統計表!A1174)))","v":""},{"$f":"+印領清冊統計表!B1174","v":0},{"$f":"+印領清冊統計表!C1174","v":0},{"$f":"+印領清冊統計表!D1174","v":0},{"$f":"+印領清冊統計表!E1174","v":0}]
[{"$f":"IF(印領清冊統計表!$A1175=\"總計\",\"\",(IF(印領清冊統計表!A1175=0,A1171,印領清冊統計表!A1175)))","v":""},{"$f":"+印領清冊統計表!B1175","v":0},{"$f":"+印領清冊統計表!C1175","v":0},{"$f":"+印領清冊統計表!D1175","v":0},{"$f":"+印領清冊統計表!E1175","v":0}]
[{"$f":"IF(印領清冊統計表!$A1176=\"總計\",\"\",(IF(印領清冊統計表!A1176=0,A1172,印領清冊統計表!A1176)))","v":""},{"$f":"+印領清冊統計表!B1176","v":0},{"$f":"+印領清冊統計表!C1176","v":0},{"$f":"+印領清冊統計表!D1176","v":0},{"$f":"+印領清冊統計表!E1176","v":0}]
[{"$f":"IF(印領清冊統計表!$A1177=\"總計\",\"\",(IF(印領清冊統計表!A1177=0,A1173,印領清冊統計表!A1177)))","v":""},{"$f":"+印領清冊統計表!B1177","v":0},{"$f":"+印領清冊統計表!C1177","v":0},{"$f":"+印領清冊統計表!D1177","v":0},{"$f":"+印領清冊統計表!E1177","v":0}]
[{"$f":"IF(印領清冊統計表!$A1178=\"總計\",\"\",(IF(印領清冊統計表!A1178=0,A1174,印領清冊統計表!A1178)))","v":""},{"$f":"+印領清冊統計表!B1178","v":0},{"$f":"+印領清冊統計表!C1178","v":0},{"$f":"+印領清冊統計表!D1178","v":0},{"$f":"+印領清冊統計表!E1178","v":0}]
[{"$f":"IF(印領清冊統計表!$A1179=\"總計\",\"\",(IF(印領清冊統計表!A1179=0,A1175,印領清冊統計表!A1179)))","v":""},{"$f":"+印領清冊統計表!B1179","v":0},{"$f":"+印領清冊統計表!C1179","v":0},{"$f":"+印領清冊統計表!D1179","v":0},{"$f":"+印領清冊統計表!E1179","v":0}]
[{"$f":"IF(印領清冊統計表!$A1180=\"總計\",\"\",(IF(印領清冊統計表!A1180=0,A1176,印領清冊統計表!A1180)))","v":""},{"$f":"+印領清冊統計表!B1180","v":0},{"$f":"+印領清冊統計表!C1180","v":0},{"$f":"+印領清冊統計表!D1180","v":0},{"$f":"+印領清冊統計表!E1180","v":0}]
[{"$f":"IF(印領清冊統計表!$A1181=\"總計\",\"\",(IF(印領清冊統計表!A1181=0,A1177,印領清冊統計表!A1181)))","v":""},{"$f":"+印領清冊統計表!B1181","v":0},{"$f":"+印領清冊統計表!C1181","v":0},{"$f":"+印領清冊統計表!D1181","v":0},{"$f":"+印領清冊統計表!E1181","v":0}]
[{"$f":"IF(印領清冊統計表!$A1182=\"總計\",\"\",(IF(印領清冊統計表!A1182=0,A1178,印領清冊統計表!A1182)))","v":""},{"$f":"+印領清冊統計表!B1182","v":0},{"$f":"+印領清冊統計表!C1182","v":0},{"$f":"+印領清冊統計表!D1182","v":0},{"$f":"+印領清冊統計表!E1182","v":0}]
[{"$f":"IF(印領清冊統計表!$A1183=\"總計\",\"\",(IF(印領清冊統計表!A1183=0,A1179,印領清冊統計表!A1183)))","v":""},{"$f":"+印領清冊統計表!B1183","v":0},{"$f":"+印領清冊統計表!C1183","v":0},{"$f":"+印領清冊統計表!D1183","v":0},{"$f":"+印領清冊統計表!E1183","v":0}]
[{"$f":"IF(印領清冊統計表!$A1184=\"總計\",\"\",(IF(印領清冊統計表!A1184=0,A1180,印領清冊統計表!A1184)))","v":""},{"$f":"+印領清冊統計表!B1184","v":0},{"$f":"+印領清冊統計表!C1184","v":0},{"$f":"+印領清冊統計表!D1184","v":0},{"$f":"+印領清冊統計表!E1184","v":0}]
[{"$f":"IF(印領清冊統計表!$A1185=\"總計\",\"\",(IF(印領清冊統計表!A1185=0,A1181,印領清冊統計表!A1185)))","v":""},{"$f":"+印領清冊統計表!B1185","v":0},{"$f":"+印領清冊統計表!C1185","v":0},{"$f":"+印領清冊統計表!D1185","v":0},{"$f":"+印領清冊統計表!E1185","v":0}]
[{"$f":"IF(印領清冊統計表!$A1186=\"總計\",\"\",(IF(印領清冊統計表!A1186=0,A1182,印領清冊統計表!A1186)))","v":""},{"$f":"+印領清冊統計表!B1186","v":0},{"$f":"+印領清冊統計表!C1186","v":0},{"$f":"+印領清冊統計表!D1186","v":0},{"$f":"+印領清冊統計表!E1186","v":0}]
[{"$f":"IF(印領清冊統計表!$A1187=\"總計\",\"\",(IF(印領清冊統計表!A1187=0,A1183,印領清冊統計表!A1187)))","v":""},{"$f":"+印領清冊統計表!B1187","v":0},{"$f":"+印領清冊統計表!C1187","v":0},{"$f":"+印領清冊統計表!D1187","v":0},{"$f":"+印領清冊統計表!E1187","v":0}]
[{"$f":"IF(印領清冊統計表!$A1188=\"總計\",\"\",(IF(印領清冊統計表!A1188=0,A1184,印領清冊統計表!A1188)))","v":""},{"$f":"+印領清冊統計表!B1188","v":0},{"$f":"+印領清冊統計表!C1188","v":0},{"$f":"+印領清冊統計表!D1188","v":0},{"$f":"+印領清冊統計表!E1188","v":0}]
[{"$f":"IF(印領清冊統計表!$A1189=\"總計\",\"\",(IF(印領清冊統計表!A1189=0,A1185,印領清冊統計表!A1189)))","v":""},{"$f":"+印領清冊統計表!B1189","v":0},{"$f":"+印領清冊統計表!C1189","v":0},{"$f":"+印領清冊統計表!D1189","v":0},{"$f":"+印領清冊統計表!E1189","v":0}]
[{"$f":"IF(印領清冊統計表!$A1190=\"總計\",\"\",(IF(印領清冊統計表!A1190=0,A1186,印領清冊統計表!A1190)))","v":""},{"$f":"+印領清冊統計表!B1190","v":0},{"$f":"+印領清冊統計表!C1190","v":0},{"$f":"+印領清冊統計表!D1190","v":0},{"$f":"+印領清冊統計表!E1190","v":0}]
[{"$f":"IF(印領清冊統計表!$A1191=\"總計\",\"\",(IF(印領清冊統計表!A1191=0,A1187,印領清冊統計表!A1191)))","v":""},{"$f":"+印領清冊統計表!B1191","v":0},{"$f":"+印領清冊統計表!C1191","v":0},{"$f":"+印領清冊統計表!D1191","v":0},{"$f":"+印領清冊統計表!E1191","v":0}]
[{"$f":"IF(印領清冊統計表!$A1192=\"總計\",\"\",(IF(印領清冊統計表!A1192=0,A1188,印領清冊統計表!A1192)))","v":""},{"$f":"+印領清冊統計表!B1192","v":0},{"$f":"+印領清冊統計表!C1192","v":0},{"$f":"+印領清冊統計表!D1192","v":0},{"$f":"+印領清冊統計表!E1192","v":0}]
[{"$f":"IF(印領清冊統計表!$A1193=\"總計\",\"\",(IF(印領清冊統計表!A1193=0,A1189,印領清冊統計表!A1193)))","v":""},{"$f":"+印領清冊統計表!B1193","v":0},{"$f":"+印領清冊統計表!C1193","v":0},{"$f":"+印領清冊統計表!D1193","v":0},{"$f":"+印領清冊統計表!E1193","v":0}]
[{"$f":"IF(印領清冊統計表!$A1194=\"總計\",\"\",(IF(印領清冊統計表!A1194=0,A1190,印領清冊統計表!A1194)))","v":""},{"$f":"+印領清冊統計表!B1194","v":0},{"$f":"+印領清冊統計表!C1194","v":0},{"$f":"+印領清冊統計表!D1194","v":0},{"$f":"+印領清冊統計表!E1194","v":0}]
[{"$f":"IF(印領清冊統計表!$A1195=\"總計\",\"\",(IF(印領清冊統計表!A1195=0,A1191,印領清冊統計表!A1195)))","v":""},{"$f":"+印領清冊統計表!B1195","v":0},{"$f":"+印領清冊統計表!C1195","v":0},{"$f":"+印領清冊統計表!D1195","v":0},{"$f":"+印領清冊統計表!E1195","v":0}]
[{"$f":"IF(印領清冊統計表!$A1196=\"總計\",\"\",(IF(印領清冊統計表!A1196=0,A1192,印領清冊統計表!A1196)))","v":""},{"$f":"+印領清冊統計表!B1196","v":0},{"$f":"+印領清冊統計表!C1196","v":0},{"$f":"+印領清冊統計表!D1196","v":0},{"$f":"+印領清冊統計表!E1196","v":0}]
[{"$f":"IF(印領清冊統計表!$A1197=\"總計\",\"\",(IF(印領清冊統計表!A1197=0,A1193,印領清冊統計表!A1197)))","v":""},{"$f":"+印領清冊統計表!B1197","v":0},{"$f":"+印領清冊統計表!C1197","v":0},{"$f":"+印領清冊統計表!D1197","v":0},{"$f":"+印領清冊統計表!E1197","v":0}]
[{"$f":"IF(印領清冊統計表!$A1198=\"總計\",\"\",(IF(印領清冊統計表!A1198=0,A1194,印領清冊統計表!A1198)))","v":""},{"$f":"+印領清冊統計表!B1198","v":0},{"$f":"+印領清冊統計表!C1198","v":0},{"$f":"+印領清冊統計表!D1198","v":0},{"$f":"+印領清冊統計表!E1198","v":0}]
[{"$f":"IF(印領清冊統計表!$A1199=\"總計\",\"\",(IF(印領清冊統計表!A1199=0,A1195,印領清冊統計表!A1199)))","v":""},{"$f":"+印領清冊統計表!B1199","v":0},{"$f":"+印領清冊統計表!C1199","v":0},{"$f":"+印領清冊統計表!D1199","v":0},{"$f":"+印領清冊統計表!E1199","v":0}]
[{"$f":"IF(印領清冊統計表!$A1200=\"總計\",\"\",(IF(印領清冊統計表!A1200=0,A1196,印領清冊統計表!A1200)))","v":""},{"$f":"+印領清冊統計表!B1200","v":0},{"$f":"+印領清冊統計表!C1200","v":0},{"$f":"+印領清冊統計表!D1200","v":0},{"$f":"+印領清冊統計表!E1200","v":0}]
[{"$f":"IF(印領清冊統計表!$A1201=\"總計\",\"\",(IF(印領清冊統計表!A1201=0,A1197,印領清冊統計表!A1201)))","v":""},{"$f":"+印領清冊統計表!B1201","v":0},{"$f":"+印領清冊統計表!C1201","v":0},{"$f":"+印領清冊統計表!D1201","v":0},{"$f":"+印領清冊統計表!E1201","v":0}]
[{"$f":"IF(印領清冊統計表!$A1202=\"總計\",\"\",(IF(印領清冊統計表!A1202=0,A1198,印領清冊統計表!A1202)))","v":""},{"$f":"+印領清冊統計表!B1202","v":0},{"$f":"+印領清冊統計表!C1202","v":0},{"$f":"+印領清冊統計表!D1202","v":0},{"$f":"+印領清冊統計表!E1202","v":0}]
[{"$f":"IF(印領清冊統計表!$A1203=\"總計\",\"\",(IF(印領清冊統計表!A1203=0,A1199,印領清冊統計表!A1203)))","v":""},{"$f":"+印領清冊統計表!B1203","v":0},{"$f":"+印領清冊統計表!C1203","v":0},{"$f":"+印領清冊統計表!D1203","v":0},{"$f":"+印領清冊統計表!E1203","v":0}]
[{"$f":"IF(印領清冊統計表!$A1204=\"總計\",\"\",(IF(印領清冊統計表!A1204=0,A1200,印領清冊統計表!A1204)))","v":""},{"$f":"+印領清冊統計表!B1204","v":0},{"$f":"+印領清冊統計表!C1204","v":0},{"$f":"+印領清冊統計表!D1204","v":0},{"$f":"+印領清冊統計表!E1204","v":0}]
[{"$f":"IF(印領清冊統計表!$A1205=\"總計\",\"\",(IF(印領清冊統計表!A1205=0,A1201,印領清冊統計表!A1205)))","v":""},{"$f":"+印領清冊統計表!B1205","v":0},{"$f":"+印領清冊統計表!C1205","v":0},{"$f":"+印領清冊統計表!D1205","v":0},{"$f":"+印領清冊統計表!E1205","v":0}]
[{"$f":"IF(印領清冊統計表!$A1206=\"總計\",\"\",(IF(印領清冊統計表!A1206=0,A1202,印領清冊統計表!A1206)))","v":""},{"$f":"+印領清冊統計表!B1206","v":0},{"$f":"+印領清冊統計表!C1206","v":0},{"$f":"+印領清冊統計表!D1206","v":0},{"$f":"+印領清冊統計表!E1206","v":0}]
[{"$f":"IF(印領清冊統計表!$A1207=\"總計\",\"\",(IF(印領清冊統計表!A1207=0,A1203,印領清冊統計表!A1207)))","v":""},{"$f":"+印領清冊統計表!B1207","v":0},{"$f":"+印領清冊統計表!C1207","v":0},{"$f":"+印領清冊統計表!D1207","v":0},{"$f":"+印領清冊統計表!E1207","v":0}]
[{"$f":"IF(印領清冊統計表!$A1208=\"總計\",\"\",(IF(印領清冊統計表!A1208=0,A1204,印領清冊統計表!A1208)))","v":""},{"$f":"+印領清冊統計表!B1208","v":0},{"$f":"+印領清冊統計表!C1208","v":0},{"$f":"+印領清冊統計表!D1208","v":0},{"$f":"+印領清冊統計表!E1208","v":0}]
[{"$f":"IF(印領清冊統計表!$A1209=\"總計\",\"\",(IF(印領清冊統計表!A1209=0,A1205,印領清冊統計表!A1209)))","v":""},{"$f":"+印領清冊統計表!B1209","v":0},{"$f":"+印領清冊統計表!C1209","v":0},{"$f":"+印領清冊統計表!D1209","v":0},{"$f":"+印領清冊統計表!E1209","v":0}]
[{"$f":"IF(印領清冊統計表!$A1210=\"總計\",\"\",(IF(印領清冊統計表!A1210=0,A1206,印領清冊統計表!A1210)))","v":""},{"$f":"+印領清冊統計表!B1210","v":0},{"$f":"+印領清冊統計表!C1210","v":0},{"$f":"+印領清冊統計表!D1210","v":0},{"$f":"+印領清冊統計表!E1210","v":0}]
[{"$f":"IF(印領清冊統計表!$A1211=\"總計\",\"\",(IF(印領清冊統計表!A1211=0,A1207,印領清冊統計表!A1211)))","v":""},{"$f":"+印領清冊統計表!B1211","v":0},{"$f":"+印領清冊統計表!C1211","v":0},{"$f":"+印領清冊統計表!D1211","v":0},{"$f":"+印領清冊統計表!E1211","v":0}]
[{"$f":"IF(印領清冊統計表!$A1212=\"總計\",\"\",(IF(印領清冊統計表!A1212=0,A1208,印領清冊統計表!A1212)))","v":""},{"$f":"+印領清冊統計表!B1212","v":0},{"$f":"+印領清冊統計表!C1212","v":0},{"$f":"+印領清冊統計表!D1212","v":0},{"$f":"+印領清冊統計表!E1212","v":0}]
[{"$f":"IF(印領清冊統計表!$A1213=\"總計\",\"\",(IF(印領清冊統計表!A1213=0,A1209,印領清冊統計表!A1213)))","v":""},{"$f":"+印領清冊統計表!B1213","v":0},{"$f":"+印領清冊統計表!C1213","v":0},{"$f":"+印領清冊統計表!D1213","v":0},{"$f":"+印領清冊統計表!E1213","v":0}]
[{"$f":"IF(印領清冊統計表!$A1214=\"總計\",\"\",(IF(印領清冊統計表!A1214=0,A1210,印領清冊統計表!A1214)))","v":""},{"$f":"+印領清冊統計表!B1214","v":0},{"$f":"+印領清冊統計表!C1214","v":0},{"$f":"+印領清冊統計表!D1214","v":0},{"$f":"+印領清冊統計表!E1214","v":0}]
[{"$f":"IF(印領清冊統計表!$A1215=\"總計\",\"\",(IF(印領清冊統計表!A1215=0,A1211,印領清冊統計表!A1215)))","v":""},{"$f":"+印領清冊統計表!B1215","v":0},{"$f":"+印領清冊統計表!C1215","v":0},{"$f":"+印領清冊統計表!D1215","v":0},{"$f":"+印領清冊統計表!E1215","v":0}]
[{"$f":"IF(印領清冊統計表!$A1216=\"總計\",\"\",(IF(印領清冊統計表!A1216=0,A1212,印領清冊統計表!A1216)))","v":""},{"$f":"+印領清冊統計表!B1216","v":0},{"$f":"+印領清冊統計表!C1216","v":0},{"$f":"+印領清冊統計表!D1216","v":0},{"$f":"+印領清冊統計表!E1216","v":0}]
[{"$f":"IF(印領清冊統計表!$A1217=\"總計\",\"\",(IF(印領清冊統計表!A1217=0,A1213,印領清冊統計表!A1217)))","v":""},{"$f":"+印領清冊統計表!B1217","v":0},{"$f":"+印領清冊統計表!C1217","v":0},{"$f":"+印領清冊統計表!D1217","v":0},{"$f":"+印領清冊統計表!E1217","v":0}]
[{"$f":"IF(印領清冊統計表!$A1218=\"總計\",\"\",(IF(印領清冊統計表!A1218=0,A1214,印領清冊統計表!A1218)))","v":""},{"$f":"+印領清冊統計表!B1218","v":0},{"$f":"+印領清冊統計表!C1218","v":0},{"$f":"+印領清冊統計表!D1218","v":0},{"$f":"+印領清冊統計表!E1218","v":0}]
[{"$f":"IF(印領清冊統計表!$A1219=\"總計\",\"\",(IF(印領清冊統計表!A1219=0,A1215,印領清冊統計表!A1219)))","v":""},{"$f":"+印領清冊統計表!B1219","v":0},{"$f":"+印領清冊統計表!C1219","v":0},{"$f":"+印領清冊統計表!D1219","v":0},{"$f":"+印領清冊統計表!E1219","v":0}]
[{"$f":"IF(印領清冊統計表!$A1220=\"總計\",\"\",(IF(印領清冊統計表!A1220=0,A1216,印領清冊統計表!A1220)))","v":""},{"$f":"+印領清冊統計表!B1220","v":0},{"$f":"+印領清冊統計表!C1220","v":0},{"$f":"+印領清冊統計表!D1220","v":0},{"$f":"+印領清冊統計表!E1220","v":0}]
[{"$f":"IF(印領清冊統計表!$A1221=\"總計\",\"\",(IF(印領清冊統計表!A1221=0,A1217,印領清冊統計表!A1221)))","v":""},{"$f":"+印領清冊統計表!B1221","v":0},{"$f":"+印領清冊統計表!C1221","v":0},{"$f":"+印領清冊統計表!D1221","v":0},{"$f":"+印領清冊統計表!E1221","v":0}]
[{"$f":"IF(印領清冊統計表!$A1222=\"總計\",\"\",(IF(印領清冊統計表!A1222=0,A1218,印領清冊統計表!A1222)))","v":""},{"$f":"+印領清冊統計表!B1222","v":0},{"$f":"+印領清冊統計表!C1222","v":0},{"$f":"+印領清冊統計表!D1222","v":0},{"$f":"+印領清冊統計表!E1222","v":0}]
[{"$f":"IF(印領清冊統計表!$A1223=\"總計\",\"\",(IF(印領清冊統計表!A1223=0,A1219,印領清冊統計表!A1223)))","v":""},{"$f":"+印領清冊統計表!B1223","v":0},{"$f":"+印領清冊統計表!C1223","v":0},{"$f":"+印領清冊統計表!D1223","v":0},{"$f":"+印領清冊統計表!E1223","v":0}]
[{"$f":"IF(印領清冊統計表!$A1224=\"總計\",\"\",(IF(印領清冊統計表!A1224=0,A1220,印領清冊統計表!A1224)))","v":""},{"$f":"+印領清冊統計表!B1224","v":0},{"$f":"+印領清冊統計表!C1224","v":0},{"$f":"+印領清冊統計表!D1224","v":0},{"$f":"+印領清冊統計表!E1224","v":0}]
[{"$f":"IF(印領清冊統計表!$A1225=\"總計\",\"\",(IF(印領清冊統計表!A1225=0,A1221,印領清冊統計表!A1225)))","v":""},{"$f":"+印領清冊統計表!B1225","v":0},{"$f":"+印領清冊統計表!C1225","v":0},{"$f":"+印領清冊統計表!D1225","v":0},{"$f":"+印領清冊統計表!E1225","v":0}]
[{"$f":"IF(印領清冊統計表!$A1226=\"總計\",\"\",(IF(印領清冊統計表!A1226=0,A1222,印領清冊統計表!A1226)))","v":""},{"$f":"+印領清冊統計表!B1226","v":0},{"$f":"+印領清冊統計表!C1226","v":0},{"$f":"+印領清冊統計表!D1226","v":0},{"$f":"+印領清冊統計表!E1226","v":0}]
[{"$f":"IF(印領清冊統計表!$A1227=\"總計\",\"\",(IF(印領清冊統計表!A1227=0,A1223,印領清冊統計表!A1227)))","v":""},{"$f":"+印領清冊統計表!B1227","v":0},{"$f":"+印領清冊統計表!C1227","v":0},{"$f":"+印領清冊統計表!D1227","v":0},{"$f":"+印領清冊統計表!E1227","v":0}]
[{"$f":"IF(印領清冊統計表!$A1228=\"總計\",\"\",(IF(印領清冊統計表!A1228=0,A1224,印領清冊統計表!A1228)))","v":""},{"$f":"+印領清冊統計表!B1228","v":0},{"$f":"+印領清冊統計表!C1228","v":0},{"$f":"+印領清冊統計表!D1228","v":0},{"$f":"+印領清冊統計表!E1228","v":0}]
[{"$f":"IF(印領清冊統計表!$A1229=\"總計\",\"\",(IF(印領清冊統計表!A1229=0,A1225,印領清冊統計表!A1229)))","v":""},{"$f":"+印領清冊統計表!B1229","v":0},{"$f":"+印領清冊統計表!C1229","v":0},{"$f":"+印領清冊統計表!D1229","v":0},{"$f":"+印領清冊統計表!E1229","v":0}]
[{"$f":"IF(印領清冊統計表!$A1230=\"總計\",\"\",(IF(印領清冊統計表!A1230=0,A1226,印領清冊統計表!A1230)))","v":""},{"$f":"+印領清冊統計表!B1230","v":0},{"$f":"+印領清冊統計表!C1230","v":0},{"$f":"+印領清冊統計表!D1230","v":0},{"$f":"+印領清冊統計表!E1230","v":0}]
[{"$f":"IF(印領清冊統計表!$A1231=\"總計\",\"\",(IF(印領清冊統計表!A1231=0,A1227,印領清冊統計表!A1231)))","v":""},{"$f":"+印領清冊統計表!B1231","v":0},{"$f":"+印領清冊統計表!C1231","v":0},{"$f":"+印領清冊統計表!D1231","v":0},{"$f":"+印領清冊統計表!E1231","v":0}]
[{"$f":"IF(印領清冊統計表!$A1232=\"總計\",\"\",(IF(印領清冊統計表!A1232=0,A1228,印領清冊統計表!A1232)))","v":""},{"$f":"+印領清冊統計表!B1232","v":0},{"$f":"+印領清冊統計表!C1232","v":0},{"$f":"+印領清冊統計表!D1232","v":0},{"$f":"+印領清冊統計表!E1232","v":0}]
[{"$f":"IF(印領清冊統計表!$A1233=\"總計\",\"\",(IF(印領清冊統計表!A1233=0,A1229,印領清冊統計表!A1233)))","v":""},{"$f":"+印領清冊統計表!B1233","v":0},{"$f":"+印領清冊統計表!C1233","v":0},{"$f":"+印領清冊統計表!D1233","v":0},{"$f":"+印領清冊統計表!E1233","v":0}]
[{"$f":"IF(印領清冊統計表!$A1234=\"總計\",\"\",(IF(印領清冊統計表!A1234=0,A1230,印領清冊統計表!A1234)))","v":""},{"$f":"+印領清冊統計表!B1234","v":0},{"$f":"+印領清冊統計表!C1234","v":0},{"$f":"+印領清冊統計表!D1234","v":0},{"$f":"+印領清冊統計表!E1234","v":0}]
[{"$f":"IF(印領清冊統計表!$A1235=\"總計\",\"\",(IF(印領清冊統計表!A1235=0,A1231,印領清冊統計表!A1235)))","v":""},{"$f":"+印領清冊統計表!B1235","v":0},{"$f":"+印領清冊統計表!C1235","v":0},{"$f":"+印領清冊統計表!D1235","v":0},{"$f":"+印領清冊統計表!E1235","v":0}]
[{"$f":"IF(印領清冊統計表!$A1236=\"總計\",\"\",(IF(印領清冊統計表!A1236=0,A1232,印領清冊統計表!A1236)))","v":""},{"$f":"+印領清冊統計表!B1236","v":0},{"$f":"+印領清冊統計表!C1236","v":0},{"$f":"+印領清冊統計表!D1236","v":0},{"$f":"+印領清冊統計表!E1236","v":0}]
[{"$f":"IF(印領清冊統計表!$A1237=\"總計\",\"\",(IF(印領清冊統計表!A1237=0,A1233,印領清冊統計表!A1237)))","v":""},{"$f":"+印領清冊統計表!B1237","v":0},{"$f":"+印領清冊統計表!C1237","v":0},{"$f":"+印領清冊統計表!D1237","v":0},{"$f":"+印領清冊統計表!E1237","v":0}]
[{"$f":"IF(印領清冊統計表!$A1238=\"總計\",\"\",(IF(印領清冊統計表!A1238=0,A1234,印領清冊統計表!A1238)))","v":""},{"$f":"+印領清冊統計表!B1238","v":0},{"$f":"+印領清冊統計表!C1238","v":0},{"$f":"+印領清冊統計表!D1238","v":0},{"$f":"+印領清冊統計表!E1238","v":0}]
[{"$f":"IF(印領清冊統計表!$A1239=\"總計\",\"\",(IF(印領清冊統計表!A1239=0,A1235,印領清冊統計表!A1239)))","v":""},{"$f":"+印領清冊統計表!B1239","v":0},{"$f":"+印領清冊統計表!C1239","v":0},{"$f":"+印領清冊統計表!D1239","v":0},{"$f":"+印領清冊統計表!E1239","v":0}]
[{"$f":"IF(印領清冊統計表!$A1240=\"總計\",\"\",(IF(印領清冊統計表!A1240=0,A1236,印領清冊統計表!A1240)))","v":""},{"$f":"+印領清冊統計表!B1240","v":0},{"$f":"+印領清冊統計表!C1240","v":0},{"$f":"+印領清冊統計表!D1240","v":0},{"$f":"+印領清冊統計表!E1240","v":0}]
[{"$f":"IF(印領清冊統計表!$A1241=\"總計\",\"\",(IF(印領清冊統計表!A1241=0,A1237,印領清冊統計表!A1241)))","v":""},{"$f":"+印領清冊統計表!B1241","v":0},{"$f":"+印領清冊統計表!C1241","v":0},{"$f":"+印領清冊統計表!D1241","v":0},{"$f":"+印領清冊統計表!E1241","v":0}]
[{"$f":"IF(印領清冊統計表!$A1242=\"總計\",\"\",(IF(印領清冊統計表!A1242=0,A1238,印領清冊統計表!A1242)))","v":""},{"$f":"+印領清冊統計表!B1242","v":0},{"$f":"+印領清冊統計表!C1242","v":0},{"$f":"+印領清冊統計表!D1242","v":0},{"$f":"+印領清冊統計表!E1242","v":0}]
[{"$f":"IF(印領清冊統計表!$A1243=\"總計\",\"\",(IF(印領清冊統計表!A1243=0,A1239,印領清冊統計表!A1243)))","v":""},{"$f":"+印領清冊統計表!B1243","v":0},{"$f":"+印領清冊統計表!C1243","v":0},{"$f":"+印領清冊統計表!D1243","v":0},{"$f":"+印領清冊統計表!E1243","v":0}]
[{"$f":"IF(印領清冊統計表!$A1244=\"總計\",\"\",(IF(印領清冊統計表!A1244=0,A1240,印領清冊統計表!A1244)))","v":""},{"$f":"+印領清冊統計表!B1244","v":0},{"$f":"+印領清冊統計表!C1244","v":0},{"$f":"+印領清冊統計表!D1244","v":0},{"$f":"+印領清冊統計表!E1244","v":0}]
[{"$f":"IF(印領清冊統計表!$A1245=\"總計\",\"\",(IF(印領清冊統計表!A1245=0,A1241,印領清冊統計表!A1245)))","v":""},{"$f":"+印領清冊統計表!B1245","v":0},{"$f":"+印領清冊統計表!C1245","v":0},{"$f":"+印領清冊統計表!D1245","v":0},{"$f":"+印領清冊統計表!E1245","v":0}]
[{"$f":"IF(印領清冊統計表!$A1246=\"總計\",\"\",(IF(印領清冊統計表!A1246=0,A1242,印領清冊統計表!A1246)))","v":""},{"$f":"+印領清冊統計表!B1246","v":0},{"$f":"+印領清冊統計表!C1246","v":0},{"$f":"+印領清冊統計表!D1246","v":0},{"$f":"+印領清冊統計表!E1246","v":0}]
[{"$f":"IF(印領清冊統計表!$A1247=\"總計\",\"\",(IF(印領清冊統計表!A1247=0,A1243,印領清冊統計表!A1247)))","v":""},{"$f":"+印領清冊統計表!B1247","v":0},{"$f":"+印領清冊統計表!C1247","v":0},{"$f":"+印領清冊統計表!D1247","v":0},{"$f":"+印領清冊統計表!E1247","v":0}]
[{"$f":"IF(印領清冊統計表!$A1248=\"總計\",\"\",(IF(印領清冊統計表!A1248=0,A1244,印領清冊統計表!A1248)))","v":""},{"$f":"+印領清冊統計表!B1248","v":0},{"$f":"+印領清冊統計表!C1248","v":0},{"$f":"+印領清冊統計表!D1248","v":0},{"$f":"+印領清冊統計表!E1248","v":0}]
[{"$f":"IF(印領清冊統計表!$A1249=\"總計\",\"\",(IF(印領清冊統計表!A1249=0,A1245,印領清冊統計表!A1249)))","v":""},{"$f":"+印領清冊統計表!B1249","v":0},{"$f":"+印領清冊統計表!C1249","v":0},{"$f":"+印領清冊統計表!D1249","v":0},{"$f":"+印領清冊統計表!E1249","v":0}]
[{"$f":"IF(印領清冊統計表!$A1250=\"總計\",\"\",(IF(印領清冊統計表!A1250=0,A1246,印領清冊統計表!A1250)))","v":""},{"$f":"+印領清冊統計表!B1250","v":0},{"$f":"+印領清冊統計表!C1250","v":0},{"$f":"+印領清冊統計表!D1250","v":0},{"$f":"+印領清冊統計表!E1250","v":0}]
[{"$f":"IF(印領清冊統計表!$A1251=\"總計\",\"\",(IF(印領清冊統計表!A1251=0,A1247,印領清冊統計表!A1251)))","v":""},{"$f":"+印領清冊統計表!B1251","v":0},{"$f":"+印領清冊統計表!C1251","v":0},{"$f":"+印領清冊統計表!D1251","v":0},{"$f":"+印領清冊統計表!E1251","v":0}]
[{"$f":"IF(印領清冊統計表!$A1252=\"總計\",\"\",(IF(印領清冊統計表!A1252=0,A1248,印領清冊統計表!A1252)))","v":""},{"$f":"+印領清冊統計表!B1252","v":0},{"$f":"+印領清冊統計表!C1252","v":0},{"$f":"+印領清冊統計表!D1252","v":0},{"$f":"+印領清冊統計表!E1252","v":0}]
[{"$f":"IF(印領清冊統計表!$A1253=\"總計\",\"\",(IF(印領清冊統計表!A1253=0,A1249,印領清冊統計表!A1253)))","v":""},{"$f":"+印領清冊統計表!B1253","v":0},{"$f":"+印領清冊統計表!C1253","v":0},{"$f":"+印領清冊統計表!D1253","v":0},{"$f":"+印領清冊統計表!E1253","v":0}]
[{"$f":"IF(印領清冊統計表!$A1254=\"總計\",\"\",(IF(印領清冊統計表!A1254=0,A1250,印領清冊統計表!A1254)))","v":""},{"$f":"+印領清冊統計表!B1254","v":0},{"$f":"+印領清冊統計表!C1254","v":0},{"$f":"+印領清冊統計表!D1254","v":0},{"$f":"+印領清冊統計表!E1254","v":0}]
[{"$f":"IF(印領清冊統計表!$A1255=\"總計\",\"\",(IF(印領清冊統計表!A1255=0,A1251,印領清冊統計表!A1255)))","v":""},{"$f":"+印領清冊統計表!B1255","v":0},{"$f":"+印領清冊統計表!C1255","v":0},{"$f":"+印領清冊統計表!D1255","v":0},{"$f":"+印領清冊統計表!E1255","v":0}]
[{"$f":"IF(印領清冊統計表!$A1256=\"總計\",\"\",(IF(印領清冊統計表!A1256=0,A1252,印領清冊統計表!A1256)))","v":""},{"$f":"+印領清冊統計表!B1256","v":0},{"$f":"+印領清冊統計表!C1256","v":0},{"$f":"+印領清冊統計表!D1256","v":0},{"$f":"+印領清冊統計表!E1256","v":0}]
[{"$f":"IF(印領清冊統計表!$A1257=\"總計\",\"\",(IF(印領清冊統計表!A1257=0,A1253,印領清冊統計表!A1257)))","v":""},{"$f":"+印領清冊統計表!B1257","v":0},{"$f":"+印領清冊統計表!C1257","v":0},{"$f":"+印領清冊統計表!D1257","v":0},{"$f":"+印領清冊統計表!E1257","v":0}]
[{"$f":"IF(印領清冊統計表!$A1258=\"總計\",\"\",(IF(印領清冊統計表!A1258=0,A1254,印領清冊統計表!A1258)))","v":""},{"$f":"+印領清冊統計表!B1258","v":0},{"$f":"+印領清冊統計表!C1258","v":0},{"$f":"+印領清冊統計表!D1258","v":0},{"$f":"+印領清冊統計表!E1258","v":0}]
[{"$f":"IF(印領清冊統計表!$A1259=\"總計\",\"\",(IF(印領清冊統計表!A1259=0,A1255,印領清冊統計表!A1259)))","v":""},{"$f":"+印領清冊統計表!B1259","v":0},{"$f":"+印領清冊統計表!C1259","v":0},{"$f":"+印領清冊統計表!D1259","v":0},{"$f":"+印領清冊統計表!E1259","v":0}]
[{"$f":"IF(印領清冊統計表!$A1260=\"總計\",\"\",(IF(印領清冊統計表!A1260=0,A1256,印領清冊統計表!A1260)))","v":""},{"$f":"+印領清冊統計表!B1260","v":0},{"$f":"+印領清冊統計表!C1260","v":0},{"$f":"+印領清冊統計表!D1260","v":0},{"$f":"+印領清冊統計表!E1260","v":0}]
[{"$f":"IF(印領清冊統計表!$A1261=\"總計\",\"\",(IF(印領清冊統計表!A1261=0,A1257,印領清冊統計表!A1261)))","v":""},{"$f":"+印領清冊統計表!B1261","v":0},{"$f":"+印領清冊統計表!C1261","v":0},{"$f":"+印領清冊統計表!D1261","v":0},{"$f":"+印領清冊統計表!E1261","v":0}]
[{"$f":"IF(印領清冊統計表!$A1262=\"總計\",\"\",(IF(印領清冊統計表!A1262=0,A1258,印領清冊統計表!A1262)))","v":""},{"$f":"+印領清冊統計表!B1262","v":0},{"$f":"+印領清冊統計表!C1262","v":0},{"$f":"+印領清冊統計表!D1262","v":0},{"$f":"+印領清冊統計表!E1262","v":0}]
[{"$f":"IF(印領清冊統計表!$A1263=\"總計\",\"\",(IF(印領清冊統計表!A1263=0,A1259,印領清冊統計表!A1263)))","v":""},{"$f":"+印領清冊統計表!B1263","v":0},{"$f":"+印領清冊統計表!C1263","v":0},{"$f":"+印領清冊統計表!D1263","v":0},{"$f":"+印領清冊統計表!E1263","v":0}]
[{"$f":"IF(印領清冊統計表!$A1264=\"總計\",\"\",(IF(印領清冊統計表!A1264=0,A1260,印領清冊統計表!A1264)))","v":""},{"$f":"+印領清冊統計表!B1264","v":0},{"$f":"+印領清冊統計表!C1264","v":0},{"$f":"+印領清冊統計表!D1264","v":0},{"$f":"+印領清冊統計表!E1264","v":0}]
[{"$f":"IF(印領清冊統計表!$A1265=\"總計\",\"\",(IF(印領清冊統計表!A1265=0,A1261,印領清冊統計表!A1265)))","v":""},{"$f":"+印領清冊統計表!B1265","v":0},{"$f":"+印領清冊統計表!C1265","v":0},{"$f":"+印領清冊統計表!D1265","v":0},{"$f":"+印領清冊統計表!E1265","v":0}]
[{"$f":"IF(印領清冊統計表!$A1266=\"總計\",\"\",(IF(印領清冊統計表!A1266=0,A1262,印領清冊統計表!A1266)))","v":""},{"$f":"+印領清冊統計表!B1266","v":0},{"$f":"+印領清冊統計表!C1266","v":0},{"$f":"+印領清冊統計表!D1266","v":0},{"$f":"+印領清冊統計表!E1266","v":0}]
[{"$f":"IF(印領清冊統計表!$A1267=\"總計\",\"\",(IF(印領清冊統計表!A1267=0,A1263,印領清冊統計表!A1267)))","v":""},{"$f":"+印領清冊統計表!B1267","v":0},{"$f":"+印領清冊統計表!C1267","v":0},{"$f":"+印領清冊統計表!D1267","v":0},{"$f":"+印領清冊統計表!E1267","v":0}]
[{"$f":"IF(印領清冊統計表!$A1268=\"總計\",\"\",(IF(印領清冊統計表!A1268=0,A1264,印領清冊統計表!A1268)))","v":""},{"$f":"+印領清冊統計表!B1268","v":0},{"$f":"+印領清冊統計表!C1268","v":0},{"$f":"+印領清冊統計表!D1268","v":0},{"$f":"+印領清冊統計表!E1268","v":0}]
[{"$f":"IF(印領清冊統計表!$A1269=\"總計\",\"\",(IF(印領清冊統計表!A1269=0,A1265,印領清冊統計表!A1269)))","v":""},{"$f":"+印領清冊統計表!B1269","v":0},{"$f":"+印領清冊統計表!C1269","v":0},{"$f":"+印領清冊統計表!D1269","v":0},{"$f":"+印領清冊統計表!E1269","v":0}]
[{"$f":"IF(印領清冊統計表!$A1270=\"總計\",\"\",(IF(印領清冊統計表!A1270=0,A1266,印領清冊統計表!A1270)))","v":""},{"$f":"+印領清冊統計表!B1270","v":0},{"$f":"+印領清冊統計表!C1270","v":0},{"$f":"+印領清冊統計表!D1270","v":0},{"$f":"+印領清冊統計表!E1270","v":0}]
[{"$f":"IF(印領清冊統計表!$A1271=\"總計\",\"\",(IF(印領清冊統計表!A1271=0,A1267,印領清冊統計表!A1271)))","v":""},{"$f":"+印領清冊統計表!B1271","v":0},{"$f":"+印領清冊統計表!C1271","v":0},{"$f":"+印領清冊統計表!D1271","v":0},{"$f":"+印領清冊統計表!E1271","v":0}]
[{"$f":"IF(印領清冊統計表!$A1272=\"總計\",\"\",(IF(印領清冊統計表!A1272=0,A1268,印領清冊統計表!A1272)))","v":""},{"$f":"+印領清冊統計表!B1272","v":0},{"$f":"+印領清冊統計表!C1272","v":0},{"$f":"+印領清冊統計表!D1272","v":0},{"$f":"+印領清冊統計表!E1272","v":0}]
[{"$f":"IF(印領清冊統計表!$A1273=\"總計\",\"\",(IF(印領清冊統計表!A1273=0,A1269,印領清冊統計表!A1273)))","v":""},{"$f":"+印領清冊統計表!B1273","v":0},{"$f":"+印領清冊統計表!C1273","v":0},{"$f":"+印領清冊統計表!D1273","v":0},{"$f":"+印領清冊統計表!E1273","v":0}]
[{"$f":"IF(印領清冊統計表!$A1274=\"總計\",\"\",(IF(印領清冊統計表!A1274=0,A1270,印領清冊統計表!A1274)))","v":""},{"$f":"+印領清冊統計表!B1274","v":0},{"$f":"+印領清冊統計表!C1274","v":0},{"$f":"+印領清冊統計表!D1274","v":0},{"$f":"+印領清冊統計表!E1274","v":0}]
[{"$f":"IF(印領清冊統計表!$A1275=\"總計\",\"\",(IF(印領清冊統計表!A1275=0,A1271,印領清冊統計表!A1275)))","v":""},{"$f":"+印領清冊統計表!B1275","v":0},{"$f":"+印領清冊統計表!C1275","v":0},{"$f":"+印領清冊統計表!D1275","v":0},{"$f":"+印領清冊統計表!E1275","v":0}]
[{"$f":"IF(印領清冊統計表!$A1276=\"總計\",\"\",(IF(印領清冊統計表!A1276=0,A1272,印領清冊統計表!A1276)))","v":""},{"$f":"+印領清冊統計表!B1276","v":0},{"$f":"+印領清冊統計表!C1276","v":0},{"$f":"+印領清冊統計表!D1276","v":0},{"$f":"+印領清冊統計表!E1276","v":0}]
[{"$f":"IF(印領清冊統計表!$A1277=\"總計\",\"\",(IF(印領清冊統計表!A1277=0,A1273,印領清冊統計表!A1277)))","v":""},{"$f":"+印領清冊統計表!B1277","v":0},{"$f":"+印領清冊統計表!C1277","v":0},{"$f":"+印領清冊統計表!D1277","v":0},{"$f":"+印領清冊統計表!E1277","v":0}]
[{"$f":"IF(印領清冊統計表!$A1278=\"總計\",\"\",(IF(印領清冊統計表!A1278=0,A1274,印領清冊統計表!A1278)))","v":""},{"$f":"+印領清冊統計表!B1278","v":0},{"$f":"+印領清冊統計表!C1278","v":0},{"$f":"+印領清冊統計表!D1278","v":0},{"$f":"+印領清冊統計表!E1278","v":0}]
[{"$f":"IF(印領清冊統計表!$A1279=\"總計\",\"\",(IF(印領清冊統計表!A1279=0,A1275,印領清冊統計表!A1279)))","v":""},{"$f":"+印領清冊統計表!B1279","v":0},{"$f":"+印領清冊統計表!C1279","v":0},{"$f":"+印領清冊統計表!D1279","v":0},{"$f":"+印領清冊統計表!E1279","v":0}]
[{"$f":"IF(印領清冊統計表!$A1280=\"總計\",\"\",(IF(印領清冊統計表!A1280=0,A1276,印領清冊統計表!A1280)))","v":""},{"$f":"+印領清冊統計表!B1280","v":0},{"$f":"+印領清冊統計表!C1280","v":0},{"$f":"+印領清冊統計表!D1280","v":0},{"$f":"+印領清冊統計表!E1280","v":0}]
[{"$f":"IF(印領清冊統計表!$A1281=\"總計\",\"\",(IF(印領清冊統計表!A1281=0,A1277,印領清冊統計表!A1281)))","v":""},{"$f":"+印領清冊統計表!B1281","v":0},{"$f":"+印領清冊統計表!C1281","v":0},{"$f":"+印領清冊統計表!D1281","v":0},{"$f":"+印領清冊統計表!E1281","v":0}]
[{"$f":"IF(印領清冊統計表!$A1282=\"總計\",\"\",(IF(印領清冊統計表!A1282=0,A1278,印領清冊統計表!A1282)))","v":""},{"$f":"+印領清冊統計表!B1282","v":0},{"$f":"+印領清冊統計表!C1282","v":0},{"$f":"+印領清冊統計表!D1282","v":0},{"$f":"+印領清冊統計表!E1282","v":0}]
[{"$f":"IF(印領清冊統計表!$A1283=\"總計\",\"\",(IF(印領清冊統計表!A1283=0,A1279,印領清冊統計表!A1283)))","v":""},{"$f":"+印領清冊統計表!B1283","v":0},{"$f":"+印領清冊統計表!C1283","v":0},{"$f":"+印領清冊統計表!D1283","v":0},{"$f":"+印領清冊統計表!E1283","v":0}]
[{"$f":"IF(印領清冊統計表!$A1284=\"總計\",\"\",(IF(印領清冊統計表!A1284=0,A1280,印領清冊統計表!A1284)))","v":""},{"$f":"+印領清冊統計表!B1284","v":0},{"$f":"+印領清冊統計表!C1284","v":0},{"$f":"+印領清冊統計表!D1284","v":0},{"$f":"+印領清冊統計表!E1284","v":0}]
[{"$f":"IF(印領清冊統計表!$A1285=\"總計\",\"\",(IF(印領清冊統計表!A1285=0,A1281,印領清冊統計表!A1285)))","v":""},{"$f":"+印領清冊統計表!B1285","v":0},{"$f":"+印領清冊統計表!C1285","v":0},{"$f":"+印領清冊統計表!D1285","v":0},{"$f":"+印領清冊統計表!E1285","v":0}]
[{"$f":"IF(印領清冊統計表!$A1286=\"總計\",\"\",(IF(印領清冊統計表!A1286=0,A1282,印領清冊統計表!A1286)))","v":""},{"$f":"+印領清冊統計表!B1286","v":0},{"$f":"+印領清冊統計表!C1286","v":0},{"$f":"+印領清冊統計表!D1286","v":0},{"$f":"+印領清冊統計表!E1286","v":0}]
[{"$f":"IF(印領清冊統計表!$A1287=\"總計\",\"\",(IF(印領清冊統計表!A1287=0,A1283,印領清冊統計表!A1287)))","v":""},{"$f":"+印領清冊統計表!B1287","v":0},{"$f":"+印領清冊統計表!C1287","v":0},{"$f":"+印領清冊統計表!D1287","v":0},{"$f":"+印領清冊統計表!E1287","v":0}]
[{"$f":"IF(印領清冊統計表!$A1288=\"總計\",\"\",(IF(印領清冊統計表!A1288=0,A1284,印領清冊統計表!A1288)))","v":""},{"$f":"+印領清冊統計表!B1288","v":0},{"$f":"+印領清冊統計表!C1288","v":0},{"$f":"+印領清冊統計表!D1288","v":0},{"$f":"+印領清冊統計表!E1288","v":0}]
[{"$f":"IF(印領清冊統計表!$A1289=\"總計\",\"\",(IF(印領清冊統計表!A1289=0,A1285,印領清冊統計表!A1289)))","v":""},{"$f":"+印領清冊統計表!B1289","v":0},{"$f":"+印領清冊統計表!C1289","v":0},{"$f":"+印領清冊統計表!D1289","v":0},{"$f":"+印領清冊統計表!E1289","v":0}]
[{"$f":"IF(印領清冊統計表!$A1290=\"總計\",\"\",(IF(印領清冊統計表!A1290=0,A1286,印領清冊統計表!A1290)))","v":""},{"$f":"+印領清冊統計表!B1290","v":0},{"$f":"+印領清冊統計表!C1290","v":0},{"$f":"+印領清冊統計表!D1290","v":0},{"$f":"+印領清冊統計表!E1290","v":0}]
[{"$f":"IF(印領清冊統計表!$A1291=\"總計\",\"\",(IF(印領清冊統計表!A1291=0,A1287,印領清冊統計表!A1291)))","v":""},{"$f":"+印領清冊統計表!B1291","v":0},{"$f":"+印領清冊統計表!C1291","v":0},{"$f":"+印領清冊統計表!D1291","v":0},{"$f":"+印領清冊統計表!E1291","v":0}]
[{"$f":"IF(印領清冊統計表!$A1292=\"總計\",\"\",(IF(印領清冊統計表!A1292=0,A1288,印領清冊統計表!A1292)))","v":""},{"$f":"+印領清冊統計表!B1292","v":0},{"$f":"+印領清冊統計表!C1292","v":0},{"$f":"+印領清冊統計表!D1292","v":0},{"$f":"+印領清冊統計表!E1292","v":0}]
[{"$f":"IF(印領清冊統計表!$A1293=\"總計\",\"\",(IF(印領清冊統計表!A1293=0,A1289,印領清冊統計表!A1293)))","v":""},{"$f":"+印領清冊統計表!B1293","v":0},{"$f":"+印領清冊統計表!C1293","v":0},{"$f":"+印領清冊統計表!D1293","v":0},{"$f":"+印領清冊統計表!E1293","v":0}]
[{"$f":"IF(印領清冊統計表!$A1294=\"總計\",\"\",(IF(印領清冊統計表!A1294=0,A1290,印領清冊統計表!A1294)))","v":""},{"$f":"+印領清冊統計表!B1294","v":0},{"$f":"+印領清冊統計表!C1294","v":0},{"$f":"+印領清冊統計表!D1294","v":0},{"$f":"+印領清冊統計表!E1294","v":0}]
[{"$f":"IF(印領清冊統計表!$A1295=\"總計\",\"\",(IF(印領清冊統計表!A1295=0,A1291,印領清冊統計表!A1295)))","v":""},{"$f":"+印領清冊統計表!B1295","v":0},{"$f":"+印領清冊統計表!C1295","v":0},{"$f":"+印領清冊統計表!D1295","v":0},{"$f":"+印領清冊統計表!E1295","v":0}]
[{"$f":"IF(印領清冊統計表!$A1296=\"總計\",\"\",(IF(印領清冊統計表!A1296=0,A1292,印領清冊統計表!A1296)))","v":""},{"$f":"+印領清冊統計表!B1296","v":0},{"$f":"+印領清冊統計表!C1296","v":0},{"$f":"+印領清冊統計表!D1296","v":0},{"$f":"+印領清冊統計表!E1296","v":0}]
[{"$f":"IF(印領清冊統計表!$A1297=\"總計\",\"\",(IF(印領清冊統計表!A1297=0,A1293,印領清冊統計表!A1297)))","v":""},{"$f":"+印領清冊統計表!B1297","v":0},{"$f":"+印領清冊統計表!C1297","v":0},{"$f":"+印領清冊統計表!D1297","v":0},{"$f":"+印領清冊統計表!E1297","v":0}]
[{"$f":"IF(印領清冊統計表!$A1298=\"總計\",\"\",(IF(印領清冊統計表!A1298=0,A1294,印領清冊統計表!A1298)))","v":""},{"$f":"+印領清冊統計表!B1298","v":0},{"$f":"+印領清冊統計表!C1298","v":0},{"$f":"+印領清冊統計表!D1298","v":0},{"$f":"+印領清冊統計表!E1298","v":0}]
[{"$f":"IF(印領清冊統計表!$A1299=\"總計\",\"\",(IF(印領清冊統計表!A1299=0,A1295,印領清冊統計表!A1299)))","v":""},{"$f":"+印領清冊統計表!B1299","v":0},{"$f":"+印領清冊統計表!C1299","v":0},{"$f":"+印領清冊統計表!D1299","v":0},{"$f":"+印領清冊統計表!E1299","v":0}]
[{"$f":"IF(印領清冊統計表!$A1300=\"總計\",\"\",(IF(印領清冊統計表!A1300=0,A1296,印領清冊統計表!A1300)))","v":""},{"$f":"+印領清冊統計表!B1300","v":0},{"$f":"+印領清冊統計表!C1300","v":0},{"$f":"+印領清冊統計表!D1300","v":0},{"$f":"+印領清冊統計表!E1300","v":0}]
[{"$f":"IF(印領清冊統計表!$A1301=\"總計\",\"\",(IF(印領清冊統計表!A1301=0,A1297,印領清冊統計表!A1301)))","v":""},{"$f":"+印領清冊統計表!B1301","v":0},{"$f":"+印領清冊統計表!C1301","v":0},{"$f":"+印領清冊統計表!D1301","v":0},{"$f":"+印領清冊統計表!E1301","v":0}]
[{"$f":"IF(印領清冊統計表!$A1302=\"總計\",\"\",(IF(印領清冊統計表!A1302=0,A1298,印領清冊統計表!A1302)))","v":""},{"$f":"+印領清冊統計表!B1302","v":0},{"$f":"+印領清冊統計表!C1302","v":0},{"$f":"+印領清冊統計表!D1302","v":0},{"$f":"+印領清冊統計表!E1302","v":0}]
[{"$f":"IF(印領清冊統計表!$A1303=\"總計\",\"\",(IF(印領清冊統計表!A1303=0,A1299,印領清冊統計表!A1303)))","v":""},{"$f":"+印領清冊統計表!B1303","v":0},{"$f":"+印領清冊統計表!C1303","v":0},{"$f":"+印領清冊統計表!D1303","v":0},{"$f":"+印領清冊統計表!E1303","v":0}]
[{"$f":"IF(印領清冊統計表!$A1304=\"總計\",\"\",(IF(印領清冊統計表!A1304=0,A1300,印領清冊統計表!A1304)))","v":""},{"$f":"+印領清冊統計表!B1304","v":0},{"$f":"+印領清冊統計表!C1304","v":0},{"$f":"+印領清冊統計表!D1304","v":0},{"$f":"+印領清冊統計表!E1304","v":0}]
[{"$f":"IF(印領清冊統計表!$A1305=\"總計\",\"\",(IF(印領清冊統計表!A1305=0,A1301,印領清冊統計表!A1305)))","v":""},{"$f":"+印領清冊統計表!B1305","v":0},{"$f":"+印領清冊統計表!C1305","v":0},{"$f":"+印領清冊統計表!D1305","v":0},{"$f":"+印領清冊統計表!E1305","v":0}]
[{"$f":"IF(印領清冊統計表!$A1306=\"總計\",\"\",(IF(印領清冊統計表!A1306=0,A1302,印領清冊統計表!A1306)))","v":""},{"$f":"+印領清冊統計表!B1306","v":0},{"$f":"+印領清冊統計表!C1306","v":0},{"$f":"+印領清冊統計表!D1306","v":0},{"$f":"+印領清冊統計表!E1306","v":0}]
[{"$f":"IF(印領清冊統計表!$A1307=\"總計\",\"\",(IF(印領清冊統計表!A1307=0,A1303,印領清冊統計表!A1307)))","v":""},{"$f":"+印領清冊統計表!B1307","v":0},{"$f":"+印領清冊統計表!C1307","v":0},{"$f":"+印領清冊統計表!D1307","v":0},{"$f":"+印領清冊統計表!E1307","v":0}]
[{"$f":"IF(印領清冊統計表!$A1308=\"總計\",\"\",(IF(印領清冊統計表!A1308=0,A1304,印領清冊統計表!A1308)))","v":""},{"$f":"+印領清冊統計表!B1308","v":0},{"$f":"+印領清冊統計表!C1308","v":0},{"$f":"+印領清冊統計表!D1308","v":0},{"$f":"+印領清冊統計表!E1308","v":0}]
[{"$f":"IF(印領清冊統計表!$A1309=\"總計\",\"\",(IF(印領清冊統計表!A1309=0,A1305,印領清冊統計表!A1309)))","v":""},{"$f":"+印領清冊統計表!B1309","v":0},{"$f":"+印領清冊統計表!C1309","v":0},{"$f":"+印領清冊統計表!D1309","v":0},{"$f":"+印領清冊統計表!E1309","v":0}]
[{"$f":"IF(印領清冊統計表!$A1310=\"總計\",\"\",(IF(印領清冊統計表!A1310=0,A1306,印領清冊統計表!A1310)))","v":""},{"$f":"+印領清冊統計表!B1310","v":0},{"$f":"+印領清冊統計表!C1310","v":0},{"$f":"+印領清冊統計表!D1310","v":0},{"$f":"+印領清冊統計表!E1310","v":0}]
[{"$f":"IF(印領清冊統計表!$A1311=\"總計\",\"\",(IF(印領清冊統計表!A1311=0,A1307,印領清冊統計表!A1311)))","v":""},{"$f":"+印領清冊統計表!B1311","v":0},{"$f":"+印領清冊統計表!C1311","v":0},{"$f":"+印領清冊統計表!D1311","v":0},{"$f":"+印領清冊統計表!E1311","v":0}]
[{"$f":"IF(印領清冊統計表!$A1312=\"總計\",\"\",(IF(印領清冊統計表!A1312=0,A1308,印領清冊統計表!A1312)))","v":""},{"$f":"+印領清冊統計表!B1312","v":0},{"$f":"+印領清冊統計表!C1312","v":0},{"$f":"+印領清冊統計表!D1312","v":0},{"$f":"+印領清冊統計表!E1312","v":0}]
[{"$f":"IF(印領清冊統計表!$A1313=\"總計\",\"\",(IF(印領清冊統計表!A1313=0,A1309,印領清冊統計表!A1313)))","v":""},{"$f":"+印領清冊統計表!B1313","v":0},{"$f":"+印領清冊統計表!C1313","v":0},{"$f":"+印領清冊統計表!D1313","v":0},{"$f":"+印領清冊統計表!E1313","v":0}]
[{"$f":"IF(印領清冊統計表!$A1314=\"總計\",\"\",(IF(印領清冊統計表!A1314=0,A1310,印領清冊統計表!A1314)))","v":""},{"$f":"+印領清冊統計表!B1314","v":0},{"$f":"+印領清冊統計表!C1314","v":0},{"$f":"+印領清冊統計表!D1314","v":0},{"$f":"+印領清冊統計表!E1314","v":0}]
[{"$f":"IF(印領清冊統計表!$A1315=\"總計\",\"\",(IF(印領清冊統計表!A1315=0,A1311,印領清冊統計表!A1315)))","v":""},{"$f":"+印領清冊統計表!B1315","v":0},{"$f":"+印領清冊統計表!C1315","v":0},{"$f":"+印領清冊統計表!D1315","v":0},{"$f":"+印領清冊統計表!E1315","v":0}]
[{"$f":"IF(印領清冊統計表!$A1316=\"總計\",\"\",(IF(印領清冊統計表!A1316=0,A1312,印領清冊統計表!A1316)))","v":""},{"$f":"+印領清冊統計表!B1316","v":0},{"$f":"+印領清冊統計表!C1316","v":0},{"$f":"+印領清冊統計表!D1316","v":0},{"$f":"+印領清冊統計表!E1316","v":0}]
[{"$f":"IF(印領清冊統計表!$A1317=\"總計\",\"\",(IF(印領清冊統計表!A1317=0,A1313,印領清冊統計表!A1317)))","v":""},{"$f":"+印領清冊統計表!B1317","v":0},{"$f":"+印領清冊統計表!C1317","v":0},{"$f":"+印領清冊統計表!D1317","v":0},{"$f":"+印領清冊統計表!E1317","v":0}]
[{"$f":"IF(印領清冊統計表!$A1318=\"總計\",\"\",(IF(印領清冊統計表!A1318=0,A1314,印領清冊統計表!A1318)))","v":""},{"$f":"+印領清冊統計表!B1318","v":0},{"$f":"+印領清冊統計表!C1318","v":0},{"$f":"+印領清冊統計表!D1318","v":0},{"$f":"+印領清冊統計表!E1318","v":0}]
[{"$f":"IF(印領清冊統計表!$A1319=\"總計\",\"\",(IF(印領清冊統計表!A1319=0,A1315,印領清冊統計表!A1319)))","v":""},{"$f":"+印領清冊統計表!B1319","v":0},{"$f":"+印領清冊統計表!C1319","v":0},{"$f":"+印領清冊統計表!D1319","v":0},{"$f":"+印領清冊統計表!E1319","v":0}]
[{"$f":"IF(印領清冊統計表!$A1320=\"總計\",\"\",(IF(印領清冊統計表!A1320=0,A1316,印領清冊統計表!A1320)))","v":""},{"$f":"+印領清冊統計表!B1320","v":0},{"$f":"+印領清冊統計表!C1320","v":0},{"$f":"+印領清冊統計表!D1320","v":0},{"$f":"+印領清冊統計表!E1320","v":0}]
[{"$f":"IF(印領清冊統計表!$A1321=\"總計\",\"\",(IF(印領清冊統計表!A1321=0,A1317,印領清冊統計表!A1321)))","v":""},{"$f":"+印領清冊統計表!B1321","v":0},{"$f":"+印領清冊統計表!C1321","v":0},{"$f":"+印領清冊統計表!D1321","v":0},{"$f":"+印領清冊統計表!E1321","v":0}]
[{"$f":"IF(印領清冊統計表!$A1322=\"總計\",\"\",(IF(印領清冊統計表!A1322=0,A1318,印領清冊統計表!A1322)))","v":""},{"$f":"+印領清冊統計表!B1322","v":0},{"$f":"+印領清冊統計表!C1322","v":0},{"$f":"+印領清冊統計表!D1322","v":0},{"$f":"+印領清冊統計表!E1322","v":0}]
[{"$f":"IF(印領清冊統計表!$A1323=\"總計\",\"\",(IF(印領清冊統計表!A1323=0,A1319,印領清冊統計表!A1323)))","v":""},{"$f":"+印領清冊統計表!B1323","v":0},{"$f":"+印領清冊統計表!C1323","v":0},{"$f":"+印領清冊統計表!D1323","v":0},{"$f":"+印領清冊統計表!E1323","v":0}]
[{"$f":"IF(印領清冊統計表!$A1324=\"總計\",\"\",(IF(印領清冊統計表!A1324=0,A1320,印領清冊統計表!A1324)))","v":""},{"$f":"+印領清冊統計表!B1324","v":0},{"$f":"+印領清冊統計表!C1324","v":0},{"$f":"+印領清冊統計表!D1324","v":0},{"$f":"+印領清冊統計表!E1324","v":0}]
[{"$f":"IF(印領清冊統計表!$A1325=\"總計\",\"\",(IF(印領清冊統計表!A1325=0,A1321,印領清冊統計表!A1325)))","v":""},{"$f":"+印領清冊統計表!B1325","v":0},{"$f":"+印領清冊統計表!C1325","v":0},{"$f":"+印領清冊統計表!D1325","v":0},{"$f":"+印領清冊統計表!E1325","v":0}]
[{"$f":"IF(印領清冊統計表!$A1326=\"總計\",\"\",(IF(印領清冊統計表!A1326=0,A1322,印領清冊統計表!A1326)))","v":""},{"$f":"+印領清冊統計表!B1326","v":0},{"$f":"+印領清冊統計表!C1326","v":0},{"$f":"+印領清冊統計表!D1326","v":0},{"$f":"+印領清冊統計表!E1326","v":0}]
[{"$f":"IF(印領清冊統計表!$A1327=\"總計\",\"\",(IF(印領清冊統計表!A1327=0,A1323,印領清冊統計表!A1327)))","v":""},{"$f":"+印領清冊統計表!B1327","v":0},{"$f":"+印領清冊統計表!C1327","v":0},{"$f":"+印領清冊統計表!D1327","v":0},{"$f":"+印領清冊統計表!E1327","v":0}]
[{"$f":"IF(印領清冊統計表!$A1328=\"總計\",\"\",(IF(印領清冊統計表!A1328=0,A1324,印領清冊統計表!A1328)))","v":""},{"$f":"+印領清冊統計表!B1328","v":0},{"$f":"+印領清冊統計表!C1328","v":0},{"$f":"+印領清冊統計表!D1328","v":0},{"$f":"+印領清冊統計表!E1328","v":0}]
[{"$f":"IF(印領清冊統計表!$A1329=\"總計\",\"\",(IF(印領清冊統計表!A1329=0,A1325,印領清冊統計表!A1329)))","v":""},{"$f":"+印領清冊統計表!B1329","v":0},{"$f":"+印領清冊統計表!C1329","v":0},{"$f":"+印領清冊統計表!D1329","v":0},{"$f":"+印領清冊統計表!E1329","v":0}]
[{"$f":"IF(印領清冊統計表!$A1330=\"總計\",\"\",(IF(印領清冊統計表!A1330=0,A1326,印領清冊統計表!A1330)))","v":""},{"$f":"+印領清冊統計表!B1330","v":0},{"$f":"+印領清冊統計表!C1330","v":0},{"$f":"+印領清冊統計表!D1330","v":0},{"$f":"+印領清冊統計表!E1330","v":0}]
[{"$f":"IF(印領清冊統計表!$A1331=\"總計\",\"\",(IF(印領清冊統計表!A1331=0,A1327,印領清冊統計表!A1331)))","v":""},{"$f":"+印領清冊統計表!B1331","v":0},{"$f":"+印領清冊統計表!C1331","v":0},{"$f":"+印領清冊統計表!D1331","v":0},{"$f":"+印領清冊統計表!E1331","v":0}]
[{"$f":"IF(印領清冊統計表!$A1332=\"總計\",\"\",(IF(印領清冊統計表!A1332=0,A1328,印領清冊統計表!A1332)))","v":""},{"$f":"+印領清冊統計表!B1332","v":0},{"$f":"+印領清冊統計表!C1332","v":0},{"$f":"+印領清冊統計表!D1332","v":0},{"$f":"+印領清冊統計表!E1332","v":0}]
[{"$f":"IF(印領清冊統計表!$A1333=\"總計\",\"\",(IF(印領清冊統計表!A1333=0,A1329,印領清冊統計表!A1333)))","v":""},{"$f":"+印領清冊統計表!B1333","v":0},{"$f":"+印領清冊統計表!C1333","v":0},{"$f":"+印領清冊統計表!D1333","v":0},{"$f":"+印領清冊統計表!E1333","v":0}]
[{"$f":"IF(印領清冊統計表!$A1334=\"總計\",\"\",(IF(印領清冊統計表!A1334=0,A1330,印領清冊統計表!A1334)))","v":""},{"$f":"+印領清冊統計表!B1334","v":0},{"$f":"+印領清冊統計表!C1334","v":0},{"$f":"+印領清冊統計表!D1334","v":0},{"$f":"+印領清冊統計表!E1334","v":0}]
[{"$f":"IF(印領清冊統計表!$A1335=\"總計\",\"\",(IF(印領清冊統計表!A1335=0,A1331,印領清冊統計表!A1335)))","v":""},{"$f":"+印領清冊統計表!B1335","v":0},{"$f":"+印領清冊統計表!C1335","v":0},{"$f":"+印領清冊統計表!D1335","v":0},{"$f":"+印領清冊統計表!E1335","v":0}]
[{"$f":"IF(印領清冊統計表!$A1336=\"總計\",\"\",(IF(印領清冊統計表!A1336=0,A1332,印領清冊統計表!A1336)))","v":""},{"$f":"+印領清冊統計表!B1336","v":0},{"$f":"+印領清冊統計表!C1336","v":0},{"$f":"+印領清冊統計表!D1336","v":0},{"$f":"+印領清冊統計表!E1336","v":0}]
[{"$f":"IF(印領清冊統計表!$A1337=\"總計\",\"\",(IF(印領清冊統計表!A1337=0,A1333,印領清冊統計表!A1337)))","v":""},{"$f":"+印領清冊統計表!B1337","v":0},{"$f":"+印領清冊統計表!C1337","v":0},{"$f":"+印領清冊統計表!D1337","v":0},{"$f":"+印領清冊統計表!E1337","v":0}]
[{"$f":"IF(印領清冊統計表!$A1338=\"總計\",\"\",(IF(印領清冊統計表!A1338=0,A1334,印領清冊統計表!A1338)))","v":""},{"$f":"+印領清冊統計表!B1338","v":0},{"$f":"+印領清冊統計表!C1338","v":0},{"$f":"+印領清冊統計表!D1338","v":0},{"$f":"+印領清冊統計表!E1338","v":0}]
[{"$f":"IF(印領清冊統計表!$A1339=\"總計\",\"\",(IF(印領清冊統計表!A1339=0,A1335,印領清冊統計表!A1339)))","v":""},{"$f":"+印領清冊統計表!B1339","v":0},{"$f":"+印領清冊統計表!C1339","v":0},{"$f":"+印領清冊統計表!D1339","v":0},{"$f":"+印領清冊統計表!E1339","v":0}]
[{"$f":"IF(印領清冊統計表!$A1340=\"總計\",\"\",(IF(印領清冊統計表!A1340=0,A1336,印領清冊統計表!A1340)))","v":""},{"$f":"+印領清冊統計表!B1340","v":0},{"$f":"+印領清冊統計表!C1340","v":0},{"$f":"+印領清冊統計表!D1340","v":0},{"$f":"+印領清冊統計表!E1340","v":0}]
[{"$f":"IF(印領清冊統計表!$A1341=\"總計\",\"\",(IF(印領清冊統計表!A1341=0,A1337,印領清冊統計表!A1341)))","v":""},{"$f":"+印領清冊統計表!B1341","v":0},{"$f":"+印領清冊統計表!C1341","v":0},{"$f":"+印領清冊統計表!D1341","v":0},{"$f":"+印領清冊統計表!E1341","v":0}]
[{"$f":"IF(印領清冊統計表!$A1342=\"總計\",\"\",(IF(印領清冊統計表!A1342=0,A1338,印領清冊統計表!A1342)))","v":""},{"$f":"+印領清冊統計表!B1342","v":0},{"$f":"+印領清冊統計表!C1342","v":0},{"$f":"+印領清冊統計表!D1342","v":0},{"$f":"+印領清冊統計表!E1342","v":0}]
[{"$f":"IF(印領清冊統計表!$A1343=\"總計\",\"\",(IF(印領清冊統計表!A1343=0,A1339,印領清冊統計表!A1343)))","v":""},{"$f":"+印領清冊統計表!B1343","v":0},{"$f":"+印領清冊統計表!C1343","v":0},{"$f":"+印領清冊統計表!D1343","v":0},{"$f":"+印領清冊統計表!E1343","v":0}]
[{"$f":"IF(印領清冊統計表!$A1344=\"總計\",\"\",(IF(印領清冊統計表!A1344=0,A1340,印領清冊統計表!A1344)))","v":""},{"$f":"+印領清冊統計表!B1344","v":0},{"$f":"+印領清冊統計表!C1344","v":0},{"$f":"+印領清冊統計表!D1344","v":0},{"$f":"+印領清冊統計表!E1344","v":0}]
[{"$f":"IF(印領清冊統計表!$A1345=\"總計\",\"\",(IF(印領清冊統計表!A1345=0,A1341,印領清冊統計表!A1345)))","v":""},{"$f":"+印領清冊統計表!B1345","v":0},{"$f":"+印領清冊統計表!C1345","v":0},{"$f":"+印領清冊統計表!D1345","v":0},{"$f":"+印領清冊統計表!E1345","v":0}]
[{"$f":"IF(印領清冊統計表!$A1346=\"總計\",\"\",(IF(印領清冊統計表!A1346=0,A1342,印領清冊統計表!A1346)))","v":""},{"$f":"+印領清冊統計表!B1346","v":0},{"$f":"+印領清冊統計表!C1346","v":0},{"$f":"+印領清冊統計表!D1346","v":0},{"$f":"+印領清冊統計表!E1346","v":0}]
[{"$f":"IF(印領清冊統計表!$A1347=\"總計\",\"\",(IF(印領清冊統計表!A1347=0,A1343,印領清冊統計表!A1347)))","v":""},{"$f":"+印領清冊統計表!B1347","v":0},{"$f":"+印領清冊統計表!C1347","v":0},{"$f":"+印領清冊統計表!D1347","v":0},{"$f":"+印領清冊統計表!E1347","v":0}]
[{"$f":"IF(印領清冊統計表!$A1348=\"總計\",\"\",(IF(印領清冊統計表!A1348=0,A1344,印領清冊統計表!A1348)))","v":""},{"$f":"+印領清冊統計表!B1348","v":0},{"$f":"+印領清冊統計表!C1348","v":0},{"$f":"+印領清冊統計表!D1348","v":0},{"$f":"+印領清冊統計表!E1348","v":0}]
[{"$f":"IF(印領清冊統計表!$A1349=\"總計\",\"\",(IF(印領清冊統計表!A1349=0,A1345,印領清冊統計表!A1349)))","v":""},{"$f":"+印領清冊統計表!B1349","v":0},{"$f":"+印領清冊統計表!C1349","v":0},{"$f":"+印領清冊統計表!D1349","v":0},{"$f":"+印領清冊統計表!E1349","v":0}]
[{"$f":"IF(印領清冊統計表!$A1350=\"總計\",\"\",(IF(印領清冊統計表!A1350=0,A1346,印領清冊統計表!A1350)))","v":""},{"$f":"+印領清冊統計表!B1350","v":0},{"$f":"+印領清冊統計表!C1350","v":0},{"$f":"+印領清冊統計表!D1350","v":0},{"$f":"+印領清冊統計表!E1350","v":0}]
[{"$f":"IF(印領清冊統計表!$A1351=\"總計\",\"\",(IF(印領清冊統計表!A1351=0,A1347,印領清冊統計表!A1351)))","v":""},{"$f":"+印領清冊統計表!B1351","v":0},{"$f":"+印領清冊統計表!C1351","v":0},{"$f":"+印領清冊統計表!D1351","v":0},{"$f":"+印領清冊統計表!E1351","v":0}]
[{"$f":"IF(印領清冊統計表!$A1352=\"總計\",\"\",(IF(印領清冊統計表!A1352=0,A1348,印領清冊統計表!A1352)))","v":""},{"$f":"+印領清冊統計表!B1352","v":0},{"$f":"+印領清冊統計表!C1352","v":0},{"$f":"+印領清冊統計表!D1352","v":0},{"$f":"+印領清冊統計表!E1352","v":0}]
[{"$f":"IF(印領清冊統計表!$A1353=\"總計\",\"\",(IF(印領清冊統計表!A1353=0,A1349,印領清冊統計表!A1353)))","v":""},{"$f":"+印領清冊統計表!B1353","v":0},{"$f":"+印領清冊統計表!C1353","v":0},{"$f":"+印領清冊統計表!D1353","v":0},{"$f":"+印領清冊統計表!E1353","v":0}]
[{"$f":"IF(印領清冊統計表!$A1354=\"總計\",\"\",(IF(印領清冊統計表!A1354=0,A1350,印領清冊統計表!A1354)))","v":""},{"$f":"+印領清冊統計表!B1354","v":0},{"$f":"+印領清冊統計表!C1354","v":0},{"$f":"+印領清冊統計表!D1354","v":0},{"$f":"+印領清冊統計表!E1354","v":0}]
[{"$f":"IF(印領清冊統計表!$A1355=\"總計\",\"\",(IF(印領清冊統計表!A1355=0,A1351,印領清冊統計表!A1355)))","v":""},{"$f":"+印領清冊統計表!B1355","v":0},{"$f":"+印領清冊統計表!C1355","v":0},{"$f":"+印領清冊統計表!D1355","v":0},{"$f":"+印領清冊統計表!E1355","v":0}]
[{"$f":"IF(印領清冊統計表!$A1356=\"總計\",\"\",(IF(印領清冊統計表!A1356=0,A1352,印領清冊統計表!A1356)))","v":""},{"$f":"+印領清冊統計表!B1356","v":0},{"$f":"+印領清冊統計表!C1356","v":0},{"$f":"+印領清冊統計表!D1356","v":0},{"$f":"+印領清冊統計表!E1356","v":0}]
[{"$f":"IF(印領清冊統計表!$A1357=\"總計\",\"\",(IF(印領清冊統計表!A1357=0,A1353,印領清冊統計表!A1357)))","v":""},{"$f":"+印領清冊統計表!B1357","v":0},{"$f":"+印領清冊統計表!C1357","v":0},{"$f":"+印領清冊統計表!D1357","v":0},{"$f":"+印領清冊統計表!E1357","v":0}]
[{"$f":"IF(印領清冊統計表!$A1358=\"總計\",\"\",(IF(印領清冊統計表!A1358=0,A1354,印領清冊統計表!A1358)))","v":""},{"$f":"+印領清冊統計表!B1358","v":0},{"$f":"+印領清冊統計表!C1358","v":0},{"$f":"+印領清冊統計表!D1358","v":0},{"$f":"+印領清冊統計表!E1358","v":0}]
[{"$f":"IF(印領清冊統計表!$A1359=\"總計\",\"\",(IF(印領清冊統計表!A1359=0,A1355,印領清冊統計表!A1359)))","v":""},{"$f":"+印領清冊統計表!B1359","v":0},{"$f":"+印領清冊統計表!C1359","v":0},{"$f":"+印領清冊統計表!D1359","v":0},{"$f":"+印領清冊統計表!E1359","v":0}]
[{"$f":"IF(印領清冊統計表!$A1360=\"總計\",\"\",(IF(印領清冊統計表!A1360=0,A1356,印領清冊統計表!A1360)))","v":""},{"$f":"+印領清冊統計表!B1360","v":0},{"$f":"+印領清冊統計表!C1360","v":0},{"$f":"+印領清冊統計表!D1360","v":0},{"$f":"+印領清冊統計表!E1360","v":0}]
[{"$f":"IF(印領清冊統計表!$A1361=\"總計\",\"\",(IF(印領清冊統計表!A1361=0,A1357,印領清冊統計表!A1361)))","v":""},{"$f":"+印領清冊統計表!B1361","v":0},{"$f":"+印領清冊統計表!C1361","v":0},{"$f":"+印領清冊統計表!D1361","v":0},{"$f":"+印領清冊統計表!E1361","v":0}]
[{"$f":"IF(印領清冊統計表!$A1362=\"總計\",\"\",(IF(印領清冊統計表!A1362=0,A1358,印領清冊統計表!A1362)))","v":""},{"$f":"+印領清冊統計表!B1362","v":0},{"$f":"+印領清冊統計表!C1362","v":0},{"$f":"+印領清冊統計表!D1362","v":0},{"$f":"+印領清冊統計表!E1362","v":0}]
[{"$f":"IF(印領清冊統計表!$A1363=\"總計\",\"\",(IF(印領清冊統計表!A1363=0,A1359,印領清冊統計表!A1363)))","v":""},{"$f":"+印領清冊統計表!B1363","v":0},{"$f":"+印領清冊統計表!C1363","v":0},{"$f":"+印領清冊統計表!D1363","v":0},{"$f":"+印領清冊統計表!E1363","v":0}]
[{"$f":"IF(印領清冊統計表!$A1364=\"總計\",\"\",(IF(印領清冊統計表!A1364=0,A1360,印領清冊統計表!A1364)))","v":""},{"$f":"+印領清冊統計表!B1364","v":0},{"$f":"+印領清冊統計表!C1364","v":0},{"$f":"+印領清冊統計表!D1364","v":0},{"$f":"+印領清冊統計表!E1364","v":0}]
[{"$f":"IF(印領清冊統計表!$A1365=\"總計\",\"\",(IF(印領清冊統計表!A1365=0,A1361,印領清冊統計表!A1365)))","v":""},{"$f":"+印領清冊統計表!B1365","v":0},{"$f":"+印領清冊統計表!C1365","v":0},{"$f":"+印領清冊統計表!D1365","v":0},{"$f":"+印領清冊統計表!E1365","v":0}]
[{"$f":"IF(印領清冊統計表!$A1366=\"總計\",\"\",(IF(印領清冊統計表!A1366=0,A1362,印領清冊統計表!A1366)))","v":""},{"$f":"+印領清冊統計表!B1366","v":0},{"$f":"+印領清冊統計表!C1366","v":0},{"$f":"+印領清冊統計表!D1366","v":0},{"$f":"+印領清冊統計表!E1366","v":0}]
[{"$f":"IF(印領清冊統計表!$A1367=\"總計\",\"\",(IF(印領清冊統計表!A1367=0,A1363,印領清冊統計表!A1367)))","v":""},{"$f":"+印領清冊統計表!B1367","v":0},{"$f":"+印領清冊統計表!C1367","v":0},{"$f":"+印領清冊統計表!D1367","v":0},{"$f":"+印領清冊統計表!E1367","v":0}]
[{"$f":"IF(印領清冊統計表!$A1368=\"總計\",\"\",(IF(印領清冊統計表!A1368=0,A1364,印領清冊統計表!A1368)))","v":""},{"$f":"+印領清冊統計表!B1368","v":0},{"$f":"+印領清冊統計表!C1368","v":0},{"$f":"+印領清冊統計表!D1368","v":0},{"$f":"+印領清冊統計表!E1368","v":0}]
[{"$f":"IF(印領清冊統計表!$A1369=\"總計\",\"\",(IF(印領清冊統計表!A1369=0,A1365,印領清冊統計表!A1369)))","v":""},{"$f":"+印領清冊統計表!B1369","v":0},{"$f":"+印領清冊統計表!C1369","v":0},{"$f":"+印領清冊統計表!D1369","v":0},{"$f":"+印領清冊統計表!E1369","v":0}]
[{"$f":"IF(印領清冊統計表!$A1370=\"總計\",\"\",(IF(印領清冊統計表!A1370=0,A1366,印領清冊統計表!A1370)))","v":""},{"$f":"+印領清冊統計表!B1370","v":0},{"$f":"+印領清冊統計表!C1370","v":0},{"$f":"+印領清冊統計表!D1370","v":0},{"$f":"+印領清冊統計表!E1370","v":0}]
[{"$f":"IF(印領清冊統計表!$A1371=\"總計\",\"\",(IF(印領清冊統計表!A1371=0,A1367,印領清冊統計表!A1371)))","v":""},{"$f":"+印領清冊統計表!B1371","v":0},{"$f":"+印領清冊統計表!C1371","v":0},{"$f":"+印領清冊統計表!D1371","v":0},{"$f":"+印領清冊統計表!E1371","v":0}]
[{"$f":"IF(印領清冊統計表!$A1372=\"總計\",\"\",(IF(印領清冊統計表!A1372=0,A1368,印領清冊統計表!A1372)))","v":""},{"$f":"+印領清冊統計表!B1372","v":0},{"$f":"+印領清冊統計表!C1372","v":0},{"$f":"+印領清冊統計表!D1372","v":0},{"$f":"+印領清冊統計表!E1372","v":0}]
[{"$f":"IF(印領清冊統計表!$A1373=\"總計\",\"\",(IF(印領清冊統計表!A1373=0,A1369,印領清冊統計表!A1373)))","v":""},{"$f":"+印領清冊統計表!B1373","v":0},{"$f":"+印領清冊統計表!C1373","v":0},{"$f":"+印領清冊統計表!D1373","v":0},{"$f":"+印領清冊統計表!E1373","v":0}]
[{"$f":"IF(印領清冊統計表!$A1374=\"總計\",\"\",(IF(印領清冊統計表!A1374=0,A1370,印領清冊統計表!A1374)))","v":""},{"$f":"+印領清冊統計表!B1374","v":0},{"$f":"+印領清冊統計表!C1374","v":0},{"$f":"+印領清冊統計表!D1374","v":0},{"$f":"+印領清冊統計表!E1374","v":0}]
[{"$f":"IF(印領清冊統計表!$A1375=\"總計\",\"\",(IF(印領清冊統計表!A1375=0,A1371,印領清冊統計表!A1375)))","v":""},{"$f":"+印領清冊統計表!B1375","v":0},{"$f":"+印領清冊統計表!C1375","v":0},{"$f":"+印領清冊統計表!D1375","v":0},{"$f":"+印領清冊統計表!E1375","v":0}]
[{"$f":"IF(印領清冊統計表!$A1376=\"總計\",\"\",(IF(印領清冊統計表!A1376=0,A1372,印領清冊統計表!A1376)))","v":""},{"$f":"+印領清冊統計表!B1376","v":0},{"$f":"+印領清冊統計表!C1376","v":0},{"$f":"+印領清冊統計表!D1376","v":0},{"$f":"+印領清冊統計表!E1376","v":0}]
[{"$f":"IF(印領清冊統計表!$A1377=\"總計\",\"\",(IF(印領清冊統計表!A1377=0,A1373,印領清冊統計表!A1377)))","v":""},{"$f":"+印領清冊統計表!B1377","v":0},{"$f":"+印領清冊統計表!C1377","v":0},{"$f":"+印領清冊統計表!D1377","v":0},{"$f":"+印領清冊統計表!E1377","v":0}]
[{"$f":"IF(印領清冊統計表!$A1378=\"總計\",\"\",(IF(印領清冊統計表!A1378=0,A1374,印領清冊統計表!A1378)))","v":""},{"$f":"+印領清冊統計表!B1378","v":0},{"$f":"+印領清冊統計表!C1378","v":0},{"$f":"+印領清冊統計表!D1378","v":0},{"$f":"+印領清冊統計表!E1378","v":0}]
[{"$f":"IF(印領清冊統計表!$A1379=\"總計\",\"\",(IF(印領清冊統計表!A1379=0,A1375,印領清冊統計表!A1379)))","v":""},{"$f":"+印領清冊統計表!B1379","v":0},{"$f":"+印領清冊統計表!C1379","v":0},{"$f":"+印領清冊統計表!D1379","v":0},{"$f":"+印領清冊統計表!E1379","v":0}]
[{"$f":"IF(印領清冊統計表!$A1380=\"總計\",\"\",(IF(印領清冊統計表!A1380=0,A1376,印領清冊統計表!A1380)))","v":""},{"$f":"+印領清冊統計表!B1380","v":0},{"$f":"+印領清冊統計表!C1380","v":0},{"$f":"+印領清冊統計表!D1380","v":0},{"$f":"+印領清冊統計表!E1380","v":0}]
[{"$f":"IF(印領清冊統計表!$A1381=\"總計\",\"\",(IF(印領清冊統計表!A1381=0,A1377,印領清冊統計表!A1381)))","v":""},{"$f":"+印領清冊統計表!B1381","v":0},{"$f":"+印領清冊統計表!C1381","v":0},{"$f":"+印領清冊統計表!D1381","v":0},{"$f":"+印領清冊統計表!E1381","v":0}]
[{"$f":"IF(印領清冊統計表!$A1382=\"總計\",\"\",(IF(印領清冊統計表!A1382=0,A1378,印領清冊統計表!A1382)))","v":""},{"$f":"+印領清冊統計表!B1382","v":0},{"$f":"+印領清冊統計表!C1382","v":0},{"$f":"+印領清冊統計表!D1382","v":0},{"$f":"+印領清冊統計表!E1382","v":0}]
[{"$f":"IF(印領清冊統計表!$A1383=\"總計\",\"\",(IF(印領清冊統計表!A1383=0,A1379,印領清冊統計表!A1383)))","v":""},{"$f":"+印領清冊統計表!B1383","v":0},{"$f":"+印領清冊統計表!C1383","v":0},{"$f":"+印領清冊統計表!D1383","v":0},{"$f":"+印領清冊統計表!E1383","v":0}]
[{"$f":"IF(印領清冊統計表!$A1384=\"總計\",\"\",(IF(印領清冊統計表!A1384=0,A1380,印領清冊統計表!A1384)))","v":""},{"$f":"+印領清冊統計表!B1384","v":0},{"$f":"+印領清冊統計表!C1384","v":0},{"$f":"+印領清冊統計表!D1384","v":0},{"$f":"+印領清冊統計表!E1384","v":0}]
[{"$f":"IF(印領清冊統計表!$A1385=\"總計\",\"\",(IF(印領清冊統計表!A1385=0,A1381,印領清冊統計表!A1385)))","v":""},{"$f":"+印領清冊統計表!B1385","v":0},{"$f":"+印領清冊統計表!C1385","v":0},{"$f":"+印領清冊統計表!D1385","v":0},{"$f":"+印領清冊統計表!E1385","v":0}]
[{"$f":"IF(印領清冊統計表!$A1386=\"總計\",\"\",(IF(印領清冊統計表!A1386=0,A1382,印領清冊統計表!A1386)))","v":""},{"$f":"+印領清冊統計表!B1386","v":0},{"$f":"+印領清冊統計表!C1386","v":0},{"$f":"+印領清冊統計表!D1386","v":0},{"$f":"+印領清冊統計表!E1386","v":0}]
[{"$f":"IF(印領清冊統計表!$A1387=\"總計\",\"\",(IF(印領清冊統計表!A1387=0,A1383,印領清冊統計表!A1387)))","v":""},{"$f":"+印領清冊統計表!B1387","v":0},{"$f":"+印領清冊統計表!C1387","v":0},{"$f":"+印領清冊統計表!D1387","v":0},{"$f":"+印領清冊統計表!E1387","v":0}]
[{"$f":"IF(印領清冊統計表!$A1388=\"總計\",\"\",(IF(印領清冊統計表!A1388=0,A1384,印領清冊統計表!A1388)))","v":""},{"$f":"+印領清冊統計表!B1388","v":0},{"$f":"+印領清冊統計表!C1388","v":0},{"$f":"+印領清冊統計表!D1388","v":0},{"$f":"+印領清冊統計表!E1388","v":0}]
[{"$f":"IF(印領清冊統計表!$A1389=\"總計\",\"\",(IF(印領清冊統計表!A1389=0,A1385,印領清冊統計表!A1389)))","v":""},{"$f":"+印領清冊統計表!B1389","v":0},{"$f":"+印領清冊統計表!C1389","v":0},{"$f":"+印領清冊統計表!D1389","v":0},{"$f":"+印領清冊統計表!E1389","v":0}]
[{"$f":"IF(印領清冊統計表!$A1390=\"總計\",\"\",(IF(印領清冊統計表!A1390=0,A1386,印領清冊統計表!A1390)))","v":""},{"$f":"+印領清冊統計表!B1390","v":0},{"$f":"+印領清冊統計表!C1390","v":0},{"$f":"+印領清冊統計表!D1390","v":0},{"$f":"+印領清冊統計表!E1390","v":0}]
[{"$f":"IF(印領清冊統計表!$A1391=\"總計\",\"\",(IF(印領清冊統計表!A1391=0,A1387,印領清冊統計表!A1391)))","v":""},{"$f":"+印領清冊統計表!B1391","v":0},{"$f":"+印領清冊統計表!C1391","v":0},{"$f":"+印領清冊統計表!D1391","v":0},{"$f":"+印領清冊統計表!E1391","v":0}]
[{"$f":"IF(印領清冊統計表!$A1392=\"總計\",\"\",(IF(印領清冊統計表!A1392=0,A1388,印領清冊統計表!A1392)))","v":""},{"$f":"+印領清冊統計表!B1392","v":0},{"$f":"+印領清冊統計表!C1392","v":0},{"$f":"+印領清冊統計表!D1392","v":0},{"$f":"+印領清冊統計表!E1392","v":0}]
[{"$f":"IF(印領清冊統計表!$A1393=\"總計\",\"\",(IF(印領清冊統計表!A1393=0,A1389,印領清冊統計表!A1393)))","v":""},{"$f":"+印領清冊統計表!B1393","v":0},{"$f":"+印領清冊統計表!C1393","v":0},{"$f":"+印領清冊統計表!D1393","v":0},{"$f":"+印領清冊統計表!E1393","v":0}]
[{"$f":"IF(印領清冊統計表!$A1394=\"總計\",\"\",(IF(印領清冊統計表!A1394=0,A1390,印領清冊統計表!A1394)))","v":""},{"$f":"+印領清冊統計表!B1394","v":0},{"$f":"+印領清冊統計表!C1394","v":0},{"$f":"+印領清冊統計表!D1394","v":0},{"$f":"+印領清冊統計表!E1394","v":0}]
[{"$f":"IF(印領清冊統計表!$A1395=\"總計\",\"\",(IF(印領清冊統計表!A1395=0,A1391,印領清冊統計表!A1395)))","v":""},{"$f":"+印領清冊統計表!B1395","v":0},{"$f":"+印領清冊統計表!C1395","v":0},{"$f":"+印領清冊統計表!D1395","v":0},{"$f":"+印領清冊統計表!E1395","v":0}]
[{"$f":"IF(印領清冊統計表!$A1396=\"總計\",\"\",(IF(印領清冊統計表!A1396=0,A1392,印領清冊統計表!A1396)))","v":""},{"$f":"+印領清冊統計表!B1396","v":0},{"$f":"+印領清冊統計表!C1396","v":0},{"$f":"+印領清冊統計表!D1396","v":0},{"$f":"+印領清冊統計表!E1396","v":0}]
[{"$f":"IF(印領清冊統計表!$A1397=\"總計\",\"\",(IF(印領清冊統計表!A1397=0,A1393,印領清冊統計表!A1397)))","v":""},{"$f":"+印領清冊統計表!B1397","v":0},{"$f":"+印領清冊統計表!C1397","v":0},{"$f":"+印領清冊統計表!D1397","v":0},{"$f":"+印領清冊統計表!E1397","v":0}]
[{"$f":"IF(印領清冊統計表!$A1398=\"總計\",\"\",(IF(印領清冊統計表!A1398=0,A1394,印領清冊統計表!A1398)))","v":""},{"$f":"+印領清冊統計表!B1398","v":0},{"$f":"+印領清冊統計表!C1398","v":0},{"$f":"+印領清冊統計表!D1398","v":0},{"$f":"+印領清冊統計表!E1398","v":0}]
[{"$f":"IF(印領清冊統計表!$A1399=\"總計\",\"\",(IF(印領清冊統計表!A1399=0,A1395,印領清冊統計表!A1399)))","v":""},{"$f":"+印領清冊統計表!B1399","v":0},{"$f":"+印領清冊統計表!C1399","v":0},{"$f":"+印領清冊統計表!D1399","v":0},{"$f":"+印領清冊統計表!E1399","v":0}]
[{"$f":"IF(印領清冊統計表!$A1400=\"總計\",\"\",(IF(印領清冊統計表!A1400=0,A1396,印領清冊統計表!A1400)))","v":""},{"$f":"+印領清冊統計表!B1400","v":0},{"$f":"+印領清冊統計表!C1400","v":0},{"$f":"+印領清冊統計表!D1400","v":0},{"$f":"+印領清冊統計表!E1400","v":0}]
[{"$f":"IF(印領清冊統計表!$A1401=\"總計\",\"\",(IF(印領清冊統計表!A1401=0,A1397,印領清冊統計表!A1401)))","v":""},{"$f":"+印領清冊統計表!B1401","v":0},{"$f":"+印領清冊統計表!C1401","v":0},{"$f":"+印領清冊統計表!D1401","v":0},{"$f":"+印領清冊統計表!E1401","v":0}]
[{"$f":"IF(印領清冊統計表!$A1402=\"總計\",\"\",(IF(印領清冊統計表!A1402=0,A1398,印領清冊統計表!A1402)))","v":""},{"$f":"+印領清冊統計表!B1402","v":0},{"$f":"+印領清冊統計表!C1402","v":0},{"$f":"+印領清冊統計表!D1402","v":0},{"$f":"+印領清冊統計表!E1402","v":0}]
[{"$f":"IF(印領清冊統計表!$A1403=\"總計\",\"\",(IF(印領清冊統計表!A1403=0,A1399,印領清冊統計表!A1403)))","v":""},{"$f":"+印領清冊統計表!B1403","v":0},{"$f":"+印領清冊統計表!C1403","v":0},{"$f":"+印領清冊統計表!D1403","v":0},{"$f":"+印領清冊統計表!E1403","v":0}]
[{"$f":"IF(印領清冊統計表!$A1404=\"總計\",\"\",(IF(印領清冊統計表!A1404=0,A1400,印領清冊統計表!A1404)))","v":""},{"$f":"+印領清冊統計表!B1404","v":0},{"$f":"+印領清冊統計表!C1404","v":0},{"$f":"+印領清冊統計表!D1404","v":0},{"$f":"+印領清冊統計表!E1404","v":0}]
[{"$f":"IF(印領清冊統計表!$A1405=\"總計\",\"\",(IF(印領清冊統計表!A1405=0,A1401,印領清冊統計表!A1405)))","v":""},{"$f":"+印領清冊統計表!B1405","v":0},{"$f":"+印領清冊統計表!C1405","v":0},{"$f":"+印領清冊統計表!D1405","v":0},{"$f":"+印領清冊統計表!E1405","v":0}]
[{"$f":"IF(印領清冊統計表!$A1406=\"總計\",\"\",(IF(印領清冊統計表!A1406=0,A1402,印領清冊統計表!A1406)))","v":""},{"$f":"+印領清冊統計表!B1406","v":0},{"$f":"+印領清冊統計表!C1406","v":0},{"$f":"+印領清冊統計表!D1406","v":0},{"$f":"+印領清冊統計表!E1406","v":0}]
[{"$f":"IF(印領清冊統計表!$A1407=\"總計\",\"\",(IF(印領清冊統計表!A1407=0,A1403,印領清冊統計表!A1407)))","v":""},{"$f":"+印領清冊統計表!B1407","v":0},{"$f":"+印領清冊統計表!C1407","v":0},{"$f":"+印領清冊統計表!D1407","v":0},{"$f":"+印領清冊統計表!E1407","v":0}]
[{"$f":"IF(印領清冊統計表!$A1408=\"總計\",\"\",(IF(印領清冊統計表!A1408=0,A1404,印領清冊統計表!A1408)))","v":""},{"$f":"+印領清冊統計表!B1408","v":0},{"$f":"+印領清冊統計表!C1408","v":0},{"$f":"+印領清冊統計表!D1408","v":0},{"$f":"+印領清冊統計表!E1408","v":0}]
[{"$f":"IF(印領清冊統計表!$A1409=\"總計\",\"\",(IF(印領清冊統計表!A1409=0,A1405,印領清冊統計表!A1409)))","v":""},{"$f":"+印領清冊統計表!B1409","v":0},{"$f":"+印領清冊統計表!C1409","v":0},{"$f":"+印領清冊統計表!D1409","v":0},{"$f":"+印領清冊統計表!E1409","v":0}]
[{"$f":"IF(印領清冊統計表!$A1410=\"總計\",\"\",(IF(印領清冊統計表!A1410=0,A1406,印領清冊統計表!A1410)))","v":""},{"$f":"+印領清冊統計表!B1410","v":0},{"$f":"+印領清冊統計表!C1410","v":0},{"$f":"+印領清冊統計表!D1410","v":0},{"$f":"+印領清冊統計表!E1410","v":0}]
[{"$f":"IF(印領清冊統計表!$A1411=\"總計\",\"\",(IF(印領清冊統計表!A1411=0,A1407,印領清冊統計表!A1411)))","v":""},{"$f":"+印領清冊統計表!B1411","v":0},{"$f":"+印領清冊統計表!C1411","v":0},{"$f":"+印領清冊統計表!D1411","v":0},{"$f":"+印領清冊統計表!E1411","v":0}]
[{"$f":"IF(印領清冊統計表!$A1412=\"總計\",\"\",(IF(印領清冊統計表!A1412=0,A1408,印領清冊統計表!A1412)))","v":""},{"$f":"+印領清冊統計表!B1412","v":0},{"$f":"+印領清冊統計表!C1412","v":0},{"$f":"+印領清冊統計表!D1412","v":0},{"$f":"+印領清冊統計表!E1412","v":0}]
[{"$f":"IF(印領清冊統計表!$A1413=\"總計\",\"\",(IF(印領清冊統計表!A1413=0,A1409,印領清冊統計表!A1413)))","v":""},{"$f":"+印領清冊統計表!B1413","v":0},{"$f":"+印領清冊統計表!C1413","v":0},{"$f":"+印領清冊統計表!D1413","v":0},{"$f":"+印領清冊統計表!E1413","v":0}]
[{"$f":"IF(印領清冊統計表!$A1414=\"總計\",\"\",(IF(印領清冊統計表!A1414=0,A1410,印領清冊統計表!A1414)))","v":""},{"$f":"+印領清冊統計表!B1414","v":0},{"$f":"+印領清冊統計表!C1414","v":0},{"$f":"+印領清冊統計表!D1414","v":0},{"$f":"+印領清冊統計表!E1414","v":0}]
[{"$f":"IF(印領清冊統計表!$A1415=\"總計\",\"\",(IF(印領清冊統計表!A1415=0,A1411,印領清冊統計表!A1415)))","v":""},{"$f":"+印領清冊統計表!B1415","v":0},{"$f":"+印領清冊統計表!C1415","v":0},{"$f":"+印領清冊統計表!D1415","v":0},{"$f":"+印領清冊統計表!E1415","v":0}]
[{"$f":"IF(印領清冊統計表!$A1416=\"總計\",\"\",(IF(印領清冊統計表!A1416=0,A1412,印領清冊統計表!A1416)))","v":""},{"$f":"+印領清冊統計表!B1416","v":0},{"$f":"+印領清冊統計表!C1416","v":0},{"$f":"+印領清冊統計表!D1416","v":0},{"$f":"+印領清冊統計表!E1416","v":0}]
[{"$f":"IF(印領清冊統計表!$A1417=\"總計\",\"\",(IF(印領清冊統計表!A1417=0,A1413,印領清冊統計表!A1417)))","v":""},{"$f":"+印領清冊統計表!B1417","v":0},{"$f":"+印領清冊統計表!C1417","v":0},{"$f":"+印領清冊統計表!D1417","v":0},{"$f":"+印領清冊統計表!E1417","v":0}]
[{"$f":"IF(印領清冊統計表!$A1418=\"總計\",\"\",(IF(印領清冊統計表!A1418=0,A1414,印領清冊統計表!A1418)))","v":""},{"$f":"+印領清冊統計表!B1418","v":0},{"$f":"+印領清冊統計表!C1418","v":0},{"$f":"+印領清冊統計表!D1418","v":0},{"$f":"+印領清冊統計表!E1418","v":0}]
[{"$f":"IF(印領清冊統計表!$A1419=\"總計\",\"\",(IF(印領清冊統計表!A1419=0,A1415,印領清冊統計表!A1419)))","v":""},{"$f":"+印領清冊統計表!B1419","v":0},{"$f":"+印領清冊統計表!C1419","v":0},{"$f":"+印領清冊統計表!D1419","v":0},{"$f":"+印領清冊統計表!E1419","v":0}]
[{"$f":"IF(印領清冊統計表!$A1420=\"總計\",\"\",(IF(印領清冊統計表!A1420=0,A1416,印領清冊統計表!A1420)))","v":""},{"$f":"+印領清冊統計表!B1420","v":0},{"$f":"+印領清冊統計表!C1420","v":0},{"$f":"+印領清冊統計表!D1420","v":0},{"$f":"+印領清冊統計表!E1420","v":0}]
[{"$f":"IF(印領清冊統計表!$A1421=\"總計\",\"\",(IF(印領清冊統計表!A1421=0,A1417,印領清冊統計表!A1421)))","v":""},{"$f":"+印領清冊統計表!B1421","v":0},{"$f":"+印領清冊統計表!C1421","v":0},{"$f":"+印領清冊統計表!D1421","v":0},{"$f":"+印領清冊統計表!E1421","v":0}]
[{"$f":"IF(印領清冊統計表!$A1422=\"總計\",\"\",(IF(印領清冊統計表!A1422=0,A1418,印領清冊統計表!A1422)))","v":""},{"$f":"+印領清冊統計表!B1422","v":0},{"$f":"+印領清冊統計表!C1422","v":0},{"$f":"+印領清冊統計表!D1422","v":0},{"$f":"+印領清冊統計表!E1422","v":0}]
[{"$f":"IF(印領清冊統計表!$A1423=\"總計\",\"\",(IF(印領清冊統計表!A1423=0,A1419,印領清冊統計表!A1423)))","v":""},{"$f":"+印領清冊統計表!B1423","v":0},{"$f":"+印領清冊統計表!C1423","v":0},{"$f":"+印領清冊統計表!D1423","v":0},{"$f":"+印領清冊統計表!E1423","v":0}]
[{"$f":"IF(印領清冊統計表!$A1424=\"總計\",\"\",(IF(印領清冊統計表!A1424=0,A1420,印領清冊統計表!A1424)))","v":""},{"$f":"+印領清冊統計表!B1424","v":0},{"$f":"+印領清冊統計表!C1424","v":0},{"$f":"+印領清冊統計表!D1424","v":0},{"$f":"+印領清冊統計表!E1424","v":0}]
[{"$f":"IF(印領清冊統計表!$A1425=\"總計\",\"\",(IF(印領清冊統計表!A1425=0,A1421,印領清冊統計表!A1425)))","v":""},{"$f":"+印領清冊統計表!B1425","v":0},{"$f":"+印領清冊統計表!C1425","v":0},{"$f":"+印領清冊統計表!D1425","v":0},{"$f":"+印領清冊統計表!E1425","v":0}]
[{"$f":"IF(印領清冊統計表!$A1426=\"總計\",\"\",(IF(印領清冊統計表!A1426=0,A1422,印領清冊統計表!A1426)))","v":""},{"$f":"+印領清冊統計表!B1426","v":0},{"$f":"+印領清冊統計表!C1426","v":0},{"$f":"+印領清冊統計表!D1426","v":0},{"$f":"+印領清冊統計表!E1426","v":0}]
[{"$f":"IF(印領清冊統計表!$A1427=\"總計\",\"\",(IF(印領清冊統計表!A1427=0,A1423,印領清冊統計表!A1427)))","v":""},{"$f":"+印領清冊統計表!B1427","v":0},{"$f":"+印領清冊統計表!C1427","v":0},{"$f":"+印領清冊統計表!D1427","v":0},{"$f":"+印領清冊統計表!E1427","v":0}]

{"sheet":"所得格式","index":5,"n_rows":21,"n_cols":23,"rows_kept":21,"cut":false,"hidden":false,"merged":[]}
["年","月","日","人員代號","身分證號","姓名","憑單號碼","金額","代扣稅額","所得種類","所得業別","備註說明","戶籍地址","租賃房屋稅籍編號","租賃房屋地址","退職年資年","退職年資月","所得註記","證號別","錯誤註記","郵遞區號","序號","勞退新制自提金額"]
[null,null,null,null,{"$f":"+印領清冊輸入!E5","v":0},{"$f":"+印領清冊輸入!D5","v":0},null,{"$f":"+印領清冊輸入!I5","v":0},null,50,null,{"$f":"+印領清冊輸入!$D$2","v":"新北市立淡水商工(                                       )印領清冊"},{"$f":"+印領清冊輸入!F5","v":0}]
[null,null,null,null,{"$f":"+印領清冊輸入!E7","v":0},{"$f":"+印領清冊輸入!D7","v":0},null,{"$f":"+印領清冊輸入!I7","v":0},null,50,null,{"$f":"+印領清冊輸入!$D$2","v":"新北市立淡水商工(                                       )印領清冊"},{"$f":"+印領清冊輸入!F7","v":0}]
[null,null,null,null,{"$f":"+印領清冊輸入!E8","v":0},{"$f":"+印領清冊輸入!D8","v":0},null,{"$f":"+印領清冊輸入!I8","v":0},null,50,null,{"$f":"+印領清冊輸入!$D$2","v":"新北市立淡水商工(                                       )印領清冊"},{"$f":"+印領清冊輸入!F8","v":0}]
[null,null,null,null,{"$f":"+印領清冊輸入!E9","v":0},{"$f":"+印領清冊輸入!D9","v":0},null,{"$f":"+印領清冊輸入!I9","v":0},null,50,null,{"$f":"+印領清冊輸入!$D$2","v":"新北市立淡水商工(                                       )印領清冊"},{"$f":"+印領清冊輸入!F9","v":0}]
[null,null,null,null,{"$f":"+印領清冊輸入!E10","v":0},{"$f":"+印領清冊輸入!D10","v":0},null,{"$f":"+印領清冊輸入!I10","v":0},null,50,null,{"$f":"+印領清冊輸入!$D$2","v":"新北市立淡水商工(                                       )印領清冊"},{"$f":"+印領清冊輸入!F10","v":0}]
[null,null,null,null,{"$f":"+印領清冊輸入!#REF!","v":{"$error":"#REF!"}},{"$f":"+印領清冊輸入!#REF!","v":{"$error":"#REF!"}},null,{"$f":"+印領清冊輸入!#REF!","v":{"$error":"#REF!"}},null,50,null,{"$f":"+印領清冊輸入!$D$2","v":"新北市立淡水商工(                                       )印領清冊"},{"$f":"+印領清冊輸入!#REF!","v":{"$error":"#REF!"}}]
[null,null,null,null,{"$f":"+印領清冊輸入!#REF!","v":{"$error":"#REF!"}},{"$f":"+印領清冊輸入!#REF!","v":{"$error":"#REF!"}},null,{"$f":"+印領清冊輸入!#REF!","v":{"$error":"#REF!"}},null,50,null,{"$f":"+印領清冊輸入!$D$2","v":"新北市立淡水商工(                                       )印領清冊"},{"$f":"+印領清冊輸入!#REF!","v":{"$error":"#REF!"}}]
[null,null,null,null,{"$f":"+印領清冊輸入!#REF!","v":{"$error":"#REF!"}},{"$f":"+印領清冊輸入!#REF!","v":{"$error":"#REF!"}},null,{"$f":"+印領清冊輸入!#REF!","v":{"$error":"#REF!"}},null,50,null,{"$f":"+印領清冊輸入!$D$2","v":"新北市立淡水商工(                                       )印領清冊"},{"$f":"+印領清冊輸入!#REF!","v":{"$error":"#REF!"}}]
[null,null,null,null,{"$f":"+印領清冊輸入!#REF!","v":{"$error":"#REF!"}},{"$f":"+印領清冊輸入!#REF!","v":{"$error":"#REF!"}},null,{"$f":"+印領清冊輸入!#REF!","v":{"$error":"#REF!"}},null,50,null,{"$f":"+印領清冊輸入!$D$2","v":"新北市立淡水商工(                                       )印領清冊"},{"$f":"+印領清冊輸入!#REF!","v":{"$error":"#REF!"}}]
[null,null,null,null,{"$f":"+印領清冊輸入!#REF!","v":{"$error":"#REF!"}},{"$f":"+印領清冊輸入!#REF!","v":{"$error":"#REF!"}},null,{"$f":"+印領清冊輸入!#REF!","v":{"$error":"#REF!"}},null,50,null,{"$f":"+印領清冊輸入!$D$2","v":"新北市立淡水商工(                                       )印領清冊"},{"$f":"+印領清冊輸入!#REF!","v":{"$error":"#REF!"}}]
[null,null,null,null,{"$f":"+印領清冊輸入!#REF!","v":{"$error":"#REF!"}},{"$f":"+印領清冊輸入!#REF!","v":{"$error":"#REF!"}},null,{"$f":"+印領清冊輸入!#REF!","v":{"$error":"#REF!"}},null,50,null,{"$f":"+印領清冊輸入!$D$2","v":"新北市立淡水商工(                                       )印領清冊"},{"$f":"+印領清冊輸入!#REF!","v":{"$error":"#REF!"}}]
[null,null,null,null,{"$f":"+印領清冊輸入!#REF!","v":{"$error":"#REF!"}},{"$f":"+印領清冊輸入!#REF!","v":{"$error":"#REF!"}},null,{"$f":"+印領清冊輸入!#REF!","v":{"$error":"#REF!"}},null,50,null,{"$f":"+印領清冊輸入!$D$2","v":"新北市立淡水商工(                                       )印領清冊"},{"$f":"+印領清冊輸入!#REF!","v":{"$error":"#REF!"}}]
[null,null,null,null,{"$f":"+印領清冊輸入!E11","v":0},{"$f":"+印領清冊輸入!D11","v":0},null,{"$f":"+印領清冊輸入!I11","v":0},null,50,null,{"$f":"+印領清冊輸入!$D$2","v":"新北市立淡水商工(                                       )印領清冊"},{"$f":"+印領清冊輸入!F11","v":0}]
[null,null,null,null,{"$f":"+印領清冊輸入!E12","v":0},{"$f":"+印領清冊輸入!D12","v":0},null,{"$f":"+印領清冊輸入!I12","v":0},null,50,null,{"$f":"+印領清冊輸入!$D$2","v":"新北市立淡水商工(                                       )印領清冊"},{"$f":"+印領清冊輸入!F12","v":0}]
[null,null,null,null,{"$f":"+印領清冊輸入!E13","v":0},{"$f":"+印領清冊輸入!D13","v":0},null,{"$f":"+印領清冊輸入!I13","v":0},null,50,null,{"$f":"+印領清冊輸入!$D$2","v":"新北市立淡水商工(                                       )印領清冊"},{"$f":"+印領清冊輸入!F13","v":0}]
[null,null,null,null,{"$f":"+印領清冊輸入!E14","v":0},{"$f":"+印領清冊輸入!D14","v":0},null,{"$f":"+印領清冊輸入!I14","v":0},null,50,null,{"$f":"+印領清冊輸入!$D$2","v":"新北市立淡水商工(                                       )印領清冊"},{"$f":"+印領清冊輸入!F14","v":0}]
[null,null,null,null,{"$f":"+印領清冊輸入!E15","v":0},{"$f":"+印領清冊輸入!D15","v":0},null,{"$f":"+印領清冊輸入!I15","v":0},null,50,null,{"$f":"+印領清冊輸入!$D$2","v":"新北市立淡水商工(                                       )印領清冊"},{"$f":"+印領清冊輸入!F15","v":0}]
[null,null,null,null,{"$f":"+印領清冊輸入!E16","v":0},{"$f":"+印領清冊輸入!D16","v":0},null,{"$f":"+印領清冊輸入!I16","v":0},null,50,null,{"$f":"+印領清冊輸入!$D$2","v":"新北市立淡水商工(                                       )印領清冊"},{"$f":"+印領清冊輸入!F16","v":0}]
[null,null,null,null,{"$f":"+印領清冊輸入!E17","v":0},{"$f":"+印領清冊輸入!D17","v":0},null,{"$f":"+印領清冊輸入!I17","v":0},null,50,null,{"$f":"+印領清冊輸入!$D$2","v":"新北市立淡水商工(                                       )印領清冊"},{"$f":"+印領清冊輸入!F17","v":0}]
[null,null,null,null,{"$f":"+印領清冊輸入!E18","v":0},{"$f":"+印領清冊輸入!D18","v":0},null,{"$f":"+印領清冊輸入!I18","v":0},null,50,null,{"$f":"+印領清冊輸入!$D$2","v":"新北市立淡水商工(                                       )印領清冊"},{"$f":"+印領清冊輸入!F18","v":"總計"}]