Workbook

Sheet 頒獎單(公式輸入姓名代入班級) 
A1: 升旗典禮頒獎單 | J1: 頒獎順序 | L1: 温采蓁
A2: ※ 頒獎順序(日期)依各處室送件時間排序，若遇雨天不升旗則順延。 | L2: 温浩佑
A3: ※ 此表格請【一式一份並寄送電子檔】連同獎狀、錦旗送交學務處。 | L3: 丁仁堡
A4: ※ 若獎狀於會後請同學自行至各處室領取請註明，請司儀於會場報告。 | L4: 丁怡辰
A5: 可傳一份電子檔至康祺電子郵件：ts0428@ntpc.edu.tw | L5: 丁建文
A6: 送件時間 | B6: 民國115年9月1日 | L6: 丁宸右
A7: 預定頒獎 | B7: 由學務處排定 | H7: 輸入姓名前面不能用空白【'王xx】像這樣就不能請把'前面的點刪除 | L7: 丁瑜涵
A8: 日期 | L8: 卜家瑄
A9: 處室負責人 | L9: 尤崇安
A10: 頒獎名稱 | L10: 尤韻綺
A11: 獎項 | B11: 整獎佔位 | C11: 獎項名稱 | D11: 班級 | E11: 姓名 | F11: 輸入學號 | G11: 整獎佔位 | H11: 獎項名稱 | I11: 班級 | J11: 姓名 | K11: 輸入學號 | L11: 文浩安
L12: 方予芯
B13: 1-1 | D13: =IFERROR(VLOOKUP(E13,#REF!,3,0),"") | F13: =IFERROR(VLOOKUP(E13,#REF!,4,0),"") | G13: 5-1 | I13: =IFERROR(VLOOKUP(J13,#REF!,3,0),"") | K13: =IFERROR(VLOOKUP(J13,#REF!,4,0),"") | L13: 方亨利
B14: 1-2 | D14: =IFERROR(VLOOKUP(E14,#REF!,3,0),"") | F14: =IFERROR(VLOOKUP(E14,#REF!,4,0),"") | G14: 5-2 | I14: =IFERROR(VLOOKUP(J14,#REF!,3,0),"") | K14: =IFERROR(VLOOKUP(J14,#REF!,4,0),"") | L14: 方柏翔
B15: 1-3 | D15: =IFERROR(VLOOKUP(E15,#REF!,3,0),"") | F15: =IFERROR(VLOOKUP(E15,#REF!,4,0),"") | G15: 5-3 | I15: =IFERROR(VLOOKUP(J15,#REF!,3,0),"") | K15: =IFERROR(VLOOKUP(J15,#REF!,4,0),"") | L15: 方禹承
B16: 1-4 | D16: =IFERROR(VLOOKUP(E16,#REF!,3,0),"") | F16: =IFERROR(VLOOKUP(E16,#REF!,4,0),"") | G16: 5-4 | I16: =IFERROR(VLOOKUP(J16,#REF!,3,0),"") | K16: =IFERROR(VLOOKUP(J16,#REF!,4,0),"") | L16: 方啟政
B17: 1-5 | D17: =IFERROR(VLOOKUP(E17,#REF!,3,0),"") | F17: =IFERROR(VLOOKUP(E17,#REF!,4,0),"") | G17: 5-5 | I17: =IFERROR(VLOOKUP(J17,#REF!,3,0),"") | K17: =IFERROR(VLOOKUP(J17,#REF!,4,0),"") | L17: 方愛伽
B18: 1-6 | D18: =IFERROR(VLOOKUP(E18,#REF!,3,0),"") | F18: =IFERROR(VLOOKUP(E18,#REF!,4,0),"") | G18: 5-6 | I18: =IFERROR(VLOOKUP(J18,#REF!,3,0),"") | K18: =IFERROR(VLOOKUP(J18,#REF!,4,0),"") | L18: 毛語庭
B19: 1-7 | D19: =IFERROR(VLOOKUP(E19,#REF!,3,0),"") | F19: =IFERROR(VLOOKUP(E19,#REF!,4,0),"") | G19: 5-7 | I19: =IFERROR(VLOOKUP(J19,#REF!,3,0),"") | K19: =IFERROR(VLOOKUP(J19,#REF!,4,0),"") | L19: 王士銓
B20: 1-8 | D20: =IFERROR(VLOOKUP(E20,#REF!,3,0),"") | F20: =IFERROR(VLOOKUP(E20,#REF!,4,0),"") | G20: 5-8 | I20: =IFERROR(VLOOKUP(J20,#REF!,3,0),"") | K20: =IFERROR(VLOOKUP(J20,#REF!,4,0),"") | L20: 王士爵
B21: 2-1 | D21: =IFERROR(VLOOKUP(E21,#REF!,3,0),"") | F21: =IFERROR(VLOOKUP(E21,#REF!,4,0),"") | G21: 6-1 | I21: =IFERROR(VLOOKUP(J21,#REF!,3,0),"") | K21: =IFERROR(VLOOKUP(J21,#REF!,4,0),"") | L21: 王小菱
B22: 2-2 | D22: =IFERROR(VLOOKUP(E22,#REF!,3,0),"") | F22: =IFERROR(VLOOKUP(E22,#REF!,4,0),"") | G22: 6-2 | I22: =IFERROR(VLOOKUP(J22,#REF!,3,0),"") | K22: =IFERROR(VLOOKUP(J22,#REF!,4,0),"") | L22: 王元奇
B23: 2-3 | D23: =IFERROR(VLOOKUP(E23,#REF!,3,0),"") | F23: =IFERROR(VLOOKUP(E23,#REF!,4,0),"") | G23: 6-3 | I23: =IFERROR(VLOOKUP(J23,#REF!,3,0),"") | K23: =IFERROR(VLOOKUP(J23,#REF!,4,0),"") | L23: 王心妤
B24: 2-4 | D24: =IFERROR(VLOOKUP(E24,#REF!,3,0),"") | F24: =IFERROR(VLOOKUP(E24,#REF!,4,0),"") | G24: 6-4 | I24: =IFERROR(VLOOKUP(J24,#REF!,3,0),"") | K24: =IFERROR(VLOOKUP(J24,#REF!,4,0),"") | L24: 王心彤
... B44: 4-8 | D44: =IFERROR(VLOOKUP(E44,#REF!,3,0),"") | F44: =IFERROR(VLOOKUP(E44,#REF!,4,0),"") | G44: 8-8 | I44: =IFERROR(VLOOKUP(J44,#REF!,3,0),"") | K44: =IFERROR(VLOOKUP(J44,#REF!,4,0),"") | L44: 王芸茜
I45: =IFERROR(VLOOKUP(J45,#REF!,3,0),"") | L45: 王金宜
I46: =IFERROR(VLOOKUP(J46,#REF!,3,0),"") | L46: 王亭婷
I47: =IFERROR(VLOOKUP(J47,#REF!,3,0),"") | L47: 王俊皓
D48: =IFERROR(VLOOKUP(E48,#REF!,3,0),"") | I48: =IFERROR(VLOOKUP(J48,#REF!,3,0),"") | L48: 王俊皓
D49: =IFERROR(VLOOKUP(E49,#REF!,3,0),"") | I49: =IFERROR(VLOOKUP(J49,#REF!,3,0),"") | L49: 王俞婷
D50: =IFERROR(VLOOKUP(E50,#REF!,3,0),"") | I50: =IFERROR(VLOOKUP(J50,#REF!,3,0),"") | L50: 王俞賢
D51: =IFERROR(VLOOKUP(E51,#REF!,3,0),"") | I51: =IFERROR(VLOOKUP(J51,#REF!,3,0),"") | L51: 王信棟
D52: =IFERROR(VLOOKUP(E52,#REF!,3,0),"") | I52: =IFERROR(VLOOKUP(J52,#REF!,3,0),"") | L52: 王冠成
D53: =IFERROR(VLOOKUP(E53,#REF!,3,0),"") | I53: =IFERROR(VLOOKUP(J53,#REF!,3,0),"") | L53: 王冠傑
D54: =IFERROR(VLOOKUP(E54,#REF!,3,0),"") | I54: =IFERROR(VLOOKUP(J54,#REF!,3,0),"") | L54: 王冠舜
D55: =IFERROR(VLOOKUP(E55,#REF!,3,0),"") | I55: =IFERROR(VLOOKUP(J55,#REF!,3,0),"") | L55: 王則閔
D56: =IFERROR(VLOOKUP(E56,#REF!,3,0),"") | I56: =IFERROR(VLOOKUP(J56,#REF!,3,0),"") | L56: 王品琁
D57: =IFERROR(VLOOKUP(E57,#REF!,3,0),"") | I57: =IFERROR(VLOOKUP(J57,#REF!,3,0),"") | L57: 王品霓
D58: =IFERROR(VLOOKUP(E58,#REF!,3,0),"") | I58: =IFERROR(VLOOKUP(J58,#REF!,3,0),"") | L58: 王奕晴
D59: =IFERROR(VLOOKUP(E59,#REF!,3,0),"") | I59: =IFERROR(VLOOKUP(J59,#REF!,3,0),"") | L59: 王姵穎
... D1892: =IFERROR(VLOOKUP(E1892,#REF!,3,0),"") | I1892: =IFERROR(VLOOKUP(J1892,#REF!,3,0),"") | L1892: 涂景盛

Sheet 頒獎單(公式輸入學號代出姓名班級)  (2)
A1: 升旗典禮頒獎單 | J1: 頒獎順序 | L1: 温采蓁
A2: ※ 頒獎順序(日期)依各處室送件時間排序，若遇雨天不升旗則順延。 | L2: 温浩佑
A3: ※ 此表格請【一式一份並寄送電子檔】連同獎狀、錦旗送交學務處。 | L3: 丁仁堡
A4: ※ 若獎狀於會後請同學自行至各處室領取請註明，請司儀於會場報告。 | L4: 丁怡辰
A5: 可傳一份電子檔至康祺電子郵件：ts0428@ntpc.edu.tw | L5: 丁建文 | O5: 注意事項
A6: 送件時間 | B6: 民國115年9月1日 | L6: 丁宸右 | O6: ★工作表有兩種 1、粉工作表【輸入姓名】，班級會自動代出來，不用輸入學號。 2、藍工作表【輸入學號】，姓名及班級會自動代出來。 ★送件時間、日期、處室負責人、頒獎名稱再麻煩輸入。 ★獎項多可用同一個excel檔案即可，請先複製下方工作表，如有疑問可洽詢學務處康祺，分機212。 ★【學生名單(總)】工作表，請勿刪除掉。
A7: 預定頒獎 | B7: 由學務處排定 | H7: 輸入學號前面不能用空白【'510xxx】像這樣就不能請把'前面的點刪除 | L7: 丁瑜涵
A8: 日期 | L8: 卜家瑄
A9: 處室負責人 | L9: 尤崇安
A10: 頒獎名稱 | L10: 尤韻綺
A11: 獎項 | B11: 整獎佔位 | C11: 獎項名稱 | D11: 班級 | E11: 姓名 | F11: 輸入學號 | G11: 整獎佔位 | H11: 獎項名稱 | I11: 班級 | J11: 姓名 | K11: 輸入學號 | L11: 文浩安
L12: 方予芯
B13: 1-1 | D13: =IFERROR(VLOOKUP(F13,#REF!,5,0),"") | E13: =IFERROR(VLOOKUP(F13,#REF!,3,0),"") | G13: 5-1 | I13: =IFERROR(VLOOKUP(K13,#REF!,5,0),"") | J13: =IFERROR(VLOOKUP(K13,#REF!,3,0),"") | L13: 方亨利
B14: 1-2 | D14: =IFERROR(VLOOKUP(F14,#REF!,5,0),"") | E14: =IFERROR(VLOOKUP(F14,#REF!,3,0),"") | G14: 5-2 | I14: =IFERROR(VLOOKUP(K14,#REF!,5,0),"") | J14: =IFERROR(VLOOKUP(K14,#REF!,3,0),"") | L14: 方柏翔 | O14: ★也可直接複製貼上您自己的版本班級、姓名，格式對就可以囉!
B15: 1-3 | D15: =IFERROR(VLOOKUP(F15,#REF!,5,0),"") | E15: =IFERROR(VLOOKUP(F15,#REF!,3,0),"") | G15: 5-3 | I15: =IFERROR(VLOOKUP(K15,#REF!,5,0),"") | J15: =IFERROR(VLOOKUP(K15,#REF!,3,0),"") | L15: 方禹承
B16: 1-4 | D16: =IFERROR(VLOOKUP(F16,#REF!,5,0),"") | E16: =IFERROR(VLOOKUP(F16,#REF!,3,0),"") | G16: 5-4 | I16: =IFERROR(VLOOKUP(K16,#REF!,5,0),"") | J16: =IFERROR(VLOOKUP(K16,#REF!,3,0),"") | L16: 方啟政 | O16: 【重要提醒】 1、頒獎當天請派員拍照，如遇週會取消獎項則順延頒獎，未上台領獎同學，獎項將歸還給各處室負責人。 2、獎項請提前送至學務處訓育組，【請勿讓學生】自行搬獎品來放置學務處，並未提醒就離開，如有遺失概不負責。
B17: 1-5 | D17: =IFERROR(VLOOKUP(F17,#REF!,5,0),"") | E17: =IFERROR(VLOOKUP(F17,#REF!,3,0),"") | G17: 5-5 | I17: =IFERROR(VLOOKUP(K17,#REF!,5,0),"") | J17: =IFERROR(VLOOKUP(K17,#REF!,3,0),"") | L17: 方愛伽
B18: 1-6 | D18: =IFERROR(VLOOKUP(F18,#REF!,5,0),"") | E18: =IFERROR(VLOOKUP(F18,#REF!,3,0),"") | G18: 5-6 | I18: =IFERROR(VLOOKUP(K18,#REF!,5,0),"") | J18: =IFERROR(VLOOKUP(K18,#REF!,3,0),"") | L18: 毛語庭
B19: 1-7 | D19: =IFERROR(VLOOKUP(F19,#REF!,5,0),"") | E19: =IFERROR(VLOOKUP(F19,#REF!,3,0),"") | G19: 5-7 | I19: =IFERROR(VLOOKUP(K19,#REF!,5,0),"") | J19: =IFERROR(VLOOKUP(K19,#REF!,3,0),"") | L19: 王士銓
B20: 1-8 | D20: =IFERROR(VLOOKUP(F20,#REF!,5,0),"") | E20: =IFERROR(VLOOKUP(F20,#REF!,3,0),"") | G20: 5-8 | I20: =IFERROR(VLOOKUP(K20,#REF!,5,0),"") | J20: =IFERROR(VLOOKUP(K20,#REF!,3,0),"") | L20: 王士爵
B21: 2-1 | D21: =IFERROR(VLOOKUP(F21,#REF!,5,0),"") | E21: =IFERROR(VLOOKUP(F21,#REF!,3,0),"") | G21: 6-1 | I21: =IFERROR(VLOOKUP(K21,#REF!,5,0),"") | J21: =IFERROR(VLOOKUP(K21,#REF!,3,0),"") | L21: 王小菱
B22: 2-2 | D22: =IFERROR(VLOOKUP(F22,#REF!,5,0),"") | E22: =IFERROR(VLOOKUP(F22,#REF!,3,0),"") | G22: 6-2 | I22: =IFERROR(VLOOKUP(K22,#REF!,5,0),"") | J22: =IFERROR(VLOOKUP(K22,#REF!,3,0),"") | L22: 王元奇
B23: 2-3 | D23: =IFERROR(VLOOKUP(F23,#REF!,5,0),"") | E23: =IFERROR(VLOOKUP(F23,#REF!,3,0),"") | G23: 6-3 | I23: =IFERROR(VLOOKUP(K23,#REF!,5,0),"") | J23: =IFERROR(VLOOKUP(K23,#REF!,3,0),"") | L23: 王心妤
B24: 2-4 | D24: =IFERROR(VLOOKUP(F24,#REF!,5,0),"") | E24: =IFERROR(VLOOKUP(F24,#REF!,3,0),"") | G24: 6-4 | I24: =IFERROR(VLOOKUP(K24,#REF!,5,0),"") | J24: =IFERROR(VLOOKUP(K24,#REF!,3,0),"") | L24: 王心彤 | O24: ★檔名可改 後面請改成您的處室及日期【115-1頒獎表格(excel版新公告版)-1150901-xx處】
B25: 2-5 | D25: =IFERROR(VLOOKUP(F25,#REF!,5,0),"") | E25: =IFERROR(VLOOKUP(F25,#REF!,3,0),"") | G25: 6-5 | I25: =IFERROR(VLOOKUP(K25,#REF!,5,0),"") | J25: =IFERROR(VLOOKUP(K25,#REF!,3,0),"") | L25: 王文俊
B26: 2-6 | D26: =IFERROR(VLOOKUP(F26,#REF!,5,0),"") | E26: =IFERROR(VLOOKUP(F26,#REF!,3,0),"") | G26: 6-6 | I26: =IFERROR(VLOOKUP(K26,#REF!,5,0),"") | J26: =IFERROR(VLOOKUP(K26,#REF!,3,0),"") | L26: 王文浩
B27: 2-7 | D27: =IFERROR(VLOOKUP(F27,#REF!,5,0),"") | E27: =IFERROR(VLOOKUP(F27,#REF!,3,0),"") | G27: 6-7 | I27: =IFERROR(VLOOKUP(K27,#REF!,5,0),"") | J27: =IFERROR(VLOOKUP(K27,#REF!,3,0),"") | L27: 王世顯 | O27: 學號前面不能用空白
B28: 2-8 | D28: =IFERROR(VLOOKUP(F28,#REF!,5,0),"") | E28: =IFERROR(VLOOKUP(F28,#REF!,3,0),"") | G28: 6-8 | I28: =IFERROR(VLOOKUP(K28,#REF!,5,0),"") | J28: =IFERROR(VLOOKUP(K28,#REF!,3,0),"") | L28: 王弘昱
B29: 3-1 | D29: =IFERROR(VLOOKUP(F29,#REF!,5,0),"") | E29: =IFERROR(VLOOKUP(F29,#REF!,3,0),"") | G29: 7-1 | I29: =IFERROR(VLOOKUP(K29,#REF!,5,0),"") | J29: =IFERROR(VLOOKUP(K29,#REF!,3,0),"") | L29: 王丞郁
B30: 3-2 | D30: =IFERROR(VLOOKUP(F30,#REF!,5,0),"") | E30: =IFERROR(VLOOKUP(F30,#REF!,3,0),"") | G30: 7-2 | I30: =IFERROR(VLOOKUP(K30,#REF!,5,0),"") | J30: =IFERROR(VLOOKUP(K30,#REF!,3,0),"") | L30: 王安豐
B31: 3-3 | D31: =IFERROR(VLOOKUP(F31,#REF!,5,0),"") | E31: =IFERROR(VLOOKUP(F31,#REF!,3,0),"") | G31: 7-3 | I31: =IFERROR(VLOOKUP(K31,#REF!,5,0),"") | J31: =IFERROR(VLOOKUP(K31,#REF!,3,0),"") | L31: 王妤甄
B32: 3-4 | D32: =IFERROR(VLOOKUP(F32,#REF!,5,0),"") | E32: =IFERROR(VLOOKUP(F32,#REF!,3,0),"") | G32: 7-4 | I32: =IFERROR(VLOOKUP(K32,#REF!,5,0),"") | J32: =IFERROR(VLOOKUP(K32,#REF!,3,0),"") | L32: 王忻恩
B33: 3-5 | D33: =IFERROR(VLOOKUP(F33,#REF!,5,0),"") | E33: =IFERROR(VLOOKUP(F33,#REF!,3,0),"") | G33: 7-5 | I33: =IFERROR(VLOOKUP(K33,#REF!,5,0),"") | J33: =IFERROR(VLOOKUP(K33,#REF!,3,0),"") | L33: 王沛錡
B34: 3-6 | D34: =IFERROR(VLOOKUP(F34,#REF!,5,0),"") | E34: =IFERROR(VLOOKUP(F34,#REF!,3,0),"") | G34: 7-6 | I34: =IFERROR(VLOOKUP(K34,#REF!,5,0),"") | J34: =IFERROR(VLOOKUP(K34,#REF!,3,0),"") | L34: 王芃仁
B35: 3-7 | D35: =IFERROR(VLOOKUP(F35,#REF!,5,0),"") | E35: =IFERROR(VLOOKUP(F35,#REF!,3,0),"") | G35: 7-7 | I35: =IFERROR(VLOOKUP(K35,#REF!,5,0),"") | J35: =IFERROR(VLOOKUP(K35,#REF!,3,0),"") | L35: 王芊允
B36: 3-8 | D36: =IFERROR(VLOOKUP(F36,#REF!,5,0),"") | E36: =IFERROR(VLOOKUP(F36,#REF!,3,0),"") | G36: 7-8 | I36: =IFERROR(VLOOKUP(K36,#REF!,5,0),"") | J36: =IFERROR(VLOOKUP(K36,#REF!,3,0),"") | L36: 王邑如
B37: 4-1 | D37: =IFERROR(VLOOKUP(F37,#REF!,5,0),"") | E37: =IFERROR(VLOOKUP(F37,#REF!,3,0),"") | G37: 8-1 | I37: =IFERROR(VLOOKUP(K37,#REF!,5,0),"") | J37: =IFERROR(VLOOKUP(K37,#REF!,3,0),"") | L37: 王妮蕎
B38: 4-2 | D38: =IFERROR(VLOOKUP(F38,#REF!,5,0),"") | E38: =IFERROR(VLOOKUP(F38,#REF!,3,0),"") | G38: 8-2 | I38: =IFERROR(VLOOKUP(K38,#REF!,5,0),"") | J38: =IFERROR(VLOOKUP(K38,#REF!,3,0),"") | L38: 王怡心
B39: 4-3 | D39: =IFERROR(VLOOKUP(F39,#REF!,5,0),"") | E39: =IFERROR(VLOOKUP(F39,#REF!,3,0),"") | G39: 8-3 | I39: =IFERROR(VLOOKUP(K39,#REF!,5,0),"") | J39: =IFERROR(VLOOKUP(K39,#REF!,3,0),"") | L39: 王怡穎
... B44: 4-8 | D44: =IFERROR(VLOOKUP(F44,#REF!,5,0),"") | E44: =IFERROR(VLOOKUP(F44,#REF!,3,0),"") | G44: 8-8 | I44: =IFERROR(VLOOKUP(K44,#REF!,5,0),"") | J44: =IFERROR(VLOOKUP(K44,#REF!,3,0),"") | L44: 王芸茜
I45: =IFERROR(VLOOKUP(J45,#REF!,3,0),"") | L45: 王金宜
I46: =IFERROR(VLOOKUP(J46,#REF!,3,0),"") | L46: 王亭婷
I47: =IFERROR(VLOOKUP(J47,#REF!,3,0),"") | L47: 王俊皓
D48: =IFERROR(VLOOKUP(E48,#REF!,3,0),"") | I48: =IFERROR(VLOOKUP(J48,#REF!,3,0),"") | L48: 王俊皓
D49: =IFERROR(VLOOKUP(E49,#REF!,3,0),"") | I49: =IFERROR(VLOOKUP(J49,#REF!,3,0),"") | L49: 王俞婷
D50: =IFERROR(VLOOKUP(E50,#REF!,3,0),"") | I50: =IFERROR(VLOOKUP(J50,#REF!,3,0),"") | L50: 王俞賢
D51: =IFERROR(VLOOKUP(E51,#REF!,3,0),"") | I51: =IFERROR(VLOOKUP(J51,#REF!,3,0),"") | L51: 王信棟
D52: =IFERROR(VLOOKUP(E52,#REF!,3,0),"") | I52: =IFERROR(VLOOKUP(J52,#REF!,3,0),"") | L52: 王冠成
D53: =IFERROR(VLOOKUP(E53,#REF!,3,0),"") | I53: =IFERROR(VLOOKUP(J53,#REF!,3,0),"") | L53: 王冠傑
D54: =IFERROR(VLOOKUP(E54,#REF!,3,0),"") | I54: =IFERROR(VLOOKUP(J54,#REF!,3,0),"") | L54: 王冠舜
D55: =IFERROR(VLOOKUP(E55,#REF!,3,0),"") | I55: =IFERROR(VLOOKUP(J55,#REF!,3,0),"") | L55: 王則閔
D56: =IFERROR(VLOOKUP(E56,#REF!,3,0),"") | I56: =IFERROR(VLOOKUP(J56,#REF!,3,0),"") | L56: 王品琁
D57: =IFERROR(VLOOKUP(E57,#REF!,3,0),"") | I57: =IFERROR(VLOOKUP(J57,#REF!,3,0),"") | L57: 王品霓
D58: =IFERROR(VLOOKUP(E58,#REF!,3,0),"") | I58: =IFERROR(VLOOKUP(J58,#REF!,3,0),"") | L58: 王奕晴
D59: =IFERROR(VLOOKUP(E59,#REF!,3,0),"") | I59: =IFERROR(VLOOKUP(J59,#REF!,3,0),"") | L59: 王姵穎
... D1892: =IFERROR(VLOOKUP(E1892,#REF!,3,0),"") | I1892: =IFERROR(VLOOKUP(J1892,#REF!,3,0),"") | L1892: 涂景盛

Sheet 閱讀心得(公式) (3)
A1: 升旗典禮頒獎單 | L1: 温采蓁
A2: ※ 頒獎順序(日期)依各處室送件時間排序，若遇雨天不升旗則順延。 | L2: 温浩佑
A3: ※ 此表格請一式三份(教官室、司儀組、儀典組) 連同獎狀、錦旗、獎品送交學務處。 | L3: 丁仁堡
A4: ※ 若獎品於會後請同學自行至各處室領取請註明，請司儀於會場報告。 | L4: 丁怡辰
A5: 可傳一份電子檔至ts0428@ntpc.edu.tw | L5: 丁建文
A6: 送件時間 | B6: 民國114年3月3日 | L6: 丁宸右
A7: 預定頒獎 | B7: 由學務處排定 | L7: 丁瑜涵
A8: 日期 | L8: 卜家瑄
A9: 處室負責人 | B9: 王歆維 | L9: 尤崇安
A10: 頒獎名稱 | B10: 第1131010梯次全國高級中等學校閱讀心得寫作比賽 | L10: 尤韻綺
A11: 獎項 | B11: 整獎佔位 | C11: 獎項名稱 | D11: 班級 | E11: 姓名 | F11: 輸入學號 | G11: 整獎佔位 | H11: 獎項名稱 | I11: 班級 | J11: 姓名 | K11: 輸入學號 | L11: 文浩安
L12: 方予芯
B13: 1-1 | C13: 特優 | D13: =IFERROR(VLOOKUP(E13,#REF!,3,0),"") | E13: 李家誼 | G13: 5-1 | I13: =IFERROR(VLOOKUP(J13,#REF!,3,0),"") | L13: 方亨利
B14: 1-2 | C14: 甲等 | D14: =IFERROR(VLOOKUP(E14,#REF!,3,0),"") | E14: 李佳薇 | G14: 5-2 | I14: =IFERROR(VLOOKUP(J14,#REF!,3,0),"") | L14: 方柏翔
B15: 1-3 | C15: 甲等 | D15: =IFERROR(VLOOKUP(E15,#REF!,3,0),"") | E15: 何佳穎 | G15: 5-3 | I15: =IFERROR(VLOOKUP(J15,#REF!,3,0),"") | L15: 方禹承
B16: 1-4 | C16: 甲等 | D16: =IFERROR(VLOOKUP(E16,#REF!,3,0),"") | E16: 陳以婕 | G16: 5-4 | I16: =IFERROR(VLOOKUP(J16,#REF!,3,0),"") | L16: 方啟政
B17: 1-5 | D17: =IFERROR(VLOOKUP(E17,#REF!,3,0),"") | G17: 5-5 | I17: =IFERROR(VLOOKUP(J17,#REF!,3,0),"") | L17: 方愛伽
B18: 1-6 | D18: =IFERROR(VLOOKUP(E18,#REF!,3,0),"") | G18: 5-6 | I18: =IFERROR(VLOOKUP(J18,#REF!,3,0),"") | L18: 毛語庭
B19: 1-7 | D19: =IFERROR(VLOOKUP(E19,#REF!,3,0),"") | G19: 5-7 | I19: =IFERROR(VLOOKUP(J19,#REF!,3,0),"") | L19: 王士銓
B20: 1-8 | D20: =IFERROR(VLOOKUP(E20,#REF!,3,0),"") | G20: 5-8 | I20: =IFERROR(VLOOKUP(J20,#REF!,3,0),"") | L20: 王士爵
B21: 2-1 | D21: =IFERROR(VLOOKUP(E21,#REF!,3,0),"") | G21: 6-1 | I21: =IFERROR(VLOOKUP(J21,#REF!,3,0),"") | L21: 王小菱
B22: 2-2 | D22: =IFERROR(VLOOKUP(E22,#REF!,3,0),"") | G22: 6-2 | I22: =IFERROR(VLOOKUP(J22,#REF!,3,0),"") | L22: 王元奇
B23: 2-3 | D23: =IFERROR(VLOOKUP(E23,#REF!,3,0),"") | G23: 6-3 | I23: =IFERROR(VLOOKUP(J23,#REF!,3,0),"") | L23: 王心妤
B24: 2-4 | D24: =IFERROR(VLOOKUP(E24,#REF!,3,0),"") | G24: 6-4 | I24: =IFERROR(VLOOKUP(J24,#REF!,3,0),"") | L24: 王心彤
B25: 2-5 | D25: =IFERROR(VLOOKUP(E25,#REF!,3,0),"") | G25: 6-5 | I25: =IFERROR(VLOOKUP(J25,#REF!,3,0),"") | L25: 王文俊
B26: 2-6 | D26: =IFERROR(VLOOKUP(E26,#REF!,3,0),"") | G26: 6-6 | I26: =IFERROR(VLOOKUP(J26,#REF!,3,0),"") | L26: 王文浩
B27: 2-7 | D27: =IFERROR(VLOOKUP(E27,#REF!,3,0),"") | G27: 6-7 | I27: =IFERROR(VLOOKUP(J27,#REF!,3,0),"") | L27: 王世顯
B28: 2-8 | D28: =IFERROR(VLOOKUP(E28,#REF!,3,0),"") | G28: 6-8 | I28: =IFERROR(VLOOKUP(J28,#REF!,3,0),"") | L28: 王弘昱
... B37: 4-1 | D37: =IFERROR(VLOOKUP(E37,#REF!,3,0),"") | G37: 8-1 | I37: =IFERROR(VLOOKUP(J37,#REF!,3,0),"") | L37: 王妮蕎
B38: 4-2 | D38: =IFERROR(VLOOKUP(E38,#REF!,3,0),"") | I38: =IFERROR(VLOOKUP(J38,#REF!,3,0),"") | L38: 王怡心
B39: 4-3 | D39: =IFERROR(VLOOKUP(E39,#REF!,3,0),"") | I39: =IFERROR(VLOOKUP(J39,#REF!,3,0),"") | L39: 王怡穎
B40: 4-4 | D40: =IFERROR(VLOOKUP(E40,#REF!,3,0),"") | I40: =IFERROR(VLOOKUP(J40,#REF!,3,0),"") | L40: 王泓鈞
B41: 4-5 | D41: =IFERROR(VLOOKUP(E41,#REF!,3,0),"") | I41: =IFERROR(VLOOKUP(J41,#REF!,3,0),"") | L41: 王玟臻
B42: 4-6 | D42: =IFERROR(VLOOKUP(E42,#REF!,3,0),"") | I42: =IFERROR(VLOOKUP(J42,#REF!,3,0),"") | L42: 王芯語
B43: 4-7 | D43: =IFERROR(VLOOKUP(E43,#REF!,3,0),"") | I43: =IFERROR(VLOOKUP(J43,#REF!,3,0),"") | L43: 王芷伶
B44: 4-8 | D44: =IFERROR(VLOOKUP(E44,#REF!,3,0),"") | I44: =IFERROR(VLOOKUP(J44,#REF!,3,0),"") | L44: 王芸茜
D45: =IFERROR(VLOOKUP(E45,#REF!,3,0),"") | I45: =IFERROR(VLOOKUP(J45,#REF!,3,0),"") | L45: 王金宜
D46: =IFERROR(VLOOKUP(E46,#REF!,3,0),"") | I46: =IFERROR(VLOOKUP(J46,#REF!,3,0),"") | L46: 王亭婷
D47: =IFERROR(VLOOKUP(E47,#REF!,3,0),"") | I47: =IFERROR(VLOOKUP(J47,#REF!,3,0),"") | L47: 王俊皓
D48: =IFERROR(VLOOKUP(E48,#REF!,3,0),"") | I48: =IFERROR(VLOOKUP(J48,#REF!,3,0),"") | L48: 王俊皓
D49: =IFERROR(VLOOKUP(E49,#REF!,3,0),"") | I49: =IFERROR(VLOOKUP(J49,#REF!,3,0),"") | L49: 王俞婷
D50: =IFERROR(VLOOKUP(E50,#REF!,3,0),"") | I50: =IFERROR(VLOOKUP(J50,#REF!,3,0),"") | L50: 王俞賢
D51: =IFERROR(VLOOKUP(E51,#REF!,3,0),"") | I51: =IFERROR(VLOOKUP(J51,#REF!,3,0),"") | L51: 王信棟
D52: =IFERROR(VLOOKUP(E52,#REF!,3,0),"") | I52: =IFERROR(VLOOKUP(J52,#REF!,3,0),"") | L52: 王冠成
D53: =IFERROR(VLOOKUP(E53,#REF!,3,0),"") | I53: =IFERROR(VLOOKUP(J53,#REF!,3,0),"") | L53: 王冠傑
D54: =IFERROR(VLOOKUP(E54,#REF!,3,0),"") | I54: =IFERROR(VLOOKUP(J54,#REF!,3,0),"") | L54: 王冠舜
D55: =IFERROR(VLOOKUP(E55,#REF!,3,0),"") | I55: =IFERROR(VLOOKUP(J55,#REF!,3,0),"") | L55: 王則閔
D56: =IFERROR(VLOOKUP(E56,#REF!,3,0),"") | I56: =IFERROR(VLOOKUP(J56,#REF!,3,0),"") | L56: 王品琁
... D1892: =IFERROR(VLOOKUP(E1892,#REF!,3,0),"") | I1892: =IFERROR(VLOOKUP(J1892,#REF!,3,0),"") | L1892: 涂景盛

Sheet 學務處通知(公式) (4)
A1: 學務處【頒獎】通知 | G1: 學務處【頒獎】通知
A2: 班級： | B2: 商二甲 | C2: 姓名： | D2: 李家誼 | E2: 整獎站位 | F2: 1-1 | G2: 班級： | I2: 姓名： | J2: 0 | K2: 整獎站位 | L2: 1-8
A3: 頒獎名稱： | B3: 第1131010梯次全國高級中等學校閱讀心得寫作比賽 | G3: 頒獎名稱： | H3: 第1131010梯次全國高級中等學校閱讀心得寫作比賽
A4: 獎項名稱： | B4: 特優 | G4: 獎項名稱： | H4: 0
A5: 這位同學恭喜您獲獎，因要頒發獎給您請於 114年03月12日 12時20分 至商教大樓一樓集合。 | G5: 這位同學恭喜您獲獎，因要頒發獎給您請於 114年03月12日 12時20分 至商教大樓一樓集合。
A6: 將進行頒發獎站位調整，請務必提前到場，謝謝配合。 | G6: 將進行頒發獎站位調整，請務必提前到場，謝謝配合。
A7: 學務處【頒獎】通知 | G7: 學務處【頒獎】通知
A8: 班級： | B8: 商二甲 | C8: 姓名： | D8: 李佳薇 | E8: 整獎站位 | F8: 1-2 | G8: 班級： | I8: 姓名： | J8: 0 | K8: 整獎站位 | L8: 2-1
A9: 頒獎名稱： | B9: 第1131010梯次全國高級中等學校閱讀心得寫作比賽 | G9: 頒獎名稱： | H9: 第1131010梯次全國高級中等學校閱讀心得寫作比賽
A10: 獎項名稱： | B10: 甲等 | G10: 獎項名稱： | H10: 0
A11: 這位同學恭喜您獲獎，因要頒發獎給您請於 114年03月12日 12時20分 至商教大樓一樓集合。 | G11: 這位同學恭喜您獲獎，因要頒發獎給您請於 114年03月12日 12時20分 至商教大樓一樓集合。
A12: 將進行頒發獎站位調整，請務必提前到場，謝謝配合。 | G12: 將進行頒發獎站位調整，請務必提前到場，謝謝配合。
A13: 學務處【頒獎】通知 | G13: 學務處【頒獎】通知
A14: 班級： | B14: 商二甲 | C14: 姓名： | D14: 何佳穎 | E14: 整獎站位 | F14: 1-3 | G14: 班級： | I14: 姓名： | J14: 0 | K14: 整獎站位 | L14: 2-2
A15: 頒獎名稱： | B15: 第1131010梯次全國高級中等學校閱讀心得寫作比賽 | G15: 頒獎名稱： | H15: 第1131010梯次全國高級中等學校閱讀心得寫作比賽
A16: 獎項名稱： | B16: 甲等 | G16: 獎項名稱： | H16: 0
A17: 這位同學恭喜您獲獎，因要頒發獎給您請於 114年03月12日 12時20分 至商教大樓一樓集合。 | G17: 這位同學恭喜您獲獎，因要頒發獎給您請於 114年03月12日 12時20分 至商教大樓一樓集合。
A18: 將進行頒發獎站位調整，請務必提前到場，謝謝配合。 | G18: 將進行頒發獎站位調整，請務必提前到場，謝謝配合。
A19: 學務處【頒獎】通知 | G19: 學務處【頒獎】通知
A20: 班級： | B20: 商一甲 | C20: 姓名： | D20: 陳以婕 | E20: 整獎站位 | F20: 1-4 | G20: 班級： | I20: 姓名： | J20: 0 | K20: 整獎站位 | L20: 2-3
A21: 頒獎名稱： | B21: 第1131010梯次全國高級中等學校閱讀心得寫作比賽 | G21: 頒獎名稱： | H21: 第1131010梯次全國高級中等學校閱讀心得寫作比賽
A22: 獎項名稱： | B22: 甲等 | G22: 獎項名稱： | H22: 0
A23: 這位同學恭喜您獲獎，因要頒發獎給您請於 114年03月12日 12時20分 至商教大樓一樓集合。 | G23: 這位同學恭喜您獲獎，因要頒發獎給您請於 114年03月12日 12時20分 至商教大樓一樓集合。
A24: 將進行頒發獎站位調整，請務必提前到場，謝謝配合。 | G24: 將進行頒發獎站位調整，請務必提前到場，謝謝配合。
A25: 學務處【頒獎】通知 | G25: 學務處【頒獎】通知
A26: 班級： | C26: 姓名： | D26: 0 | E26: 整獎站位 | F26: 1-5 | G26: 班級： | I26: 姓名： | J26: 0 | K26: 整獎站位 | L26: 2-4
A27: 頒獎名稱： | B27: 第1131010梯次全國高級中等學校閱讀心得寫作比賽 | G27: 頒獎名稱： | H27: 第1131010梯次全國高級中等學校閱讀心得寫作比賽
A28: 獎項名稱： | B28: 0 | G28: 獎項名稱： | H28: 0
A29: 這位同學恭喜您獲獎，因要頒發獎給您請於 114年03月12日 12時20分 至商教大樓一樓集合。 | G29: 這位同學恭喜您獲獎，因要頒發獎給您請於 114年03月12日 12時20分 至商教大樓一樓集合。
A30: 將進行頒發獎站位調整，請務必提前到場，謝謝配合。 | G30: 將進行頒發獎站位調整，請務必提前到場，謝謝配合。
A31: 學務處【頒獎】通知 | G31: 學務處【頒獎】通知
A32: 班級： | C32: 姓名： | D32: 0 | E32: 整獎站位 | F32: 1-6 | G32: 班級： | I32: 姓名： | J32: 0 | K32: 整獎站位 | L32: 2-5
A33: 頒獎名稱： | B33: 第1131010梯次全國高級中等學校閱讀心得寫作比賽 | G33: 頒獎名稱： | H33: 第1131010梯次全國高級中等學校閱讀心得寫作比賽
A34: 獎項名稱： | B34: 0 | G34: 獎項名稱： | H34: 0
A35: 這位同學恭喜您獲獎，因要頒發獎給您請於 114年03月12日 12時20分 至商教大樓一樓集合。 | G35: 這位同學恭喜您獲獎，因要頒發獎給您請於 114年03月12日 12時20分 至商教大樓一樓集合。
A36: 將進行頒發獎站位調整，請務必提前到場，謝謝配合。 | G36: 將進行頒發獎站位調整，請務必提前到場，謝謝配合。
A37: 學務處【頒獎】通知 | G37: 學務處【頒獎】通知
A38: 班級： | C38: 姓名： | D38: 0 | E38: 整獎站位 | F38: 1-7 | G38: 班級： | I38: 姓名： | J38: 0 | K38: 整獎站位 | L38: 2-6
A39: 頒獎名稱： | B39: 第1131010梯次全國高級中等學校閱讀心得寫作比賽 | G39: 頒獎名稱： | H39: 第1131010梯次全國高級中等學校閱讀心得寫作比賽
A40: 獎項名稱： | B40: 0 | G40: 獎項名稱： | H40: 0
A41: 這位同學恭喜您獲獎，因要頒發獎給您請於 114年03月12日 12時20分 至商教大樓一樓集合。 | G41: 這位同學恭喜您獲獎，因要頒發獎給您請於 114年03月12日 12時20分 至商教大樓一樓集合。
A42: 將進行頒發獎站位調整，請務必提前到場，謝謝配合。 | G42: 將進行頒發獎站位調整，請務必提前到場，謝謝配合。
A44: 學務處【頒獎】通知 | G44: 學務處【頒獎】通知
A45: 班級： | B45: ='閱讀心得(公式) (3)'!D27 | C45: 姓名： | D45: ='閱讀心得(公式) (3)'!E27 -> 0 | E45: 整獎站位 | F45: 2-7 | G45: 班級： | H45: ='閱讀心得(公式) (3)'!D34 | I45: 姓名： | J45: ='閱讀心得(公式) (3)'!E34 -> 0 | K45: 整獎站位 | L45: 3-6
A46: 頒獎名稱： | B46: ='閱讀心得(公式) (3)'!$B$10 -> 第1131010梯次全國高級中等學校閱讀心得寫作比賽 | G46: 頒獎名稱： | H46: ='閱讀心得(公式) (3)'!$B$10 -> 第1131010梯次全國高級中等學校閱讀心得寫作比賽
A47: 獎項名稱： | B47: ='閱讀心得(公式) (3)'!C27 -> 0 | G47: 獎項名稱： | H47: ='閱讀心得(公式) (3)'!C34 -> 0
A48: 這位同學恭喜您獲獎，因要頒發獎給您請於 114年03月12日 12時20分 至商教大樓一樓集合。 | G48: 這位同學恭喜您獲獎，因要頒發獎給您請於 114年03月12日 12時20分 至商教大樓一樓集合。
A49: 將進行頒發獎站位調整，請務必提前到場，謝謝配合。 | G49: 將進行頒發獎站位調整，請務必提前到場，謝謝配合。
A50: 學務處【頒獎】通知 | G50: 學務處【頒獎】通知
A51: 班級： | B51: ='閱讀心得(公式) (3)'!D28 | C51: 姓名： | D51: ='閱讀心得(公式) (3)'!E28 -> 0 | E51: 整獎站位 | F51: 2-8 | G51: 班級： | H51: ='閱讀心得(公式) (3)'!D35 | I51: 姓名： | J51: ='閱讀心得(公式) (3)'!E35 -> 0 | K51: 整獎站位 | L51: 3-7
A52: 頒獎名稱： | B52: ='閱讀心得(公式) (3)'!$B$10 -> 第1131010梯次全國高級中等學校閱讀心得寫作比賽 | G52: 頒獎名稱： | H52: ='閱讀心得(公式) (3)'!$B$10 -> 第1131010梯次全國高級中等學校閱讀心得寫作比賽
A53: 獎項名稱： | B53: ='閱讀心得(公式) (3)'!C28 -> 0 | G53: 獎項名稱： | H53: ='閱讀心得(公式) (3)'!C35 -> 0
A54: 這位同學恭喜您獲獎，因要頒發獎給您請於 114年03月12日 12時20分 至商教大樓一樓集合。 | G54: 這位同學恭喜您獲獎，因要頒發獎給您請於 114年03月12日 12時20分 至商教大樓一樓集合。
A55: 將進行頒發獎站位調整，請務必提前到場，謝謝配合。 | G55: 將進行頒發獎站位調整，請務必提前到場，謝謝配合。
A56: 學務處【頒獎】通知 | G56: 學務處【頒獎】通知
A57: 班級： | B57: ='閱讀心得(公式) (3)'!D29 | C57: 姓名： | D57: ='閱讀心得(公式) (3)'!E29 -> 0 | E57: 整獎站位 | F57: 3-1 | G57: 班級： | H57: ='閱讀心得(公式) (3)'!D36 | I57: 姓名： | J57: ='閱讀心得(公式) (3)'!E36 -> 0 | K57: 整獎站位 | L57: 3-8
A58: 頒獎名稱： | B58: ='閱讀心得(公式) (3)'!$B$10 -> 第1131010梯次全國高級中等學校閱讀心得寫作比賽 | G58: 頒獎名稱： | H58: ='閱讀心得(公式) (3)'!$B$10 -> 第1131010梯次全國高級中等學校閱讀心得寫作比賽
A59: 獎項名稱： | B59: ='閱讀心得(公式) (3)'!C29 -> 0 | G59: 獎項名稱： | H59: ='閱讀心得(公式) (3)'!C36 -> 0
A60: 這位同學恭喜您獲獎，因要頒發獎給您請於 114年03月12日 12時20分 至商教大樓一樓集合。 | G60: 這位同學恭喜您獲獎，因要頒發獎給您請於 114年03月12日 12時20分 至商教大樓一樓集合。
A61: 將進行頒發獎站位調整，請務必提前到場，謝謝配合。 | G61: 將進行頒發獎站位調整，請務必提前到場，謝謝配合。
A62: 學務處【頒獎】通知 | G62: 學務處【頒獎】通知
A63: 班級： | B63: ='閱讀心得(公式) (3)'!D30 | C63: 姓名： | D63: ='閱讀心得(公式) (3)'!E30 -> 0 | E63: 整獎站位 | F63: 3-2 | G63: 班級： | H63: ='閱讀心得(公式) (3)'!D37 | I63: 姓名： | J63: ='閱讀心得(公式) (3)'!E37 -> 0 | K63: 整獎站位 | L63: 4-1
A64: 頒獎名稱： | B64: ='閱讀心得(公式) (3)'!$B$10 -> 第1131010梯次全國高級中等學校閱讀心得寫作比賽 | G64: 頒獎名稱： | H64: ='閱讀心得(公式) (3)'!$B$10 -> 第1131010梯次全國高級中等學校閱讀心得寫作比賽
A65: 獎項名稱： | B65: ='閱讀心得(公式) (3)'!C30 -> 0 | G65: 獎項名稱： | H65: ='閱讀心得(公式) (3)'!C37 -> 0
A66: 這位同學恭喜您獲獎，因要頒發獎給您請於 114年03月12日 12時20分 至商教大樓一樓集合。 | G66: 這位同學恭喜您獲獎，因要頒發獎給您請於 114年03月12日 12時20分 至商教大樓一樓集合。
A67: 將進行頒發獎站位調整，請務必提前到場，謝謝配合。 | G67: 將進行頒發獎站位調整，請務必提前到場，謝謝配合。
A68: 學務處【頒獎】通知 | G68: 學務處【頒獎】通知
A69: 班級： | B69: ='閱讀心得(公式) (3)'!D31 | C69: 姓名： | D69: ='閱讀心得(公式) (3)'!E31 -> 0 | E69: 整獎站位 | F69: 3-3 | G69: 班級： | H69: ='閱讀心得(公式) (3)'!D38 | I69: 姓名： | J69: ='閱讀心得(公式) (3)'!E38 -> 0 | K69: 整獎站位 | L69: 4-2
A70: 頒獎名稱： | B70: ='閱讀心得(公式) (3)'!$B$10 -> 第1131010梯次全國高級中等學校閱讀心得寫作比賽 | G70: 頒獎名稱： | H70: ='閱讀心得(公式) (3)'!$B$10 -> 第1131010梯次全國高級中等學校閱讀心得寫作比賽
A71: 獎項名稱： | B71: ='閱讀心得(公式) (3)'!C31 -> 0 | G71: 獎項名稱： | H71: ='閱讀心得(公式) (3)'!C38 -> 0
A72: 這位同學恭喜您獲獎，因要頒發獎給您請於 114年03月12日 12時20分 至商教大樓一樓集合。 | G72: 這位同學恭喜您獲獎，因要頒發獎給您請於 114年03月12日 12時20分 至商教大樓一樓集合。
A73: 將進行頒發獎站位調整，請務必提前到場，謝謝配合。 | G73: 將進行頒發獎站位調整，請務必提前到場，謝謝配合。
A74: 學務處【頒獎】通知 | G74: 學務處【頒獎】通知
A75: 班級： | B75: ='閱讀心得(公式) (3)'!D32 | C75: 姓名： | D75: ='閱讀心得(公式) (3)'!E32 -> 0 | E75: 整獎站位 | F75: 3-4 | G75: 班級： | H75: ='閱讀心得(公式) (3)'!D39 | I75: 姓名： | J75: ='閱讀心得(公式) (3)'!E39 -> 0 | K75: 整獎站位 | L75: 4-3
A76: 頒獎名稱： | B76: ='閱讀心得(公式) (3)'!$B$10 -> 第1131010梯次全國高級中等學校閱讀心得寫作比賽 | G76: 頒獎名稱： | H76: ='閱讀心得(公式) (3)'!$B$10 -> 第1131010梯次全國高級中等學校閱讀心得寫作比賽
A77: 獎項名稱： | B77: ='閱讀心得(公式) (3)'!C32 -> 0 | G77: 獎項名稱： | H77: ='閱讀心得(公式) (3)'!C39 -> 0
A78: 這位同學恭喜您獲獎，因要頒發獎給您請於 114年03月12日 12時20分 至商教大樓一樓集合。 | G78: 這位同學恭喜您獲獎，因要頒發獎給您請於 114年03月12日 12時20分 至商教大樓一樓集合。
A79: 將進行頒發獎站位調整，請務必提前到場，謝謝配合。 | G79: 將進行頒發獎站位調整，請務必提前到場，謝謝配合。
A80: 學務處【頒獎】通知 | G80: 學務處【頒獎】通知
A81: 班級： | B81: ='閱讀心得(公式) (3)'!D33 | C81: 姓名： | D81: ='閱讀心得(公式) (3)'!E33 -> 0 | E81: 整獎站位 | F81: 3-5 | G81: 班級： | H81: ='閱讀心得(公式) (3)'!D40 | I81: 姓名： | J81: ='閱讀心得(公式) (3)'!E40 -> 0 | K81: 整獎站位 | L81: 4-4
A82: 頒獎名稱： | B82: ='閱讀心得(公式) (3)'!$B$10 -> 第1131010梯次全國高級中等學校閱讀心得寫作比賽 | G82: 頒獎名稱： | H82: ='閱讀心得(公式) (3)'!$B$10 -> 第1131010梯次全國高級中等學校閱讀心得寫作比賽
A83: 獎項名稱： | B83: ='閱讀心得(公式) (3)'!C33 -> 0 | G83: 獎項名稱： | H83: ='閱讀心得(公式) (3)'!C40 -> 0
A84: 這位同學恭喜您獲獎，因要頒發獎給您請於 114年03月12日 12時20分 至商教大樓一樓集合。 | G84: 這位同學恭喜您獲獎，因要頒發獎給您請於 114年03月12日 12時20分 至商教大樓一樓集合。
A85: 將進行頒發獎站位調整，請務必提前到場，謝謝配合。 | G85: 將進行頒發獎站位調整，請務必提前到場，謝謝配合。
A86: 學務處【頒獎】通知 | G86: 學務處【頒獎】通知
A87: 班級： | B87: ='閱讀心得(公式) (3)'!D41 | C87: 姓名： | D87: ='閱讀心得(公式) (3)'!E41 -> 0 | E87: 整獎站位 | F87: 4-5 | G87: 班級： | H87: ='閱讀心得(公式) (3)'!I16 | I87: 姓名： | J87: ='閱讀心得(公式) (3)'!J16 -> 0 | K87: 整獎站位 | L87: 5-4
A88: 頒獎名稱： | B88: ='閱讀心得(公式) (3)'!$B$10 -> 第1131010梯次全國高級中等學校閱讀心得寫作比賽 | G88: 頒獎名稱： | H88: ='閱讀心得(公式) (3)'!$B$10 -> 第1131010梯次全國高級中等學校閱讀心得寫作比賽
A89: 獎項名稱： | B89: ='閱讀心得(公式) (3)'!C41 -> 0 | G89: 獎項名稱： | H89: ='閱讀心得(公式) (3)'!H16 -> 0
A90: 這位同學恭喜您獲獎，因要頒發獎給您請於 114年03月12日 12時20分 至商教大樓一樓集合。 | G90: 這位同學恭喜您獲獎，因要頒發獎給您請於 114年03月12日 12時20分 至商教大樓一樓集合。
A91: 將進行頒發獎站位調整，請務必提前到場，謝謝配合。 | G91: 將進行頒發獎站位調整，請務必提前到場，謝謝配合。
A92: 學務處【頒獎】通知 | G92: 學務處【頒獎】通知
A93: 班級： | B93: ='閱讀心得(公式) (3)'!D42 | C93: 姓名： | D93: ='閱讀心得(公式) (3)'!E42 -> 0 | E93: 整獎站位 | F93: 4-6 | G93: 班級： | H93: ='閱讀心得(公式) (3)'!I17 | I93: 姓名： | J93: ='閱讀心得(公式) (3)'!J17 -> 0 | K93: 整獎站位 | L93: 5-5
A94: 頒獎名稱： | B94: ='閱讀心得(公式) (3)'!$B$10 -> 第1131010梯次全國高級中等學校閱讀心得寫作比賽 | G94: 頒獎名稱： | H94: ='閱讀心得(公式) (3)'!$B$10 -> 第1131010梯次全國高級中等學校閱讀心得寫作比賽
A95: 獎項名稱： | B95: ='閱讀心得(公式) (3)'!C42 -> 0 | G95: 獎項名稱： | H95: ='閱讀心得(公式) (3)'!H17 -> 0
A96: 這位同學恭喜您獲獎，因要頒發獎給您請於 114年03月12日 12時20分 至商教大樓一樓集合。 | G96: 這位同學恭喜您獲獎，因要頒發獎給您請於 114年03月12日 12時20分 至商教大樓一樓集合。
A97: 將進行頒發獎站位調整，請務必提前到場，謝謝配合。 | G97: 將進行頒發獎站位調整，請務必提前到場，謝謝配合。
A98: 學務處【頒獎】通知 | G98: 學務處【頒獎】通知
A99: 班級： | B99: ='閱讀心得(公式) (3)'!D43 | C99: 姓名： | D99: ='閱讀心得(公式) (3)'!E43 -> 0 | E99: 整獎站位 | F99: 4-7 | G99: 班級： | H99: ='閱讀心得(公式) (3)'!I18 | I99: 姓名： | J99: ='閱讀心得(公式) (3)'!J18 -> 0 | K99: 整獎站位 | L99: 5-6
A100: 頒獎名稱： | B100: ='閱讀心得(公式) (3)'!$B$10 -> 第1131010梯次全國高級中等學校閱讀心得寫作比賽 | G100: 頒獎名稱： | H100: ='閱讀心得(公式) (3)'!$B$10 -> 第1131010梯次全國高級中等學校閱讀心得寫作比賽
A101: 獎項名稱： | B101: ='閱讀心得(公式) (3)'!C43 -> 0 | G101: 獎項名稱： | H101: ='閱讀心得(公式) (3)'!H18 -> 0
...

Sheet 聖誕手繪卡片(公式) (3)
A1: 升旗典禮頒獎單 | L1: 温采蓁
A2: ※ 頒獎順序(日期)依各處室送件時間排序，若遇雨天不升旗則順延。 | L2: 温浩佑
A3: ※ 此表格請一式三份(教官室、司儀組、儀典組) 連同獎狀、錦旗、獎品送交學務處。 | L3: 丁仁堡
A4: ※ 若獎品於會後請同學自行至各處室領取請註明，請司儀於會場報告。 | L4: 丁怡辰
A5: 可傳一份電子檔至ts0428@ntpc.edu.tw | L5: 丁建文
A6: 送件時間 | B6: 民國114年3月3日 | L6: 丁宸右
A7: 預定頒獎 | B7: 由學務處排定 | L7: 丁瑜涵
A8: 日期 | L8: 卜家瑄
A9: 處室負責人 | B9: 王歆維 | L9: 尤崇安
A10: 頒獎名稱 | B10: 聖誕手繪卡片 | L10: 尤韻綺
A11: 獎項 | B11: 整獎佔位 | C11: 獎項名稱 | D11: 班級 | E11: 姓名 | F11: 輸入學號 | G11: 整獎佔位 | H11: 獎項名稱 | I11: 班級 | J11: 姓名 | K11: 輸入學號 | L11: 文浩安
L12: 方予芯
B13: 1-1 | C13: 第一名 | D13: =IFERROR(VLOOKUP(E13,#REF!,3,0),"") | E13: 蔡名晞 | G13: 5-1 | I13: =IFERROR(VLOOKUP(J13,#REF!,3,0),"") | L13: 方亨利
B14: 1-2 | C14: 第二名 | D14: =IFERROR(VLOOKUP(E14,#REF!,3,0),"") | E14: 曾若芸 | G14: 5-2 | I14: =IFERROR(VLOOKUP(J14,#REF!,3,0),"") | L14: 方柏翔
B15: 1-3 | C15: 第三名 | D15: =IFERROR(VLOOKUP(E15,#REF!,3,0),"") | E15: 龔佳彤 | G15: 5-3 | I15: =IFERROR(VLOOKUP(J15,#REF!,3,0),"") | L15: 方禹承
B16: 1-4 | C16: 優等 | D16: =IFERROR(VLOOKUP(E16,#REF!,3,0),"") | E16: 許芮綺 | G16: 5-4 | I16: =IFERROR(VLOOKUP(J16,#REF!,3,0),"") | L16: 方啟政
B17: 1-5 | C17: 優等 | D17: =IFERROR(VLOOKUP(E17,#REF!,3,0),"") | E17: 邱思翰 | G17: 5-5 | I17: =IFERROR(VLOOKUP(J17,#REF!,3,0),"") | L17: 方愛伽
B18: 1-6 | C18: 優等 | D18: =IFERROR(VLOOKUP(E18,#REF!,3,0),"") | E18: 吳志君 | G18: 5-6 | I18: =IFERROR(VLOOKUP(J18,#REF!,3,0),"") | L18: 毛語庭
B19: 1-7 | C19: 優等 | D19: =IFERROR(VLOOKUP(E19,#REF!,3,0),"") | E19: 陳穎萱 | G19: 5-7 | I19: =IFERROR(VLOOKUP(J19,#REF!,3,0),"") | L19: 王士銓
B20: 1-8 | C20: 優等 | D20: =IFERROR(VLOOKUP(E20,#REF!,3,0),"") | E20: 楊雅媛 | G20: 5-8 | I20: =IFERROR(VLOOKUP(J20,#REF!,3,0),"") | L20: 王士爵
B21: 2-1 | C21: 優等 | D21: =IFERROR(VLOOKUP(E21,#REF!,3,0),"") | E21: 陳品璇 | G21: 6-1 | I21: =IFERROR(VLOOKUP(J21,#REF!,3,0),"") | L21: 王小菱
B22: 2-2 | C22: 優等 | D22: =IFERROR(VLOOKUP(E22,#REF!,3,0),"") | E22: 林恩妤 | G22: 6-2 | I22: =IFERROR(VLOOKUP(J22,#REF!,3,0),"") | L22: 王元奇
B23: 2-3 | D23: =IFERROR(VLOOKUP(E23,#REF!,3,0),"") | G23: 6-3 | I23: =IFERROR(VLOOKUP(J23,#REF!,3,0),"") | L23: 王心妤
B24: 2-4 | D24: =IFERROR(VLOOKUP(E24,#REF!,3,0),"") | G24: 6-4 | I24: =IFERROR(VLOOKUP(J24,#REF!,3,0),"") | L24: 王心彤
B25: 2-5 | D25: =IFERROR(VLOOKUP(E25,#REF!,3,0),"") | G25: 6-5 | I25: =IFERROR(VLOOKUP(J25,#REF!,3,0),"") | L25: 王文俊
B26: 2-6 | D26: =IFERROR(VLOOKUP(E26,#REF!,3,0),"") | G26: 6-6 | I26: =IFERROR(VLOOKUP(J26,#REF!,3,0),"") | L26: 王文浩
B27: 2-7 | D27: =IFERROR(VLOOKUP(E27,#REF!,3,0),"") | G27: 6-7 | I27: =IFERROR(VLOOKUP(J27,#REF!,3,0),"") | L27: 王世顯
B28: 2-8 | D28: =IFERROR(VLOOKUP(E28,#REF!,3,0),"") | G28: 6-8 | I28: =IFERROR(VLOOKUP(J28,#REF!,3,0),"") | L28: 王弘昱
B29: 3-1 | D29: =IFERROR(VLOOKUP(E29,#REF!,3,0),"") | G29: 7-1 | I29: =IFERROR(VLOOKUP(J29,#REF!,3,0),"") | L29: 王丞郁
B30: 3-2 | D30: =IFERROR(VLOOKUP(E30,#REF!,3,0),"") | G30: 7-2 | I30: =IFERROR(VLOOKUP(J30,#REF!,3,0),"") | L30: 王安豐
B31: 3-3 | D31: =IFERROR(VLOOKUP(E31,#REF!,3,0),"") | G31: 7-3 | I31: =IFERROR(VLOOKUP(J31,#REF!,3,0),"") | L31: 王妤甄
B32: 3-4 | D32: =IFERROR(VLOOKUP(E32,#REF!,3,0),"") | G32: 7-4 | I32: =IFERROR(VLOOKUP(J32,#REF!,3,0),"") | L32: 王忻恩
B33: 3-5 | D33: =IFERROR(VLOOKUP(E33,#REF!,3,0),"") | G33: 7-5 | I33: =IFERROR(VLOOKUP(J33,#REF!,3,0),"") | L33: 王沛錡
B34: 3-6 | D34: =IFERROR(VLOOKUP(E34,#REF!,3,0),"") | G34: 7-6 | I34: =IFERROR(VLOOKUP(J34,#REF!,3,0),"") | L34: 王芃仁
... B37: 4-1 | D37: =IFERROR(VLOOKUP(E37,#REF!,3,0),"") | G37: 8-1 | I37: =IFERROR(VLOOKUP(J37,#REF!,3,0),"") | L37: 王妮蕎
B38: 4-2 | D38: =IFERROR(VLOOKUP(E38,#REF!,3,0),"") | I38: =IFERROR(VLOOKUP(J38,#REF!,3,0),"") | L38: 王怡心
B39: 4-3 | D39: =IFERROR(VLOOKUP(E39,#REF!,3,0),"") | I39: =IFERROR(VLOOKUP(J39,#REF!,3,0),"") | L39: 王怡穎
B40: 4-4 | D40: =IFERROR(VLOOKUP(E40,#REF!,3,0),"") | I40: =IFERROR(VLOOKUP(J40,#REF!,3,0),"") | L40: 王泓鈞
B41: 4-5 | D41: =IFERROR(VLOOKUP(E41,#REF!,3,0),"") | I41: =IFERROR(VLOOKUP(J41,#REF!,3,0),"") | L41: 王玟臻
B42: 4-6 | D42: =IFERROR(VLOOKUP(E42,#REF!,3,0),"") | I42: =IFERROR(VLOOKUP(J42,#REF!,3,0),"") | L42: 王芯語
B43: 4-7 | D43: =IFERROR(VLOOKUP(E43,#REF!,3,0),"") | I43: =IFERROR(VLOOKUP(J43,#REF!,3,0),"") | L43: 王芷伶
B44: 4-8 | D44: =IFERROR(VLOOKUP(E44,#REF!,3,0),"") | I44: =IFERROR(VLOOKUP(J44,#REF!,3,0),"") | L44: 王芸茜
D45: =IFERROR(VLOOKUP(E45,#REF!,3,0),"") | I45: =IFERROR(VLOOKUP(J45,#REF!,3,0),"") | L45: 王金宜
D46: =IFERROR(VLOOKUP(E46,#REF!,3,0),"") | I46: =IFERROR(VLOOKUP(J46,#REF!,3,0),"") | L46: 王亭婷
D47: =IFERROR(VLOOKUP(E47,#REF!,3,0),"") | I47: =IFERROR(VLOOKUP(J47,#REF!,3,0),"") | L47: 王俊皓
D48: =IFERROR(VLOOKUP(E48,#REF!,3,0),"") | I48: =IFERROR(VLOOKUP(J48,#REF!,3,0),"") | L48: 王俊皓
D49: =IFERROR(VLOOKUP(E49,#REF!,3,0),"") | I49: =IFERROR(VLOOKUP(J49,#REF!,3,0),"") | L49: 王俞婷
D50: =IFERROR(VLOOKUP(E50,#REF!,3,0),"") | I50: =IFERROR(VLOOKUP(J50,#REF!,3,0),"") | L50: 王俞賢
D51: =IFERROR(VLOOKUP(E51,#REF!,3,0),"") | I51: =IFERROR(VLOOKUP(J51,#REF!,3,0),"") | L51: 王信棟
D52: =IFERROR(VLOOKUP(E52,#REF!,3,0),"") | I52: =IFERROR(VLOOKUP(J52,#REF!,3,0),"") | L52: 王冠成
D53: =IFERROR(VLOOKUP(E53,#REF!,3,0),"") | I53: =IFERROR(VLOOKUP(J53,#REF!,3,0),"") | L53: 王冠傑
D54: =IFERROR(VLOOKUP(E54,#REF!,3,0),"") | I54: =IFERROR(VLOOKUP(J54,#REF!,3,0),"") | L54: 王冠舜
D55: =IFERROR(VLOOKUP(E55,#REF!,3,0),"") | I55: =IFERROR(VLOOKUP(J55,#REF!,3,0),"") | L55: 王則閔
D56: =IFERROR(VLOOKUP(E56,#REF!,3,0),"") | I56: =IFERROR(VLOOKUP(J56,#REF!,3,0),"") | L56: 王品琁
... D1892: =IFERROR(VLOOKUP(E1892,#REF!,3,0),"") | I1892: =IFERROR(VLOOKUP(J1892,#REF!,3,0),"") | L1892: 涂景盛

Sheet 學務處通知(公式) (5)
A1: 學務處【頒獎】通知 | G1: 學務處【頒獎】通知
A2: 班級： | B2: 普一乙 | C2: 姓名： | D2: 蔡名晞 | E2: 整獎站位 | F2: 1-1 | G2: 班級： | H2: 資三乙 | I2: 姓名： | J2: 楊雅媛 | K2: 整獎站位 | L2: 1-8
A3: 頒獎名稱： | B3: 聖誕手繪卡片 | G3: 頒獎名稱： | H3: 聖誕手繪卡片
A4: 獎項名稱： | B4: 第一名 | G4: 獎項名稱： | H4: 優等
A5: 這位同學恭喜您獲獎，因要頒發獎給您請於 114年03月12日 12時20分 至商教大樓一樓集合。 | G5: 這位同學恭喜您獲獎，因要頒發獎給您請於 114年03月12日 12時20分 至商教大樓一樓集合。
A6: 將進行頒發獎站位調整，請務必提前到場，謝謝配合。 | G6: 將進行頒發獎站位調整，請務必提前到場，謝謝配合。
A7: 學務處【頒獎】通知 | G7: 學務處【頒獎】通知
A8: 班級： | B8: 餐一甲 | C8: 姓名： | D8: 曾若芸 | E8: 整獎站位 | F8: 1-2 | G8: 班級： | H8: 園一乙 | I8: 姓名： | J8: 陳品璇 | K8: 整獎站位 | L8: 2-1
A9: 頒獎名稱： | B9: 聖誕手繪卡片 | G9: 頒獎名稱： | H9: 聖誕手繪卡片
A10: 獎項名稱： | B10: 第二名 | G10: 獎項名稱： | H10: 優等
A11: 這位同學恭喜您獲獎，因要頒發獎給您請於 114年03月12日 12時20分 至商教大樓一樓集合。 | G11: 這位同學恭喜您獲獎，因要頒發獎給您請於 114年03月12日 12時20分 至商教大樓一樓集合。
A12: 將進行頒發獎站位調整，請務必提前到場，謝謝配合。 | G12: 將進行頒發獎站位調整，請務必提前到場，謝謝配合。
A13: 學務處【頒獎】通知 | G13: 學務處【頒獎】通知
A14: 班級： | B14: 普一丙 | C14: 姓名： | D14: 龔佳彤 | E14: 整獎站位 | F14: 1-3 | G14: 班級： | H14: 商一甲 | I14: 姓名： | J14: 林恩妤 | K14: 整獎站位 | L14: 2-2
A15: 頒獎名稱： | B15: 聖誕手繪卡片 | G15: 頒獎名稱： | H15: 聖誕手繪卡片
A16: 獎項名稱： | B16: 第三名 | G16: 獎項名稱： | H16: 優等
A17: 這位同學恭喜您獲獎，因要頒發獎給您請於 114年03月12日 12時20分 至商教大樓一樓集合。 | G17: 這位同學恭喜您獲獎，因要頒發獎給您請於 114年03月12日 12時20分 至商教大樓一樓集合。
A18: 將進行頒發獎站位調整，請務必提前到場，謝謝配合。 | G18: 將進行頒發獎站位調整，請務必提前到場，謝謝配合。
A19: 學務處【頒獎】通知 | G19: 學務處【頒獎】通知
A20: 班級： | B20: 普一丙 | C20: 姓名： | D20: 許芮綺 | E20: 整獎站位 | F20: 1-4 | G20: 班級： | I20: 姓名： | J20: 0 | K20: 整獎站位 | L20: 2-3
A21: 頒獎名稱： | B21: 聖誕手繪卡片 | G21: 頒獎名稱： | H21: 聖誕手繪卡片
A22: 獎項名稱： | B22: 優等 | G22: 獎項名稱： | H22: 0
A23: 這位同學恭喜您獲獎，因要頒發獎給您請於 114年03月12日 12時20分 至商教大樓一樓集合。 | G23: 這位同學恭喜您獲獎，因要頒發獎給您請於 114年03月12日 12時20分 至商教大樓一樓集合。
A24: 將進行頒發獎站位調整，請務必提前到場，謝謝配合。 | G24: 將進行頒發獎站位調整，請務必提前到場，謝謝配合。
A25: 學務處【頒獎】通知 | G25: 學務處【頒獎】通知
A26: 班級： | B26: 普一乙 | C26: 姓名： | D26: 邱思翰 | E26: 整獎站位 | F26: 1-5 | G26: 班級： | I26: 姓名： | J26: 0 | K26: 整獎站位 | L26: 2-4
A27: 頒獎名稱： | B27: 聖誕手繪卡片 | G27: 頒獎名稱： | H27: 聖誕手繪卡片
A28: 獎項名稱： | B28: 優等 | G28: 獎項名稱： | H28: 0
A29: 這位同學恭喜您獲獎，因要頒發獎給您請於 114年03月12日 12時20分 至商教大樓一樓集合。 | G29: 這位同學恭喜您獲獎，因要頒發獎給您請於 114年03月12日 12時20分 至商教大樓一樓集合。
A30: 將進行頒發獎站位調整，請務必提前到場，謝謝配合。 | G30: 將進行頒發獎站位調整，請務必提前到場，謝謝配合。
A31: 學務處【頒獎】通知 | G31: 學務處【頒獎】通知
A32: 班級： | B32: 餐一甲 | C32: 姓名： | D32: 吳志君 | E32: 整獎站位 | F32: 1-6 | G32: 班級： | I32: 姓名： | J32: 0 | K32: 整獎站位 | L32: 2-5
A33: 頒獎名稱： | B33: 聖誕手繪卡片 | G33: 頒獎名稱： | H33: 聖誕手繪卡片
A34: 獎項名稱： | B34: 優等 | G34: 獎項名稱： | H34: 0
A35: 這位同學恭喜您獲獎，因要頒發獎給您請於 114年03月12日 12時20分 至商教大樓一樓集合。 | G35: 這位同學恭喜您獲獎，因要頒發獎給您請於 114年03月12日 12時20分 至商教大樓一樓集合。
A36: 將進行頒發獎站位調整，請務必提前到場，謝謝配合。 | G36: 將進行頒發獎站位調整，請務必提前到場，謝謝配合。
A37: 學務處【頒獎】通知 | G37: 學務處【頒獎】通知
A38: 班級： | B38: 資三乙 | C38: 姓名： | D38: 陳穎萱 | E38: 整獎站位 | F38: 1-7 | G38: 班級： | I38: 姓名： | J38: 0 | K38: 整獎站位 | L38: 2-6
A39: 頒獎名稱： | B39: 聖誕手繪卡片 | G39: 頒獎名稱： | H39: 聖誕手繪卡片
A40: 獎項名稱： | B40: 優等 | G40: 獎項名稱： | H40: 0
A41: 這位同學恭喜您獲獎，因要頒發獎給您請於 114年03月12日 12時20分 至商教大樓一樓集合。 | G41: 這位同學恭喜您獲獎，因要頒發獎給您請於 114年03月12日 12時20分 至商教大樓一樓集合。
A42: 將進行頒發獎站位調整，請務必提前到場，謝謝配合。 | G42: 將進行頒發獎站位調整，請務必提前到場，謝謝配合。
A44: 學務處【頒獎】通知 | G44: 學務處【頒獎】通知
A45: 班級： | B45: ='頒獎單(公式輸入姓名代入班級) '!D27 | C45: 姓名： | D45: ='頒獎單(公式輸入姓名代入班級) '!E27 -> 0 | E45: 整獎站位 | F45: 2-7 | G45: 班級： | H45: ='頒獎單(公式輸入姓名代入班級) '!D34 | I45: 姓名： | J45: ='頒獎單(公式輸入姓名代入班級) '!E34 -> 0 | K45: 整獎站位 | L45: 3-6
A46: 頒獎名稱： | B46: ='頒獎單(公式輸入姓名代入班級) '!$B$10 -> 0 | G46: 頒獎名稱： | H46: ='頒獎單(公式輸入姓名代入班級) '!$B$10 -> 0
A47: 獎項名稱： | B47: ='頒獎單(公式輸入姓名代入班級) '!C27 -> 0 | G47: 獎項名稱： | H47: ='頒獎單(公式輸入姓名代入班級) '!C34 -> 0
A48: 這位同學恭喜您獲獎，因要頒發獎給您請於 114年03月12日 12時20分 至商教大樓一樓集合。 | G48: 這位同學恭喜您獲獎，因要頒發獎給您請於 114年03月12日 12時20分 至商教大樓一樓集合。
A49: 將進行頒發獎站位調整，請務必提前到場，謝謝配合。 | G49: 將進行頒發獎站位調整，請務必提前到場，謝謝配合。
A50: 學務處【頒獎】通知 | G50: 學務處【頒獎】通知
A51: 班級： | B51: ='頒獎單(公式輸入姓名代入班級) '!D28 | C51: 姓名： | D51: ='頒獎單(公式輸入姓名代入班級) '!E28 -> 0 | E51: 整獎站位 | F51: 2-8 | G51: 班級： | H51: ='頒獎單(公式輸入姓名代入班級) '!D35 | I51: 姓名： | J51: ='頒獎單(公式輸入姓名代入班級) '!E35 -> 0 | K51: 整獎站位 | L51: 3-7
A52: 頒獎名稱： | B52: ='頒獎單(公式輸入姓名代入班級) '!$B$10 -> 0 | G52: 頒獎名稱： | H52: ='頒獎單(公式輸入姓名代入班級) '!$B$10 -> 0
A53: 獎項名稱： | B53: ='頒獎單(公式輸入姓名代入班級) '!C28 -> 0 | G53: 獎項名稱： | H53: ='頒獎單(公式輸入姓名代入班級) '!C35 -> 0
A54: 這位同學恭喜您獲獎，因要頒發獎給您請於 114年03月12日 12時20分 至商教大樓一樓集合。 | G54: 這位同學恭喜您獲獎，因要頒發獎給您請於 114年03月12日 12時20分 至商教大樓一樓集合。
A55: 將進行頒發獎站位調整，請務必提前到場，謝謝配合。 | G55: 將進行頒發獎站位調整，請務必提前到場，謝謝配合。
A56: 學務處【頒獎】通知 | G56: 學務處【頒獎】通知
A57: 班級： | B57: ='頒獎單(公式輸入姓名代入班級) '!D29 | C57: 姓名： | D57: ='頒獎單(公式輸入姓名代入班級) '!E29 -> 0 | E57: 整獎站位 | F57: 3-1 | G57: 班級： | H57: ='頒獎單(公式輸入姓名代入班級) '!D36 | I57: 姓名： | J57: ='頒獎單(公式輸入姓名代入班級) '!E36 -> 0 | K57: 整獎站位 | L57: 3-8
A58: 頒獎名稱： | B58: ='頒獎單(公式輸入姓名代入班級) '!$B$10 -> 0 | G58: 頒獎名稱： | H58: ='頒獎單(公式輸入姓名代入班級) '!$B$10 -> 0
A59: 獎項名稱： | B59: ='頒獎單(公式輸入姓名代入班級) '!C29 -> 0 | G59: 獎項名稱： | H59: ='頒獎單(公式輸入姓名代入班級) '!C36 -> 0
A60: 這位同學恭喜您獲獎，因要頒發獎給您請於 114年03月12日 12時20分 至商教大樓一樓集合。 | G60: 這位同學恭喜您獲獎，因要頒發獎給您請於 114年03月12日 12時20分 至商教大樓一樓集合。
A61: 將進行頒發獎站位調整，請務必提前到場，謝謝配合。 | G61: 將進行頒發獎站位調整，請務必提前到場，謝謝配合。
A62: 學務處【頒獎】通知 | G62: 學務處【頒獎】通知
A63: 班級： | B63: ='頒獎單(公式輸入姓名代入班級) '!D30 | C63: 姓名： | D63: ='頒獎單(公式輸入姓名代入班級) '!E30 -> 0 | E63: 整獎站位 | F63: 3-2 | G63: 班級： | H63: ='頒獎單(公式輸入姓名代入班級) '!D37 | I63: 姓名： | J63: ='頒獎單(公式輸入姓名代入班級) '!E37 -> 0 | K63: 整獎站位 | L63: 4-1
A64: 頒獎名稱： | B64: ='頒獎單(公式輸入姓名代入班級) '!$B$10 -> 0 | G64: 頒獎名稱： | H64: ='頒獎單(公式輸入姓名代入班級) '!$B$10 -> 0
A65: 獎項名稱： | B65: ='頒獎單(公式輸入姓名代入班級) '!C30 -> 0 | G65: 獎項名稱： | H65: ='頒獎單(公式輸入姓名代入班級) '!C37 -> 0
A66: 這位同學恭喜您獲獎，因要頒發獎給您請於 114年03月12日 12時20分 至商教大樓一樓集合。 | G66: 這位同學恭喜您獲獎，因要頒發獎給您請於 114年03月12日 12時20分 至商教大樓一樓集合。
A67: 將進行頒發獎站位調整，請務必提前到場，謝謝配合。 | G67: 將進行頒發獎站位調整，請務必提前到場，謝謝配合。
A68: 學務處【頒獎】通知 | G68: 學務處【頒獎】通知
A69: 班級： | B69: ='頒獎單(公式輸入姓名代入班級) '!D31 | C69: 姓名： | D69: ='頒獎單(公式輸入姓名代入班級) '!E31 -> 0 | E69: 整獎站位 | F69: 3-3 | G69: 班級： | H69: ='頒獎單(公式輸入姓名代入班級) '!D38 | I69: 姓名： | J69: ='頒獎單(公式輸入姓名代入班級) '!E38 -> 0 | K69: 整獎站位 | L69: 4-2
A70: 頒獎名稱： | B70: ='頒獎單(公式輸入姓名代入班級) '!$B$10 -> 0 | G70: 頒獎名稱： | H70: ='頒獎單(公式輸入姓名代入班級) '!$B$10 -> 0
A71: 獎項名稱： | B71: ='頒獎單(公式輸入姓名代入班級) '!C31 -> 0 | G71: 獎項名稱： | H71: ='頒獎單(公式輸入姓名代入班級) '!C38 -> 0
A72: 這位同學恭喜您獲獎，因要頒發獎給您請於 114年03月12日 12時20分 至商教大樓一樓集合。 | G72: 這位同學恭喜您獲獎，因要頒發獎給您請於 114年03月12日 12時20分 至商教大樓一樓集合。
A73: 將進行頒發獎站位調整，請務必提前到場，謝謝配合。 | G73: 將進行頒發獎站位調整，請務必提前到場，謝謝配合。
A74: 學務處【頒獎】通知 | G74: 學務處【頒獎】通知
A75: 班級： | B75: ='頒獎單(公式輸入姓名代入班級) '!D32 | C75: 姓名： | D75: ='頒獎單(公式輸入姓名代入班級) '!E32 -> 0 | E75: 整獎站位 | F75: 3-4 | G75: 班級： | H75: ='頒獎單(公式輸入姓名代入班級) '!D39 | I75: 姓名： | J75: ='頒獎單(公式輸入姓名代入班級) '!E39 -> 0 | K75: 整獎站位 | L75: 4-3
A76: 頒獎名稱： | B76: ='頒獎單(公式輸入姓名代入班級) '!$B$10 -> 0 | G76: 頒獎名稱： | H76: ='頒獎單(公式輸入姓名代入班級) '!$B$10 -> 0
A77: 獎項名稱： | B77: ='頒獎單(公式輸入姓名代入班級) '!C32 -> 0 | G77: 獎項名稱： | H77: ='頒獎單(公式輸入姓名代入班級) '!C39 -> 0
A78: 這位同學恭喜您獲獎，因要頒發獎給您請於 114年03月12日 12時20分 至商教大樓一樓集合。 | G78: 這位同學恭喜您獲獎，因要頒發獎給您請於 114年03月12日 12時20分 至商教大樓一樓集合。
A79: 將進行頒發獎站位調整，請務必提前到場，謝謝配合。 | G79: 將進行頒發獎站位調整，請務必提前到場，謝謝配合。
A80: 學務處【頒獎】通知 | G80: 學務處【頒獎】通知
A81: 班級： | B81: ='頒獎單(公式輸入姓名代入班級) '!D33 | C81: 姓名： | D81: ='頒獎單(公式輸入姓名代入班級) '!E33 -> 0 | E81: 整獎站位 | F81: 3-5 | G81: 班級： | H81: ='頒獎單(公式輸入姓名代入班級) '!D40 | I81: 姓名： | J81: ='頒獎單(公式輸入姓名代入班級) '!E40 -> 0 | K81: 整獎站位 | L81: 4-4
A82: 頒獎名稱： | B82: ='頒獎單(公式輸入姓名代入班級) '!$B$10 -> 0 | G82: 頒獎名稱： | H82: ='頒獎單(公式輸入姓名代入班級) '!$B$10 -> 0
A83: 獎項名稱： | B83: ='頒獎單(公式輸入姓名代入班級) '!C33 -> 0 | G83: 獎項名稱： | H83: ='頒獎單(公式輸入姓名代入班級) '!C40 -> 0
A84: 這位同學恭喜您獲獎，因要頒發獎給您請於 114年03月12日 12時20分 至商教大樓一樓集合。 | G84: 這位同學恭喜您獲獎，因要頒發獎給您請於 114年03月12日 12時20分 至商教大樓一樓集合。
A85: 將進行頒發獎站位調整，請務必提前到場，謝謝配合。 | G85: 將進行頒發獎站位調整，請務必提前到場，謝謝配合。
A86: 學務處【頒獎】通知 | G86: 學務處【頒獎】通知
A87: 班級： | B87: ='頒獎單(公式輸入姓名代入班級) '!D41 | C87: 姓名： | D87: ='頒獎單(公式輸入姓名代入班級) '!E41 -> 0 | E87: 整獎站位 | F87: 4-5 | G87: 班級： | H87: ='頒獎單(公式輸入姓名代入班級) '!I16 | I87: 姓名： | J87: ='頒獎單(公式輸入姓名代入班級) '!J16 -> 0 | K87: 整獎站位 | L87: 5-4
A88: 頒獎名稱： | B88: ='頒獎單(公式輸入姓名代入班級) '!$B$10 -> 0 | G88: 頒獎名稱： | H88: ='頒獎單(公式輸入姓名代入班級) '!$B$10 -> 0
A89: 獎項名稱： | B89: ='頒獎單(公式輸入姓名代入班級) '!C41 -> 0 | G89: 獎項名稱： | H89: ='頒獎單(公式輸入姓名代入班級) '!H16 -> 0
A90: 這位同學恭喜您獲獎，因要頒發獎給您請於 114年03月12日 12時20分 至商教大樓一樓集合。 | G90: 這位同學恭喜您獲獎，因要頒發獎給您請於 114年03月12日 12時20分 至商教大樓一樓集合。
A91: 將進行頒發獎站位調整，請務必提前到場，謝謝配合。 | G91: 將進行頒發獎站位調整，請務必提前到場，謝謝配合。
A92: 學務處【頒獎】通知 | G92: 學務處【頒獎】通知
A93: 班級： | B93: ='頒獎單(公式輸入姓名代入班級) '!D42 | C93: 姓名： | D93: ='頒獎單(公式輸入姓名代入班級) '!E42 -> 0 | E93: 整獎站位 | F93: 4-6 | G93: 班級： | H93: ='頒獎單(公式輸入姓名代入班級) '!I17 | I93: 姓名： | J93: ='頒獎單(公式輸入姓名代入班級) '!J17 -> 0 | K93: 整獎站位 | L93: 5-5
A94: 頒獎名稱： | B94: ='頒獎單(公式輸入姓名代入班級) '!$B$10 -> 0 | G94: 頒獎名稱： | H94: ='頒獎單(公式輸入姓名代入班級) '!$B$10 -> 0
A95: 獎項名稱： | B95: ='頒獎單(公式輸入姓名代入班級) '!C42 -> 0 | G95: 獎項名稱： | H95: ='頒獎單(公式輸入姓名代入班級) '!H17 -> 0
A96: 這位同學恭喜您獲獎，因要頒發獎給您請於 114年03月12日 12時20分 至商教大樓一樓集合。 | G96: 這位同學恭喜您獲獎，因要頒發獎給您請於 114年03月12日 12時20分 至商教大樓一樓集合。
A97: 將進行頒發獎站位調整，請務必提前到場，謝謝配合。 | G97: 將進行頒發獎站位調整，請務必提前到場，謝謝配合。
A98: 學務處【頒獎】通知 | G98: 學務處【頒獎】通知
A99: 班級： | B99: ='頒獎單(公式輸入姓名代入班級) '!D43 | C99: 姓名： | D99: ='頒獎單(公式輸入姓名代入班級) '!E43 -> 0 | E99: 整獎站位 | F99: 4-7 | G99: 班級： | H99: ='頒獎單(公式輸入姓名代入班級) '!I18 | I99: 姓名： | J99: ='頒獎單(公式輸入姓名代入班級) '!J18 -> 0 | K99: 整獎站位 | L99: 5-6
A100: 頒獎名稱： | B100: ='頒獎單(公式輸入姓名代入班級) '!$B$10 -> 0 | G100: 頒獎名稱： | H100: ='頒獎單(公式輸入姓名代入班級) '!$B$10 -> 0
A101: 獎項名稱： | B101: ='頒獎單(公式輸入姓名代入班級) '!C43 -> 0 | G101: 獎項名稱： | H101: ='頒獎單(公式輸入姓名代入班級) '!H18 -> 0
...
